{"text_format":"1","workbook":"xlsx","n_sheets":4,"sheets":["Broker Dictionary","Broker Sheet","Flat Sheet","Reference"],"not_rendered":{"charts":0,"images":0,"macros":1,"external_links":0,"defined_names":0,"comments":1,"pivot_tables":0},"unopened":[],"bounds":{"document_bytes":16777216,"sheet_cells":100000,"rows_first":2000,"rows_last":500,"rows_between":2000,"halvings":0,"cell_chars":16384,"cell_head_chars":4096},"cells_cut":0,"cells_raw":0,"read":"whole","date_system":"1900"}

{"sheet":"Broker Dictionary","index":0,"n_rows":51,"n_cols":4,"rows_kept":51,"cut":false,"hidden":false,"merged":[]}
["Column Name","Description of Column Name","Required?","Drop Down Options"]
["Group Number","The field indicates the group number for all covered employees in the company. This field should be the same for all members and should come prepopulated from Memorial Hermann Health Insurance Company.","Y","N/A"]
["First Name","This field indicates the member's first name.","Y","N/A"]
["Middle Name","This field indicates the member's last name.","Y","N/A"]
["Last Name","This field indicates the member's middle name.","N","N/A"]
["Suffix","This field indicates whether a member's last name includes a suffix. ","N","N/A"]
["Date of Birth","This field indicates the date of birth of the member."]
["Gender","This field indicates the gender of the member.","Y","F – Female\nM – Male"]
["Member Type","This field indicates whether the member is a subscriber (the employee) or a dependent (one covered by the employee).","Y","S – Subscriber\nD – Dependent"]
["Relationship to Subscriber","This field indicates what relation the member/dependent has to the employee.   \"Self\" is used for the employee or other subscriber, \"Spouse\" for a wife/husband, and \"Child\" for any covered children of the employee. ","Y","M – Self\nH – Husband \nW – Wife\nS – Son\nD – Daughter\nO – Other"]
["Subscriber Tier","This field indicates the benefit coverage tier in which the subscriber is enrolling.","Y","EMP – Employee Only\nESP – Employee and Spouse\nECH – Employee and Child(ren)\nFAM – Employee, Spouse, and Child(ren)"]
["Hire Date","This is an employee's hire date with the employer.  It is needed for employees whose coverage with Memorial Hermann Health Insurance Company will begin in the future if they are still in the waiting period for coverage.  It is not necessary to report for other employees or any dependents.","Conditional","N/A"]
["Network","This field indicates which network a subscriber has selected.  It should only be specified if the group has selected a dual network option, giving the members the choice.  This field should be left blank for dependents as they will follow what is specified under the subscriber.","Conditional","Memorial Hermann Select\nPHCS"]
["Plan","This field indicates which plan a subscriber has selected.    It should be specified only if the group has selected multiple plan options, giving the members the choice.  This field should be left blank for dependents as they will follow what is specified under the subscriber.","Conditional","Specific plans selected by the group"]
["Job Class","This field is used to specify a job class.  It is only used if the employer would like the groups segregated by such.  Examples include: hourly/salaried, doctors/administrative staff, etc.  ","N","N/A"]
["Location","This field is used to specify an employee job location.  It is only used if the employer  would like the groups segregated by such.  Examples include: Plant A, B, and C;  Restaurant 1, 2 and 3; etc.","N","N/A"]
["Employee Premium","This field is not needed by Memorial Hermann Health Insurance Company, and will be ignored when loading enrollment data.  It is included for your tracking purposes only should you want a handy place to collect the information.  Just leave it blank if you do not need it.","N","N/A"]
["Member Social Security Number","This field indicates the member's social security number.   It should be entered with no dashes or spaces as it will be auto-formatted.","Y","N/A"]
["Subscriber Social Security Number","This field indicates the subscriber's social security number.  It should be entered with no dashes or spaces as it will be auto-formatted.  This field will be the same for the subscriber and all his or her dependents.","Y","N/A"]
["Street Address","This field indicates the street address for the member.  It can differ among family members.","Y","N/A"]
["Apt No.","This field indicates the apartment number for the member, if applicable.","Conditional","N/A"]
["City","This field indicates the city in which the member resides.","Y","N/A"]
["State","This field indicates the state in which the member resides.","Y","N/A"]
["ZIP Code","This field indicates the ZIP code in which the member resides.","Y","N/A"]
["Dependent Lives Outside 7-County Memorial Hermann Select Network Service Area","This field indicates that a dependent resides in a separate location from the subscriber outside the 7-county Memorial Hermann Select Network service area.","Conditional","Y\nN"]
["Home Phone","This field indicates the member's home telephone number.","Y","N/A"]
["Cell Phone ","This field indicates the member's cell telephone number.","N","N/A"]
["Work Phone","This field indicates the member's work telephone number.","N","N/A"]
["Personal E-mail","This field indicates the member's personal e-mail address.","N","N/A"]
["Memorial Hermann Health Insurance Company Coverage Start Date","This is the member's projected start date of coverage with Memorial Hermann Health Insurance Company.  For most new members reported on this sheet it will be the same date that the group comes aboard with Memorial Hermann Health Insurance Company, but can be used to report future start dates if someone is still in a waiting period for coverage.","Y","N/A"]
["Memorial Hermann Health Insurance Company Coverage End Date","This is the member's projected end date of coverage with Memorial Hermann Health Insurance Company.   For most new members reported on this sheet it will be the same.  If there is no expected term date at time of enrollment, put 12/31/9999 for all or leave all blank.  However, use this field to report future term dates if someone will be dropping coverage at an expected date (for example a COBRA member).","Y","N/A"]
["COBRA Indicator","This field indicates if a member was already on COBRA continuation coverage prior to enrolling into a Memorial Hermann Health Insurance Company plan.","Conditional","Y\nN"]
["COBRA Start Date","This field indicates the start date for a member's COBRA continuation coverage.  It is required if the member has indicated \"Y\" in the  COBRA Indicator field.  It is necessary so that Memorial Hermann Health Insurance Company can accurately calculate the COBRA member's termination date.","Conditional","N/A"]
["Projected COBRA End Date","This field indicates the expected termination date of a member's COBRA continuation coverage.  It is not a guarantee that this will be the termination date used, but will assist in getting the accurate expiration date.","Conditional","N/A"]
["Loss of Prior Coverage Reason (Reason for taking COBRA)","This field indicates the member's qualifying event that has allowed him or her to obtain COBRA continuation coverage.  Examples include:  Death of a subscriber under whom a dependent was previously covered, a divorced dependent spouse, an employee who no longer meets the definition of an eligible member, termination of employment, etc.","Conditional","N/A"]
["Texas Continuation of Coverage Indicator","This field indicates if a member was already on Texas Continuation Coverage prior to enrolling into a Memorial Hermann Health Insurance Company plan.","Conditional","N/A"]
["TX Cont. Coverage Start Date","This field indicates the date for which the member became covered under Texas Continuation Coverage.  ","Conditional","N/A"]
["Projected TX Cont. Coverage End Date","This field indicates the expected termination date of a member's Texas Continuation Coverage.  It is not a guarantee that this will be the termination date used, but will assist in getting the accurate expiration date.","Conditional","N/A"]
["Other Concurrent Coverage Indicator","This field indicates if a member is covered under a plan outside of Memorial Hermann Health Insurance Company simultaneous to their coverage with a Memorial Hermann Health Insurance Company Benefit Plan.","Conditional","Y\nN"]
["Other Concurrent Coverage Start Date","This field indicates the effective date of the concurrent coverage that the member is specifying and indicating.  It is required only if the \"Other Concurrent Coverage Indicator\" is marked as \"Y\".","Conditional","N/A"]
["Other Concurrent Coverage Carrier Name","This field indicates the name of the concurrent coverage that the member has indicated.  It is required only if the \"Other Concurrent Coverage Indicator\" is marked as \"Y\".  Examples include: Blue Cross Blue Shield, CIGNA, Humana, Medicaid, Medicare, United Healthcare, Aetna etc.","Conditional","N/A"]
["Enrollee Covered with Group Prior Carrier Indicator","This field indicates if the member is currently covered under the plan which the group offered to employees prior to coming aboard with Memorial Hermann Health Insurance Company.","Conditional","Y\nN"]
["Group Prior Carrier Coverage Start Date","This field indicates the effective date of the member with the group's prior carrier to Memorial Hermann Health Insurance Company.","Conditional","N/A"]
["Group Prior Carrier Coverage End Date","This field indicates the expiration date of the member with the group's prior carrier to Memorial Hermann Health Insurance Company.","Conditional","N/A"]
["Enrollee Covered with Other Prior Carrier Indicator","This field indicates whether the member is currently covered under a carrier different from that of the employer's plan.  Examples may be coverage under a spouse's plan or individual insurance.","Conditional","Y\nN"]
["Other Prior Carrier name (Evidence of Prior Creditable Coverage - See Notes Tab)","This field indicates the name of the other prior carrier that the member has indicated.  It is required only if the \"Enrollee Covered with Other Prior Carrier Indicator\" is marked as \"Y\".  Examples include: Aetna, Blue Cross Blue Shield, CIGNA, Humana, Medicaid, Medicare, United Healthcare, etc.","Conditional","N/A"]
["Other Prior Carrier Coverage Start Date","This field indicates the coverage start date with the other carrier.  It is required only if the \"Enrollee Covered with Other Prior Carrier Indicator\" is marked as \"Y\".","Conditional","N/A"]
["Other Prior Coverage End Date","This field indicates the coverage end date with the other carrier.  It is required only if the \"Enrollee Covered with Other Prior Carrier Indicator\" is marked as \"Y\".","Conditional","N/A"]
["User Defined Field 1","This field is not needed by Memorial Hermann Health Insurance Company, and we will ignore it when loading enrollment data.  It is included for your tracking purposes only should you want a handy place to collect other information.   Just leave it blank if you do not need it.","N","N/A"]
["User Defined Field 2","This field is not needed by Memorial Hermann Health Insurance Company, and we will ignore it when loading enrollment data.  It is included for your tracking purposes only should you want a handy place to collect other information.   Just leave it blank if you do not need it.","N","N/A"]
["User Defined Field 3","This field is not needed by Memorial Hermann Health Insurance Company, and we will ignore it when loading enrollment data.  It is included for your tracking purposes only should you want a handy place to collect other information.   Just leave it blank if you do not need it.","N","N/A"]

{"sheet":"Broker Sheet","index":1,"n_rows":501,"n_cols":57,"rows_kept":501,"cut":false,"hidden":false,"merged":[]}
["Group Number","Group Name","First Name*","MI","Last Name*","Suffix","Date of Birth*","Gender*","Member Type*","Relationship to Subscriber*","Subscriber Tier*","Hire Date*","Network*","Plan*","Job Class","Location","Employee Premium","Subscriber Social Security Number*","Member Social Security Number*","Street Address Line 1*","City*","State*","ZIP Code*","Dependent Lives Outside 7-County MHHIC Service Area","Primary Phone Number*","Cell Phone","Work Phone","Personal E-mail","MHHIC Coverage Start Date","MHHIC Coverage End Date","COBRA Indicator","COBRA Start Date","Projected COBRA End Date","Texas Continuation Coverage Indicator","TX Cont. Coverage Start Date","Projected   TX Cont. Coverage End Date","Other Concurrent Coverage Indicator","Other Concurrent Coverage Start Date","Other Concurrent Coverage Carrier Name","Enrollee Covered with Group Prior Carrier Indicator","Group Prior Carrier Coverage Start Date","Group Prior Carrier Coverage End Date","Enrollee Covered with Other Prior Carrier Indicator","Other Prior Carrier Name (Evidence of Prior Creditable Coverage - See Notes Tab)","Other Prior Carrier Coverage Start Date","Other Prior Carrier Coverage End Date","User Defined Field 1","User Defined Field 2","User Defined Field 3"]
[]
[]
[]
[]
[]
[]
[]
[]
[]
[]
[]
[]
[]
[]
[]
[]
[]
[]
[]
[]
[]
[]
[null,null,null,null,null,null,null,null,null,null,null,null,null,null,null,null,null,null,null,null,null,null,null,null,null,null,null,null,null,null,null,null,null,null,null,null,null,null,null,null,null,null,null,null,null,null,null,null,null,null,null,null,null,{"$f":"VLOOKUP($W24,Reference!$AL$4:$AL$322,1,FALSE)","v":{"$error":"#N/A"}},{"$f":"VLOOKUP($N24,Reference!$J$47:$K$64,2,FALSE)","v":{"$error":"#N/A"}},null,{"$f":"VLOOKUP($W24,Reference!$AL$4:$AO$322,4,FALSE)","v":{"$error":"#N/A"}}]
[null,null,null,null,null,null,null,null,null,null,null,null,null,null,null,null,null,null,null,null,null,null,null,null,null,null,null,null,null,null,null,null,null,null,null,null,null,null,null,null,null,null,null,null,null,null,null,null,null,null,null,null,null,{"$f":"VLOOKUP($W25,Reference!$AL$4:$AL$322,1,FALSE)","v":{"$error":"#N/A"}},{"$f":"VLOOKUP($N25,Reference!$J$47:$K$64,2,FALSE)","v":{"$error":"#N/A"}},null,{"$f":"VLOOKUP($W25,Reference!$AL$4:$AO$322,4,FALSE)","v":{"$error":"#N/A"}}]
[null,null,null,null,null,null,null,null,null,null,null,null,null,null,null,null,null,null,null,null,null,null,null,null,null,null,null,null,null,null,null,null,null,null,null,null,null,null,null,null,null,null,null,null,null,null,null,null,null,null,null,null,null,{"$f":"VLOOKUP($W26,Reference!$AL$4:$AL$322,1,FALSE)","v":{"$error":"#N/A"}},{"$f":"VLOOKUP($N26,Reference!$J$47:$K$64,2,FALSE)","v":{"$error":"#N/A"}},null,{"$f":"VLOOKUP($W26,Reference!$AL$4:$AO$322,4,FALSE)","v":{"$error":"#N/A"}}]
[null,null,null,null,null,null,null,null,null,null,null,null,null,null,null,null,null,null,null,null,null,null,null,null,null,null,null,null,null,null,null,null,null,null,null,null,null,null,null,null,null,null,null,null,null,null,null,null,null,null,null,null,null,{"$f":"VLOOKUP($W27,Reference!$AL$4:$AL$322,1,FALSE)","v":{"$error":"#N/A"}},{"$f":"VLOOKUP($N27,Reference!$J$47:$K$64,2,FALSE)","v":{"$error":"#N/A"}},null,{"$f":"VLOOKUP($W27,Reference!$AL$4:$AO$322,4,FALSE)","v":{"$error":"#N/A"}}]
[null,null,null,null,null,null,null,null,null,null,null,null,null,null,null,null,null,null,null,null,null,null,null,null,null,null,null,null,null,null,null,null,null,null,null,null,null,null,null,null,null,null,null,null,null,null,null,null,null,null,null,null,null,{"$f":"VLOOKUP($W28,Reference!$AL$4:$AL$322,1,FALSE)","v":{"$error":"#N/A"}},{"$f":"VLOOKUP($N28,Reference!$J$47:$K$64,2,FALSE)","v":{"$error":"#N/A"}},null,{"$f":"VLOOKUP($W28,Reference!$AL$4:$AO$322,4,FALSE)","v":{"$error":"#N/A"}}]
[null,null,null,null,null,null,null,null,null,null,null,null,null,null,null,null,null,null,null,null,null,null,null,null,null,null,null,null,null,null,null,null,null,null,null,null,null,null,null,null,null,null,null,null,null,null,null,null,null,null,null,null,null,{"$f":"VLOOKUP($W29,Reference!$AL$4:$AL$322,1,FALSE)","v":{"$error":"#N/A"}},{"$f":"VLOOKUP($N29,Reference!$J$47:$K$64,2,FALSE)","v":{"$error":"#N/A"}},null,{"$f":"VLOOKUP($W29,Reference!$AL$4:$AO$322,4,FALSE)","v":{"$error":"#N/A"}}]
[null,null,null,null,null,null,null,null,null,null,null,null,null,null,null,null,null,null,null,null,null,null,null,null,null,null,null,null,null,null,null,null,null,null,null,null,null,null,null,null,null,null,null,null,null,null,null,null,null,null,null,null,null,{"$f":"VLOOKUP($W30,Reference!$AL$4:$AL$322,1,FALSE)","v":{"$error":"#N/A"}},{"$f":"VLOOKUP($N30,Reference!$J$47:$K$64,2,FALSE)","v":{"$error":"#N/A"}},null,{"$f":"VLOOKUP($W30,Reference!$AL$4:$AO$322,4,FALSE)","v":{"$error":"#N/A"}}]
[null,null,null,null,null,null,null,null,null,null,null,null,null,null,null,null,null,null,null,null,null,null,null,null,null,null,null,null,null,null,null,null,null,null,null,null,null,null,null,null,null,null,null,null,null,null,null,null,null,null,null,null,null,{"$f":"VLOOKUP($W31,Reference!$AL$4:$AL$322,1,FALSE)","v":{"$error":"#N/A"}},{"$f":"VLOOKUP($N31,Reference!$J$47:$K$64,2,FALSE)","v":{"$error":"#N/A"}},null,{"$f":"VLOOKUP($W31,Reference!$AL$4:$AO$322,4,FALSE)","v":{"$error":"#N/A"}}]
[null,null,null,null,null,null,null,null,null,null,null,null,null,null,null,null,null,null,null,null,null,null,null,null,null,null,null,null,null,null,null,null,null,null,null,null,null,null,null,null,null,null,null,null,null,null,null,null,null,null,null,null,null,{"$f":"VLOOKUP($W32,Reference!$AL$4:$AL$322,1,FALSE)","v":{"$error":"#N/A"}},{"$f":"VLOOKUP($N32,Reference!$J$47:$K$64,2,FALSE)","v":{"$error":"#N/A"}},null,{"$f":"VLOOKUP($W32,Reference!$AL$4:$AO$322,4,FALSE)","v":{"$error":"#N/A"}}]
[null,null,null,null,null,null,null,null,null,null,null,null,null,null,null,null,null,null,null,null,null,null,null,null,null,null,null,null,null,null,null,null,null,null,null,null,null,null,null,null,null,null,null,null,null,null,null,null,null,null,null,null,null,{"$f":"VLOOKUP($W33,Reference!$AL$4:$AL$322,1,FALSE)","v":{"$error":"#N/A"}},{"$f":"VLOOKUP($N33,Reference!$J$47:$K$64,2,FALSE)","v":{"$error":"#N/A"}},null,{"$f":"VLOOKUP($W33,Reference!$AL$4:$AO$322,4,FALSE)","v":{"$error":"#N/A"}}]
[null,null,null,null,null,null,null,null,null,null,null,null,null,null,null,null,null,null,null,null,null,null,null,null,null,null,null,null,null,null,null,null,null,null,null,null,null,null,null,null,null,null,null,null,null,null,null,null,null,null,null,null,null,{"$f":"VLOOKUP($W34,Reference!$AL$4:$AL$322,1,FALSE)","v":{"$error":"#N/A"}},{"$f":"VLOOKUP($N34,Reference!$J$47:$K$64,2,FALSE)","v":{"$error":"#N/A"}},null,{"$f":"VLOOKUP($W34,Reference!$AL$4:$AO$322,4,FALSE)","v":{"$error":"#N/A"}}]
[null,null,null,null,null,null,null,null,null,null,null,null,null,null,null,null,null,null,null,null,null,null,null,null,null,null,null,null,null,null,null,null,null,null,null,null,null,null,null,null,null,null,null,null,null,null,null,null,null,null,null,null,null,{"$f":"VLOOKUP($W35,Reference!$AL$4:$AL$322,1,FALSE)","v":{"$error":"#N/A"}},{"$f":"VLOOKUP($N35,Reference!$J$47:$K$64,2,FALSE)","v":{"$error":"#N/A"}},null,{"$f":"VLOOKUP($W35,Reference!$AL$4:$AO$322,4,FALSE)","v":{"$error":"#N/A"}}]
[null,null,null,null,null,null,null,null,null,null,null,null,null,null,null,null,null,null,null,null,null,null,null,null,null,null,null,null,null,null,null,null,null,null,null,null,null,null,null,null,null,null,null,null,null,null,null,null,null,null,null,null,null,{"$f":"VLOOKUP($W36,Reference!$AL$4:$AL$322,1,FALSE)","v":{"$error":"#N/A"}},{"$f":"VLOOKUP($N36,Reference!$J$47:$K$64,2,FALSE)","v":{"$error":"#N/A"}},null,{"$f":"VLOOKUP($W36,Reference!$AL$4:$AO$322,4,FALSE)","v":{"$error":"#N/A"}}]
[null,null,null,null,null,null,null,null,null,null,null,null,null,null,null,null,null,null,null,null,null,null,null,null,null,null,null,null,null,null,null,null,null,null,null,null,null,null,null,null,null,null,null,null,null,null,null,null,null,null,null,null,null,{"$f":"VLOOKUP($W37,Reference!$AL$4:$AL$322,1,FALSE)","v":{"$error":"#N/A"}},{"$f":"VLOOKUP($N37,Reference!$J$47:$K$64,2,FALSE)","v":{"$error":"#N/A"}},null,{"$f":"VLOOKUP($W37,Reference!$AL$4:$AO$322,4,FALSE)","v":{"$error":"#N/A"}}]
[null,null,null,null,null,null,null,null,null,null,null,null,null,null,null,null,null,null,null,null,null,null,null,null,null,null,null,null,null,null,null,null,null,null,null,null,null,null,null,null,null,null,null,null,null,null,null,null,null,null,null,null,null,{"$f":"VLOOKUP($W38,Reference!$AL$4:$AL$322,1,FALSE)","v":{"$error":"#N/A"}},{"$f":"VLOOKUP($N38,Reference!$J$47:$K$64,2,FALSE)","v":{"$error":"#N/A"}},null,{"$f":"VLOOKUP($W38,Reference!$AL$4:$AO$322,4,FALSE)","v":{"$error":"#N/A"}}]
[null,null,null,null,null,null,null,null,null,null,null,null,null,null,null,null,null,null,null,null,null,null,null,null,null,null,null,null,null,null,null,null,null,null,null,null,null,null,null,null,null,null,null,null,null,null,null,null,null,null,null,null,null,{"$f":"VLOOKUP($W39,Reference!$AL$4:$AL$322,1,FALSE)","v":{"$error":"#N/A"}},{"$f":"VLOOKUP($N39,Reference!$J$47:$K$64,2,FALSE)","v":{"$error":"#N/A"}},null,{"$f":"VLOOKUP($W39,Reference!$AL$4:$AO$322,4,FALSE)","v":{"$error":"#N/A"}}]
[null,null,null,null,null,null,null,null,null,null,null,null,null,null,null,null,null,null,null,null,null,null,null,null,null,null,null,null,null,null,null,null,null,null,null,null,null,null,null,null,null,null,null,null,null,null,null,null,null,null,null,null,null,{"$f":"VLOOKUP($W40,Reference!$AL$4:$AL$322,1,FALSE)","v":{"$error":"#N/A"}},{"$f":"VLOOKUP($N40,Reference!$J$47:$K$64,2,FALSE)","v":{"$error":"#N/A"}},null,{"$f":"VLOOKUP($W40,Reference!$AL$4:$AO$322,4,FALSE)","v":{"$error":"#N/A"}}]
[null,null,null,null,null,null,null,null,null,null,null,null,null,null,null,null,null,null,null,null,null,null,null,null,null,null,null,null,null,null,null,null,null,null,null,null,null,null,null,null,null,null,null,null,null,null,null,null,null,null,null,null,null,{"$f":"VLOOKUP($W41,Reference!$AL$4:$AL$322,1,FALSE)","v":{"$error":"#N/A"}},{"$f":"VLOOKUP($N41,Reference!$J$47:$K$64,2,FALSE)","v":{"$error":"#N/A"}},null,{"$f":"VLOOKUP($W41,Reference!$AL$4:$AO$322,4,FALSE)","v":{"$error":"#N/A"}}]
[null,null,null,null,null,null,null,null,null,null,null,null,null,null,null,null,null,null,null,null,null,null,null,null,null,null,null,null,null,null,null,null,null,null,null,null,null,null,null,null,null,null,null,null,null,null,null,null,null,null,null,null,null,{"$f":"VLOOKUP($W42,Reference!$AL$4:$AL$322,1,FALSE)","v":{"$error":"#N/A"}},{"$f":"VLOOKUP($N42,Reference!$J$47:$K$64,2,FALSE)","v":{"$error":"#N/A"}},null,{"$f":"VLOOKUP($W42,Reference!$AL$4:$AO$322,4,FALSE)","v":{"$error":"#N/A"}}]
[null,null,null,null,null,null,null,null,null,null,null,null,null,null,null,null,null,null,null,null,null,null,null,null,null,null,null,null,null,null,null,null,null,null,null,null,null,null,null,null,null,null,null,null,null,null,null,null,null,null,null,null,null,{"$f":"VLOOKUP($W43,Reference!$AL$4:$AL$322,1,FALSE)","v":{"$error":"#N/A"}},{"$f":"VLOOKUP($N43,Reference!$J$47:$K$64,2,FALSE)","v":{"$error":"#N/A"}},null,{"$f":"VLOOKUP($W43,Reference!$AL$4:$AO$322,4,FALSE)","v":{"$error":"#N/A"}}]
[null,null,null,null,null,null,null,null,null,null,null,null,null,null,null,null,null,null,null,null,null,null,null,null,null,null,null,null,null,null,null,null,null,null,null,null,null,null,null,null,null,null,null,null,null,null,null,null,null,null,null,null,null,{"$f":"VLOOKUP($W44,Reference!$AL$4:$AL$322,1,FALSE)","v":{"$error":"#N/A"}},{"$f":"VLOOKUP($N44,Reference!$J$47:$K$64,2,FALSE)","v":{"$error":"#N/A"}},null,{"$f":"VLOOKUP($W44,Reference!$AL$4:$AO$322,4,FALSE)","v":{"$error":"#N/A"}}]
[null,null,null,null,null,null,null,null,null,null,null,null,null,null,null,null,null,null,null,null,null,null,null,null,null,null,null,null,null,null,null,null,null,null,null,null,null,null,null,null,null,null,null,null,null,null,null,null,null,null,null,null,null,{"$f":"VLOOKUP($W45,Reference!$AL$4:$AL$322,1,FALSE)","v":{"$error":"#N/A"}},{"$f":"VLOOKUP($N45,Reference!$J$47:$K$64,2,FALSE)","v":{"$error":"#N/A"}},null,{"$f":"VLOOKUP($W45,Reference!$AL$4:$AO$322,4,FALSE)","v":{"$error":"#N/A"}}]
[null,null,null,null,null,null,null,null,null,null,null,null,null,null,null,null,null,null,null,null,null,null,null,null,null,null,null,null,null,null,null,null,null,null,null,null,null,null,null,null,null,null,null,null,null,null,null,null,null,null,null,null,null,{"$f":"VLOOKUP($W46,Reference!$AL$4:$AL$322,1,FALSE)","v":{"$error":"#N/A"}},{"$f":"VLOOKUP($N46,Reference!$J$47:$K$64,2,FALSE)","v":{"$error":"#N/A"}},null,{"$f":"VLOOKUP($W46,Reference!$AL$4:$AO$322,4,FALSE)","v":{"$error":"#N/A"}}]
[null,null,null,null,null,null,null,null,null,null,null,null,null,null,null,null,null,null,null,null,null,null,null,null,null,null,null,null,null,null,null,null,null,null,null,null,null,null,null,null,null,null,null,null,null,null,null,null,null,null,null,null,null,{"$f":"VLOOKUP($W47,Reference!$AL$4:$AL$322,1,FALSE)","v":{"$error":"#N/A"}},{"$f":"VLOOKUP($N47,Reference!$J$47:$K$64,2,FALSE)","v":{"$error":"#N/A"}},null,{"$f":"VLOOKUP($W47,Reference!$AL$4:$AO$322,4,FALSE)","v":{"$error":"#N/A"}}]
[null,null,null,null,null,null,null,null,null,null,null,null,null,null,null,null,null,null,null,null,null,null,null,null,null,null,null,null,null,null,null,null,null,null,null,null,null,null,null,null,null,null,null,null,null,null,null,null,null,null,null,null,null,{"$f":"VLOOKUP($W48,Reference!$AL$4:$AL$322,1,FALSE)","v":{"$error":"#N/A"}},{"$f":"VLOOKUP($N48,Reference!$J$47:$K$64,2,FALSE)","v":{"$error":"#N/A"}},null,{"$f":"VLOOKUP($W48,Reference!$AL$4:$AO$322,4,FALSE)","v":{"$error":"#N/A"}}]
[null,null,null,null,null,null,null,null,null,null,null,null,null,null,null,null,null,null,null,null,null,null,null,null,null,null,null,null,null,null,null,null,null,null,null,null,null,null,null,null,null,null,null,null,null,null,null,null,null,null,null,null,null,{"$f":"VLOOKUP($W49,Reference!$AL$4:$AL$322,1,FALSE)","v":{"$error":"#N/A"}},{"$f":"VLOOKUP($N49,Reference!$J$47:$K$64,2,FALSE)","v":{"$error":"#N/A"}},null,{"$f":"VLOOKUP($W49,Reference!$AL$4:$AO$322,4,FALSE)","v":{"$error":"#N/A"}}]
[null,null,null,null,null,null,null,null,null,null,null,null,null,null,null,null,null,null,null,null,null,null,null,null,null,null,null,null,null,null,null,null,null,null,null,null,null,null,null,null,null,null,null,null,null,null,null,null,null,null,null,null,null,{"$f":"VLOOKUP($W50,Reference!$AL$4:$AL$322,1,FALSE)","v":{"$error":"#N/A"}},{"$f":"VLOOKUP($N50,Reference!$J$47:$K$64,2,FALSE)","v":{"$error":"#N/A"}},null,{"$f":"VLOOKUP($W50,Reference!$AL$4:$AO$322,4,FALSE)","v":{"$error":"#N/A"}}]
[null,null,null,null,null,null,null,null,null,null,null,null,null,null,null,null,null,null,null,null,null,null,null,null,null,null,null,null,null,null,null,null,null,null,null,null,null,null,null,null,null,null,null,null,null,null,null,null,null,null,null,null,null,{"$f":"VLOOKUP($W51,Reference!$AL$4:$AL$322,1,FALSE)","v":{"$error":"#N/A"}},{"$f":"VLOOKUP($N51,Reference!$J$47:$K$64,2,FALSE)","v":{"$error":"#N/A"}},null,{"$f":"VLOOKUP($W51,Reference!$AL$4:$AO$322,4,FALSE)","v":{"$error":"#N/A"}}]
[null,null,null,null,null,null,null,null,null,null,null,null,null,null,null,null,null,null,null,null,null,null,null,null,null,null,null,null,null,null,null,null,null,null,null,null,null,null,null,null,null,null,null,null,null,null,null,null,null,null,null,null,null,{"$f":"VLOOKUP($W52,Reference!$AL$4:$AL$322,1,FALSE)","v":{"$error":"#N/A"}},{"$f":"VLOOKUP($N52,Reference!$J$47:$K$64,2,FALSE)","v":{"$error":"#N/A"}},null,{"$f":"VLOOKUP($W52,Reference!$AL$4:$AO$322,4,FALSE)","v":{"$error":"#N/A"}}]
[null,null,null,null,null,null,null,null,null,null,null,null,null,null,null,null,null,null,null,null,null,null,null,null,null,null,null,null,null,null,null,null,null,null,null,null,null,null,null,null,null,null,null,null,null,null,null,null,null,null,null,null,null,{"$f":"VLOOKUP($W53,Reference!$AL$4:$AL$322,1,FALSE)","v":{"$error":"#N/A"}},{"$f":"VLOOKUP($N53,Reference!$J$47:$K$64,2,FALSE)","v":{"$error":"#N/A"}},null,{"$f":"VLOOKUP($W53,Reference!$AL$4:$AO$322,4,FALSE)","v":{"$error":"#N/A"}}]
[null,null,null,null,null,null,null,null,null,null,null,null,null,null,null,null,null,null,null,null,null,null,null,null,null,null,null,null,null,null,null,null,null,null,null,null,null,null,null,null,null,null,null,null,null,null,null,null,null,null,null,null,null,{"$f":"VLOOKUP($W54,Reference!$AL$4:$AL$322,1,FALSE)","v":{"$error":"#N/A"}},{"$f":"VLOOKUP($N54,Reference!$J$47:$K$64,2,FALSE)","v":{"$error":"#N/A"}},null,{"$f":"VLOOKUP($W54,Reference!$AL$4:$AO$322,4,FALSE)","v":{"$error":"#N/A"}}]
[null,null,null,null,null,null,null,null,null,null,null,null,null,null,null,null,null,null,null,null,null,null,null,null,null,null,null,null,null,null,null,null,null,null,null,null,null,null,null,null,null,null,null,null,null,null,null,null,null,null,null,null,null,{"$f":"VLOOKUP($W55,Reference!$AL$4:$AL$322,1,FALSE)","v":{"$error":"#N/A"}},{"$f":"VLOOKUP($N55,Reference!$J$47:$K$64,2,FALSE)","v":{"$error":"#N/A"}},null,{"$f":"VLOOKUP($W55,Reference!$AL$4:$AO$322,4,FALSE)","v":{"$error":"#N/A"}}]
[null,null,null,null,null,null,null,null,null,null,null,null,null,null,null,null,null,null,null,null,null,null,null,null,null,null,null,null,null,null,null,null,null,null,null,null,null,null,null,null,null,null,null,null,null,null,null,null,null,null,null,null,null,{"$f":"VLOOKUP($W56,Reference!$AL$4:$AL$322,1,FALSE)","v":{"$error":"#N/A"}},{"$f":"VLOOKUP($N56,Reference!$J$47:$K$64,2,FALSE)","v":{"$error":"#N/A"}},null,{"$f":"VLOOKUP($W56,Reference!$AL$4:$AO$322,4,FALSE)","v":{"$error":"#N/A"}}]
[null,null,null,null,null,null,null,null,null,null,null,null,null,null,null,null,null,null,null,null,null,null,null,null,null,null,null,null,null,null,null,null,null,null,null,null,null,null,null,null,null,null,null,null,null,null,null,null,null,null,null,null,null,{"$f":"VLOOKUP($W57,Reference!$AL$4:$AL$322,1,FALSE)","v":{"$error":"#N/A"}},{"$f":"VLOOKUP($N57,Reference!$J$47:$K$64,2,FALSE)","v":{"$error":"#N/A"}},null,{"$f":"VLOOKUP($W57,Reference!$AL$4:$AO$322,4,FALSE)","v":{"$error":"#N/A"}}]
[null,null,null,null,null,null,null,null,null,null,null,null,null,null,null,null,null,null,null,null,null,null,null,null,null,null,null,null,null,null,null,null,null,null,null,null,null,null,null,null,null,null,null,null,null,null,null,null,null,null,null,null,null,{"$f":"VLOOKUP($W58,Reference!$AL$4:$AL$322,1,FALSE)","v":{"$error":"#N/A"}},{"$f":"VLOOKUP($N58,Reference!$J$47:$K$64,2,FALSE)","v":{"$error":"#N/A"}},null,{"$f":"VLOOKUP($W58,Reference!$AL$4:$AO$322,4,FALSE)","v":{"$error":"#N/A"}}]
[null,null,null,null,null,null,null,null,null,null,null,null,null,null,null,null,null,null,null,null,null,null,null,null,null,null,null,null,null,null,null,null,null,null,null,null,null,null,null,null,null,null,null,null,null,null,null,null,null,null,null,null,null,{"$f":"VLOOKUP($W59,Reference!$AL$4:$AL$322,1,FALSE)","v":{"$error":"#N/A"}},{"$f":"VLOOKUP($N59,Reference!$J$47:$K$64,2,FALSE)","v":{"$error":"#N/A"}},null,{"$f":"VLOOKUP($W59,Reference!$AL$4:$AO$322,4,FALSE)","v":{"$error":"#N/A"}}]
[null,null,null,null,null,null,null,null,null,null,null,null,null,null,null,null,null,null,null,null,null,null,null,null,null,null,null,null,null,null,null,null,null,null,null,null,null,null,null,null,null,null,null,null,null,null,null,null,null,null,null,null,null,{"$f":"VLOOKUP($W60,Reference!$AL$4:$AL$322,1,FALSE)","v":{"$error":"#N/A"}},{"$f":"VLOOKUP($N60,Reference!$J$47:$K$64,2,FALSE)","v":{"$error":"#N/A"}},null,{"$f":"VLOOKUP($W60,Reference!$AL$4:$AO$322,4,FALSE)","v":{"$error":"#N/A"}}]
[null,null,null,null,null,null,null,null,null,null,null,null,null,null,null,null,null,null,null,null,null,null,null,null,null,null,null,null,null,null,null,null,null,null,null,null,null,null,null,null,null,null,null,null,null,null,null,null,null,null,null,null,null,{"$f":"VLOOKUP($W61,Reference!$AL$4:$AL$322,1,FALSE)","v":{"$error":"#N/A"}},{"$f":"VLOOKUP($N61,Reference!$J$47:$K$64,2,FALSE)","v":{"$error":"#N/A"}},null,{"$f":"VLOOKUP($W61,Reference!$AL$4:$AO$322,4,FALSE)","v":{"$error":"#N/A"}}]
[null,null,null,null,null,null,null,null,null,null,null,null,null,null,null,null,null,null,null,null,null,null,null,null,null,null,null,null,null,null,null,null,null,null,null,null,null,null,null,null,null,null,null,null,null,null,null,null,null,null,null,null,null,{"$f":"VLOOKUP($W62,Reference!$AL$4:$AL$322,1,FALSE)","v":{"$error":"#N/A"}},{"$f":"VLOOKUP($N62,Reference!$J$47:$K$64,2,FALSE)","v":{"$error":"#N/A"}},null,{"$f":"VLOOKUP($W62,Reference!$AL$4:$AO$322,4,FALSE)","v":{"$error":"#N/A"}}]
[null,null,null,null,null,null,null,null,null,null,null,null,null,null,null,null,null,null,null,null,null,null,null,null,null,null,null,null,null,null,null,null,null,null,null,null,null,null,null,null,null,null,null,null,null,null,null,null,null,null,null,null,null,{"$f":"VLOOKUP($W63,Reference!$AL$4:$AL$322,1,FALSE)","v":{"$error":"#N/A"}},{"$f":"VLOOKUP($N63,Reference!$J$47:$K$64,2,FALSE)","v":{"$error":"#N/A"}},null,{"$f":"VLOOKUP($W63,Reference!$AL$4:$AO$322,4,FALSE)","v":{"$error":"#N/A"}}]
[null,null,null,null,null,null,null,null,null,null,null,null,null,null,null,null,null,null,null,null,null,null,null,null,null,null,null,null,null,null,null,null,null,null,null,null,null,null,null,null,null,null,null,null,null,null,null,null,null,null,null,null,null,{"$f":"VLOOKUP($W64,Reference!$AL$4:$AL$322,1,FALSE)","v":{"$error":"#N/A"}},{"$f":"VLOOKUP($N64,Reference!$J$47:$K$64,2,FALSE)","v":{"$error":"#N/A"}},null,{"$f":"VLOOKUP($W64,Reference!$AL$4:$AO$322,4,FALSE)","v":{"$error":"#N/A"}}]
[null,null,null,null,null,null,null,null,null,null,null,null,null,null,null,null,null,null,null,null,null,null,null,null,null,null,null,null,null,null,null,null,null,null,null,null,null,null,null,null,null,null,null,null,null,null,null,null,null,null,null,null,null,{"$f":"VLOOKUP($W65,Reference!$AL$4:$AL$322,1,FALSE)","v":{"$error":"#N/A"}},{"$f":"VLOOKUP($N65,Reference!$J$47:$K$64,2,FALSE)","v":{"$error":"#N/A"}},null,{"$f":"VLOOKUP($W65,Reference!$AL$4:$AO$322,4,FALSE)","v":{"$error":"#N/A"}}]
[null,null,null,null,null,null,null,null,null,null,null,null,null,null,null,null,null,null,null,null,null,null,null,null,null,null,null,null,null,null,null,null,null,null,null,null,null,null,null,null,null,null,null,null,null,null,null,null,null,null,null,null,null,{"$f":"VLOOKUP($W66,Reference!$AL$4:$AL$322,1,FALSE)","v":{"$error":"#N/A"}},{"$f":"VLOOKUP($N66,Reference!$J$47:$K$64,2,FALSE)","v":{"$error":"#N/A"}},null,{"$f":"VLOOKUP($W66,Reference!$AL$4:$AO$322,4,FALSE)","v":{"$error":"#N/A"}}]
[null,null,null,null,null,null,null,null,null,null,null,null,null,null,null,null,null,null,null,null,null,null,null,null,null,null,null,null,null,null,null,null,null,null,null,null,null,null,null,null,null,null,null,null,null,null,null,null,null,null,null,null,null,{"$f":"VLOOKUP($W67,Reference!$AL$4:$AL$322,1,FALSE)","v":{"$error":"#N/A"}},{"$f":"VLOOKUP($N67,Reference!$J$47:$K$64,2,FALSE)","v":{"$error":"#N/A"}},null,{"$f":"VLOOKUP($W67,Reference!$AL$4:$AO$322,4,FALSE)","v":{"$error":"#N/A"}}]
[null,null,null,null,null,null,null,null,null,null,null,null,null,null,null,null,null,null,null,null,null,null,null,null,null,null,null,null,null,null,null,null,null,null,null,null,null,null,null,null,null,null,null,null,null,null,null,null,null,null,null,null,null,{"$f":"VLOOKUP($W68,Reference!$AL$4:$AL$322,1,FALSE)","v":{"$error":"#N/A"}},{"$f":"VLOOKUP($N68,Reference!$J$47:$K$64,2,FALSE)","v":{"$error":"#N/A"}},null,{"$f":"VLOOKUP($W68,Reference!$AL$4:$AO$322,4,FALSE)","v":{"$error":"#N/A"}}]
[null,null,null,null,null,null,null,null,null,null,null,null,null,null,null,null,null,null,null,null,null,null,null,null,null,null,null,null,null,null,null,null,null,null,null,null,null,null,null,null,null,null,null,null,null,null,null,null,null,null,null,null,null,{"$f":"VLOOKUP($W69,Reference!$AL$4:$AL$322,1,FALSE)","v":{"$error":"#N/A"}},{"$f":"VLOOKUP($N69,Reference!$J$47:$K$64,2,FALSE)","v":{"$error":"#N/A"}},null,{"$f":"VLOOKUP($W69,Reference!$AL$4:$AO$322,4,FALSE)","v":{"$error":"#N/A"}}]
[null,null,null,null,null,null,null,null,null,null,null,null,null,null,null,null,null,null,null,null,null,null,null,null,null,null,null,null,null,null,null,null,null,null,null,null,null,null,null,null,null,null,null,null,null,null,null,null,null,null,null,null,null,{"$f":"VLOOKUP($W70,Reference!$AL$4:$AL$322,1,FALSE)","v":{"$error":"#N/A"}},{"$f":"VLOOKUP($N70,Reference!$J$47:$K$64,2,FALSE)","v":{"$error":"#N/A"}},null,{"$f":"VLOOKUP($W70,Reference!$AL$4:$AO$322,4,FALSE)","v":{"$error":"#N/A"}}]
[null,null,null,null,null,null,null,null,null,null,null,null,null,null,null,null,null,null,null,null,null,null,null,null,null,null,null,null,null,null,null,null,null,null,null,null,null,null,null,null,null,null,null,null,null,null,null,null,null,null,null,null,null,{"$f":"VLOOKUP($W71,Reference!$AL$4:$AL$322,1,FALSE)","v":{"$error":"#N/A"}},{"$f":"VLOOKUP($N71,Reference!$J$47:$K$64,2,FALSE)","v":{"$error":"#N/A"}},null,{"$f":"VLOOKUP($W71,Reference!$AL$4:$AO$322,4,FALSE)","v":{"$error":"#N/A"}}]
[null,null,null,null,null,null,null,null,null,null,null,null,null,null,null,null,null,null,null,null,null,null,null,null,null,null,null,null,null,null,null,null,null,null,null,null,null,null,null,null,null,null,null,null,null,null,null,null,null,null,null,null,null,{"$f":"VLOOKUP($W72,Reference!$AL$4:$AL$322,1,FALSE)","v":{"$error":"#N/A"}},{"$f":"VLOOKUP($N72,Reference!$J$47:$K$64,2,FALSE)","v":{"$error":"#N/A"}},null,{"$f":"VLOOKUP($W72,Reference!$AL$4:$AO$322,4,FALSE)","v":{"$error":"#N/A"}}]
[null,null,null,null,null,null,null,null,null,null,null,null,null,null,null,null,null,null,null,null,null,null,null,null,null,null,null,null,null,null,null,null,null,null,null,null,null,null,null,null,null,null,null,null,null,null,null,null,null,null,null,null,null,{"$f":"VLOOKUP($W73,Reference!$AL$4:$AL$322,1,FALSE)","v":{"$error":"#N/A"}},{"$f":"VLOOKUP($N73,Reference!$J$47:$K$64,2,FALSE)","v":{"$error":"#N/A"}},null,{"$f":"VLOOKUP($W73,Reference!$AL$4:$AO$322,4,FALSE)","v":{"$error":"#N/A"}}]
[null,null,null,null,null,null,null,null,null,null,null,null,null,null,null,null,null,null,null,null,null,null,null,null,null,null,null,null,null,null,null,null,null,null,null,null,null,null,null,null,null,null,null,null,null,null,null,null,null,null,null,null,null,{"$f":"VLOOKUP($W74,Reference!$AL$4:$AL$322,1,FALSE)","v":{"$error":"#N/A"}},{"$f":"VLOOKUP($N74,Reference!$J$47:$K$64,2,FALSE)","v":{"$error":"#N/A"}},null,{"$f":"VLOOKUP($W74,Reference!$AL$4:$AO$322,4,FALSE)","v":{"$error":"#N/A"}}]
[null,null,null,null,null,null,null,null,null,null,null,null,null,null,null,null,null,null,null,null,null,null,null,null,null,null,null,null,null,null,null,null,null,null,null,null,null,null,null,null,null,null,null,null,null,null,null,null,null,null,null,null,null,{"$f":"VLOOKUP($W75,Reference!$AL$4:$AL$322,1,FALSE)","v":{"$error":"#N/A"}},{"$f":"VLOOKUP($N75,Reference!$J$47:$K$64,2,FALSE)","v":{"$error":"#N/A"}},null,{"$f":"VLOOKUP($W75,Reference!$AL$4:$AO$322,4,FALSE)","v":{"$error":"#N/A"}}]
[null,null,null,null,null,null,null,null,null,null,null,null,null,null,null,null,null,null,null,null,null,null,null,null,null,null,null,null,null,null,null,null,null,null,null,null,null,null,null,null,null,null,null,null,null,null,null,null,null,null,null,null,null,{"$f":"VLOOKUP($W76,Reference!$AL$4:$AL$322,1,FALSE)","v":{"$error":"#N/A"}},{"$f":"VLOOKUP($N76,Reference!$J$47:$K$64,2,FALSE)","v":{"$error":"#N/A"}},null,{"$f":"VLOOKUP($W76,Reference!$AL$4:$AO$322,4,FALSE)","v":{"$error":"#N/A"}}]
[null,null,null,null,null,null,null,null,null,null,null,null,null,null,null,null,null,null,null,null,null,null,null,null,null,null,null,null,null,null,null,null,null,null,null,null,null,null,null,null,null,null,null,null,null,null,null,null,null,null,null,null,null,{"$f":"VLOOKUP($W77,Reference!$AL$4:$AL$322,1,FALSE)","v":{"$error":"#N/A"}},{"$f":"VLOOKUP($N77,Reference!$J$47:$K$64,2,FALSE)","v":{"$error":"#N/A"}},null,{"$f":"VLOOKUP($W77,Reference!$AL$4:$AO$322,4,FALSE)","v":{"$error":"#N/A"}}]
[null,null,null,null,null,null,null,null,null,null,null,null,null,null,null,null,null,null,null,null,null,null,null,null,null,null,null,null,null,null,null,null,null,null,null,null,null,null,null,null,null,null,null,null,null,null,null,null,null,null,null,null,null,{"$f":"VLOOKUP($W78,Reference!$AL$4:$AL$322,1,FALSE)","v":{"$error":"#N/A"}},{"$f":"VLOOKUP($N78,Reference!$J$47:$K$64,2,FALSE)","v":{"$error":"#N/A"}},null,{"$f":"VLOOKUP($W78,Reference!$AL$4:$AO$322,4,FALSE)","v":{"$error":"#N/A"}}]
[null,null,null,null,null,null,null,null,null,null,null,null,null,null,null,null,null,null,null,null,null,null,null,null,null,null,null,null,null,null,null,null,null,null,null,null,null,null,null,null,null,null,null,null,null,null,null,null,null,null,null,null,null,{"$f":"VLOOKUP($W79,Reference!$AL$4:$AL$322,1,FALSE)","v":{"$error":"#N/A"}},{"$f":"VLOOKUP($N79,Reference!$J$47:$K$64,2,FALSE)","v":{"$error":"#N/A"}},null,{"$f":"VLOOKUP($W79,Reference!$AL$4:$AO$322,4,FALSE)","v":{"$error":"#N/A"}}]
[null,null,null,null,null,null,null,null,null,null,null,null,null,null,null,null,null,null,null,null,null,null,null,null,null,null,null,null,null,null,null,null,null,null,null,null,null,null,null,null,null,null,null,null,null,null,null,null,null,null,null,null,null,{"$f":"VLOOKUP($W80,Reference!$AL$4:$AL$322,1,FALSE)","v":{"$error":"#N/A"}},{"$f":"VLOOKUP($N80,Reference!$J$47:$K$64,2,FALSE)","v":{"$error":"#N/A"}},null,{"$f":"VLOOKUP($W80,Reference!$AL$4:$AO$322,4,FALSE)","v":{"$error":"#N/A"}}]
[null,null,null,null,null,null,null,null,null,null,null,null,null,null,null,null,null,null,null,null,null,null,null,null,null,null,null,null,null,null,null,null,null,null,null,null,null,null,null,null,null,null,null,null,null,null,null,null,null,null,null,null,null,{"$f":"VLOOKUP($W81,Reference!$AL$4:$AL$322,1,FALSE)","v":{"$error":"#N/A"}},{"$f":"VLOOKUP($N81,Reference!$J$47:$K$64,2,FALSE)","v":{"$error":"#N/A"}},null,{"$f":"VLOOKUP($W81,Reference!$AL$4:$AO$322,4,FALSE)","v":{"$error":"#N/A"}}]
[null,null,null,null,null,null,null,null,null,null,null,null,null,null,null,null,null,null,null,null,null,null,null,null,null,null,null,null,null,null,null,null,null,null,null,null,null,null,null,null,null,null,null,null,null,null,null,null,null,null,null,null,null,{"$f":"VLOOKUP($W82,Reference!$AL$4:$AL$322,1,FALSE)","v":{"$error":"#N/A"}},{"$f":"VLOOKUP($N82,Reference!$J$47:$K$64,2,FALSE)","v":{"$error":"#N/A"}},null,{"$f":"VLOOKUP($W82,Reference!$AL$4:$AO$322,4,FALSE)","v":{"$error":"#N/A"}}]
[null,null,null,null,null,null,null,null,null,null,null,null,null,null,null,null,null,null,null,null,null,null,null,null,null,null,null,null,null,null,null,null,null,null,null,null,null,null,null,null,null,null,null,null,null,null,null,null,null,null,null,null,null,{"$f":"VLOOKUP($W83,Reference!$AL$4:$AL$322,1,FALSE)","v":{"$error":"#N/A"}},{"$f":"VLOOKUP($N83,Reference!$J$47:$K$64,2,FALSE)","v":{"$error":"#N/A"}},null,{"$f":"VLOOKUP($W83,Reference!$AL$4:$AO$322,4,FALSE)","v":{"$error":"#N/A"}}]
[null,null,null,null,null,null,null,null,null,null,null,null,null,null,null,null,null,null,null,null,null,null,null,null,null,null,null,null,null,null,null,null,null,null,null,null,null,null,null,null,null,null,null,null,null,null,null,null,null,null,null,null,null,{"$f":"VLOOKUP($W84,Reference!$AL$4:$AL$322,1,FALSE)","v":{"$error":"#N/A"}},{"$f":"VLOOKUP($N84,Reference!$J$47:$K$64,2,FALSE)","v":{"$error":"#N/A"}},null,{"$f":"VLOOKUP($W84,Reference!$AL$4:$AO$322,4,FALSE)","v":{"$error":"#N/A"}}]
[null,null,null,null,null,null,null,null,null,null,null,null,null,null,null,null,null,null,null,null,null,null,null,null,null,null,null,null,null,null,null,null,null,null,null,null,null,null,null,null,null,null,null,null,null,null,null,null,null,null,null,null,null,{"$f":"VLOOKUP($W85,Reference!$AL$4:$AL$322,1,FALSE)","v":{"$error":"#N/A"}},{"$f":"VLOOKUP($N85,Reference!$J$47:$K$64,2,FALSE)","v":{"$error":"#N/A"}},null,{"$f":"VLOOKUP($W85,Reference!$AL$4:$AO$322,4,FALSE)","v":{"$error":"#N/A"}}]
[null,null,null,null,null,null,null,null,null,null,null,null,null,null,null,null,null,null,null,null,null,null,null,null,null,null,null,null,null,null,null,null,null,null,null,null,null,null,null,null,null,null,null,null,null,null,null,null,null,null,null,null,null,{"$f":"VLOOKUP($W86,Reference!$AL$4:$AL$322,1,FALSE)","v":{"$error":"#N/A"}},{"$f":"VLOOKUP($N86,Reference!$J$47:$K$64,2,FALSE)","v":{"$error":"#N/A"}},null,{"$f":"VLOOKUP($W86,Reference!$AL$4:$AO$322,4,FALSE)","v":{"$error":"#N/A"}}]
[null,null,null,null,null,null,null,null,null,null,null,null,null,null,null,null,null,null,null,null,null,null,null,null,null,null,null,null,null,null,null,null,null,null,null,null,null,null,null,null,null,null,null,null,null,null,null,null,null,null,null,null,null,{"$f":"VLOOKUP($W87,Reference!$AL$4:$AL$322,1,FALSE)","v":{"$error":"#N/A"}},{"$f":"VLOOKUP($N87,Reference!$J$47:$K$64,2,FALSE)","v":{"$error":"#N/A"}},null,{"$f":"VLOOKUP($W87,Reference!$AL$4:$AO$322,4,FALSE)","v":{"$error":"#N/A"}}]
[null,null,null,null,null,null,null,null,null,null,null,null,null,null,null,null,null,null,null,null,null,null,null,null,null,null,null,null,null,null,null,null,null,null,null,null,null,null,null,null,null,null,null,null,null,null,null,null,null,null,null,null,null,{"$f":"VLOOKUP($W88,Reference!$AL$4:$AL$322,1,FALSE)","v":{"$error":"#N/A"}},{"$f":"VLOOKUP($N88,Reference!$J$47:$K$64,2,FALSE)","v":{"$error":"#N/A"}},null,{"$f":"VLOOKUP($W88,Reference!$AL$4:$AO$322,4,FALSE)","v":{"$error":"#N/A"}}]
[null,null,null,null,null,null,null,null,null,null,null,null,null,null,null,null,null,null,null,null,null,null,null,null,null,null,null,null,null,null,null,null,null,null,null,null,null,null,null,null,null,null,null,null,null,null,null,null,null,null,null,null,null,{"$f":"VLOOKUP($W89,Reference!$AL$4:$AL$322,1,FALSE)","v":{"$error":"#N/A"}},{"$f":"VLOOKUP($N89,Reference!$J$47:$K$64,2,FALSE)","v":{"$error":"#N/A"}},null,{"$f":"VLOOKUP($W89,Reference!$AL$4:$AO$322,4,FALSE)","v":{"$error":"#N/A"}}]
[null,null,null,null,null,null,null,null,null,null,null,null,null,null,null,null,null,null,null,null,null,null,null,null,null,null,null,null,null,null,null,null,null,null,null,null,null,null,null,null,null,null,null,null,null,null,null,null,null,null,null,null,null,{"$f":"VLOOKUP($W90,Reference!$AL$4:$AL$322,1,FALSE)","v":{"$error":"#N/A"}},{"$f":"VLOOKUP($N90,Reference!$J$47:$K$64,2,FALSE)","v":{"$error":"#N/A"}},null,{"$f":"VLOOKUP($W90,Reference!$AL$4:$AO$322,4,FALSE)","v":{"$error":"#N/A"}}]
[null,null,null,null,null,null,null,null,null,null,null,null,null,null,null,null,null,null,null,null,null,null,null,null,null,null,null,null,null,null,null,null,null,null,null,null,null,null,null,null,null,null,null,null,null,null,null,null,null,null,null,null,null,{"$f":"VLOOKUP($W91,Reference!$AL$4:$AL$322,1,FALSE)","v":{"$error":"#N/A"}},{"$f":"VLOOKUP($N91,Reference!$J$47:$K$64,2,FALSE)","v":{"$error":"#N/A"}},null,{"$f":"VLOOKUP($W91,Reference!$AL$4:$AO$322,4,FALSE)","v":{"$error":"#N/A"}}]
[null,null,null,null,null,null,null,null,null,null,null,null,null,null,null,null,null,null,null,null,null,null,null,null,null,null,null,null,null,null,null,null,null,null,null,null,null,null,null,null,null,null,null,null,null,null,null,null,null,null,null,null,null,{"$f":"VLOOKUP($W92,Reference!$AL$4:$AL$322,1,FALSE)","v":{"$error":"#N/A"}},{"$f":"VLOOKUP($N92,Reference!$J$47:$K$64,2,FALSE)","v":{"$error":"#N/A"}},null,{"$f":"VLOOKUP($W92,Reference!$AL$4:$AO$322,4,FALSE)","v":{"$error":"#N/A"}}]
[null,null,null,null,null,null,null,null,null,null,null,null,null,null,null,null,null,null,null,null,null,null,null,null,null,null,null,null,null,null,null,null,null,null,null,null,null,null,null,null,null,null,null,null,null,null,null,null,null,null,null,null,null,{"$f":"VLOOKUP($W93,Reference!$AL$4:$AL$322,1,FALSE)","v":{"$error":"#N/A"}},{"$f":"VLOOKUP($N93,Reference!$J$47:$K$64,2,FALSE)","v":{"$error":"#N/A"}},null,{"$f":"VLOOKUP($W93,Reference!$AL$4:$AO$322,4,FALSE)","v":{"$error":"#N/A"}}]
[null,null,null,null,null,null,null,null,null,null,null,null,null,null,null,null,null,null,null,null,null,null,null,null,null,null,null,null,null,null,null,null,null,null,null,null,null,null,null,null,null,null,null,null,null,null,null,null,null,null,null,null,null,{"$f":"VLOOKUP($W94,Reference!$AL$4:$AL$322,1,FALSE)","v":{"$error":"#N/A"}},{"$f":"VLOOKUP($N94,Reference!$J$47:$K$64,2,FALSE)","v":{"$error":"#N/A"}},null,{"$f":"VLOOKUP($W94,Reference!$AL$4:$AO$322,4,FALSE)","v":{"$error":"#N/A"}}]
[null,null,null,null,null,null,null,null,null,null,null,null,null,null,null,null,null,null,null,null,null,null,null,null,null,null,null,null,null,null,null,null,null,null,null,null,null,null,null,null,null,null,null,null,null,null,null,null,null,null,null,null,null,{"$f":"VLOOKUP($W95,Reference!$AL$4:$AL$322,1,FALSE)","v":{"$error":"#N/A"}},{"$f":"VLOOKUP($N95,Reference!$J$47:$K$64,2,FALSE)","v":{"$error":"#N/A"}},null,{"$f":"VLOOKUP($W95,Reference!$AL$4:$AO$322,4,FALSE)","v":{"$error":"#N/A"}}]
[null,null,null,null,null,null,null,null,null,null,null,null,null,null,null,null,null,null,null,null,null,null,null,null,null,null,null,null,null,null,null,null,null,null,null,null,null,null,null,null,null,null,null,null,null,null,null,null,null,null,null,null,null,{"$f":"VLOOKUP($W96,Reference!$AL$4:$AL$322,1,FALSE)","v":{"$error":"#N/A"}},{"$f":"VLOOKUP($N96,Reference!$J$47:$K$64,2,FALSE)","v":{"$error":"#N/A"}},null,{"$f":"VLOOKUP($W96,Reference!$AL$4:$AO$322,4,FALSE)","v":{"$error":"#N/A"}}]
[null,null,null,null,null,null,null,null,null,null,null,null,null,null,null,null,null,null,null,null,null,null,null,null,null,null,null,null,null,null,null,null,null,null,null,null,null,null,null,null,null,null,null,null,null,null,null,null,null,null,null,null,null,{"$f":"VLOOKUP($W97,Reference!$AL$4:$AL$322,1,FALSE)","v":{"$error":"#N/A"}},{"$f":"VLOOKUP($N97,Reference!$J$47:$K$64,2,FALSE)","v":{"$error":"#N/A"}},null,{"$f":"VLOOKUP($W97,Reference!$AL$4:$AO$322,4,FALSE)","v":{"$error":"#N/A"}}]
[null,null,null,null,null,null,null,null,null,null,null,null,null,null,null,null,null,null,null,null,null,null,null,null,null,null,null,null,null,null,null,null,null,null,null,null,null,null,null,null,null,null,null,null,null,null,null,null,null,null,null,null,null,{"$f":"VLOOKUP($W98,Reference!$AL$4:$AL$322,1,FALSE)","v":{"$error":"#N/A"}},{"$f":"VLOOKUP($N98,Reference!$J$47:$K$64,2,FALSE)","v":{"$error":"#N/A"}},null,{"$f":"VLOOKUP($W98,Reference!$AL$4:$AO$322,4,FALSE)","v":{"$error":"#N/A"}}]
[null,null,null,null,null,null,null,null,null,null,null,null,null,null,null,null,null,null,null,null,null,null,null,null,null,null,null,null,null,null,null,null,null,null,null,null,null,null,null,null,null,null,null,null,null,null,null,null,null,null,null,null,null,{"$f":"VLOOKUP($W99,Reference!$AL$4:$AL$322,1,FALSE)","v":{"$error":"#N/A"}},{"$f":"VLOOKUP($N99,Reference!$J$47:$K$64,2,FALSE)","v":{"$error":"#N/A"}},null,{"$f":"VLOOKUP($W99,Reference!$AL$4:$AO$322,4,FALSE)","v":{"$error":"#N/A"}}]
[null,null,null,null,null,null,null,null,null,null,null,null,null,null,null,null,null,null,null,null,null,null,null,null,null,null,null,null,null,null,null,null,null,null,null,null,null,null,null,null,null,null,null,null,null,null,null,null,null,null,null,null,null,{"$f":"VLOOKUP($W100,Reference!$AL$4:$AL$322,1,FALSE)","v":{"$error":"#N/A"}},{"$f":"VLOOKUP($N100,Reference!$J$47:$K$64,2,FALSE)","v":{"$error":"#N/A"}},null,{"$f":"VLOOKUP($W100,Reference!$AL$4:$AO$322,4,FALSE)","v":{"$error":"#N/A"}}]
[null,null,null,null,null,null,null,null,null,null,null,null,null,null,null,null,null,null,null,null,null,null,null,null,null,null,null,null,null,null,null,null,null,null,null,null,null,null,null,null,null,null,null,null,null,null,null,null,null,null,null,null,null,{"$f":"VLOOKUP($W101,Reference!$AL$4:$AL$322,1,FALSE)","v":{"$error":"#N/A"}},{"$f":"VLOOKUP($N101,Reference!$J$47:$K$64,2,FALSE)","v":{"$error":"#N/A"}},null,{"$f":"VLOOKUP($W101,Reference!$AL$4:$AO$322,4,FALSE)","v":{"$error":"#N/A"}}]
[null,null,null,null,null,null,null,null,null,null,null,null,null,null,null,null,null,null,null,null,null,null,null,null,null,null,null,null,null,null,null,null,null,null,null,null,null,null,null,null,null,null,null,null,null,null,null,null,null,null,null,null,null,{"$f":"VLOOKUP($W102,Reference!$AL$4:$AL$322,1,FALSE)","v":{"$error":"#N/A"}},{"$f":"VLOOKUP($N102,Reference!$J$47:$K$64,2,FALSE)","v":{"$error":"#N/A"}},null,{"$f":"VLOOKUP($W102,Reference!$AL$4:$AO$322,4,FALSE)","v":{"$error":"#N/A"}}]
[null,null,null,null,null,null,null,null,null,null,null,null,null,null,null,null,null,null,null,null,null,null,null,null,null,null,null,null,null,null,null,null,null,null,null,null,null,null,null,null,null,null,null,null,null,null,null,null,null,null,null,null,null,{"$f":"VLOOKUP($W103,Reference!$AL$4:$AL$322,1,FALSE)","v":{"$error":"#N/A"}},{"$f":"VLOOKUP($N103,Reference!$J$47:$K$64,2,FALSE)","v":{"$error":"#N/A"}},null,{"$f":"VLOOKUP($W103,Reference!$AL$4:$AO$322,4,FALSE)","v":{"$error":"#N/A"}}]
[null,null,null,null,null,null,null,null,null,null,null,null,null,null,null,null,null,null,null,null,null,null,null,null,null,null,null,null,null,null,null,null,null,null,null,null,null,null,null,null,null,null,null,null,null,null,null,null,null,null,null,null,null,{"$f":"VLOOKUP($W104,Reference!$AL$4:$AL$322,1,FALSE)","v":{"$error":"#N/A"}},{"$f":"VLOOKUP($N104,Reference!$J$47:$K$64,2,FALSE)","v":{"$error":"#N/A"}},null,{"$f":"VLOOKUP($W104,Reference!$AL$4:$AO$322,4,FALSE)","v":{"$error":"#N/A"}}]
[null,null,null,null,null,null,null,null,null,null,null,null,null,null,null,null,null,null,null,null,null,null,null,null,null,null,null,null,null,null,null,null,null,null,null,null,null,null,null,null,null,null,null,null,null,null,null,null,null,null,null,null,null,{"$f":"VLOOKUP($W105,Reference!$AL$4:$AL$322,1,FALSE)","v":{"$error":"#N/A"}},{"$f":"VLOOKUP($N105,Reference!$J$47:$K$64,2,FALSE)","v":{"$error":"#N/A"}},null,{"$f":"VLOOKUP($W105,Reference!$AL$4:$AO$322,4,FALSE)","v":{"$error":"#N/A"}}]
[null,null,null,null,null,null,null,null,null,null,null,null,null,null,null,null,null,null,null,null,null,null,null,null,null,null,null,null,null,null,null,null,null,null,null,null,null,null,null,null,null,null,null,null,null,null,null,null,null,null,null,null,null,{"$f":"VLOOKUP($W106,Reference!$AL$4:$AL$322,1,FALSE)","v":{"$error":"#N/A"}},{"$f":"VLOOKUP($N106,Reference!$J$47:$K$64,2,FALSE)","v":{"$error":"#N/A"}},null,{"$f":"VLOOKUP($W106,Reference!$AL$4:$AO$322,4,FALSE)","v":{"$error":"#N/A"}}]
[null,null,null,null,null,null,null,null,null,null,null,null,null,null,null,null,null,null,null,null,null,null,null,null,null,null,null,null,null,null,null,null,null,null,null,null,null,null,null,null,null,null,null,null,null,null,null,null,null,null,null,null,null,{"$f":"VLOOKUP($W107,Reference!$AL$4:$AL$322,1,FALSE)","v":{"$error":"#N/A"}},{"$f":"VLOOKUP($N107,Reference!$J$47:$K$64,2,FALSE)","v":{"$error":"#N/A"}},null,{"$f":"VLOOKUP($W107,Reference!$AL$4:$AO$322,4,FALSE)","v":{"$error":"#N/A"}}]
[null,null,null,null,null,null,null,null,null,null,null,null,null,null,null,null,null,null,null,null,null,null,null,null,null,null,null,null,null,null,null,null,null,null,null,null,null,null,null,null,null,null,null,null,null,null,null,null,null,null,null,null,null,{"$f":"VLOOKUP($W108,Reference!$AL$4:$AL$322,1,FALSE)","v":{"$error":"#N/A"}},{"$f":"VLOOKUP($N108,Reference!$J$47:$K$64,2,FALSE)","v":{"$error":"#N/A"}},null,{"$f":"VLOOKUP($W108,Reference!$AL$4:$AO$322,4,FALSE)","v":{"$error":"#N/A"}}]
[null,null,null,null,null,null,null,null,null,null,null,null,null,null,null,null,null,null,null,null,null,null,null,null,null,null,null,null,null,null,null,null,null,null,null,null,null,null,null,null,null,null,null,null,null,null,null,null,null,null,null,null,null,{"$f":"VLOOKUP($W109,Reference!$AL$4:$AL$322,1,FALSE)","v":{"$error":"#N/A"}},{"$f":"VLOOKUP($N109,Reference!$J$47:$K$64,2,FALSE)","v":{"$error":"#N/A"}},null,{"$f":"VLOOKUP($W109,Reference!$AL$4:$AO$322,4,FALSE)","v":{"$error":"#N/A"}}]
[null,null,null,null,null,null,null,null,null,null,null,null,null,null,null,null,null,null,null,null,null,null,null,null,null,null,null,null,null,null,null,null,null,null,null,null,null,null,null,null,null,null,null,null,null,null,null,null,null,null,null,null,null,{"$f":"VLOOKUP($W110,Reference!$AL$4:$AL$322,1,FALSE)","v":{"$error":"#N/A"}},{"$f":"VLOOKUP($N110,Reference!$J$47:$K$64,2,FALSE)","v":{"$error":"#N/A"}},null,{"$f":"VLOOKUP($W110,Reference!$AL$4:$AO$322,4,FALSE)","v":{"$error":"#N/A"}}]
[null,null,null,null,null,null,null,null,null,null,null,null,null,null,null,null,null,null,null,null,null,null,null,null,null,null,null,null,null,null,null,null,null,null,null,null,null,null,null,null,null,null,null,null,null,null,null,null,null,null,null,null,null,{"$f":"VLOOKUP($W111,Reference!$AL$4:$AL$322,1,FALSE)","v":{"$error":"#N/A"}},{"$f":"VLOOKUP($N111,Reference!$J$47:$K$64,2,FALSE)","v":{"$error":"#N/A"}},null,{"$f":"VLOOKUP($W111,Reference!$AL$4:$AO$322,4,FALSE)","v":{"$error":"#N/A"}}]
[null,null,null,null,null,null,null,null,null,null,null,null,null,null,null,null,null,null,null,null,null,null,null,null,null,null,null,null,null,null,null,null,null,null,null,null,null,null,null,null,null,null,null,null,null,null,null,null,null,null,null,null,null,{"$f":"VLOOKUP($W112,Reference!$AL$4:$AL$322,1,FALSE)","v":{"$error":"#N/A"}},{"$f":"VLOOKUP($N112,Reference!$J$47:$K$64,2,FALSE)","v":{"$error":"#N/A"}},null,{"$f":"VLOOKUP($W112,Reference!$AL$4:$AO$322,4,FALSE)","v":{"$error":"#N/A"}}]
[null,null,null,null,null,null,null,null,null,null,null,null,null,null,null,null,null,null,null,null,null,null,null,null,null,null,null,null,null,null,null,null,null,null,null,null,null,null,null,null,null,null,null,null,null,null,null,null,null,null,null,null,null,{"$f":"VLOOKUP($W113,Reference!$AL$4:$AL$322,1,FALSE)","v":{"$error":"#N/A"}},{"$f":"VLOOKUP($N113,Reference!$J$47:$K$64,2,FALSE)","v":{"$error":"#N/A"}},null,{"$f":"VLOOKUP($W113,Reference!$AL$4:$AO$322,4,FALSE)","v":{"$error":"#N/A"}}]
[null,null,null,null,null,null,null,null,null,null,null,null,null,null,null,null,null,null,null,null,null,null,null,null,null,null,null,null,null,null,null,null,null,null,null,null,null,null,null,null,null,null,null,null,null,null,null,null,null,null,null,null,null,{"$f":"VLOOKUP($W114,Reference!$AL$4:$AL$322,1,FALSE)","v":{"$error":"#N/A"}},{"$f":"VLOOKUP($N114,Reference!$J$47:$K$64,2,FALSE)","v":{"$error":"#N/A"}},null,{"$f":"VLOOKUP($W114,Reference!$AL$4:$AO$322,4,FALSE)","v":{"$error":"#N/A"}}]
[null,null,null,null,null,null,null,null,null,null,null,null,null,null,null,null,null,null,null,null,null,null,null,null,null,null,null,null,null,null,null,null,null,null,null,null,null,null,null,null,null,null,null,null,null,null,null,null,null,null,null,null,null,{"$f":"VLOOKUP($W115,Reference!$AL$4:$AL$322,1,FALSE)","v":{"$error":"#N/A"}},{"$f":"VLOOKUP($N115,Reference!$J$47:$K$64,2,FALSE)","v":{"$error":"#N/A"}},null,{"$f":"VLOOKUP($W115,Reference!$AL$4:$AO$322,4,FALSE)","v":{"$error":"#N/A"}}]
[null,null,null,null,null,null,null,null,null,null,null,null,null,null,null,null,null,null,null,null,null,null,null,null,null,null,null,null,null,null,null,null,null,null,null,null,null,null,null,null,null,null,null,null,null,null,null,null,null,null,null,null,null,{"$f":"VLOOKUP($W116,Reference!$AL$4:$AL$322,1,FALSE)","v":{"$error":"#N/A"}},{"$f":"VLOOKUP($N116,Reference!$J$47:$K$64,2,FALSE)","v":{"$error":"#N/A"}},null,{"$f":"VLOOKUP($W116,Reference!$AL$4:$AO$322,4,FALSE)","v":{"$error":"#N/A"}}]
[null,null,null,null,null,null,null,null,null,null,null,null,null,null,null,null,null,null,null,null,null,null,null,null,null,null,null,null,null,null,null,null,null,null,null,null,null,null,null,null,null,null,null,null,null,null,null,null,null,null,null,null,null,{"$f":"VLOOKUP($W117,Reference!$AL$4:$AL$322,1,FALSE)","v":{"$error":"#N/A"}},{"$f":"VLOOKUP($N117,Reference!$J$47:$K$64,2,FALSE)","v":{"$error":"#N/A"}},null,{"$f":"VLOOKUP($W117,Reference!$AL$4:$AO$322,4,FALSE)","v":{"$error":"#N/A"}}]
[null,null,null,null,null,null,null,null,null,null,null,null,null,null,null,null,null,null,null,null,null,null,null,null,null,null,null,null,null,null,null,null,null,null,null,null,null,null,null,null,null,null,null,null,null,null,null,null,null,null,null,null,null,{"$f":"VLOOKUP($W118,Reference!$AL$4:$AL$322,1,FALSE)","v":{"$error":"#N/A"}},{"$f":"VLOOKUP($N118,Reference!$J$47:$K$64,2,FALSE)","v":{"$error":"#N/A"}},null,{"$f":"VLOOKUP($W118,Reference!$AL$4:$AO$322,4,FALSE)","v":{"$error":"#N/A"}}]
[null,null,null,null,null,null,null,null,null,null,null,null,null,null,null,null,null,null,null,null,null,null,null,null,null,null,null,null,null,null,null,null,null,null,null,null,null,null,null,null,null,null,null,null,null,null,null,null,null,null,null,null,null,{"$f":"VLOOKUP($W119,Reference!$AL$4:$AL$322,1,FALSE)","v":{"$error":"#N/A"}},{"$f":"VLOOKUP($N119,Reference!$J$47:$K$64,2,FALSE)","v":{"$error":"#N/A"}},null,{"$f":"VLOOKUP($W119,Reference!$AL$4:$AO$322,4,FALSE)","v":{"$error":"#N/A"}}]
[null,null,null,null,null,null,null,null,null,null,null,null,null,null,null,null,null,null,null,null,null,null,null,null,null,null,null,null,null,null,null,null,null,null,null,null,null,null,null,null,null,null,null,null,null,null,null,null,null,null,null,null,null,{"$f":"VLOOKUP($W120,Reference!$AL$4:$AL$322,1,FALSE)","v":{"$error":"#N/A"}},{"$f":"VLOOKUP($N120,Reference!$J$47:$K$64,2,FALSE)","v":{"$error":"#N/A"}},null,{"$f":"VLOOKUP($W120,Reference!$AL$4:$AO$322,4,FALSE)","v":{"$error":"#N/A"}}]
[null,null,null,null,null,null,null,null,null,null,null,null,null,null,null,null,null,null,null,null,null,null,null,null,null,null,null,null,null,null,null,null,null,null,null,null,null,null,null,null,null,null,null,null,null,null,null,null,null,null,null,null,null,{"$f":"VLOOKUP($W121,Reference!$AL$4:$AL$322,1,FALSE)","v":{"$error":"#N/A"}},{"$f":"VLOOKUP($N121,Reference!$J$47:$K$64,2,FALSE)","v":{"$error":"#N/A"}},null,{"$f":"VLOOKUP($W121,Reference!$AL$4:$AO$322,4,FALSE)","v":{"$error":"#N/A"}}]
[null,null,null,null,null,null,null,null,null,null,null,null,null,null,null,null,null,null,null,null,null,null,null,null,null,null,null,null,null,null,null,null,null,null,null,null,null,null,null,null,null,null,null,null,null,null,null,null,null,null,null,null,null,{"$f":"VLOOKUP($W122,Reference!$AL$4:$AL$322,1,FALSE)","v":{"$error":"#N/A"}},{"$f":"VLOOKUP($N122,Reference!$J$47:$K$64,2,FALSE)","v":{"$error":"#N/A"}},null,{"$f":"VLOOKUP($W122,Reference!$AL$4:$AO$322,4,FALSE)","v":{"$error":"#N/A"}}]
[null,null,null,null,null,null,null,null,null,null,null,null,null,null,null,null,null,null,null,null,null,null,null,null,null,null,null,null,null,null,null,null,null,null,null,null,null,null,null,null,null,null,null,null,null,null,null,null,null,null,null,null,null,{"$f":"VLOOKUP($W123,Reference!$AL$4:$AL$322,1,FALSE)","v":{"$error":"#N/A"}},{"$f":"VLOOKUP($N123,Reference!$J$47:$K$64,2,FALSE)","v":{"$error":"#N/A"}},null,{"$f":"VLOOKUP($W123,Reference!$AL$4:$AO$322,4,FALSE)","v":{"$error":"#N/A"}}]
[null,null,null,null,null,null,null,null,null,null,null,null,null,null,null,null,null,null,null,null,null,null,null,null,null,null,null,null,null,null,null,null,null,null,null,null,null,null,null,null,null,null,null,null,null,null,null,null,null,null,null,null,null,{"$f":"VLOOKUP($W124,Reference!$AL$4:$AL$322,1,FALSE)","v":{"$error":"#N/A"}},{"$f":"VLOOKUP($N124,Reference!$J$47:$K$64,2,FALSE)","v":{"$error":"#N/A"}},null,{"$f":"VLOOKUP($W124,Reference!$AL$4:$AO$322,4,FALSE)","v":{"$error":"#N/A"}}]
[null,null,null,null,null,null,null,null,null,null,null,null,null,null,null,null,null,null,null,null,null,null,null,null,null,null,null,null,null,null,null,null,null,null,null,null,null,null,null,null,null,null,null,null,null,null,null,null,null,null,null,null,null,{"$f":"VLOOKUP($W125,Reference!$AL$4:$AL$322,1,FALSE)","v":{"$error":"#N/A"}},{"$f":"VLOOKUP($N125,Reference!$J$47:$K$64,2,FALSE)","v":{"$error":"#N/A"}},null,{"$f":"VLOOKUP($W125,Reference!$AL$4:$AO$322,4,FALSE)","v":{"$error":"#N/A"}}]
[null,null,null,null,null,null,null,null,null,null,null,null,null,null,null,null,null,null,null,null,null,null,null,null,null,null,null,null,null,null,null,null,null,null,null,null,null,null,null,null,null,null,null,null,null,null,null,null,null,null,null,null,null,{"$f":"VLOOKUP($W126,Reference!$AL$4:$AL$322,1,FALSE)","v":{"$error":"#N/A"}},{"$f":"VLOOKUP($N126,Reference!$J$47:$K$64,2,FALSE)","v":{"$error":"#N/A"}},null,{"$f":"VLOOKUP($W126,Reference!$AL$4:$AO$322,4,FALSE)","v":{"$error":"#N/A"}}]
[null,null,null,null,null,null,null,null,null,null,null,null,null,null,null,null,null,null,null,null,null,null,null,null,null,null,null,null,null,null,null,null,null,null,null,null,null,null,null,null,null,null,null,null,null,null,null,null,null,null,null,null,null,{"$f":"VLOOKUP($W127,Reference!$AL$4:$AL$322,1,FALSE)","v":{"$error":"#N/A"}},{"$f":"VLOOKUP($N127,Reference!$J$47:$K$64,2,FALSE)","v":{"$error":"#N/A"}},null,{"$f":"VLOOKUP($W127,Reference!$AL$4:$AO$322,4,FALSE)","v":{"$error":"#N/A"}}]
[null,null,null,null,null,null,null,null,null,null,null,null,null,null,null,null,null,null,null,null,null,null,null,null,null,null,null,null,null,null,null,null,null,null,null,null,null,null,null,null,null,null,null,null,null,null,null,null,null,null,null,null,null,{"$f":"VLOOKUP($W128,Reference!$AL$4:$AL$322,1,FALSE)","v":{"$error":"#N/A"}},{"$f":"VLOOKUP($N128,Reference!$J$47:$K$64,2,FALSE)","v":{"$error":"#N/A"}},null,{"$f":"VLOOKUP($W128,Reference!$AL$4:$AO$322,4,FALSE)","v":{"$error":"#N/A"}}]
[null,null,null,null,null,null,null,null,null,null,null,null,null,null,null,null,null,null,null,null,null,null,null,null,null,null,null,null,null,null,null,null,null,null,null,null,null,null,null,null,null,null,null,null,null,null,null,null,null,null,null,null,null,{"$f":"VLOOKUP($W129,Reference!$AL$4:$AL$322,1,FALSE)","v":{"$error":"#N/A"}},{"$f":"VLOOKUP($N129,Reference!$J$47:$K$64,2,FALSE)","v":{"$error":"#N/A"}},null,{"$f":"VLOOKUP($W129,Reference!$AL$4:$AO$322,4,FALSE)","v":{"$error":"#N/A"}}]
[null,null,null,null,null,null,null,null,null,null,null,null,null,null,null,null,null,null,null,null,null,null,null,null,null,null,null,null,null,null,null,null,null,null,null,null,null,null,null,null,null,null,null,null,null,null,null,null,null,null,null,null,null,{"$f":"VLOOKUP($W130,Reference!$AL$4:$AL$322,1,FALSE)","v":{"$error":"#N/A"}},{"$f":"VLOOKUP($N130,Reference!$J$47:$K$64,2,FALSE)","v":{"$error":"#N/A"}},null,{"$f":"VLOOKUP($W130,Reference!$AL$4:$AO$322,4,FALSE)","v":{"$error":"#N/A"}}]
[null,null,null,null,null,null,null,null,null,null,null,null,null,null,null,null,null,null,null,null,null,null,null,null,null,null,null,null,null,null,null,null,null,null,null,null,null,null,null,null,null,null,null,null,null,null,null,null,null,null,null,null,null,{"$f":"VLOOKUP($W131,Reference!$AL$4:$AL$322,1,FALSE)","v":{"$error":"#N/A"}},{"$f":"VLOOKUP($N131,Reference!$J$47:$K$64,2,FALSE)","v":{"$error":"#N/A"}},null,{"$f":"VLOOKUP($W131,Reference!$AL$4:$AO$322,4,FALSE)","v":{"$error":"#N/A"}}]
[null,null,null,null,null,null,null,null,null,null,null,null,null,null,null,null,null,null,null,null,null,null,null,null,null,null,null,null,null,null,null,null,null,null,null,null,null,null,null,null,null,null,null,null,null,null,null,null,null,null,null,null,null,{"$f":"VLOOKUP($W132,Reference!$AL$4:$AL$322,1,FALSE)","v":{"$error":"#N/A"}},{"$f":"VLOOKUP($N132,Reference!$J$47:$K$64,2,FALSE)","v":{"$error":"#N/A"}},null,{"$f":"VLOOKUP($W132,Reference!$AL$4:$AO$322,4,FALSE)","v":{"$error":"#N/A"}}]
[null,null,null,null,null,null,null,null,null,null,null,null,null,null,null,null,null,null,null,null,null,null,null,null,null,null,null,null,null,null,null,null,null,null,null,null,null,null,null,null,null,null,null,null,null,null,null,null,null,null,null,null,null,{"$f":"VLOOKUP($W133,Reference!$AL$4:$AL$322,1,FALSE)","v":{"$error":"#N/A"}},{"$f":"VLOOKUP($N133,Reference!$J$47:$K$64,2,FALSE)","v":{"$error":"#N/A"}},null,{"$f":"VLOOKUP($W133,Reference!$AL$4:$AO$322,4,FALSE)","v":{"$error":"#N/A"}}]
[null,null,null,null,null,null,null,null,null,null,null,null,null,null,null,null,null,null,null,null,null,null,null,null,null,null,null,null,null,null,null,null,null,null,null,null,null,null,null,null,null,null,null,null,null,null,null,null,null,null,null,null,null,{"$f":"VLOOKUP($W134,Reference!$AL$4:$AL$322,1,FALSE)","v":{"$error":"#N/A"}},{"$f":"VLOOKUP($N134,Reference!$J$47:$K$64,2,FALSE)","v":{"$error":"#N/A"}},null,{"$f":"VLOOKUP($W134,Reference!$AL$4:$AO$322,4,FALSE)","v":{"$error":"#N/A"}}]
[null,null,null,null,null,null,null,null,null,null,null,null,null,null,null,null,null,null,null,null,null,null,null,null,null,null,null,null,null,null,null,null,null,null,null,null,null,null,null,null,null,null,null,null,null,null,null,null,null,null,null,null,null,{"$f":"VLOOKUP($W135,Reference!$AL$4:$AL$322,1,FALSE)","v":{"$error":"#N/A"}},{"$f":"VLOOKUP($N135,Reference!$J$47:$K$64,2,FALSE)","v":{"$error":"#N/A"}},null,{"$f":"VLOOKUP($W135,Reference!$AL$4:$AO$322,4,FALSE)","v":{"$error":"#N/A"}}]
[null,null,null,null,null,null,null,null,null,null,null,null,null,null,null,null,null,null,null,null,null,null,null,null,null,null,null,null,null,null,null,null,null,null,null,null,null,null,null,null,null,null,null,null,null,null,null,null,null,null,null,null,null,{"$f":"VLOOKUP($W136,Reference!$AL$4:$AL$322,1,FALSE)","v":{"$error":"#N/A"}},{"$f":"VLOOKUP($N136,Reference!$J$47:$K$64,2,FALSE)","v":{"$error":"#N/A"}},null,{"$f":"VLOOKUP($W136,Reference!$AL$4:$AO$322,4,FALSE)","v":{"$error":"#N/A"}}]
[null,null,null,null,null,null,null,null,null,null,null,null,null,null,null,null,null,null,null,null,null,null,null,null,null,null,null,null,null,null,null,null,null,null,null,null,null,null,null,null,null,null,null,null,null,null,null,null,null,null,null,null,null,{"$f":"VLOOKUP($W137,Reference!$AL$4:$AL$322,1,FALSE)","v":{"$error":"#N/A"}},{"$f":"VLOOKUP($N137,Reference!$J$47:$K$64,2,FALSE)","v":{"$error":"#N/A"}},null,{"$f":"VLOOKUP($W137,Reference!$AL$4:$AO$322,4,FALSE)","v":{"$error":"#N/A"}}]
[null,null,null,null,null,null,null,null,null,null,null,null,null,null,null,null,null,null,null,null,null,null,null,null,null,null,null,null,null,null,null,null,null,null,null,null,null,null,null,null,null,null,null,null,null,null,null,null,null,null,null,null,null,{"$f":"VLOOKUP($W138,Reference!$AL$4:$AL$322,1,FALSE)","v":{"$error":"#N/A"}},{"$f":"VLOOKUP($N138,Reference!$J$47:$K$64,2,FALSE)","v":{"$error":"#N/A"}},null,{"$f":"VLOOKUP($W138,Reference!$AL$4:$AO$322,4,FALSE)","v":{"$error":"#N/A"}}]
[null,null,null,null,null,null,null,null,null,null,null,null,null,null,null,null,null,null,null,null,null,null,null,null,null,null,null,null,null,null,null,null,null,null,null,null,null,null,null,null,null,null,null,null,null,null,null,null,null,null,null,null,null,{"$f":"VLOOKUP($W139,Reference!$AL$4:$AL$322,1,FALSE)","v":{"$error":"#N/A"}},{"$f":"VLOOKUP($N139,Reference!$J$47:$K$64,2,FALSE)","v":{"$error":"#N/A"}},null,{"$f":"VLOOKUP($W139,Reference!$AL$4:$AO$322,4,FALSE)","v":{"$error":"#N/A"}}]
[null,null,null,null,null,null,null,null,null,null,null,null,null,null,null,null,null,null,null,null,null,null,null,null,null,null,null,null,null,null,null,null,null,null,null,null,null,null,null,null,null,null,null,null,null,null,null,null,null,null,null,null,null,{"$f":"VLOOKUP($W140,Reference!$AL$4:$AL$322,1,FALSE)","v":{"$error":"#N/A"}},{"$f":"VLOOKUP($N140,Reference!$J$47:$K$64,2,FALSE)","v":{"$error":"#N/A"}},null,{"$f":"VLOOKUP($W140,Reference!$AL$4:$AO$322,4,FALSE)","v":{"$error":"#N/A"}}]
[null,null,null,null,null,null,null,null,null,null,null,null,null,null,null,null,null,null,null,null,null,null,null,null,null,null,null,null,null,null,null,null,null,null,null,null,null,null,null,null,null,null,null,null,null,null,null,null,null,null,null,null,null,{"$f":"VLOOKUP($W141,Reference!$AL$4:$AL$322,1,FALSE)","v":{"$error":"#N/A"}},{"$f":"VLOOKUP($N141,Reference!$J$47:$K$64,2,FALSE)","v":{"$error":"#N/A"}},null,{"$f":"VLOOKUP($W141,Reference!$AL$4:$AO$322,4,FALSE)","v":{"$error":"#N/A"}}]
[null,null,null,null,null,null,null,null,null,null,null,null,null,null,null,null,null,null,null,null,null,null,null,null,null,null,null,null,null,null,null,null,null,null,null,null,null,null,null,null,null,null,null,null,null,null,null,null,null,null,null,null,null,{"$f":"VLOOKUP($W142,Reference!$AL$4:$AL$322,1,FALSE)","v":{"$error":"#N/A"}},{"$f":"VLOOKUP($N142,Reference!$J$47:$K$64,2,FALSE)","v":{"$error":"#N/A"}},null,{"$f":"VLOOKUP($W142,Reference!$AL$4:$AO$322,4,FALSE)","v":{"$error":"#N/A"}}]
[null,null,null,null,null,null,null,null,null,null,null,null,null,null,null,null,null,null,null,null,null,null,null,null,null,null,null,null,null,null,null,null,null,null,null,null,null,null,null,null,null,null,null,null,null,null,null,null,null,null,null,null,null,{"$f":"VLOOKUP($W143,Reference!$AL$4:$AL$322,1,FALSE)","v":{"$error":"#N/A"}},{"$f":"VLOOKUP($N143,Reference!$J$47:$K$64,2,FALSE)","v":{"$error":"#N/A"}},null,{"$f":"VLOOKUP($W143,Reference!$AL$4:$AO$322,4,FALSE)","v":{"$error":"#N/A"}}]
[null,null,null,null,null,null,null,null,null,null,null,null,null,null,null,null,null,null,null,null,null,null,null,null,null,null,null,null,null,null,null,null,null,null,null,null,null,null,null,null,null,null,null,null,null,null,null,null,null,null,null,null,null,{"$f":"VLOOKUP($W144,Reference!$AL$4:$AL$322,1,FALSE)","v":{"$error":"#N/A"}},{"$f":"VLOOKUP($N144,Reference!$J$47:$K$64,2,FALSE)","v":{"$error":"#N/A"}},null,{"$f":"VLOOKUP($W144,Reference!$AL$4:$AO$322,4,FALSE)","v":{"$error":"#N/A"}}]
[null,null,null,null,null,null,null,null,null,null,null,null,null,null,null,null,null,null,null,null,null,null,null,null,null,null,null,null,null,null,null,null,null,null,null,null,null,null,null,null,null,null,null,null,null,null,null,null,null,null,null,null,null,{"$f":"VLOOKUP($W145,Reference!$AL$4:$AL$322,1,FALSE)","v":{"$error":"#N/A"}},{"$f":"VLOOKUP($N145,Reference!$J$47:$K$64,2,FALSE)","v":{"$error":"#N/A"}},null,{"$f":"VLOOKUP($W145,Reference!$AL$4:$AO$322,4,FALSE)","v":{"$error":"#N/A"}}]
[null,null,null,null,null,null,null,null,null,null,null,null,null,null,null,null,null,null,null,null,null,null,null,null,null,null,null,null,null,null,null,null,null,null,null,null,null,null,null,null,null,null,null,null,null,null,null,null,null,null,null,null,null,{"$f":"VLOOKUP($W146,Reference!$AL$4:$AL$322,1,FALSE)","v":{"$error":"#N/A"}},{"$f":"VLOOKUP($N146,Reference!$J$47:$K$64,2,FALSE)","v":{"$error":"#N/A"}},null,{"$f":"VLOOKUP($W146,Reference!$AL$4:$AO$322,4,FALSE)","v":{"$error":"#N/A"}}]
[null,null,null,null,null,null,null,null,null,null,null,null,null,null,null,null,null,null,null,null,null,null,null,null,null,null,null,null,null,null,null,null,null,null,null,null,null,null,null,null,null,null,null,null,null,null,null,null,null,null,null,null,null,{"$f":"VLOOKUP($W147,Reference!$AL$4:$AL$322,1,FALSE)","v":{"$error":"#N/A"}},{"$f":"VLOOKUP($N147,Reference!$J$47:$K$64,2,FALSE)","v":{"$error":"#N/A"}},null,{"$f":"VLOOKUP($W147,Reference!$AL$4:$AO$322,4,FALSE)","v":{"$error":"#N/A"}}]
[null,null,null,null,null,null,null,null,null,null,null,null,null,null,null,null,null,null,null,null,null,null,null,null,null,null,null,null,null,null,null,null,null,null,null,null,null,null,null,null,null,null,null,null,null,null,null,null,null,null,null,null,null,{"$f":"VLOOKUP($W148,Reference!$AL$4:$AL$322,1,FALSE)","v":{"$error":"#N/A"}},{"$f":"VLOOKUP($N148,Reference!$J$47:$K$64,2,FALSE)","v":{"$error":"#N/A"}},null,{"$f":"VLOOKUP($W148,Reference!$AL$4:$AO$322,4,FALSE)","v":{"$error":"#N/A"}}]
[null,null,null,null,null,null,null,null,null,null,null,null,null,null,null,null,null,null,null,null,null,null,null,null,null,null,null,null,null,null,null,null,null,null,null,null,null,null,null,null,null,null,null,null,null,null,null,null,null,null,null,null,null,{"$f":"VLOOKUP($W149,Reference!$AL$4:$AL$322,1,FALSE)","v":{"$error":"#N/A"}},{"$f":"VLOOKUP($N149,Reference!$J$47:$K$64,2,FALSE)","v":{"$error":"#N/A"}},null,{"$f":"VLOOKUP($W149,Reference!$AL$4:$AO$322,4,FALSE)","v":{"$error":"#N/A"}}]
[null,null,null,null,null,null,null,null,null,null,null,null,null,null,null,null,null,null,null,null,null,null,null,null,null,null,null,null,null,null,null,null,null,null,null,null,null,null,null,null,null,null,null,null,null,null,null,null,null,null,null,null,null,{"$f":"VLOOKUP($W150,Reference!$AL$4:$AL$322,1,FALSE)","v":{"$error":"#N/A"}},{"$f":"VLOOKUP($N150,Reference!$J$47:$K$64,2,FALSE)","v":{"$error":"#N/A"}},null,{"$f":"VLOOKUP($W150,Reference!$AL$4:$AO$322,4,FALSE)","v":{"$error":"#N/A"}}]
[null,null,null,null,null,null,null,null,null,null,null,null,null,null,null,null,null,null,null,null,null,null,null,null,null,null,null,null,null,null,null,null,null,null,null,null,null,null,null,null,null,null,null,null,null,null,null,null,null,null,null,null,null,{"$f":"VLOOKUP($W151,Reference!$AL$4:$AL$322,1,FALSE)","v":{"$error":"#N/A"}},{"$f":"VLOOKUP($N151,Reference!$J$47:$K$64,2,FALSE)","v":{"$error":"#N/A"}},null,{"$f":"VLOOKUP($W151,Reference!$AL$4:$AO$322,4,FALSE)","v":{"$error":"#N/A"}}]
[null,null,null,null,null,null,null,null,null,null,null,null,null,null,null,null,null,null,null,null,null,null,null,null,null,null,null,null,null,null,null,null,null,null,null,null,null,null,null,null,null,null,null,null,null,null,null,null,null,null,null,null,null,{"$f":"VLOOKUP($W152,Reference!$AL$4:$AL$322,1,FALSE)","v":{"$error":"#N/A"}},{"$f":"VLOOKUP($N152,Reference!$J$47:$K$64,2,FALSE)","v":{"$error":"#N/A"}},null,{"$f":"VLOOKUP($W152,Reference!$AL$4:$AO$322,4,FALSE)","v":{"$error":"#N/A"}}]
[null,null,null,null,null,null,null,null,null,null,null,null,null,null,null,null,null,null,null,null,null,null,null,null,null,null,null,null,null,null,null,null,null,null,null,null,null,null,null,null,null,null,null,null,null,null,null,null,null,null,null,null,null,{"$f":"VLOOKUP($W153,Reference!$AL$4:$AL$322,1,FALSE)","v":{"$error":"#N/A"}},{"$f":"VLOOKUP($N153,Reference!$J$47:$K$64,2,FALSE)","v":{"$error":"#N/A"}},null,{"$f":"VLOOKUP($W153,Reference!$AL$4:$AO$322,4,FALSE)","v":{"$error":"#N/A"}}]
[null,null,null,null,null,null,null,null,null,null,null,null,null,null,null,null,null,null,null,null,null,null,null,null,null,null,null,null,null,null,null,null,null,null,null,null,null,null,null,null,null,null,null,null,null,null,null,null,null,null,null,null,null,{"$f":"VLOOKUP($W154,Reference!$AL$4:$AL$322,1,FALSE)","v":{"$error":"#N/A"}},{"$f":"VLOOKUP($N154,Reference!$J$47:$K$64,2,FALSE)","v":{"$error":"#N/A"}},null,{"$f":"VLOOKUP($W154,Reference!$AL$4:$AO$322,4,FALSE)","v":{"$error":"#N/A"}}]
[null,null,null,null,null,null,null,null,null,null,null,null,null,null,null,null,null,null,null,null,null,null,null,null,null,null,null,null,null,null,null,null,null,null,null,null,null,null,null,null,null,null,null,null,null,null,null,null,null,null,null,null,null,{"$f":"VLOOKUP($W155,Reference!$AL$4:$AL$322,1,FALSE)","v":{"$error":"#N/A"}},{"$f":"VLOOKUP($N155,Reference!$J$47:$K$64,2,FALSE)","v":{"$error":"#N/A"}},null,{"$f":"VLOOKUP($W155,Reference!$AL$4:$AO$322,4,FALSE)","v":{"$error":"#N/A"}}]
[null,null,null,null,null,null,null,null,null,null,null,null,null,null,null,null,null,null,null,null,null,null,null,null,null,null,null,null,null,null,null,null,null,null,null,null,null,null,null,null,null,null,null,null,null,null,null,null,null,null,null,null,null,{"$f":"VLOOKUP($W156,Reference!$AL$4:$AL$322,1,FALSE)","v":{"$error":"#N/A"}},{"$f":"VLOOKUP($N156,Reference!$J$47:$K$64,2,FALSE)","v":{"$error":"#N/A"}},null,{"$f":"VLOOKUP($W156,Reference!$AL$4:$AO$322,4,FALSE)","v":{"$error":"#N/A"}}]
[null,null,null,null,null,null,null,null,null,null,null,null,null,null,null,null,null,null,null,null,null,null,null,null,null,null,null,null,null,null,null,null,null,null,null,null,null,null,null,null,null,null,null,null,null,null,null,null,null,null,null,null,null,{"$f":"VLOOKUP($W157,Reference!$AL$4:$AL$322,1,FALSE)","v":{"$error":"#N/A"}},{"$f":"VLOOKUP($N157,Reference!$J$47:$K$64,2,FALSE)","v":{"$error":"#N/A"}},null,{"$f":"VLOOKUP($W157,Reference!$AL$4:$AO$322,4,FALSE)","v":{"$error":"#N/A"}}]
[null,null,null,null,null,null,null,null,null,null,null,null,null,null,null,null,null,null,null,null,null,null,null,null,null,null,null,null,null,null,null,null,null,null,null,null,null,null,null,null,null,null,null,null,null,null,null,null,null,null,null,null,null,{"$f":"VLOOKUP($W158,Reference!$AL$4:$AL$322,1,FALSE)","v":{"$error":"#N/A"}},{"$f":"VLOOKUP($N158,Reference!$J$47:$K$64,2,FALSE)","v":{"$error":"#N/A"}},null,{"$f":"VLOOKUP($W158,Reference!$AL$4:$AO$322,4,FALSE)","v":{"$error":"#N/A"}}]
[null,null,null,null,null,null,null,null,null,null,null,null,null,null,null,null,null,null,null,null,null,null,null,null,null,null,null,null,null,null,null,null,null,null,null,null,null,null,null,null,null,null,null,null,null,null,null,null,null,null,null,null,null,{"$f":"VLOOKUP($W159,Reference!$AL$4:$AL$322,1,FALSE)","v":{"$error":"#N/A"}},{"$f":"VLOOKUP($N159,Reference!$J$47:$K$64,2,FALSE)","v":{"$error":"#N/A"}},null,{"$f":"VLOOKUP($W159,Reference!$AL$4:$AO$322,4,FALSE)","v":{"$error":"#N/A"}}]
[null,null,null,null,null,null,null,null,null,null,null,null,null,null,null,null,null,null,null,null,null,null,null,null,null,null,null,null,null,null,null,null,null,null,null,null,null,null,null,null,null,null,null,null,null,null,null,null,null,null,null,null,null,{"$f":"VLOOKUP($W160,Reference!$AL$4:$AL$322,1,FALSE)","v":{"$error":"#N/A"}},{"$f":"VLOOKUP($N160,Reference!$J$47:$K$64,2,FALSE)","v":{"$error":"#N/A"}},null,{"$f":"VLOOKUP($W160,Reference!$AL$4:$AO$322,4,FALSE)","v":{"$error":"#N/A"}}]
[null,null,null,null,null,null,null,null,null,null,null,null,null,null,null,null,null,null,null,null,null,null,null,null,null,null,null,null,null,null,null,null,null,null,null,null,null,null,null,null,null,null,null,null,null,null,null,null,null,null,null,null,null,{"$f":"VLOOKUP($W161,Reference!$AL$4:$AL$322,1,FALSE)","v":{"$error":"#N/A"}},{"$f":"VLOOKUP($N161,Reference!$J$47:$K$64,2,FALSE)","v":{"$error":"#N/A"}},null,{"$f":"VLOOKUP($W161,Reference!$AL$4:$AO$322,4,FALSE)","v":{"$error":"#N/A"}}]
[null,null,null,null,null,null,null,null,null,null,null,null,null,null,null,null,null,null,null,null,null,null,null,null,null,null,null,null,null,null,null,null,null,null,null,null,null,null,null,null,null,null,null,null,null,null,null,null,null,null,null,null,null,{"$f":"VLOOKUP($W162,Reference!$AL$4:$AL$322,1,FALSE)","v":{"$error":"#N/A"}},{"$f":"VLOOKUP($N162,Reference!$J$47:$K$64,2,FALSE)","v":{"$error":"#N/A"}},null,{"$f":"VLOOKUP($W162,Reference!$AL$4:$AO$322,4,FALSE)","v":{"$error":"#N/A"}}]
[null,null,null,null,null,null,null,null,null,null,null,null,null,null,null,null,null,null,null,null,null,null,null,null,null,null,null,null,null,null,null,null,null,null,null,null,null,null,null,null,null,null,null,null,null,null,null,null,null,null,null,null,null,{"$f":"VLOOKUP($W163,Reference!$AL$4:$AL$322,1,FALSE)","v":{"$error":"#N/A"}},{"$f":"VLOOKUP($N163,Reference!$J$47:$K$64,2,FALSE)","v":{"$error":"#N/A"}},null,{"$f":"VLOOKUP($W163,Reference!$AL$4:$AO$322,4,FALSE)","v":{"$error":"#N/A"}}]
[null,null,null,null,null,null,null,null,null,null,null,null,null,null,null,null,null,null,null,null,null,null,null,null,null,null,null,null,null,null,null,null,null,null,null,null,null,null,null,null,null,null,null,null,null,null,null,null,null,null,null,null,null,{"$f":"VLOOKUP($W164,Reference!$AL$4:$AL$322,1,FALSE)","v":{"$error":"#N/A"}},{"$f":"VLOOKUP($N164,Reference!$J$47:$K$64,2,FALSE)","v":{"$error":"#N/A"}},null,{"$f":"VLOOKUP($W164,Reference!$AL$4:$AO$322,4,FALSE)","v":{"$error":"#N/A"}}]
[null,null,null,null,null,null,null,null,null,null,null,null,null,null,null,null,null,null,null,null,null,null,null,null,null,null,null,null,null,null,null,null,null,null,null,null,null,null,null,null,null,null,null,null,null,null,null,null,null,null,null,null,null,{"$f":"VLOOKUP($W165,Reference!$AL$4:$AL$322,1,FALSE)","v":{"$error":"#N/A"}},{"$f":"VLOOKUP($N165,Reference!$J$47:$K$64,2,FALSE)","v":{"$error":"#N/A"}},null,{"$f":"VLOOKUP($W165,Reference!$AL$4:$AO$322,4,FALSE)","v":{"$error":"#N/A"}}]
[null,null,null,null,null,null,null,null,null,null,null,null,null,null,null,null,null,null,null,null,null,null,null,null,null,null,null,null,null,null,null,null,null,null,null,null,null,null,null,null,null,null,null,null,null,null,null,null,null,null,null,null,null,{"$f":"VLOOKUP($W166,Reference!$AL$4:$AL$322,1,FALSE)","v":{"$error":"#N/A"}},{"$f":"VLOOKUP($N166,Reference!$J$47:$K$64,2,FALSE)","v":{"$error":"#N/A"}},null,{"$f":"VLOOKUP($W166,Reference!$AL$4:$AO$322,4,FALSE)","v":{"$error":"#N/A"}}]
[null,null,null,null,null,null,null,null,null,null,null,null,null,null,null,null,null,null,null,null,null,null,null,null,null,null,null,null,null,null,null,null,null,null,null,null,null,null,null,null,null,null,null,null,null,null,null,null,null,null,null,null,null,{"$f":"VLOOKUP($W167,Reference!$AL$4:$AL$322,1,FALSE)","v":{"$error":"#N/A"}},{"$f":"VLOOKUP($N167,Reference!$J$47:$K$64,2,FALSE)","v":{"$error":"#N/A"}},null,{"$f":"VLOOKUP($W167,Reference!$AL$4:$AO$322,4,FALSE)","v":{"$error":"#N/A"}}]
[null,null,null,null,null,null,null,null,null,null,null,null,null,null,null,null,null,null,null,null,null,null,null,null,null,null,null,null,null,null,null,null,null,null,null,null,null,null,null,null,null,null,null,null,null,null,null,null,null,null,null,null,null,{"$f":"VLOOKUP($W168,Reference!$AL$4:$AL$322,1,FALSE)","v":{"$error":"#N/A"}},{"$f":"VLOOKUP($N168,Reference!$J$47:$K$64,2,FALSE)","v":{"$error":"#N/A"}},null,{"$f":"VLOOKUP($W168,Reference!$AL$4:$AO$322,4,FALSE)","v":{"$error":"#N/A"}}]
[null,null,null,null,null,null,null,null,null,null,null,null,null,null,null,null,null,null,null,null,null,null,null,null,null,null,null,null,null,null,null,null,null,null,null,null,null,null,null,null,null,null,null,null,null,null,null,null,null,null,null,null,null,{"$f":"VLOOKUP($W169,Reference!$AL$4:$AL$322,1,FALSE)","v":{"$error":"#N/A"}},{"$f":"VLOOKUP($N169,Reference!$J$47:$K$64,2,FALSE)","v":{"$error":"#N/A"}},null,{"$f":"VLOOKUP($W169,Reference!$AL$4:$AO$322,4,FALSE)","v":{"$error":"#N/A"}}]
[null,null,null,null,null,null,null,null,null,null,null,null,null,null,null,null,null,null,null,null,null,null,null,null,null,null,null,null,null,null,null,null,null,null,null,null,null,null,null,null,null,null,null,null,null,null,null,null,null,null,null,null,null,{"$f":"VLOOKUP($W170,Reference!$AL$4:$AL$322,1,FALSE)","v":{"$error":"#N/A"}},{"$f":"VLOOKUP($N170,Reference!$J$47:$K$64,2,FALSE)","v":{"$error":"#N/A"}},null,{"$f":"VLOOKUP($W170,Reference!$AL$4:$AO$322,4,FALSE)","v":{"$error":"#N/A"}}]
[null,null,null,null,null,null,null,null,null,null,null,null,null,null,null,null,null,null,null,null,null,null,null,null,null,null,null,null,null,null,null,null,null,null,null,null,null,null,null,null,null,null,null,null,null,null,null,null,null,null,null,null,null,{"$f":"VLOOKUP($W171,Reference!$AL$4:$AL$322,1,FALSE)","v":{"$error":"#N/A"}},{"$f":"VLOOKUP($N171,Reference!$J$47:$K$64,2,FALSE)","v":{"$error":"#N/A"}},null,{"$f":"VLOOKUP($W171,Reference!$AL$4:$AO$322,4,FALSE)","v":{"$error":"#N/A"}}]
[null,null,null,null,null,null,null,null,null,null,null,null,null,null,null,null,null,null,null,null,null,null,null,null,null,null,null,null,null,null,null,null,null,null,null,null,null,null,null,null,null,null,null,null,null,null,null,null,null,null,null,null,null,{"$f":"VLOOKUP($W172,Reference!$AL$4:$AL$322,1,FALSE)","v":{"$error":"#N/A"}},{"$f":"VLOOKUP($N172,Reference!$J$47:$K$64,2,FALSE)","v":{"$error":"#N/A"}},null,{"$f":"VLOOKUP($W172,Reference!$AL$4:$AO$322,4,FALSE)","v":{"$error":"#N/A"}}]
[null,null,null,null,null,null,null,null,null,null,null,null,null,null,null,null,null,null,null,null,null,null,null,null,null,null,null,null,null,null,null,null,null,null,null,null,null,null,null,null,null,null,null,null,null,null,null,null,null,null,null,null,null,{"$f":"VLOOKUP($W173,Reference!$AL$4:$AL$322,1,FALSE)","v":{"$error":"#N/A"}},{"$f":"VLOOKUP($N173,Reference!$J$47:$K$64,2,FALSE)","v":{"$error":"#N/A"}},null,{"$f":"VLOOKUP($W173,Reference!$AL$4:$AO$322,4,FALSE)","v":{"$error":"#N/A"}}]
[null,null,null,null,null,null,null,null,null,null,null,null,null,null,null,null,null,null,null,null,null,null,null,null,null,null,null,null,null,null,null,null,null,null,null,null,null,null,null,null,null,null,null,null,null,null,null,null,null,null,null,null,null,{"$f":"VLOOKUP($W174,Reference!$AL$4:$AL$322,1,FALSE)","v":{"$error":"#N/A"}},{"$f":"VLOOKUP($N174,Reference!$J$47:$K$64,2,FALSE)","v":{"$error":"#N/A"}},null,{"$f":"VLOOKUP($W174,Reference!$AL$4:$AO$322,4,FALSE)","v":{"$error":"#N/A"}}]
[null,null,null,null,null,null,null,null,null,null,null,null,null,null,null,null,null,null,null,null,null,null,null,null,null,null,null,null,null,null,null,null,null,null,null,null,null,null,null,null,null,null,null,null,null,null,null,null,null,null,null,null,null,{"$f":"VLOOKUP($W175,Reference!$AL$4:$AL$322,1,FALSE)","v":{"$error":"#N/A"}},{"$f":"VLOOKUP($N175,Reference!$J$47:$K$64,2,FALSE)","v":{"$error":"#N/A"}},null,{"$f":"VLOOKUP($W175,Reference!$AL$4:$AO$322,4,FALSE)","v":{"$error":"#N/A"}}]
[null,null,null,null,null,null,null,null,null,null,null,null,null,null,null,null,null,null,null,null,null,null,null,null,null,null,null,null,null,null,null,null,null,null,null,null,null,null,null,null,null,null,null,null,null,null,null,null,null,null,null,null,null,{"$f":"VLOOKUP($W176,Reference!$AL$4:$AL$322,1,FALSE)","v":{"$error":"#N/A"}},{"$f":"VLOOKUP($N176,Reference!$J$47:$K$64,2,FALSE)","v":{"$error":"#N/A"}},null,{"$f":"VLOOKUP($W176,Reference!$AL$4:$AO$322,4,FALSE)","v":{"$error":"#N/A"}}]
[null,null,null,null,null,null,null,null,null,null,null,null,null,null,null,null,null,null,null,null,null,null,null,null,null,null,null,null,null,null,null,null,null,null,null,null,null,null,null,null,null,null,null,null,null,null,null,null,null,null,null,null,null,{"$f":"VLOOKUP($W177,Reference!$AL$4:$AL$322,1,FALSE)","v":{"$error":"#N/A"}},{"$f":"VLOOKUP($N177,Reference!$J$47:$K$64,2,FALSE)","v":{"$error":"#N/A"}},null,{"$f":"VLOOKUP($W177,Reference!$AL$4:$AO$322,4,FALSE)","v":{"$error":"#N/A"}}]
[null,null,null,null,null,null,null,null,null,null,null,null,null,null,null,null,null,null,null,null,null,null,null,null,null,null,null,null,null,null,null,null,null,null,null,null,null,null,null,null,null,null,null,null,null,null,null,null,null,null,null,null,null,{"$f":"VLOOKUP($W178,Reference!$AL$4:$AL$322,1,FALSE)","v":{"$error":"#N/A"}},{"$f":"VLOOKUP($N178,Reference!$J$47:$K$64,2,FALSE)","v":{"$error":"#N/A"}},null,{"$f":"VLOOKUP($W178,Reference!$AL$4:$AO$322,4,FALSE)","v":{"$error":"#N/A"}}]
[null,null,null,null,null,null,null,null,null,null,null,null,null,null,null,null,null,null,null,null,null,null,null,null,null,null,null,null,null,null,null,null,null,null,null,null,null,null,null,null,null,null,null,null,null,null,null,null,null,null,null,null,null,{"$f":"VLOOKUP($W179,Reference!$AL$4:$AL$322,1,FALSE)","v":{"$error":"#N/A"}},{"$f":"VLOOKUP($N179,Reference!$J$47:$K$64,2,FALSE)","v":{"$error":"#N/A"}},null,{"$f":"VLOOKUP($W179,Reference!$AL$4:$AO$322,4,FALSE)","v":{"$error":"#N/A"}}]
[null,null,null,null,null,null,null,null,null,null,null,null,null,null,null,null,null,null,null,null,null,null,null,null,null,null,null,null,null,null,null,null,null,null,null,null,null,null,null,null,null,null,null,null,null,null,null,null,null,null,null,null,null,{"$f":"VLOOKUP($W180,Reference!$AL$4:$AL$322,1,FALSE)","v":{"$error":"#N/A"}},{"$f":"VLOOKUP($N180,Reference!$J$47:$K$64,2,FALSE)","v":{"$error":"#N/A"}},null,{"$f":"VLOOKUP($W180,Reference!$AL$4:$AO$322,4,FALSE)","v":{"$error":"#N/A"}}]
[null,null,null,null,null,null,null,null,null,null,null,null,null,null,null,null,null,null,null,null,null,null,null,null,null,null,null,null,null,null,null,null,null,null,null,null,null,null,null,null,null,null,null,null,null,null,null,null,null,null,null,null,null,{"$f":"VLOOKUP($W181,Reference!$AL$4:$AL$322,1,FALSE)","v":{"$error":"#N/A"}},{"$f":"VLOOKUP($N181,Reference!$J$47:$K$64,2,FALSE)","v":{"$error":"#N/A"}},null,{"$f":"VLOOKUP($W181,Reference!$AL$4:$AO$322,4,FALSE)","v":{"$error":"#N/A"}}]
[null,null,null,null,null,null,null,null,null,null,null,null,null,null,null,null,null,null,null,null,null,null,null,null,null,null,null,null,null,null,null,null,null,null,null,null,null,null,null,null,null,null,null,null,null,null,null,null,null,null,null,null,null,{"$f":"VLOOKUP($W182,Reference!$AL$4:$AL$322,1,FALSE)","v":{"$error":"#N/A"}},{"$f":"VLOOKUP($N182,Reference!$J$47:$K$64,2,FALSE)","v":{"$error":"#N/A"}},null,{"$f":"VLOOKUP($W182,Reference!$AL$4:$AO$322,4,FALSE)","v":{"$error":"#N/A"}}]
[null,null,null,null,null,null,null,null,null,null,null,null,null,null,null,null,null,null,null,null,null,null,null,null,null,null,null,null,null,null,null,null,null,null,null,null,null,null,null,null,null,null,null,null,null,null,null,null,null,null,null,null,null,{"$f":"VLOOKUP($W183,Reference!$AL$4:$AL$322,1,FALSE)","v":{"$error":"#N/A"}},{"$f":"VLOOKUP($N183,Reference!$J$47:$K$64,2,FALSE)","v":{"$error":"#N/A"}},null,{"$f":"VLOOKUP($W183,Reference!$AL$4:$AO$322,4,FALSE)","v":{"$error":"#N/A"}}]
[null,null,null,null,null,null,null,null,null,null,null,null,null,null,null,null,null,null,null,null,null,null,null,null,null,null,null,null,null,null,null,null,null,null,null,null,null,null,null,null,null,null,null,null,null,null,null,null,null,null,null,null,null,{"$f":"VLOOKUP($W184,Reference!$AL$4:$AL$322,1,FALSE)","v":{"$error":"#N/A"}},{"$f":"VLOOKUP($N184,Reference!$J$47:$K$64,2,FALSE)","v":{"$error":"#N/A"}},null,{"$f":"VLOOKUP($W184,Reference!$AL$4:$AO$322,4,FALSE)","v":{"$error":"#N/A"}}]
[null,null,null,null,null,null,null,null,null,null,null,null,null,null,null,null,null,null,null,null,null,null,null,null,null,null,null,null,null,null,null,null,null,null,null,null,null,null,null,null,null,null,null,null,null,null,null,null,null,null,null,null,null,{"$f":"VLOOKUP($W185,Reference!$AL$4:$AL$322,1,FALSE)","v":{"$error":"#N/A"}},{"$f":"VLOOKUP($N185,Reference!$J$47:$K$64,2,FALSE)","v":{"$error":"#N/A"}},null,{"$f":"VLOOKUP($W185,Reference!$AL$4:$AO$322,4,FALSE)","v":{"$error":"#N/A"}}]
[null,null,null,null,null,null,null,null,null,null,null,null,null,null,null,null,null,null,null,null,null,null,null,null,null,null,null,null,null,null,null,null,null,null,null,null,null,null,null,null,null,null,null,null,null,null,null,null,null,null,null,null,null,{"$f":"VLOOKUP($W186,Reference!$AL$4:$AL$322,1,FALSE)","v":{"$error":"#N/A"}},{"$f":"VLOOKUP($N186,Reference!$J$47:$K$64,2,FALSE)","v":{"$error":"#N/A"}},null,{"$f":"VLOOKUP($W186,Reference!$AL$4:$AO$322,4,FALSE)","v":{"$error":"#N/A"}}]
[null,null,null,null,null,null,null,null,null,null,null,null,null,null,null,null,null,null,null,null,null,null,null,null,null,null,null,null,null,null,null,null,null,null,null,null,null,null,null,null,null,null,null,null,null,null,null,null,null,null,null,null,null,{"$f":"VLOOKUP($W187,Reference!$AL$4:$AL$322,1,FALSE)","v":{"$error":"#N/A"}},{"$f":"VLOOKUP($N187,Reference!$J$47:$K$64,2,FALSE)","v":{"$error":"#N/A"}},null,{"$f":"VLOOKUP($W187,Reference!$AL$4:$AO$322,4,FALSE)","v":{"$error":"#N/A"}}]
[null,null,null,null,null,null,null,null,null,null,null,null,null,null,null,null,null,null,null,null,null,null,null,null,null,null,null,null,null,null,null,null,null,null,null,null,null,null,null,null,null,null,null,null,null,null,null,null,null,null,null,null,null,{"$f":"VLOOKUP($W188,Reference!$AL$4:$AL$322,1,FALSE)","v":{"$error":"#N/A"}},{"$f":"VLOOKUP($N188,Reference!$J$47:$K$64,2,FALSE)","v":{"$error":"#N/A"}},null,{"$f":"VLOOKUP($W188,Reference!$AL$4:$AO$322,4,FALSE)","v":{"$error":"#N/A"}}]
[null,null,null,null,null,null,null,null,null,null,null,null,null,null,null,null,null,null,null,null,null,null,null,null,null,null,null,null,null,null,null,null,null,null,null,null,null,null,null,null,null,null,null,null,null,null,null,null,null,null,null,null,null,{"$f":"VLOOKUP($W189,Reference!$AL$4:$AL$322,1,FALSE)","v":{"$error":"#N/A"}},{"$f":"VLOOKUP($N189,Reference!$J$47:$K$64,2,FALSE)","v":{"$error":"#N/A"}},null,{"$f":"VLOOKUP($W189,Reference!$AL$4:$AO$322,4,FALSE)","v":{"$error":"#N/A"}}]
[null,null,null,null,null,null,null,null,null,null,null,null,null,null,null,null,null,null,null,null,null,null,null,null,null,null,null,null,null,null,null,null,null,null,null,null,null,null,null,null,null,null,null,null,null,null,null,null,null,null,null,null,null,{"$f":"VLOOKUP($W190,Reference!$AL$4:$AL$322,1,FALSE)","v":{"$error":"#N/A"}},{"$f":"VLOOKUP($N190,Reference!$J$47:$K$64,2,FALSE)","v":{"$error":"#N/A"}},null,{"$f":"VLOOKUP($W190,Reference!$AL$4:$AO$322,4,FALSE)","v":{"$error":"#N/A"}}]
[null,null,null,null,null,null,null,null,null,null,null,null,null,null,null,null,null,null,null,null,null,null,null,null,null,null,null,null,null,null,null,null,null,null,null,null,null,null,null,null,null,null,null,null,null,null,null,null,null,null,null,null,null,{"$f":"VLOOKUP($W191,Reference!$AL$4:$AL$322,1,FALSE)","v":{"$error":"#N/A"}},{"$f":"VLOOKUP($N191,Reference!$J$47:$K$64,2,FALSE)","v":{"$error":"#N/A"}},null,{"$f":"VLOOKUP($W191,Reference!$AL$4:$AO$322,4,FALSE)","v":{"$error":"#N/A"}}]
[null,null,null,null,null,null,null,null,null,null,null,null,null,null,null,null,null,null,null,null,null,null,null,null,null,null,null,null,null,null,null,null,null,null,null,null,null,null,null,null,null,null,null,null,null,null,null,null,null,null,null,null,null,{"$f":"VLOOKUP($W192,Reference!$AL$4:$AL$322,1,FALSE)","v":{"$error":"#N/A"}},{"$f":"VLOOKUP($N192,Reference!$J$47:$K$64,2,FALSE)","v":{"$error":"#N/A"}},null,{"$f":"VLOOKUP($W192,Reference!$AL$4:$AO$322,4,FALSE)","v":{"$error":"#N/A"}}]
[null,null,null,null,null,null,null,null,null,null,null,null,null,null,null,null,null,null,null,null,null,null,null,null,null,null,null,null,null,null,null,null,null,null,null,null,null,null,null,null,null,null,null,null,null,null,null,null,null,null,null,null,null,{"$f":"VLOOKUP($W193,Reference!$AL$4:$AL$322,1,FALSE)","v":{"$error":"#N/A"}},{"$f":"VLOOKUP($N193,Reference!$J$47:$K$64,2,FALSE)","v":{"$error":"#N/A"}},null,{"$f":"VLOOKUP($W193,Reference!$AL$4:$AO$322,4,FALSE)","v":{"$error":"#N/A"}}]
[null,null,null,null,null,null,null,null,null,null,null,null,null,null,null,null,null,null,null,null,null,null,null,null,null,null,null,null,null,null,null,null,null,null,null,null,null,null,null,null,null,null,null,null,null,null,null,null,null,null,null,null,null,{"$f":"VLOOKUP($W194,Reference!$AL$4:$AL$322,1,FALSE)","v":{"$error":"#N/A"}},{"$f":"VLOOKUP($N194,Reference!$J$47:$K$64,2,FALSE)","v":{"$error":"#N/A"}},null,{"$f":"VLOOKUP($W194,Reference!$AL$4:$AO$322,4,FALSE)","v":{"$error":"#N/A"}}]
[null,null,null,null,null,null,null,null,null,null,null,null,null,null,null,null,null,null,null,null,null,null,null,null,null,null,null,null,null,null,null,null,null,null,null,null,null,null,null,null,null,null,null,null,null,null,null,null,null,null,null,null,null,{"$f":"VLOOKUP($W195,Reference!$AL$4:$AL$322,1,FALSE)","v":{"$error":"#N/A"}},{"$f":"VLOOKUP($N195,Reference!$J$47:$K$64,2,FALSE)","v":{"$error":"#N/A"}},null,{"$f":"VLOOKUP($W195,Reference!$AL$4:$AO$322,4,FALSE)","v":{"$error":"#N/A"}}]
[null,null,null,null,null,null,null,null,null,null,null,null,null,null,null,null,null,null,null,null,null,null,null,null,null,null,null,null,null,null,null,null,null,null,null,null,null,null,null,null,null,null,null,null,null,null,null,null,null,null,null,null,null,{"$f":"VLOOKUP($W196,Reference!$AL$4:$AL$322,1,FALSE)","v":{"$error":"#N/A"}},{"$f":"VLOOKUP($N196,Reference!$J$47:$K$64,2,FALSE)","v":{"$error":"#N/A"}},null,{"$f":"VLOOKUP($W196,Reference!$AL$4:$AO$322,4,FALSE)","v":{"$error":"#N/A"}}]
[null,null,null,null,null,null,null,null,null,null,null,null,null,null,null,null,null,null,null,null,null,null,null,null,null,null,null,null,null,null,null,null,null,null,null,null,null,null,null,null,null,null,null,null,null,null,null,null,null,null,null,null,null,{"$f":"VLOOKUP($W197,Reference!$AL$4:$AL$322,1,FALSE)","v":{"$error":"#N/A"}},{"$f":"VLOOKUP($N197,Reference!$J$47:$K$64,2,FALSE)","v":{"$error":"#N/A"}},null,{"$f":"VLOOKUP($W197,Reference!$AL$4:$AO$322,4,FALSE)","v":{"$error":"#N/A"}}]
[null,null,null,null,null,null,null,null,null,null,null,null,null,null,null,null,null,null,null,null,null,null,null,null,null,null,null,null,null,null,null,null,null,null,null,null,null,null,null,null,null,null,null,null,null,null,null,null,null,null,null,null,null,{"$f":"VLOOKUP($W198,Reference!$AL$4:$AL$322,1,FALSE)","v":{"$error":"#N/A"}},{"$f":"VLOOKUP($N198,Reference!$J$47:$K$64,2,FALSE)","v":{"$error":"#N/A"}},null,{"$f":"VLOOKUP($W198,Reference!$AL$4:$AO$322,4,FALSE)","v":{"$error":"#N/A"}}]
[null,null,null,null,null,null,null,null,null,null,null,null,null,null,null,null,null,null,null,null,null,null,null,null,null,null,null,null,null,null,null,null,null,null,null,null,null,null,null,null,null,null,null,null,null,null,null,null,null,null,null,null,null,{"$f":"VLOOKUP($W199,Reference!$AL$4:$AL$322,1,FALSE)","v":{"$error":"#N/A"}},{"$f":"VLOOKUP($N199,Reference!$J$47:$K$64,2,FALSE)","v":{"$error":"#N/A"}},null,{"$f":"VLOOKUP($W199,Reference!$AL$4:$AO$322,4,FALSE)","v":{"$error":"#N/A"}}]
[null,null,null,null,null,null,null,null,null,null,null,null,null,null,null,null,null,null,null,null,null,null,null,null,null,null,null,null,null,null,null,null,null,null,null,null,null,null,null,null,null,null,null,null,null,null,null,null,null,null,null,null,null,{"$f":"VLOOKUP($W200,Reference!$AL$4:$AL$322,1,FALSE)","v":{"$error":"#N/A"}},{"$f":"VLOOKUP($N200,Reference!$J$47:$K$64,2,FALSE)","v":{"$error":"#N/A"}},null,{"$f":"VLOOKUP($W200,Reference!$AL$4:$AO$322,4,FALSE)","v":{"$error":"#N/A"}}]
[null,null,null,null,null,null,null,null,null,null,null,null,null,null,null,null,null,null,null,null,null,null,null,null,null,null,null,null,null,null,null,null,null,null,null,null,null,null,null,null,null,null,null,null,null,null,null,null,null,null,null,null,null,{"$f":"VLOOKUP($W201,Reference!$AL$4:$AL$322,1,FALSE)","v":{"$error":"#N/A"}},{"$f":"VLOOKUP($N201,Reference!$J$47:$K$64,2,FALSE)","v":{"$error":"#N/A"}},null,{"$f":"VLOOKUP($W201,Reference!$AL$4:$AO$322,4,FALSE)","v":{"$error":"#N/A"}}]
[null,null,null,null,null,null,null,null,null,null,null,null,null,null,null,null,null,null,null,null,null,null,null,null,null,null,null,null,null,null,null,null,null,null,null,null,null,null,null,null,null,null,null,null,null,null,null,null,null,null,null,null,null,{"$f":"VLOOKUP($W202,Reference!$AL$4:$AL$322,1,FALSE)","v":{"$error":"#N/A"}},{"$f":"VLOOKUP($N202,Reference!$J$47:$K$64,2,FALSE)","v":{"$error":"#N/A"}},null,{"$f":"VLOOKUP($W202,Reference!$AL$4:$AO$322,4,FALSE)","v":{"$error":"#N/A"}}]
[null,null,null,null,null,null,null,null,null,null,null,null,null,null,null,null,null,null,null,null,null,null,null,null,null,null,null,null,null,null,null,null,null,null,null,null,null,null,null,null,null,null,null,null,null,null,null,null,null,null,null,null,null,{"$f":"VLOOKUP($W203,Reference!$AL$4:$AL$322,1,FALSE)","v":{"$error":"#N/A"}},{"$f":"VLOOKUP($N203,Reference!$J$47:$K$64,2,FALSE)","v":{"$error":"#N/A"}},null,{"$f":"VLOOKUP($W203,Reference!$AL$4:$AO$322,4,FALSE)","v":{"$error":"#N/A"}}]
[null,null,null,null,null,null,null,null,null,null,null,null,null,null,null,null,null,null,null,null,null,null,null,null,null,null,null,null,null,null,null,null,null,null,null,null,null,null,null,null,null,null,null,null,null,null,null,null,null,null,null,null,null,{"$f":"VLOOKUP($W204,Reference!$AL$4:$AL$322,1,FALSE)","v":{"$error":"#N/A"}},{"$f":"VLOOKUP($N204,Reference!$J$47:$K$64,2,FALSE)","v":{"$error":"#N/A"}},null,{"$f":"VLOOKUP($W204,Reference!$AL$4:$AO$322,4,FALSE)","v":{"$error":"#N/A"}}]
[null,null,null,null,null,null,null,null,null,null,null,null,null,null,null,null,null,null,null,null,null,null,null,null,null,null,null,null,null,null,null,null,null,null,null,null,null,null,null,null,null,null,null,null,null,null,null,null,null,null,null,null,null,{"$f":"VLOOKUP($W205,Reference!$AL$4:$AL$322,1,FALSE)","v":{"$error":"#N/A"}},{"$f":"VLOOKUP($N205,Reference!$J$47:$K$64,2,FALSE)","v":{"$error":"#N/A"}},null,{"$f":"VLOOKUP($W205,Reference!$AL$4:$AO$322,4,FALSE)","v":{"$error":"#N/A"}}]
[null,null,null,null,null,null,null,null,null,null,null,null,null,null,null,null,null,null,null,null,null,null,null,null,null,null,null,null,null,null,null,null,null,null,null,null,null,null,null,null,null,null,null,null,null,null,null,null,null,null,null,null,null,{"$f":"VLOOKUP($W206,Reference!$AL$4:$AL$322,1,FALSE)","v":{"$error":"#N/A"}},{"$f":"VLOOKUP($N206,Reference!$J$47:$K$64,2,FALSE)","v":{"$error":"#N/A"}},null,{"$f":"VLOOKUP($W206,Reference!$AL$4:$AO$322,4,FALSE)","v":{"$error":"#N/A"}}]
[null,null,null,null,null,null,null,null,null,null,null,null,null,null,null,null,null,null,null,null,null,null,null,null,null,null,null,null,null,null,null,null,null,null,null,null,null,null,null,null,null,null,null,null,null,null,null,null,null,null,null,null,null,{"$f":"VLOOKUP($W207,Reference!$AL$4:$AL$322,1,FALSE)","v":{"$error":"#N/A"}},{"$f":"VLOOKUP($N207,Reference!$J$47:$K$64,2,FALSE)","v":{"$error":"#N/A"}},null,{"$f":"VLOOKUP($W207,Reference!$AL$4:$AO$322,4,FALSE)","v":{"$error":"#N/A"}}]
[null,null,null,null,null,null,null,null,null,null,null,null,null,null,null,null,null,null,null,null,null,null,null,null,null,null,null,null,null,null,null,null,null,null,null,null,null,null,null,null,null,null,null,null,null,null,null,null,null,null,null,null,null,{"$f":"VLOOKUP($W208,Reference!$AL$4:$AL$322,1,FALSE)","v":{"$error":"#N/A"}},{"$f":"VLOOKUP($N208,Reference!$J$47:$K$64,2,FALSE)","v":{"$error":"#N/A"}},null,{"$f":"VLOOKUP($W208,Reference!$AL$4:$AO$322,4,FALSE)","v":{"$error":"#N/A"}}]
[null,null,null,null,null,null,null,null,null,null,null,null,null,null,null,null,null,null,null,null,null,null,null,null,null,null,null,null,null,null,null,null,null,null,null,null,null,null,null,null,null,null,null,null,null,null,null,null,null,null,null,null,null,{"$f":"VLOOKUP($W209,Reference!$AL$4:$AL$322,1,FALSE)","v":{"$error":"#N/A"}},{"$f":"VLOOKUP($N209,Reference!$J$47:$K$64,2,FALSE)","v":{"$error":"#N/A"}},null,{"$f":"VLOOKUP($W209,Reference!$AL$4:$AO$322,4,FALSE)","v":{"$error":"#N/A"}}]
[null,null,null,null,null,null,null,null,null,null,null,null,null,null,null,null,null,null,null,null,null,null,null,null,null,null,null,null,null,null,null,null,null,null,null,null,null,null,null,null,null,null,null,null,null,null,null,null,null,null,null,null,null,{"$f":"VLOOKUP($W210,Reference!$AL$4:$AL$322,1,FALSE)","v":{"$error":"#N/A"}},{"$f":"VLOOKUP($N210,Reference!$J$47:$K$64,2,FALSE)","v":{"$error":"#N/A"}},null,{"$f":"VLOOKUP($W210,Reference!$AL$4:$AO$322,4,FALSE)","v":{"$error":"#N/A"}}]
[null,null,null,null,null,null,null,null,null,null,null,null,null,null,null,null,null,null,null,null,null,null,null,null,null,null,null,null,null,null,null,null,null,null,null,null,null,null,null,null,null,null,null,null,null,null,null,null,null,null,null,null,null,{"$f":"VLOOKUP($W211,Reference!$AL$4:$AL$322,1,FALSE)","v":{"$error":"#N/A"}},{"$f":"VLOOKUP($N211,Reference!$J$47:$K$64,2,FALSE)","v":{"$error":"#N/A"}},null,{"$f":"VLOOKUP($W211,Reference!$AL$4:$AO$322,4,FALSE)","v":{"$error":"#N/A"}}]
[null,null,null,null,null,null,null,null,null,null,null,null,null,null,null,null,null,null,null,null,null,null,null,null,null,null,null,null,null,null,null,null,null,null,null,null,null,null,null,null,null,null,null,null,null,null,null,null,null,null,null,null,null,{"$f":"VLOOKUP($W212,Reference!$AL$4:$AL$322,1,FALSE)","v":{"$error":"#N/A"}},{"$f":"VLOOKUP($N212,Reference!$J$47:$K$64,2,FALSE)","v":{"$error":"#N/A"}},null,{"$f":"VLOOKUP($W212,Reference!$AL$4:$AO$322,4,FALSE)","v":{"$error":"#N/A"}}]
[null,null,null,null,null,null,null,null,null,null,null,null,null,null,null,null,null,null,null,null,null,null,null,null,null,null,null,null,null,null,null,null,null,null,null,null,null,null,null,null,null,null,null,null,null,null,null,null,null,null,null,null,null,{"$f":"VLOOKUP($W213,Reference!$AL$4:$AL$322,1,FALSE)","v":{"$error":"#N/A"}},{"$f":"VLOOKUP($N213,Reference!$J$47:$K$64,2,FALSE)","v":{"$error":"#N/A"}},null,{"$f":"VLOOKUP($W213,Reference!$AL$4:$AO$322,4,FALSE)","v":{"$error":"#N/A"}}]
[null,null,null,null,null,null,null,null,null,null,null,null,null,null,null,null,null,null,null,null,null,null,null,null,null,null,null,null,null,null,null,null,null,null,null,null,null,null,null,null,null,null,null,null,null,null,null,null,null,null,null,null,null,{"$f":"VLOOKUP($W214,Reference!$AL$4:$AL$322,1,FALSE)","v":{"$error":"#N/A"}},{"$f":"VLOOKUP($N214,Reference!$J$47:$K$64,2,FALSE)","v":{"$error":"#N/A"}},null,{"$f":"VLOOKUP($W214,Reference!$AL$4:$AO$322,4,FALSE)","v":{"$error":"#N/A"}}]
[null,null,null,null,null,null,null,null,null,null,null,null,null,null,null,null,null,null,null,null,null,null,null,null,null,null,null,null,null,null,null,null,null,null,null,null,null,null,null,null,null,null,null,null,null,null,null,null,null,null,null,null,null,{"$f":"VLOOKUP($W215,Reference!$AL$4:$AL$322,1,FALSE)","v":{"$error":"#N/A"}},{"$f":"VLOOKUP($N215,Reference!$J$47:$K$64,2,FALSE)","v":{"$error":"#N/A"}},null,{"$f":"VLOOKUP($W215,Reference!$AL$4:$AO$322,4,FALSE)","v":{"$error":"#N/A"}}]
[null,null,null,null,null,null,null,null,null,null,null,null,null,null,null,null,null,null,null,null,null,null,null,null,null,null,null,null,null,null,null,null,null,null,null,null,null,null,null,null,null,null,null,null,null,null,null,null,null,null,null,null,null,{"$f":"VLOOKUP($W216,Reference!$AL$4:$AL$322,1,FALSE)","v":{"$error":"#N/A"}},{"$f":"VLOOKUP($N216,Reference!$J$47:$K$64,2,FALSE)","v":{"$error":"#N/A"}},null,{"$f":"VLOOKUP($W216,Reference!$AL$4:$AO$322,4,FALSE)","v":{"$error":"#N/A"}}]
[null,null,null,null,null,null,null,null,null,null,null,null,null,null,null,null,null,null,null,null,null,null,null,null,null,null,null,null,null,null,null,null,null,null,null,null,null,null,null,null,null,null,null,null,null,null,null,null,null,null,null,null,null,{"$f":"VLOOKUP($W217,Reference!$AL$4:$AL$322,1,FALSE)","v":{"$error":"#N/A"}},{"$f":"VLOOKUP($N217,Reference!$J$47:$K$64,2,FALSE)","v":{"$error":"#N/A"}},null,{"$f":"VLOOKUP($W217,Reference!$AL$4:$AO$322,4,FALSE)","v":{"$error":"#N/A"}}]
[null,null,null,null,null,null,null,null,null,null,null,null,null,null,null,null,null,null,null,null,null,null,null,null,null,null,null,null,null,null,null,null,null,null,null,null,null,null,null,null,null,null,null,null,null,null,null,null,null,null,null,null,null,{"$f":"VLOOKUP($W218,Reference!$AL$4:$AL$322,1,FALSE)","v":{"$error":"#N/A"}},{"$f":"VLOOKUP($N218,Reference!$J$47:$K$64,2,FALSE)","v":{"$error":"#N/A"}},null,{"$f":"VLOOKUP($W218,Reference!$AL$4:$AO$322,4,FALSE)","v":{"$error":"#N/A"}}]
[null,null,null,null,null,null,null,null,null,null,null,null,null,null,null,null,null,null,null,null,null,null,null,null,null,null,null,null,null,null,null,null,null,null,null,null,null,null,null,null,null,null,null,null,null,null,null,null,null,null,null,null,null,{"$f":"VLOOKUP($W219,Reference!$AL$4:$AL$322,1,FALSE)","v":{"$error":"#N/A"}},{"$f":"VLOOKUP($N219,Reference!$J$47:$K$64,2,FALSE)","v":{"$error":"#N/A"}},null,{"$f":"VLOOKUP($W219,Reference!$AL$4:$AO$322,4,FALSE)","v":{"$error":"#N/A"}}]
[null,null,null,null,null,null,null,null,null,null,null,null,null,null,null,null,null,null,null,null,null,null,null,null,null,null,null,null,null,null,null,null,null,null,null,null,null,null,null,null,null,null,null,null,null,null,null,null,null,null,null,null,null,{"$f":"VLOOKUP($W220,Reference!$AL$4:$AL$322,1,FALSE)","v":{"$error":"#N/A"}},{"$f":"VLOOKUP($N220,Reference!$J$47:$K$64,2,FALSE)","v":{"$error":"#N/A"}},null,{"$f":"VLOOKUP($W220,Reference!$AL$4:$AO$322,4,FALSE)","v":{"$error":"#N/A"}}]
[null,null,null,null,null,null,null,null,null,null,null,null,null,null,null,null,null,null,null,null,null,null,null,null,null,null,null,null,null,null,null,null,null,null,null,null,null,null,null,null,null,null,null,null,null,null,null,null,null,null,null,null,null,{"$f":"VLOOKUP($W221,Reference!$AL$4:$AL$322,1,FALSE)","v":{"$error":"#N/A"}},{"$f":"VLOOKUP($N221,Reference!$J$47:$K$64,2,FALSE)","v":{"$error":"#N/A"}},null,{"$f":"VLOOKUP($W221,Reference!$AL$4:$AO$322,4,FALSE)","v":{"$error":"#N/A"}}]
[null,null,null,null,null,null,null,null,null,null,null,null,null,null,null,null,null,null,null,null,null,null,null,null,null,null,null,null,null,null,null,null,null,null,null,null,null,null,null,null,null,null,null,null,null,null,null,null,null,null,null,null,null,{"$f":"VLOOKUP($W222,Reference!$AL$4:$AL$322,1,FALSE)","v":{"$error":"#N/A"}},{"$f":"VLOOKUP($N222,Reference!$J$47:$K$64,2,FALSE)","v":{"$error":"#N/A"}},null,{"$f":"VLOOKUP($W222,Reference!$AL$4:$AO$322,4,FALSE)","v":{"$error":"#N/A"}}]
[null,null,null,null,null,null,null,null,null,null,null,null,null,null,null,null,null,null,null,null,null,null,null,null,null,null,null,null,null,null,null,null,null,null,null,null,null,null,null,null,null,null,null,null,null,null,null,null,null,null,null,null,null,{"$f":"VLOOKUP($W223,Reference!$AL$4:$AL$322,1,FALSE)","v":{"$error":"#N/A"}},{"$f":"VLOOKUP($N223,Reference!$J$47:$K$64,2,FALSE)","v":{"$error":"#N/A"}},null,{"$f":"VLOOKUP($W223,Reference!$AL$4:$AO$322,4,FALSE)","v":{"$error":"#N/A"}}]
[null,null,null,null,null,null,null,null,null,null,null,null,null,null,null,null,null,null,null,null,null,null,null,null,null,null,null,null,null,null,null,null,null,null,null,null,null,null,null,null,null,null,null,null,null,null,null,null,null,null,null,null,null,{"$f":"VLOOKUP($W224,Reference!$AL$4:$AL$322,1,FALSE)","v":{"$error":"#N/A"}},{"$f":"VLOOKUP($N224,Reference!$J$47:$K$64,2,FALSE)","v":{"$error":"#N/A"}},null,{"$f":"VLOOKUP($W224,Reference!$AL$4:$AO$322,4,FALSE)","v":{"$error":"#N/A"}}]
[null,null,null,null,null,null,null,null,null,null,null,null,null,null,null,null,null,null,null,null,null,null,null,null,null,null,null,null,null,null,null,null,null,null,null,null,null,null,null,null,null,null,null,null,null,null,null,null,null,null,null,null,null,{"$f":"VLOOKUP($W225,Reference!$AL$4:$AL$322,1,FALSE)","v":{"$error":"#N/A"}},{"$f":"VLOOKUP($N225,Reference!$J$47:$K$64,2,FALSE)","v":{"$error":"#N/A"}},null,{"$f":"VLOOKUP($W225,Reference!$AL$4:$AO$322,4,FALSE)","v":{"$error":"#N/A"}}]
[null,null,null,null,null,null,null,null,null,null,null,null,null,null,null,null,null,null,null,null,null,null,null,null,null,null,null,null,null,null,null,null,null,null,null,null,null,null,null,null,null,null,null,null,null,null,null,null,null,null,null,null,null,{"$f":"VLOOKUP($W226,Reference!$AL$4:$AL$322,1,FALSE)","v":{"$error":"#N/A"}},{"$f":"VLOOKUP($N226,Reference!$J$47:$K$64,2,FALSE)","v":{"$error":"#N/A"}},null,{"$f":"VLOOKUP($W226,Reference!$AL$4:$AO$322,4,FALSE)","v":{"$error":"#N/A"}}]
[null,null,null,null,null,null,null,null,null,null,null,null,null,null,null,null,null,null,null,null,null,null,null,null,null,null,null,null,null,null,null,null,null,null,null,null,null,null,null,null,null,null,null,null,null,null,null,null,null,null,null,null,null,{"$f":"VLOOKUP($W227,Reference!$AL$4:$AL$322,1,FALSE)","v":{"$error":"#N/A"}},{"$f":"VLOOKUP($N227,Reference!$J$47:$K$64,2,FALSE)","v":{"$error":"#N/A"}},null,{"$f":"VLOOKUP($W227,Reference!$AL$4:$AO$322,4,FALSE)","v":{"$error":"#N/A"}}]
[null,null,null,null,null,null,null,null,null,null,null,null,null,null,null,null,null,null,null,null,null,null,null,null,null,null,null,null,null,null,null,null,null,null,null,null,null,null,null,null,null,null,null,null,null,null,null,null,null,null,null,null,null,{"$f":"VLOOKUP($W228,Reference!$AL$4:$AL$322,1,FALSE)","v":{"$error":"#N/A"}},{"$f":"VLOOKUP($N228,Reference!$J$47:$K$64,2,FALSE)","v":{"$error":"#N/A"}},null,{"$f":"VLOOKUP($W228,Reference!$AL$4:$AO$322,4,FALSE)","v":{"$error":"#N/A"}}]
[null,null,null,null,null,null,null,null,null,null,null,null,null,null,null,null,null,null,null,null,null,null,null,null,null,null,null,null,null,null,null,null,null,null,null,null,null,null,null,null,null,null,null,null,null,null,null,null,null,null,null,null,null,{"$f":"VLOOKUP($W229,Reference!$AL$4:$AL$322,1,FALSE)","v":{"$error":"#N/A"}},{"$f":"VLOOKUP($N229,Reference!$J$47:$K$64,2,FALSE)","v":{"$error":"#N/A"}},null,{"$f":"VLOOKUP($W229,Reference!$AL$4:$AO$322,4,FALSE)","v":{"$error":"#N/A"}}]
[null,null,null,null,null,null,null,null,null,null,null,null,null,null,null,null,null,null,null,null,null,null,null,null,null,null,null,null,null,null,null,null,null,null,null,null,null,null,null,null,null,null,null,null,null,null,null,null,null,null,null,null,null,{"$f":"VLOOKUP($W230,Reference!$AL$4:$AL$322,1,FALSE)","v":{"$error":"#N/A"}},{"$f":"VLOOKUP($N230,Reference!$J$47:$K$64,2,FALSE)","v":{"$error":"#N/A"}},null,{"$f":"VLOOKUP($W230,Reference!$AL$4:$AO$322,4,FALSE)","v":{"$error":"#N/A"}}]
[null,null,null,null,null,null,null,null,null,null,null,null,null,null,null,null,null,null,null,null,null,null,null,null,null,null,null,null,null,null,null,null,null,null,null,null,null,null,null,null,null,null,null,null,null,null,null,null,null,null,null,null,null,{"$f":"VLOOKUP($W231,Reference!$AL$4:$AL$322,1,FALSE)","v":{"$error":"#N/A"}},{"$f":"VLOOKUP($N231,Reference!$J$47:$K$64,2,FALSE)","v":{"$error":"#N/A"}},null,{"$f":"VLOOKUP($W231,Reference!$AL$4:$AO$322,4,FALSE)","v":{"$error":"#N/A"}}]
[null,null,null,null,null,null,null,null,null,null,null,null,null,null,null,null,null,null,null,null,null,null,null,null,null,null,null,null,null,null,null,null,null,null,null,null,null,null,null,null,null,null,null,null,null,null,null,null,null,null,null,null,null,{"$f":"VLOOKUP($W232,Reference!$AL$4:$AL$322,1,FALSE)","v":{"$error":"#N/A"}},{"$f":"VLOOKUP($N232,Reference!$J$47:$K$64,2,FALSE)","v":{"$error":"#N/A"}},null,{"$f":"VLOOKUP($W232,Reference!$AL$4:$AO$322,4,FALSE)","v":{"$error":"#N/A"}}]
[null,null,null,null,null,null,null,null,null,null,null,null,null,null,null,null,null,null,null,null,null,null,null,null,null,null,null,null,null,null,null,null,null,null,null,null,null,null,null,null,null,null,null,null,null,null,null,null,null,null,null,null,null,{"$f":"VLOOKUP($W233,Reference!$AL$4:$AL$322,1,FALSE)","v":{"$error":"#N/A"}},{"$f":"VLOOKUP($N233,Reference!$J$47:$K$64,2,FALSE)","v":{"$error":"#N/A"}},null,{"$f":"VLOOKUP($W233,Reference!$AL$4:$AO$322,4,FALSE)","v":{"$error":"#N/A"}}]
[null,null,null,null,null,null,null,null,null,null,null,null,null,null,null,null,null,null,null,null,null,null,null,null,null,null,null,null,null,null,null,null,null,null,null,null,null,null,null,null,null,null,null,null,null,null,null,null,null,null,null,null,null,{"$f":"VLOOKUP($W234,Reference!$AL$4:$AL$322,1,FALSE)","v":{"$error":"#N/A"}},{"$f":"VLOOKUP($N234,Reference!$J$47:$K$64,2,FALSE)","v":{"$error":"#N/A"}},null,{"$f":"VLOOKUP($W234,Reference!$AL$4:$AO$322,4,FALSE)","v":{"$error":"#N/A"}}]
[null,null,null,null,null,null,null,null,null,null,null,null,null,null,null,null,null,null,null,null,null,null,null,null,null,null,null,null,null,null,null,null,null,null,null,null,null,null,null,null,null,null,null,null,null,null,null,null,null,null,null,null,null,{"$f":"VLOOKUP($W235,Reference!$AL$4:$AL$322,1,FALSE)","v":{"$error":"#N/A"}},{"$f":"VLOOKUP($N235,Reference!$J$47:$K$64,2,FALSE)","v":{"$error":"#N/A"}},null,{"$f":"VLOOKUP($W235,Reference!$AL$4:$AO$322,4,FALSE)","v":{"$error":"#N/A"}}]
[null,null,null,null,null,null,null,null,null,null,null,null,null,null,null,null,null,null,null,null,null,null,null,null,null,null,null,null,null,null,null,null,null,null,null,null,null,null,null,null,null,null,null,null,null,null,null,null,null,null,null,null,null,{"$f":"VLOOKUP($W236,Reference!$AL$4:$AL$322,1,FALSE)","v":{"$error":"#N/A"}},{"$f":"VLOOKUP($N236,Reference!$J$47:$K$64,2,FALSE)","v":{"$error":"#N/A"}},null,{"$f":"VLOOKUP($W236,Reference!$AL$4:$AO$322,4,FALSE)","v":{"$error":"#N/A"}}]
[null,null,null,null,null,null,null,null,null,null,null,null,null,null,null,null,null,null,null,null,null,null,null,null,null,null,null,null,null,null,null,null,null,null,null,null,null,null,null,null,null,null,null,null,null,null,null,null,null,null,null,null,null,{"$f":"VLOOKUP($W237,Reference!$AL$4:$AL$322,1,FALSE)","v":{"$error":"#N/A"}},{"$f":"VLOOKUP($N237,Reference!$J$47:$K$64,2,FALSE)","v":{"$error":"#N/A"}},null,{"$f":"VLOOKUP($W237,Reference!$AL$4:$AO$322,4,FALSE)","v":{"$error":"#N/A"}}]
[null,null,null,null,null,null,null,null,null,null,null,null,null,null,null,null,null,null,null,null,null,null,null,null,null,null,null,null,null,null,null,null,null,null,null,null,null,null,null,null,null,null,null,null,null,null,null,null,null,null,null,null,null,{"$f":"VLOOKUP($W238,Reference!$AL$4:$AL$322,1,FALSE)","v":{"$error":"#N/A"}},{"$f":"VLOOKUP($N238,Reference!$J$47:$K$64,2,FALSE)","v":{"$error":"#N/A"}},null,{"$f":"VLOOKUP($W238,Reference!$AL$4:$AO$322,4,FALSE)","v":{"$error":"#N/A"}}]
[null,null,null,null,null,null,null,null,null,null,null,null,null,null,null,null,null,null,null,null,null,null,null,null,null,null,null,null,null,null,null,null,null,null,null,null,null,null,null,null,null,null,null,null,null,null,null,null,null,null,null,null,null,{"$f":"VLOOKUP($W239,Reference!$AL$4:$AL$322,1,FALSE)","v":{"$error":"#N/A"}},{"$f":"VLOOKUP($N239,Reference!$J$47:$K$64,2,FALSE)","v":{"$error":"#N/A"}},null,{"$f":"VLOOKUP($W239,Reference!$AL$4:$AO$322,4,FALSE)","v":{"$error":"#N/A"}}]
[null,null,null,null,null,null,null,null,null,null,null,null,null,null,null,null,null,null,null,null,null,null,null,null,null,null,null,null,null,null,null,null,null,null,null,null,null,null,null,null,null,null,null,null,null,null,null,null,null,null,null,null,null,{"$f":"VLOOKUP($W240,Reference!$AL$4:$AL$322,1,FALSE)","v":{"$error":"#N/A"}},{"$f":"VLOOKUP($N240,Reference!$J$47:$K$64,2,FALSE)","v":{"$error":"#N/A"}},null,{"$f":"VLOOKUP($W240,Reference!$AL$4:$AO$322,4,FALSE)","v":{"$error":"#N/A"}}]
[null,null,null,null,null,null,null,null,null,null,null,null,null,null,null,null,null,null,null,null,null,null,null,null,null,null,null,null,null,null,null,null,null,null,null,null,null,null,null,null,null,null,null,null,null,null,null,null,null,null,null,null,null,{"$f":"VLOOKUP($W241,Reference!$AL$4:$AL$322,1,FALSE)","v":{"$error":"#N/A"}},{"$f":"VLOOKUP($N241,Reference!$J$47:$K$64,2,FALSE)","v":{"$error":"#N/A"}},null,{"$f":"VLOOKUP($W241,Reference!$AL$4:$AO$322,4,FALSE)","v":{"$error":"#N/A"}}]
[null,null,null,null,null,null,null,null,null,null,null,null,null,null,null,null,null,null,null,null,null,null,null,null,null,null,null,null,null,null,null,null,null,null,null,null,null,null,null,null,null,null,null,null,null,null,null,null,null,null,null,null,null,{"$f":"VLOOKUP($W242,Reference!$AL$4:$AL$322,1,FALSE)","v":{"$error":"#N/A"}},{"$f":"VLOOKUP($N242,Reference!$J$47:$K$64,2,FALSE)","v":{"$error":"#N/A"}},null,{"$f":"VLOOKUP($W242,Reference!$AL$4:$AO$322,4,FALSE)","v":{"$error":"#N/A"}}]
[null,null,null,null,null,null,null,null,null,null,null,null,null,null,null,null,null,null,null,null,null,null,null,null,null,null,null,null,null,null,null,null,null,null,null,null,null,null,null,null,null,null,null,null,null,null,null,null,null,null,null,null,null,{"$f":"VLOOKUP($W243,Reference!$AL$4:$AL$322,1,FALSE)","v":{"$error":"#N/A"}},{"$f":"VLOOKUP($N243,Reference!$J$47:$K$64,2,FALSE)","v":{"$error":"#N/A"}},null,{"$f":"VLOOKUP($W243,Reference!$AL$4:$AO$322,4,FALSE)","v":{"$error":"#N/A"}}]
[null,null,null,null,null,null,null,null,null,null,null,null,null,null,null,null,null,null,null,null,null,null,null,null,null,null,null,null,null,null,null,null,null,null,null,null,null,null,null,null,null,null,null,null,null,null,null,null,null,null,null,null,null,{"$f":"VLOOKUP($W244,Reference!$AL$4:$AL$322,1,FALSE)","v":{"$error":"#N/A"}},{"$f":"VLOOKUP($N244,Reference!$J$47:$K$64,2,FALSE)","v":{"$error":"#N/A"}},null,{"$f":"VLOOKUP($W244,Reference!$AL$4:$AO$322,4,FALSE)","v":{"$error":"#N/A"}}]
[null,null,null,null,null,null,null,null,null,null,null,null,null,null,null,null,null,null,null,null,null,null,null,null,null,null,null,null,null,null,null,null,null,null,null,null,null,null,null,null,null,null,null,null,null,null,null,null,null,null,null,null,null,{"$f":"VLOOKUP($W245,Reference!$AL$4:$AL$322,1,FALSE)","v":{"$error":"#N/A"}},{"$f":"VLOOKUP($N245,Reference!$J$47:$K$64,2,FALSE)","v":{"$error":"#N/A"}},null,{"$f":"VLOOKUP($W245,Reference!$AL$4:$AO$322,4,FALSE)","v":{"$error":"#N/A"}}]
[null,null,null,null,null,null,null,null,null,null,null,null,null,null,null,null,null,null,null,null,null,null,null,null,null,null,null,null,null,null,null,null,null,null,null,null,null,null,null,null,null,null,null,null,null,null,null,null,null,null,null,null,null,{"$f":"VLOOKUP($W246,Reference!$AL$4:$AL$322,1,FALSE)","v":{"$error":"#N/A"}},{"$f":"VLOOKUP($N246,Reference!$J$47:$K$64,2,FALSE)","v":{"$error":"#N/A"}},null,{"$f":"VLOOKUP($W246,Reference!$AL$4:$AO$322,4,FALSE)","v":{"$error":"#N/A"}}]
[null,null,null,null,null,null,null,null,null,null,null,null,null,null,null,null,null,null,null,null,null,null,null,null,null,null,null,null,null,null,null,null,null,null,null,null,null,null,null,null,null,null,null,null,null,null,null,null,null,null,null,null,null,{"$f":"VLOOKUP($W247,Reference!$AL$4:$AL$322,1,FALSE)","v":{"$error":"#N/A"}},{"$f":"VLOOKUP($N247,Reference!$J$47:$K$64,2,FALSE)","v":{"$error":"#N/A"}},null,{"$f":"VLOOKUP($W247,Reference!$AL$4:$AO$322,4,FALSE)","v":{"$error":"#N/A"}}]
[null,null,null,null,null,null,null,null,null,null,null,null,null,null,null,null,null,null,null,null,null,null,null,null,null,null,null,null,null,null,null,null,null,null,null,null,null,null,null,null,null,null,null,null,null,null,null,null,null,null,null,null,null,{"$f":"VLOOKUP($W248,Reference!$AL$4:$AL$322,1,FALSE)","v":{"$error":"#N/A"}},{"$f":"VLOOKUP($N248,Reference!$J$47:$K$64,2,FALSE)","v":{"$error":"#N/A"}},null,{"$f":"VLOOKUP($W248,Reference!$AL$4:$AO$322,4,FALSE)","v":{"$error":"#N/A"}}]
[null,null,null,null,null,null,null,null,null,null,null,null,null,null,null,null,null,null,null,null,null,null,null,null,null,null,null,null,null,null,null,null,null,null,null,null,null,null,null,null,null,null,null,null,null,null,null,null,null,null,null,null,null,{"$f":"VLOOKUP($W249,Reference!$AL$4:$AL$322,1,FALSE)","v":{"$error":"#N/A"}},{"$f":"VLOOKUP($N249,Reference!$J$47:$K$64,2,FALSE)","v":{"$error":"#N/A"}},null,{"$f":"VLOOKUP($W249,Reference!$AL$4:$AO$322,4,FALSE)","v":{"$error":"#N/A"}}]
[null,null,null,null,null,null,null,null,null,null,null,null,null,null,null,null,null,null,null,null,null,null,null,null,null,null,null,null,null,null,null,null,null,null,null,null,null,null,null,null,null,null,null,null,null,null,null,null,null,null,null,null,null,{"$f":"VLOOKUP($W250,Reference!$AL$4:$AL$322,1,FALSE)","v":{"$error":"#N/A"}},{"$f":"VLOOKUP($N250,Reference!$J$47:$K$64,2,FALSE)","v":{"$error":"#N/A"}},null,{"$f":"VLOOKUP($W250,Reference!$AL$4:$AO$322,4,FALSE)","v":{"$error":"#N/A"}}]
[null,null,null,null,null,null,null,null,null,null,null,null,null,null,null,null,null,null,null,null,null,null,null,null,null,null,null,null,null,null,null,null,null,null,null,null,null,null,null,null,null,null,null,null,null,null,null,null,null,null,null,null,null,{"$f":"VLOOKUP($W251,Reference!$AL$4:$AL$322,1,FALSE)","v":{"$error":"#N/A"}},{"$f":"VLOOKUP($N251,Reference!$J$47:$K$64,2,FALSE)","v":{"$error":"#N/A"}},null,{"$f":"VLOOKUP($W251,Reference!$AL$4:$AO$322,4,FALSE)","v":{"$error":"#N/A"}}]
[null,null,null,null,null,null,null,null,null,null,null,null,null,null,null,null,null,null,null,null,null,null,null,null,null,null,null,null,null,null,null,null,null,null,null,null,null,null,null,null,null,null,null,null,null,null,null,null,null,null,null,null,null,{"$f":"VLOOKUP($W252,Reference!$AL$4:$AL$322,1,FALSE)","v":{"$error":"#N/A"}},{"$f":"VLOOKUP($N252,Reference!$J$47:$K$64,2,FALSE)","v":{"$error":"#N/A"}},null,{"$f":"VLOOKUP($W252,Reference!$AL$4:$AO$322,4,FALSE)","v":{"$error":"#N/A"}}]
[null,null,null,null,null,null,null,null,null,null,null,null,null,null,null,null,null,null,null,null,null,null,null,null,null,null,null,null,null,null,null,null,null,null,null,null,null,null,null,null,null,null,null,null,null,null,null,null,null,null,null,null,null,{"$f":"VLOOKUP($W253,Reference!$AL$4:$AL$322,1,FALSE)","v":{"$error":"#N/A"}},{"$f":"VLOOKUP($N253,Reference!$J$47:$K$64,2,FALSE)","v":{"$error":"#N/A"}},null,{"$f":"VLOOKUP($W253,Reference!$AL$4:$AO$322,4,FALSE)","v":{"$error":"#N/A"}}]
[null,null,null,null,null,null,null,null,null,null,null,null,null,null,null,null,null,null,null,null,null,null,null,null,null,null,null,null,null,null,null,null,null,null,null,null,null,null,null,null,null,null,null,null,null,null,null,null,null,null,null,null,null,{"$f":"VLOOKUP($W254,Reference!$AL$4:$AL$322,1,FALSE)","v":{"$error":"#N/A"}},{"$f":"VLOOKUP($N254,Reference!$J$47:$K$64,2,FALSE)","v":{"$error":"#N/A"}},null,{"$f":"VLOOKUP($W254,Reference!$AL$4:$AO$322,4,FALSE)","v":{"$error":"#N/A"}}]
[null,null,null,null,null,null,null,null,null,null,null,null,null,null,null,null,null,null,null,null,null,null,null,null,null,null,null,null,null,null,null,null,null,null,null,null,null,null,null,null,null,null,null,null,null,null,null,null,null,null,null,null,null,{"$f":"VLOOKUP($W255,Reference!$AL$4:$AL$322,1,FALSE)","v":{"$error":"#N/A"}},{"$f":"VLOOKUP($N255,Reference!$J$47:$K$64,2,FALSE)","v":{"$error":"#N/A"}},null,{"$f":"VLOOKUP($W255,Reference!$AL$4:$AO$322,4,FALSE)","v":{"$error":"#N/A"}}]
[null,null,null,null,null,null,null,null,null,null,null,null,null,null,null,null,null,null,null,null,null,null,null,null,null,null,null,null,null,null,null,null,null,null,null,null,null,null,null,null,null,null,null,null,null,null,null,null,null,null,null,null,null,{"$f":"VLOOKUP($W256,Reference!$AL$4:$AL$322,1,FALSE)","v":{"$error":"#N/A"}},{"$f":"VLOOKUP($N256,Reference!$J$47:$K$64,2,FALSE)","v":{"$error":"#N/A"}},null,{"$f":"VLOOKUP($W256,Reference!$AL$4:$AO$322,4,FALSE)","v":{"$error":"#N/A"}}]
[null,null,null,null,null,null,null,null,null,null,null,null,null,null,null,null,null,null,null,null,null,null,null,null,null,null,null,null,null,null,null,null,null,null,null,null,null,null,null,null,null,null,null,null,null,null,null,null,null,null,null,null,null,{"$f":"VLOOKUP($W257,Reference!$AL$4:$AL$322,1,FALSE)","v":{"$error":"#N/A"}},{"$f":"VLOOKUP($N257,Reference!$J$47:$K$64,2,FALSE)","v":{"$error":"#N/A"}},null,{"$f":"VLOOKUP($W257,Reference!$AL$4:$AO$322,4,FALSE)","v":{"$error":"#N/A"}}]
[null,null,null,null,null,null,null,null,null,null,null,null,null,null,null,null,null,null,null,null,null,null,null,null,null,null,null,null,null,null,null,null,null,null,null,null,null,null,null,null,null,null,null,null,null,null,null,null,null,null,null,null,null,{"$f":"VLOOKUP($W258,Reference!$AL$4:$AL$322,1,FALSE)","v":{"$error":"#N/A"}},{"$f":"VLOOKUP($N258,Reference!$J$47:$K$64,2,FALSE)","v":{"$error":"#N/A"}},null,{"$f":"VLOOKUP($W258,Reference!$AL$4:$AO$322,4,FALSE)","v":{"$error":"#N/A"}}]
[null,null,null,null,null,null,null,null,null,null,null,null,null,null,null,null,null,null,null,null,null,null,null,null,null,null,null,null,null,null,null,null,null,null,null,null,null,null,null,null,null,null,null,null,null,null,null,null,null,null,null,null,null,{"$f":"VLOOKUP($W259,Reference!$AL$4:$AL$322,1,FALSE)","v":{"$error":"#N/A"}},{"$f":"VLOOKUP($N259,Reference!$J$47:$K$64,2,FALSE)","v":{"$error":"#N/A"}},null,{"$f":"VLOOKUP($W259,Reference!$AL$4:$AO$322,4,FALSE)","v":{"$error":"#N/A"}}]
[null,null,null,null,null,null,null,null,null,null,null,null,null,null,null,null,null,null,null,null,null,null,null,null,null,null,null,null,null,null,null,null,null,null,null,null,null,null,null,null,null,null,null,null,null,null,null,null,null,null,null,null,null,{"$f":"VLOOKUP($W260,Reference!$AL$4:$AL$322,1,FALSE)","v":{"$error":"#N/A"}},{"$f":"VLOOKUP($N260,Reference!$J$47:$K$64,2,FALSE)","v":{"$error":"#N/A"}},null,{"$f":"VLOOKUP($W260,Reference!$AL$4:$AO$322,4,FALSE)","v":{"$error":"#N/A"}}]
[null,null,null,null,null,null,null,null,null,null,null,null,null,null,null,null,null,null,null,null,null,null,null,null,null,null,null,null,null,null,null,null,null,null,null,null,null,null,null,null,null,null,null,null,null,null,null,null,null,null,null,null,null,{"$f":"VLOOKUP($W261,Reference!$AL$4:$AL$322,1,FALSE)","v":{"$error":"#N/A"}},{"$f":"VLOOKUP($N261,Reference!$J$47:$K$64,2,FALSE)","v":{"$error":"#N/A"}},null,{"$f":"VLOOKUP($W261,Reference!$AL$4:$AO$322,4,FALSE)","v":{"$error":"#N/A"}}]
[null,null,null,null,null,null,null,null,null,null,null,null,null,null,null,null,null,null,null,null,null,null,null,null,null,null,null,null,null,null,null,null,null,null,null,null,null,null,null,null,null,null,null,null,null,null,null,null,null,null,null,null,null,{"$f":"VLOOKUP($W262,Reference!$AL$4:$AL$322,1,FALSE)","v":{"$error":"#N/A"}},{"$f":"VLOOKUP($N262,Reference!$J$47:$K$64,2,FALSE)","v":{"$error":"#N/A"}},null,{"$f":"VLOOKUP($W262,Reference!$AL$4:$AO$322,4,FALSE)","v":{"$error":"#N/A"}}]
[null,null,null,null,null,null,null,null,null,null,null,null,null,null,null,null,null,null,null,null,null,null,null,null,null,null,null,null,null,null,null,null,null,null,null,null,null,null,null,null,null,null,null,null,null,null,null,null,null,null,null,null,null,{"$f":"VLOOKUP($W263,Reference!$AL$4:$AL$322,1,FALSE)","v":{"$error":"#N/A"}},{"$f":"VLOOKUP($N263,Reference!$J$47:$K$64,2,FALSE)","v":{"$error":"#N/A"}},null,{"$f":"VLOOKUP($W263,Reference!$AL$4:$AO$322,4,FALSE)","v":{"$error":"#N/A"}}]
[null,null,null,null,null,null,null,null,null,null,null,null,null,null,null,null,null,null,null,null,null,null,null,null,null,null,null,null,null,null,null,null,null,null,null,null,null,null,null,null,null,null,null,null,null,null,null,null,null,null,null,null,null,{"$f":"VLOOKUP($W264,Reference!$AL$4:$AL$322,1,FALSE)","v":{"$error":"#N/A"}},{"$f":"VLOOKUP($N264,Reference!$J$47:$K$64,2,FALSE)","v":{"$error":"#N/A"}},null,{"$f":"VLOOKUP($W264,Reference!$AL$4:$AO$322,4,FALSE)","v":{"$error":"#N/A"}}]
[null,null,null,null,null,null,null,null,null,null,null,null,null,null,null,null,null,null,null,null,null,null,null,null,null,null,null,null,null,null,null,null,null,null,null,null,null,null,null,null,null,null,null,null,null,null,null,null,null,null,null,null,null,{"$f":"VLOOKUP($W265,Reference!$AL$4:$AL$322,1,FALSE)","v":{"$error":"#N/A"}},{"$f":"VLOOKUP($N265,Reference!$J$47:$K$64,2,FALSE)","v":{"$error":"#N/A"}},null,{"$f":"VLOOKUP($W265,Reference!$AL$4:$AO$322,4,FALSE)","v":{"$error":"#N/A"}}]
[null,null,null,null,null,null,null,null,null,null,null,null,null,null,null,null,null,null,null,null,null,null,null,null,null,null,null,null,null,null,null,null,null,null,null,null,null,null,null,null,null,null,null,null,null,null,null,null,null,null,null,null,null,{"$f":"VLOOKUP($W266,Reference!$AL$4:$AL$322,1,FALSE)","v":{"$error":"#N/A"}},{"$f":"VLOOKUP($N266,Reference!$J$47:$K$64,2,FALSE)","v":{"$error":"#N/A"}},null,{"$f":"VLOOKUP($W266,Reference!$AL$4:$AO$322,4,FALSE)","v":{"$error":"#N/A"}}]
[null,null,null,null,null,null,null,null,null,null,null,null,null,null,null,null,null,null,null,null,null,null,null,null,null,null,null,null,null,null,null,null,null,null,null,null,null,null,null,null,null,null,null,null,null,null,null,null,null,null,null,null,null,{"$f":"VLOOKUP($W267,Reference!$AL$4:$AL$322,1,FALSE)","v":{"$error":"#N/A"}},{"$f":"VLOOKUP($N267,Reference!$J$47:$K$64,2,FALSE)","v":{"$error":"#N/A"}},null,{"$f":"VLOOKUP($W267,Reference!$AL$4:$AO$322,4,FALSE)","v":{"$error":"#N/A"}}]
[null,null,null,null,null,null,null,null,null,null,null,null,null,null,null,null,null,null,null,null,null,null,null,null,null,null,null,null,null,null,null,null,null,null,null,null,null,null,null,null,null,null,null,null,null,null,null,null,null,null,null,null,null,{"$f":"VLOOKUP($W268,Reference!$AL$4:$AL$322,1,FALSE)","v":{"$error":"#N/A"}},{"$f":"VLOOKUP($N268,Reference!$J$47:$K$64,2,FALSE)","v":{"$error":"#N/A"}},null,{"$f":"VLOOKUP($W268,Reference!$AL$4:$AO$322,4,FALSE)","v":{"$error":"#N/A"}}]
[null,null,null,null,null,null,null,null,null,null,null,null,null,null,null,null,null,null,null,null,null,null,null,null,null,null,null,null,null,null,null,null,null,null,null,null,null,null,null,null,null,null,null,null,null,null,null,null,null,null,null,null,null,{"$f":"VLOOKUP($W269,Reference!$AL$4:$AL$322,1,FALSE)","v":{"$error":"#N/A"}},{"$f":"VLOOKUP($N269,Reference!$J$47:$K$64,2,FALSE)","v":{"$error":"#N/A"}},null,{"$f":"VLOOKUP($W269,Reference!$AL$4:$AO$322,4,FALSE)","v":{"$error":"#N/A"}}]
[null,null,null,null,null,null,null,null,null,null,null,null,null,null,null,null,null,null,null,null,null,null,null,null,null,null,null,null,null,null,null,null,null,null,null,null,null,null,null,null,null,null,null,null,null,null,null,null,null,null,null,null,null,{"$f":"VLOOKUP($W270,Reference!$AL$4:$AL$322,1,FALSE)","v":{"$error":"#N/A"}},{"$f":"VLOOKUP($N270,Reference!$J$47:$K$64,2,FALSE)","v":{"$error":"#N/A"}},null,{"$f":"VLOOKUP($W270,Reference!$AL$4:$AO$322,4,FALSE)","v":{"$error":"#N/A"}}]
[null,null,null,null,null,null,null,null,null,null,null,null,null,null,null,null,null,null,null,null,null,null,null,null,null,null,null,null,null,null,null,null,null,null,null,null,null,null,null,null,null,null,null,null,null,null,null,null,null,null,null,null,null,{"$f":"VLOOKUP($W271,Reference!$AL$4:$AL$322,1,FALSE)","v":{"$error":"#N/A"}},{"$f":"VLOOKUP($N271,Reference!$J$47:$K$64,2,FALSE)","v":{"$error":"#N/A"}},null,{"$f":"VLOOKUP($W271,Reference!$AL$4:$AO$322,4,FALSE)","v":{"$error":"#N/A"}}]
[null,null,null,null,null,null,null,null,null,null,null,null,null,null,null,null,null,null,null,null,null,null,null,null,null,null,null,null,null,null,null,null,null,null,null,null,null,null,null,null,null,null,null,null,null,null,null,null,null,null,null,null,null,{"$f":"VLOOKUP($W272,Reference!$AL$4:$AL$322,1,FALSE)","v":{"$error":"#N/A"}},{"$f":"VLOOKUP($N272,Reference!$J$47:$K$64,2,FALSE)","v":{"$error":"#N/A"}},null,{"$f":"VLOOKUP($W272,Reference!$AL$4:$AO$322,4,FALSE)","v":{"$error":"#N/A"}}]
[null,null,null,null,null,null,null,null,null,null,null,null,null,null,null,null,null,null,null,null,null,null,null,null,null,null,null,null,null,null,null,null,null,null,null,null,null,null,null,null,null,null,null,null,null,null,null,null,null,null,null,null,null,{"$f":"VLOOKUP($W273,Reference!$AL$4:$AL$322,1,FALSE)","v":{"$error":"#N/A"}},{"$f":"VLOOKUP($N273,Reference!$J$47:$K$64,2,FALSE)","v":{"$error":"#N/A"}},null,{"$f":"VLOOKUP($W273,Reference!$AL$4:$AO$322,4,FALSE)","v":{"$error":"#N/A"}}]
[null,null,null,null,null,null,null,null,null,null,null,null,null,null,null,null,null,null,null,null,null,null,null,null,null,null,null,null,null,null,null,null,null,null,null,null,null,null,null,null,null,null,null,null,null,null,null,null,null,null,null,null,null,{"$f":"VLOOKUP($W274,Reference!$AL$4:$AL$322,1,FALSE)","v":{"$error":"#N/A"}},{"$f":"VLOOKUP($N274,Reference!$J$47:$K$64,2,FALSE)","v":{"$error":"#N/A"}},null,{"$f":"VLOOKUP($W274,Reference!$AL$4:$AO$322,4,FALSE)","v":{"$error":"#N/A"}}]
[null,null,null,null,null,null,null,null,null,null,null,null,null,null,null,null,null,null,null,null,null,null,null,null,null,null,null,null,null,null,null,null,null,null,null,null,null,null,null,null,null,null,null,null,null,null,null,null,null,null,null,null,null,{"$f":"VLOOKUP($W275,Reference!$AL$4:$AL$322,1,FALSE)","v":{"$error":"#N/A"}},{"$f":"VLOOKUP($N275,Reference!$J$47:$K$64,2,FALSE)","v":{"$error":"#N/A"}},null,{"$f":"VLOOKUP($W275,Reference!$AL$4:$AO$322,4,FALSE)","v":{"$error":"#N/A"}}]
[null,null,null,null,null,null,null,null,null,null,null,null,null,null,null,null,null,null,null,null,null,null,null,null,null,null,null,null,null,null,null,null,null,null,null,null,null,null,null,null,null,null,null,null,null,null,null,null,null,null,null,null,null,{"$f":"VLOOKUP($W276,Reference!$AL$4:$AL$322,1,FALSE)","v":{"$error":"#N/A"}},{"$f":"VLOOKUP($N276,Reference!$J$47:$K$64,2,FALSE)","v":{"$error":"#N/A"}},null,{"$f":"VLOOKUP($W276,Reference!$AL$4:$AO$322,4,FALSE)","v":{"$error":"#N/A"}}]
[null,null,null,null,null,null,null,null,null,null,null,null,null,null,null,null,null,null,null,null,null,null,null,null,null,null,null,null,null,null,null,null,null,null,null,null,null,null,null,null,null,null,null,null,null,null,null,null,null,null,null,null,null,{"$f":"VLOOKUP($W277,Reference!$AL$4:$AL$322,1,FALSE)","v":{"$error":"#N/A"}},{"$f":"VLOOKUP($N277,Reference!$J$47:$K$64,2,FALSE)","v":{"$error":"#N/A"}},null,{"$f":"VLOOKUP($W277,Reference!$AL$4:$AO$322,4,FALSE)","v":{"$error":"#N/A"}}]
[null,null,null,null,null,null,null,null,null,null,null,null,null,null,null,null,null,null,null,null,null,null,null,null,null,null,null,null,null,null,null,null,null,null,null,null,null,null,null,null,null,null,null,null,null,null,null,null,null,null,null,null,null,{"$f":"VLOOKUP($W278,Reference!$AL$4:$AL$322,1,FALSE)","v":{"$error":"#N/A"}},{"$f":"VLOOKUP($N278,Reference!$J$47:$K$64,2,FALSE)","v":{"$error":"#N/A"}},null,{"$f":"VLOOKUP($W278,Reference!$AL$4:$AO$322,4,FALSE)","v":{"$error":"#N/A"}}]
[null,null,null,null,null,null,null,null,null,null,null,null,null,null,null,null,null,null,null,null,null,null,null,null,null,null,null,null,null,null,null,null,null,null,null,null,null,null,null,null,null,null,null,null,null,null,null,null,null,null,null,null,null,{"$f":"VLOOKUP($W279,Reference!$AL$4:$AL$322,1,FALSE)","v":{"$error":"#N/A"}},{"$f":"VLOOKUP($N279,Reference!$J$47:$K$64,2,FALSE)","v":{"$error":"#N/A"}},null,{"$f":"VLOOKUP($W279,Reference!$AL$4:$AO$322,4,FALSE)","v":{"$error":"#N/A"}}]
[null,null,null,null,null,null,null,null,null,null,null,null,null,null,null,null,null,null,null,null,null,null,null,null,null,null,null,null,null,null,null,null,null,null,null,null,null,null,null,null,null,null,null,null,null,null,null,null,null,null,null,null,null,{"$f":"VLOOKUP($W280,Reference!$AL$4:$AL$322,1,FALSE)","v":{"$error":"#N/A"}},{"$f":"VLOOKUP($N280,Reference!$J$47:$K$64,2,FALSE)","v":{"$error":"#N/A"}},null,{"$f":"VLOOKUP($W280,Reference!$AL$4:$AO$322,4,FALSE)","v":{"$error":"#N/A"}}]
[null,null,null,null,null,null,null,null,null,null,null,null,null,null,null,null,null,null,null,null,null,null,null,null,null,null,null,null,null,null,null,null,null,null,null,null,null,null,null,null,null,null,null,null,null,null,null,null,null,null,null,null,null,{"$f":"VLOOKUP($W281,Reference!$AL$4:$AL$322,1,FALSE)","v":{"$error":"#N/A"}},{"$f":"VLOOKUP($N281,Reference!$J$47:$K$64,2,FALSE)","v":{"$error":"#N/A"}},null,{"$f":"VLOOKUP($W281,Reference!$AL$4:$AO$322,4,FALSE)","v":{"$error":"#N/A"}}]
[null,null,null,null,null,null,null,null,null,null,null,null,null,null,null,null,null,null,null,null,null,null,null,null,null,null,null,null,null,null,null,null,null,null,null,null,null,null,null,null,null,null,null,null,null,null,null,null,null,null,null,null,null,{"$f":"VLOOKUP($W282,Reference!$AL$4:$AL$322,1,FALSE)","v":{"$error":"#N/A"}},{"$f":"VLOOKUP($N282,Reference!$J$47:$K$64,2,FALSE)","v":{"$error":"#N/A"}},null,{"$f":"VLOOKUP($W282,Reference!$AL$4:$AO$322,4,FALSE)","v":{"$error":"#N/A"}}]
[null,null,null,null,null,null,null,null,null,null,null,null,null,null,null,null,null,null,null,null,null,null,null,null,null,null,null,null,null,null,null,null,null,null,null,null,null,null,null,null,null,null,null,null,null,null,null,null,null,null,null,null,null,{"$f":"VLOOKUP($W283,Reference!$AL$4:$AL$322,1,FALSE)","v":{"$error":"#N/A"}},{"$f":"VLOOKUP($N283,Reference!$J$47:$K$64,2,FALSE)","v":{"$error":"#N/A"}},null,{"$f":"VLOOKUP($W283,Reference!$AL$4:$AO$322,4,FALSE)","v":{"$error":"#N/A"}}]
[null,null,null,null,null,null,null,null,null,null,null,null,null,null,null,null,null,null,null,null,null,null,null,null,null,null,null,null,null,null,null,null,null,null,null,null,null,null,null,null,null,null,null,null,null,null,null,null,null,null,null,null,null,{"$f":"VLOOKUP($W284,Reference!$AL$4:$AL$322,1,FALSE)","v":{"$error":"#N/A"}},{"$f":"VLOOKUP($N284,Reference!$J$47:$K$64,2,FALSE)","v":{"$error":"#N/A"}},null,{"$f":"VLOOKUP($W284,Reference!$AL$4:$AO$322,4,FALSE)","v":{"$error":"#N/A"}}]
[null,null,null,null,null,null,null,null,null,null,null,null,null,null,null,null,null,null,null,null,null,null,null,null,null,null,null,null,null,null,null,null,null,null,null,null,null,null,null,null,null,null,null,null,null,null,null,null,null,null,null,null,null,{"$f":"VLOOKUP($W285,Reference!$AL$4:$AL$322,1,FALSE)","v":{"$error":"#N/A"}},{"$f":"VLOOKUP($N285,Reference!$J$47:$K$64,2,FALSE)","v":{"$error":"#N/A"}},null,{"$f":"VLOOKUP($W285,Reference!$AL$4:$AO$322,4,FALSE)","v":{"$error":"#N/A"}}]
[null,null,null,null,null,null,null,null,null,null,null,null,null,null,null,null,null,null,null,null,null,null,null,null,null,null,null,null,null,null,null,null,null,null,null,null,null,null,null,null,null,null,null,null,null,null,null,null,null,null,null,null,null,{"$f":"VLOOKUP($W286,Reference!$AL$4:$AL$322,1,FALSE)","v":{"$error":"#N/A"}},{"$f":"VLOOKUP($N286,Reference!$J$47:$K$64,2,FALSE)","v":{"$error":"#N/A"}},null,{"$f":"VLOOKUP($W286,Reference!$AL$4:$AO$322,4,FALSE)","v":{"$error":"#N/A"}}]
[null,null,null,null,null,null,null,null,null,null,null,null,null,null,null,null,null,null,null,null,null,null,null,null,null,null,null,null,null,null,null,null,null,null,null,null,null,null,null,null,null,null,null,null,null,null,null,null,null,null,null,null,null,{"$f":"VLOOKUP($W287,Reference!$AL$4:$AL$322,1,FALSE)","v":{"$error":"#N/A"}},{"$f":"VLOOKUP($N287,Reference!$J$47:$K$64,2,FALSE)","v":{"$error":"#N/A"}},null,{"$f":"VLOOKUP($W287,Reference!$AL$4:$AO$322,4,FALSE)","v":{"$error":"#N/A"}}]
[null,null,null,null,null,null,null,null,null,null,null,null,null,null,null,null,null,null,null,null,null,null,null,null,null,null,null,null,null,null,null,null,null,null,null,null,null,null,null,null,null,null,null,null,null,null,null,null,null,null,null,null,null,{"$f":"VLOOKUP($W288,Reference!$AL$4:$AL$322,1,FALSE)","v":{"$error":"#N/A"}},{"$f":"VLOOKUP($N288,Reference!$J$47:$K$64,2,FALSE)","v":{"$error":"#N/A"}},null,{"$f":"VLOOKUP($W288,Reference!$AL$4:$AO$322,4,FALSE)","v":{"$error":"#N/A"}}]
[null,null,null,null,null,null,null,null,null,null,null,null,null,null,null,null,null,null,null,null,null,null,null,null,null,null,null,null,null,null,null,null,null,null,null,null,null,null,null,null,null,null,null,null,null,null,null,null,null,null,null,null,null,{"$f":"VLOOKUP($W289,Reference!$AL$4:$AL$322,1,FALSE)","v":{"$error":"#N/A"}},{"$f":"VLOOKUP($N289,Reference!$J$47:$K$64,2,FALSE)","v":{"$error":"#N/A"}},null,{"$f":"VLOOKUP($W289,Reference!$AL$4:$AO$322,4,FALSE)","v":{"$error":"#N/A"}}]
[null,null,null,null,null,null,null,null,null,null,null,null,null,null,null,null,null,null,null,null,null,null,null,null,null,null,null,null,null,null,null,null,null,null,null,null,null,null,null,null,null,null,null,null,null,null,null,null,null,null,null,null,null,{"$f":"VLOOKUP($W290,Reference!$AL$4:$AL$322,1,FALSE)","v":{"$error":"#N/A"}},{"$f":"VLOOKUP($N290,Reference!$J$47:$K$64,2,FALSE)","v":{"$error":"#N/A"}},null,{"$f":"VLOOKUP($W290,Reference!$AL$4:$AO$322,4,FALSE)","v":{"$error":"#N/A"}}]
[null,null,null,null,null,null,null,null,null,null,null,null,null,null,null,null,null,null,null,null,null,null,null,null,null,null,null,null,null,null,null,null,null,null,null,null,null,null,null,null,null,null,null,null,null,null,null,null,null,null,null,null,null,{"$f":"VLOOKUP($W291,Reference!$AL$4:$AL$322,1,FALSE)","v":{"$error":"#N/A"}},{"$f":"VLOOKUP($N291,Reference!$J$47:$K$64,2,FALSE)","v":{"$error":"#N/A"}},null,{"$f":"VLOOKUP($W291,Reference!$AL$4:$AO$322,4,FALSE)","v":{"$error":"#N/A"}}]
[null,null,null,null,null,null,null,null,null,null,null,null,null,null,null,null,null,null,null,null,null,null,null,null,null,null,null,null,null,null,null,null,null,null,null,null,null,null,null,null,null,null,null,null,null,null,null,null,null,null,null,null,null,{"$f":"VLOOKUP($W292,Reference!$AL$4:$AL$322,1,FALSE)","v":{"$error":"#N/A"}},{"$f":"VLOOKUP($N292,Reference!$J$47:$K$64,2,FALSE)","v":{"$error":"#N/A"}},null,{"$f":"VLOOKUP($W292,Reference!$AL$4:$AO$322,4,FALSE)","v":{"$error":"#N/A"}}]
[null,null,null,null,null,null,null,null,null,null,null,null,null,null,null,null,null,null,null,null,null,null,null,null,null,null,null,null,null,null,null,null,null,null,null,null,null,null,null,null,null,null,null,null,null,null,null,null,null,null,null,null,null,{"$f":"VLOOKUP($W293,Reference!$AL$4:$AL$322,1,FALSE)","v":{"$error":"#N/A"}},{"$f":"VLOOKUP($N293,Reference!$J$47:$K$64,2,FALSE)","v":{"$error":"#N/A"}},null,{"$f":"VLOOKUP($W293,Reference!$AL$4:$AO$322,4,FALSE)","v":{"$error":"#N/A"}}]
[null,null,null,null,null,null,null,null,null,null,null,null,null,null,null,null,null,null,null,null,null,null,null,null,null,null,null,null,null,null,null,null,null,null,null,null,null,null,null,null,null,null,null,null,null,null,null,null,null,null,null,null,null,{"$f":"VLOOKUP($W294,Reference!$AL$4:$AL$322,1,FALSE)","v":{"$error":"#N/A"}},{"$f":"VLOOKUP($N294,Reference!$J$47:$K$64,2,FALSE)","v":{"$error":"#N/A"}},null,{"$f":"VLOOKUP($W294,Reference!$AL$4:$AO$322,4,FALSE)","v":{"$error":"#N/A"}}]
[null,null,null,null,null,null,null,null,null,null,null,null,null,null,null,null,null,null,null,null,null,null,null,null,null,null,null,null,null,null,null,null,null,null,null,null,null,null,null,null,null,null,null,null,null,null,null,null,null,null,null,null,null,{"$f":"VLOOKUP($W295,Reference!$AL$4:$AL$322,1,FALSE)","v":{"$error":"#N/A"}},{"$f":"VLOOKUP($N295,Reference!$J$47:$K$64,2,FALSE)","v":{"$error":"#N/A"}},null,{"$f":"VLOOKUP($W295,Reference!$AL$4:$AO$322,4,FALSE)","v":{"$error":"#N/A"}}]
[null,null,null,null,null,null,null,null,null,null,null,null,null,null,null,null,null,null,null,null,null,null,null,null,null,null,null,null,null,null,null,null,null,null,null,null,null,null,null,null,null,null,null,null,null,null,null,null,null,null,null,null,null,{"$f":"VLOOKUP($W296,Reference!$AL$4:$AL$322,1,FALSE)","v":{"$error":"#N/A"}},{"$f":"VLOOKUP($N296,Reference!$J$47:$K$64,2,FALSE)","v":{"$error":"#N/A"}},null,{"$f":"VLOOKUP($W296,Reference!$AL$4:$AO$322,4,FALSE)","v":{"$error":"#N/A"}}]
[null,null,null,null,null,null,null,null,null,null,null,null,null,null,null,null,null,null,null,null,null,null,null,null,null,null,null,null,null,null,null,null,null,null,null,null,null,null,null,null,null,null,null,null,null,null,null,null,null,null,null,null,null,{"$f":"VLOOKUP($W297,Reference!$AL$4:$AL$322,1,FALSE)","v":{"$error":"#N/A"}},{"$f":"VLOOKUP($N297,Reference!$J$47:$K$64,2,FALSE)","v":{"$error":"#N/A"}},null,{"$f":"VLOOKUP($W297,Reference!$AL$4:$AO$322,4,FALSE)","v":{"$error":"#N/A"}}]
[null,null,null,null,null,null,null,null,null,null,null,null,null,null,null,null,null,null,null,null,null,null,null,null,null,null,null,null,null,null,null,null,null,null,null,null,null,null,null,null,null,null,null,null,null,null,null,null,null,null,null,null,null,{"$f":"VLOOKUP($W298,Reference!$AL$4:$AL$322,1,FALSE)","v":{"$error":"#N/A"}},{"$f":"VLOOKUP($N298,Reference!$J$47:$K$64,2,FALSE)","v":{"$error":"#N/A"}},null,{"$f":"VLOOKUP($W298,Reference!$AL$4:$AO$322,4,FALSE)","v":{"$error":"#N/A"}}]
[null,null,null,null,null,null,null,null,null,null,null,null,null,null,null,null,null,null,null,null,null,null,null,null,null,null,null,null,null,null,null,null,null,null,null,null,null,null,null,null,null,null,null,null,null,null,null,null,null,null,null,null,null,{"$f":"VLOOKUP($W299,Reference!$AL$4:$AL$322,1,FALSE)","v":{"$error":"#N/A"}},{"$f":"VLOOKUP($N299,Reference!$J$47:$K$64,2,FALSE)","v":{"$error":"#N/A"}},null,{"$f":"VLOOKUP($W299,Reference!$AL$4:$AO$322,4,FALSE)","v":{"$error":"#N/A"}}]
[null,null,null,null,null,null,null,null,null,null,null,null,null,null,null,null,null,null,null,null,null,null,null,null,null,null,null,null,null,null,null,null,null,null,null,null,null,null,null,null,null,null,null,null,null,null,null,null,null,null,null,null,null,{"$f":"VLOOKUP($W300,Reference!$AL$4:$AL$322,1,FALSE)","v":{"$error":"#N/A"}},{"$f":"VLOOKUP($N300,Reference!$J$47:$K$64,2,FALSE)","v":{"$error":"#N/A"}},null,{"$f":"VLOOKUP($W300,Reference!$AL$4:$AO$322,4,FALSE)","v":{"$error":"#N/A"}}]
[null,null,null,null,null,null,null,null,null,null,null,null,null,null,null,null,null,null,null,null,null,null,null,null,null,null,null,null,null,null,null,null,null,null,null,null,null,null,null,null,null,null,null,null,null,null,null,null,null,null,null,null,null,{"$f":"VLOOKUP($W301,Reference!$AL$4:$AL$322,1,FALSE)","v":{"$error":"#N/A"}},{"$f":"VLOOKUP($N301,Reference!$J$47:$K$64,2,FALSE)","v":{"$error":"#N/A"}},null,{"$f":"VLOOKUP($W301,Reference!$AL$4:$AO$322,4,FALSE)","v":{"$error":"#N/A"}}]
[null,null,null,null,null,null,null,null,null,null,null,null,null,null,null,null,null,null,null,null,null,null,null,null,null,null,null,null,null,null,null,null,null,null,null,null,null,null,null,null,null,null,null,null,null,null,null,null,null,null,null,null,null,{"$f":"VLOOKUP($W302,Reference!$AL$4:$AL$322,1,FALSE)","v":{"$error":"#N/A"}},{"$f":"VLOOKUP($N302,Reference!$J$47:$K$64,2,FALSE)","v":{"$error":"#N/A"}},null,{"$f":"VLOOKUP($W302,Reference!$AL$4:$AO$322,4,FALSE)","v":{"$error":"#N/A"}}]
[null,null,null,null,null,null,null,null,null,null,null,null,null,null,null,null,null,null,null,null,null,null,null,null,null,null,null,null,null,null,null,null,null,null,null,null,null,null,null,null,null,null,null,null,null,null,null,null,null,null,null,null,null,{"$f":"VLOOKUP($W303,Reference!$AL$4:$AL$322,1,FALSE)","v":{"$error":"#N/A"}},{"$f":"VLOOKUP($N303,Reference!$J$47:$K$64,2,FALSE)","v":{"$error":"#N/A"}},null,{"$f":"VLOOKUP($W303,Reference!$AL$4:$AO$322,4,FALSE)","v":{"$error":"#N/A"}}]
[null,null,null,null,null,null,null,null,null,null,null,null,null,null,null,null,null,null,null,null,null,null,null,null,null,null,null,null,null,null,null,null,null,null,null,null,null,null,null,null,null,null,null,null,null,null,null,null,null,null,null,null,null,{"$f":"VLOOKUP($W304,Reference!$AL$4:$AL$322,1,FALSE)","v":{"$error":"#N/A"}},{"$f":"VLOOKUP($N304,Reference!$J$47:$K$64,2,FALSE)","v":{"$error":"#N/A"}},null,{"$f":"VLOOKUP($W304,Reference!$AL$4:$AO$322,4,FALSE)","v":{"$error":"#N/A"}}]
[null,null,null,null,null,null,null,null,null,null,null,null,null,null,null,null,null,null,null,null,null,null,null,null,null,null,null,null,null,null,null,null,null,null,null,null,null,null,null,null,null,null,null,null,null,null,null,null,null,null,null,null,null,{"$f":"VLOOKUP($W305,Reference!$AL$4:$AL$322,1,FALSE)","v":{"$error":"#N/A"}},{"$f":"VLOOKUP($N305,Reference!$J$47:$K$64,2,FALSE)","v":{"$error":"#N/A"}},null,{"$f":"VLOOKUP($W305,Reference!$AL$4:$AO$322,4,FALSE)","v":{"$error":"#N/A"}}]
[null,null,null,null,null,null,null,null,null,null,null,null,null,null,null,null,null,null,null,null,null,null,null,null,null,null,null,null,null,null,null,null,null,null,null,null,null,null,null,null,null,null,null,null,null,null,null,null,null,null,null,null,null,{"$f":"VLOOKUP($W306,Reference!$AL$4:$AL$322,1,FALSE)","v":{"$error":"#N/A"}},{"$f":"VLOOKUP($N306,Reference!$J$47:$K$64,2,FALSE)","v":{"$error":"#N/A"}},null,{"$f":"VLOOKUP($W306,Reference!$AL$4:$AO$322,4,FALSE)","v":{"$error":"#N/A"}}]
[null,null,null,null,null,null,null,null,null,null,null,null,null,null,null,null,null,null,null,null,null,null,null,null,null,null,null,null,null,null,null,null,null,null,null,null,null,null,null,null,null,null,null,null,null,null,null,null,null,null,null,null,null,{"$f":"VLOOKUP($W307,Reference!$AL$4:$AL$322,1,FALSE)","v":{"$error":"#N/A"}},{"$f":"VLOOKUP($N307,Reference!$J$47:$K$64,2,FALSE)","v":{"$error":"#N/A"}},null,{"$f":"VLOOKUP($W307,Reference!$AL$4:$AO$322,4,FALSE)","v":{"$error":"#N/A"}}]
[null,null,null,null,null,null,null,null,null,null,null,null,null,null,null,null,null,null,null,null,null,null,null,null,null,null,null,null,null,null,null,null,null,null,null,null,null,null,null,null,null,null,null,null,null,null,null,null,null,null,null,null,null,{"$f":"VLOOKUP($W308,Reference!$AL$4:$AL$322,1,FALSE)","v":{"$error":"#N/A"}},{"$f":"VLOOKUP($N308,Reference!$J$47:$K$64,2,FALSE)","v":{"$error":"#N/A"}},null,{"$f":"VLOOKUP($W308,Reference!$AL$4:$AO$322,4,FALSE)","v":{"$error":"#N/A"}}]
[null,null,null,null,null,null,null,null,null,null,null,null,null,null,null,null,null,null,null,null,null,null,null,null,null,null,null,null,null,null,null,null,null,null,null,null,null,null,null,null,null,null,null,null,null,null,null,null,null,null,null,null,null,{"$f":"VLOOKUP($W309,Reference!$AL$4:$AL$322,1,FALSE)","v":{"$error":"#N/A"}},{"$f":"VLOOKUP($N309,Reference!$J$47:$K$64,2,FALSE)","v":{"$error":"#N/A"}},null,{"$f":"VLOOKUP($W309,Reference!$AL$4:$AO$322,4,FALSE)","v":{"$error":"#N/A"}}]
[null,null,null,null,null,null,null,null,null,null,null,null,null,null,null,null,null,null,null,null,null,null,null,null,null,null,null,null,null,null,null,null,null,null,null,null,null,null,null,null,null,null,null,null,null,null,null,null,null,null,null,null,null,{"$f":"VLOOKUP($W310,Reference!$AL$4:$AL$322,1,FALSE)","v":{"$error":"#N/A"}},{"$f":"VLOOKUP($N310,Reference!$J$47:$K$64,2,FALSE)","v":{"$error":"#N/A"}},null,{"$f":"VLOOKUP($W310,Reference!$AL$4:$AO$322,4,FALSE)","v":{"$error":"#N/A"}}]
[null,null,null,null,null,null,null,null,null,null,null,null,null,null,null,null,null,null,null,null,null,null,null,null,null,null,null,null,null,null,null,null,null,null,null,null,null,null,null,null,null,null,null,null,null,null,null,null,null,null,null,null,null,{"$f":"VLOOKUP($W311,Reference!$AL$4:$AL$322,1,FALSE)","v":{"$error":"#N/A"}},{"$f":"VLOOKUP($N311,Reference!$J$47:$K$64,2,FALSE)","v":{"$error":"#N/A"}},null,{"$f":"VLOOKUP($W311,Reference!$AL$4:$AO$322,4,FALSE)","v":{"$error":"#N/A"}}]
[null,null,null,null,null,null,null,null,null,null,null,null,null,null,null,null,null,null,null,null,null,null,null,null,null,null,null,null,null,null,null,null,null,null,null,null,null,null,null,null,null,null,null,null,null,null,null,null,null,null,null,null,null,{"$f":"VLOOKUP($W312,Reference!$AL$4:$AL$322,1,FALSE)","v":{"$error":"#N/A"}},{"$f":"VLOOKUP($N312,Reference!$J$47:$K$64,2,FALSE)","v":{"$error":"#N/A"}},null,{"$f":"VLOOKUP($W312,Reference!$AL$4:$AO$322,4,FALSE)","v":{"$error":"#N/A"}}]
[null,null,null,null,null,null,null,null,null,null,null,null,null,null,null,null,null,null,null,null,null,null,null,null,null,null,null,null,null,null,null,null,null,null,null,null,null,null,null,null,null,null,null,null,null,null,null,null,null,null,null,null,null,{"$f":"VLOOKUP($W313,Reference!$AL$4:$AL$322,1,FALSE)","v":{"$error":"#N/A"}},{"$f":"VLOOKUP($N313,Reference!$J$47:$K$64,2,FALSE)","v":{"$error":"#N/A"}},null,{"$f":"VLOOKUP($W313,Reference!$AL$4:$AO$322,4,FALSE)","v":{"$error":"#N/A"}}]
[null,null,null,null,null,null,null,null,null,null,null,null,null,null,null,null,null,null,null,null,null,null,null,null,null,null,null,null,null,null,null,null,null,null,null,null,null,null,null,null,null,null,null,null,null,null,null,null,null,null,null,null,null,{"$f":"VLOOKUP($W314,Reference!$AL$4:$AL$322,1,FALSE)","v":{"$error":"#N/A"}},{"$f":"VLOOKUP($N314,Reference!$J$47:$K$64,2,FALSE)","v":{"$error":"#N/A"}},null,{"$f":"VLOOKUP($W314,Reference!$AL$4:$AO$322,4,FALSE)","v":{"$error":"#N/A"}}]
[null,null,null,null,null,null,null,null,null,null,null,null,null,null,null,null,null,null,null,null,null,null,null,null,null,null,null,null,null,null,null,null,null,null,null,null,null,null,null,null,null,null,null,null,null,null,null,null,null,null,null,null,null,{"$f":"VLOOKUP($W315,Reference!$AL$4:$AL$322,1,FALSE)","v":{"$error":"#N/A"}},{"$f":"VLOOKUP($N315,Reference!$J$47:$K$64,2,FALSE)","v":{"$error":"#N/A"}},null,{"$f":"VLOOKUP($W315,Reference!$AL$4:$AO$322,4,FALSE)","v":{"$error":"#N/A"}}]
[null,null,null,null,null,null,null,null,null,null,null,null,null,null,null,null,null,null,null,null,null,null,null,null,null,null,null,null,null,null,null,null,null,null,null,null,null,null,null,null,null,null,null,null,null,null,null,null,null,null,null,null,null,{"$f":"VLOOKUP($W316,Reference!$AL$4:$AL$322,1,FALSE)","v":{"$error":"#N/A"}},{"$f":"VLOOKUP($N316,Reference!$J$47:$K$64,2,FALSE)","v":{"$error":"#N/A"}},null,{"$f":"VLOOKUP($W316,Reference!$AL$4:$AO$322,4,FALSE)","v":{"$error":"#N/A"}}]
[null,null,null,null,null,null,null,null,null,null,null,null,null,null,null,null,null,null,null,null,null,null,null,null,null,null,null,null,null,null,null,null,null,null,null,null,null,null,null,null,null,null,null,null,null,null,null,null,null,null,null,null,null,{"$f":"VLOOKUP($W317,Reference!$AL$4:$AL$322,1,FALSE)","v":{"$error":"#N/A"}},{"$f":"VLOOKUP($N317,Reference!$J$47:$K$64,2,FALSE)","v":{"$error":"#N/A"}},null,{"$f":"VLOOKUP($W317,Reference!$AL$4:$AO$322,4,FALSE)","v":{"$error":"#N/A"}}]
[null,null,null,null,null,null,null,null,null,null,null,null,null,null,null,null,null,null,null,null,null,null,null,null,null,null,null,null,null,null,null,null,null,null,null,null,null,null,null,null,null,null,null,null,null,null,null,null,null,null,null,null,null,{"$f":"VLOOKUP($W318,Reference!$AL$4:$AL$322,1,FALSE)","v":{"$error":"#N/A"}},{"$f":"VLOOKUP($N318,Reference!$J$47:$K$64,2,FALSE)","v":{"$error":"#N/A"}},null,{"$f":"VLOOKUP($W318,Reference!$AL$4:$AO$322,4,FALSE)","v":{"$error":"#N/A"}}]
[null,null,null,null,null,null,null,null,null,null,null,null,null,null,null,null,null,null,null,null,null,null,null,null,null,null,null,null,null,null,null,null,null,null,null,null,null,null,null,null,null,null,null,null,null,null,null,null,null,null,null,null,null,{"$f":"VLOOKUP($W319,Reference!$AL$4:$AL$322,1,FALSE)","v":{"$error":"#N/A"}},{"$f":"VLOOKUP($N319,Reference!$J$47:$K$64,2,FALSE)","v":{"$error":"#N/A"}},null,{"$f":"VLOOKUP($W319,Reference!$AL$4:$AO$322,4,FALSE)","v":{"$error":"#N/A"}}]
[null,null,null,null,null,null,null,null,null,null,null,null,null,null,null,null,null,null,null,null,null,null,null,null,null,null,null,null,null,null,null,null,null,null,null,null,null,null,null,null,null,null,null,null,null,null,null,null,null,null,null,null,null,{"$f":"VLOOKUP($W320,Reference!$AL$4:$AL$322,1,FALSE)","v":{"$error":"#N/A"}},{"$f":"VLOOKUP($N320,Reference!$J$47:$K$64,2,FALSE)","v":{"$error":"#N/A"}},null,{"$f":"VLOOKUP($W320,Reference!$AL$4:$AO$322,4,FALSE)","v":{"$error":"#N/A"}}]
[null,null,null,null,null,null,null,null,null,null,null,null,null,null,null,null,null,null,null,null,null,null,null,null,null,null,null,null,null,null,null,null,null,null,null,null,null,null,null,null,null,null,null,null,null,null,null,null,null,null,null,null,null,{"$f":"VLOOKUP($W321,Reference!$AL$4:$AL$322,1,FALSE)","v":{"$error":"#N/A"}},{"$f":"VLOOKUP($N321,Reference!$J$47:$K$64,2,FALSE)","v":{"$error":"#N/A"}},null,{"$f":"VLOOKUP($W321,Reference!$AL$4:$AO$322,4,FALSE)","v":{"$error":"#N/A"}}]
[null,null,null,null,null,null,null,null,null,null,null,null,null,null,null,null,null,null,null,null,null,null,null,null,null,null,null,null,null,null,null,null,null,null,null,null,null,null,null,null,null,null,null,null,null,null,null,null,null,null,null,null,null,{"$f":"VLOOKUP($W322,Reference!$AL$4:$AL$322,1,FALSE)","v":{"$error":"#N/A"}},{"$f":"VLOOKUP($N322,Reference!$J$47:$K$64,2,FALSE)","v":{"$error":"#N/A"}},null,{"$f":"VLOOKUP($W322,Reference!$AL$4:$AO$322,4,FALSE)","v":{"$error":"#N/A"}}]
[null,null,null,null,null,null,null,null,null,null,null,null,null,null,null,null,null,null,null,null,null,null,null,null,null,null,null,null,null,null,null,null,null,null,null,null,null,null,null,null,null,null,null,null,null,null,null,null,null,null,null,null,null,{"$f":"VLOOKUP($W323,Reference!$AL$4:$AL$322,1,FALSE)","v":{"$error":"#N/A"}},{"$f":"VLOOKUP($N323,Reference!$J$47:$K$64,2,FALSE)","v":{"$error":"#N/A"}},null,{"$f":"VLOOKUP($W323,Reference!$AL$4:$AO$322,4,FALSE)","v":{"$error":"#N/A"}}]
[null,null,null,null,null,null,null,null,null,null,null,null,null,null,null,null,null,null,null,null,null,null,null,null,null,null,null,null,null,null,null,null,null,null,null,null,null,null,null,null,null,null,null,null,null,null,null,null,null,null,null,null,null,{"$f":"VLOOKUP($W324,Reference!$AL$4:$AL$322,1,FALSE)","v":{"$error":"#N/A"}},{"$f":"VLOOKUP($N324,Reference!$J$47:$K$64,2,FALSE)","v":{"$error":"#N/A"}},null,{"$f":"VLOOKUP($W324,Reference!$AL$4:$AO$322,4,FALSE)","v":{"$error":"#N/A"}}]
[null,null,null,null,null,null,null,null,null,null,null,null,null,null,null,null,null,null,null,null,null,null,null,null,null,null,null,null,null,null,null,null,null,null,null,null,null,null,null,null,null,null,null,null,null,null,null,null,null,null,null,null,null,{"$f":"VLOOKUP($W325,Reference!$AL$4:$AL$322,1,FALSE)","v":{"$error":"#N/A"}},{"$f":"VLOOKUP($N325,Reference!$J$47:$K$64,2,FALSE)","v":{"$error":"#N/A"}},null,{"$f":"VLOOKUP($W325,Reference!$AL$4:$AO$322,4,FALSE)","v":{"$error":"#N/A"}}]
[null,null,null,null,null,null,null,null,null,null,null,null,null,null,null,null,null,null,null,null,null,null,null,null,null,null,null,null,null,null,null,null,null,null,null,null,null,null,null,null,null,null,null,null,null,null,null,null,null,null,null,null,null,{"$f":"VLOOKUP($W326,Reference!$AL$4:$AL$322,1,FALSE)","v":{"$error":"#N/A"}},{"$f":"VLOOKUP($N326,Reference!$J$47:$K$64,2,FALSE)","v":{"$error":"#N/A"}},null,{"$f":"VLOOKUP($W326,Reference!$AL$4:$AO$322,4,FALSE)","v":{"$error":"#N/A"}}]
[null,null,null,null,null,null,null,null,null,null,null,null,null,null,null,null,null,null,null,null,null,null,null,null,null,null,null,null,null,null,null,null,null,null,null,null,null,null,null,null,null,null,null,null,null,null,null,null,null,null,null,null,null,{"$f":"VLOOKUP($W327,Reference!$AL$4:$AL$322,1,FALSE)","v":{"$error":"#N/A"}},{"$f":"VLOOKUP($N327,Reference!$J$47:$K$64,2,FALSE)","v":{"$error":"#N/A"}},null,{"$f":"VLOOKUP($W327,Reference!$AL$4:$AO$322,4,FALSE)","v":{"$error":"#N/A"}}]
[null,null,null,null,null,null,null,null,null,null,null,null,null,null,null,null,null,null,null,null,null,null,null,null,null,null,null,null,null,null,null,null,null,null,null,null,null,null,null,null,null,null,null,null,null,null,null,null,null,null,null,null,null,{"$f":"VLOOKUP($W328,Reference!$AL$4:$AL$322,1,FALSE)","v":{"$error":"#N/A"}},{"$f":"VLOOKUP($N328,Reference!$J$47:$K$64,2,FALSE)","v":{"$error":"#N/A"}},null,{"$f":"VLOOKUP($W328,Reference!$AL$4:$AO$322,4,FALSE)","v":{"$error":"#N/A"}}]
[null,null,null,null,null,null,null,null,null,null,null,null,null,null,null,null,null,null,null,null,null,null,null,null,null,null,null,null,null,null,null,null,null,null,null,null,null,null,null,null,null,null,null,null,null,null,null,null,null,null,null,null,null,{"$f":"VLOOKUP($W329,Reference!$AL$4:$AL$322,1,FALSE)","v":{"$error":"#N/A"}},{"$f":"VLOOKUP($N329,Reference!$J$47:$K$64,2,FALSE)","v":{"$error":"#N/A"}},null,{"$f":"VLOOKUP($W329,Reference!$AL$4:$AO$322,4,FALSE)","v":{"$error":"#N/A"}}]
[null,null,null,null,null,null,null,null,null,null,null,null,null,null,null,null,null,null,null,null,null,null,null,null,null,null,null,null,null,null,null,null,null,null,null,null,null,null,null,null,null,null,null,null,null,null,null,null,null,null,null,null,null,{"$f":"VLOOKUP($W330,Reference!$AL$4:$AL$322,1,FALSE)","v":{"$error":"#N/A"}},{"$f":"VLOOKUP($N330,Reference!$J$47:$K$64,2,FALSE)","v":{"$error":"#N/A"}},null,{"$f":"VLOOKUP($W330,Reference!$AL$4:$AO$322,4,FALSE)","v":{"$error":"#N/A"}}]
[null,null,null,null,null,null,null,null,null,null,null,null,null,null,null,null,null,null,null,null,null,null,null,null,null,null,null,null,null,null,null,null,null,null,null,null,null,null,null,null,null,null,null,null,null,null,null,null,null,null,null,null,null,{"$f":"VLOOKUP($W331,Reference!$AL$4:$AL$322,1,FALSE)","v":{"$error":"#N/A"}},{"$f":"VLOOKUP($N331,Reference!$J$47:$K$64,2,FALSE)","v":{"$error":"#N/A"}},null,{"$f":"VLOOKUP($W331,Reference!$AL$4:$AO$322,4,FALSE)","v":{"$error":"#N/A"}}]
[null,null,null,null,null,null,null,null,null,null,null,null,null,null,null,null,null,null,null,null,null,null,null,null,null,null,null,null,null,null,null,null,null,null,null,null,null,null,null,null,null,null,null,null,null,null,null,null,null,null,null,null,null,{"$f":"VLOOKUP($W332,Reference!$AL$4:$AL$322,1,FALSE)","v":{"$error":"#N/A"}},{"$f":"VLOOKUP($N332,Reference!$J$47:$K$64,2,FALSE)","v":{"$error":"#N/A"}},null,{"$f":"VLOOKUP($W332,Reference!$AL$4:$AO$322,4,FALSE)","v":{"$error":"#N/A"}}]
[null,null,null,null,null,null,null,null,null,null,null,null,null,null,null,null,null,null,null,null,null,null,null,null,null,null,null,null,null,null,null,null,null,null,null,null,null,null,null,null,null,null,null,null,null,null,null,null,null,null,null,null,null,{"$f":"VLOOKUP($W333,Reference!$AL$4:$AL$322,1,FALSE)","v":{"$error":"#N/A"}},{"$f":"VLOOKUP($N333,Reference!$J$47:$K$64,2,FALSE)","v":{"$error":"#N/A"}},null,{"$f":"VLOOKUP($W333,Reference!$AL$4:$AO$322,4,FALSE)","v":{"$error":"#N/A"}}]
[null,null,null,null,null,null,null,null,null,null,null,null,null,null,null,null,null,null,null,null,null,null,null,null,null,null,null,null,null,null,null,null,null,null,null,null,null,null,null,null,null,null,null,null,null,null,null,null,null,null,null,null,null,{"$f":"VLOOKUP($W334,Reference!$AL$4:$AL$322,1,FALSE)","v":{"$error":"#N/A"}},{"$f":"VLOOKUP($N334,Reference!$J$47:$K$64,2,FALSE)","v":{"$error":"#N/A"}},null,{"$f":"VLOOKUP($W334,Reference!$AL$4:$AO$322,4,FALSE)","v":{"$error":"#N/A"}}]
[null,null,null,null,null,null,null,null,null,null,null,null,null,null,null,null,null,null,null,null,null,null,null,null,null,null,null,null,null,null,null,null,null,null,null,null,null,null,null,null,null,null,null,null,null,null,null,null,null,null,null,null,null,{"$f":"VLOOKUP($W335,Reference!$AL$4:$AL$322,1,FALSE)","v":{"$error":"#N/A"}},{"$f":"VLOOKUP($N335,Reference!$J$47:$K$64,2,FALSE)","v":{"$error":"#N/A"}},null,{"$f":"VLOOKUP($W335,Reference!$AL$4:$AO$322,4,FALSE)","v":{"$error":"#N/A"}}]
[null,null,null,null,null,null,null,null,null,null,null,null,null,null,null,null,null,null,null,null,null,null,null,null,null,null,null,null,null,null,null,null,null,null,null,null,null,null,null,null,null,null,null,null,null,null,null,null,null,null,null,null,null,{"$f":"VLOOKUP($W336,Reference!$AL$4:$AL$322,1,FALSE)","v":{"$error":"#N/A"}},{"$f":"VLOOKUP($N336,Reference!$J$47:$K$64,2,FALSE)","v":{"$error":"#N/A"}},null,{"$f":"VLOOKUP($W336,Reference!$AL$4:$AO$322,4,FALSE)","v":{"$error":"#N/A"}}]
[null,null,null,null,null,null,null,null,null,null,null,null,null,null,null,null,null,null,null,null,null,null,null,null,null,null,null,null,null,null,null,null,null,null,null,null,null,null,null,null,null,null,null,null,null,null,null,null,null,null,null,null,null,{"$f":"VLOOKUP($W337,Reference!$AL$4:$AL$322,1,FALSE)","v":{"$error":"#N/A"}},{"$f":"VLOOKUP($N337,Reference!$J$47:$K$64,2,FALSE)","v":{"$error":"#N/A"}},null,{"$f":"VLOOKUP($W337,Reference!$AL$4:$AO$322,4,FALSE)","v":{"$error":"#N/A"}}]
[null,null,null,null,null,null,null,null,null,null,null,null,null,null,null,null,null,null,null,null,null,null,null,null,null,null,null,null,null,null,null,null,null,null,null,null,null,null,null,null,null,null,null,null,null,null,null,null,null,null,null,null,null,{"$f":"VLOOKUP($W338,Reference!$AL$4:$AL$322,1,FALSE)","v":{"$error":"#N/A"}},{"$f":"VLOOKUP($N338,Reference!$J$47:$K$64,2,FALSE)","v":{"$error":"#N/A"}},null,{"$f":"VLOOKUP($W338,Reference!$AL$4:$AO$322,4,FALSE)","v":{"$error":"#N/A"}}]
[null,null,null,null,null,null,null,null,null,null,null,null,null,null,null,null,null,null,null,null,null,null,null,null,null,null,null,null,null,null,null,null,null,null,null,null,null,null,null,null,null,null,null,null,null,null,null,null,null,null,null,null,null,{"$f":"VLOOKUP($W339,Reference!$AL$4:$AL$322,1,FALSE)","v":{"$error":"#N/A"}},{"$f":"VLOOKUP($N339,Reference!$J$47:$K$64,2,FALSE)","v":{"$error":"#N/A"}},null,{"$f":"VLOOKUP($W339,Reference!$AL$4:$AO$322,4,FALSE)","v":{"$error":"#N/A"}}]
[null,null,null,null,null,null,null,null,null,null,null,null,null,null,null,null,null,null,null,null,null,null,null,null,null,null,null,null,null,null,null,null,null,null,null,null,null,null,null,null,null,null,null,null,null,null,null,null,null,null,null,null,null,{"$f":"VLOOKUP($W340,Reference!$AL$4:$AL$322,1,FALSE)","v":{"$error":"#N/A"}},{"$f":"VLOOKUP($N340,Reference!$J$47:$K$64,2,FALSE)","v":{"$error":"#N/A"}},null,{"$f":"VLOOKUP($W340,Reference!$AL$4:$AO$322,4,FALSE)","v":{"$error":"#N/A"}}]
[null,null,null,null,null,null,null,null,null,null,null,null,null,null,null,null,null,null,null,null,null,null,null,null,null,null,null,null,null,null,null,null,null,null,null,null,null,null,null,null,null,null,null,null,null,null,null,null,null,null,null,null,null,{"$f":"VLOOKUP($W341,Reference!$AL$4:$AL$322,1,FALSE)","v":{"$error":"#N/A"}},{"$f":"VLOOKUP($N341,Reference!$J$47:$K$64,2,FALSE)","v":{"$error":"#N/A"}},null,{"$f":"VLOOKUP($W341,Reference!$AL$4:$AO$322,4,FALSE)","v":{"$error":"#N/A"}}]
[null,null,null,null,null,null,null,null,null,null,null,null,null,null,null,null,null,null,null,null,null,null,null,null,null,null,null,null,null,null,null,null,null,null,null,null,null,null,null,null,null,null,null,null,null,null,null,null,null,null,null,null,null,{"$f":"VLOOKUP($W342,Reference!$AL$4:$AL$322,1,FALSE)","v":{"$error":"#N/A"}},{"$f":"VLOOKUP($N342,Reference!$J$47:$K$64,2,FALSE)","v":{"$error":"#N/A"}},null,{"$f":"VLOOKUP($W342,Reference!$AL$4:$AO$322,4,FALSE)","v":{"$error":"#N/A"}}]
[null,null,null,null,null,null,null,null,null,null,null,null,null,null,null,null,null,null,null,null,null,null,null,null,null,null,null,null,null,null,null,null,null,null,null,null,null,null,null,null,null,null,null,null,null,null,null,null,null,null,null,null,null,{"$f":"VLOOKUP($W343,Reference!$AL$4:$AL$322,1,FALSE)","v":{"$error":"#N/A"}},{"$f":"VLOOKUP($N343,Reference!$J$47:$K$64,2,FALSE)","v":{"$error":"#N/A"}},null,{"$f":"VLOOKUP($W343,Reference!$AL$4:$AO$322,4,FALSE)","v":{"$error":"#N/A"}}]
[null,null,null,null,null,null,null,null,null,null,null,null,null,null,null,null,null,null,null,null,null,null,null,null,null,null,null,null,null,null,null,null,null,null,null,null,null,null,null,null,null,null,null,null,null,null,null,null,null,null,null,null,null,{"$f":"VLOOKUP($W344,Reference!$AL$4:$AL$322,1,FALSE)","v":{"$error":"#N/A"}},{"$f":"VLOOKUP($N344,Reference!$J$47:$K$64,2,FALSE)","v":{"$error":"#N/A"}},null,{"$f":"VLOOKUP($W344,Reference!$AL$4:$AO$322,4,FALSE)","v":{"$error":"#N/A"}}]
[null,null,null,null,null,null,null,null,null,null,null,null,null,null,null,null,null,null,null,null,null,null,null,null,null,null,null,null,null,null,null,null,null,null,null,null,null,null,null,null,null,null,null,null,null,null,null,null,null,null,null,null,null,{"$f":"VLOOKUP($W345,Reference!$AL$4:$AL$322,1,FALSE)","v":{"$error":"#N/A"}},{"$f":"VLOOKUP($N345,Reference!$J$47:$K$64,2,FALSE)","v":{"$error":"#N/A"}},null,{"$f":"VLOOKUP($W345,Reference!$AL$4:$AO$322,4,FALSE)","v":{"$error":"#N/A"}}]
[null,null,null,null,null,null,null,null,null,null,null,null,null,null,null,null,null,null,null,null,null,null,null,null,null,null,null,null,null,null,null,null,null,null,null,null,null,null,null,null,null,null,null,null,null,null,null,null,null,null,null,null,null,{"$f":"VLOOKUP($W346,Reference!$AL$4:$AL$322,1,FALSE)","v":{"$error":"#N/A"}},{"$f":"VLOOKUP($N346,Reference!$J$47:$K$64,2,FALSE)","v":{"$error":"#N/A"}},null,{"$f":"VLOOKUP($W346,Reference!$AL$4:$AO$322,4,FALSE)","v":{"$error":"#N/A"}}]
[null,null,null,null,null,null,null,null,null,null,null,null,null,null,null,null,null,null,null,null,null,null,null,null,null,null,null,null,null,null,null,null,null,null,null,null,null,null,null,null,null,null,null,null,null,null,null,null,null,null,null,null,null,{"$f":"VLOOKUP($W347,Reference!$AL$4:$AL$322,1,FALSE)","v":{"$error":"#N/A"}},{"$f":"VLOOKUP($N347,Reference!$J$47:$K$64,2,FALSE)","v":{"$error":"#N/A"}},null,{"$f":"VLOOKUP($W347,Reference!$AL$4:$AO$322,4,FALSE)","v":{"$error":"#N/A"}}]
[null,null,null,null,null,null,null,null,null,null,null,null,null,null,null,null,null,null,null,null,null,null,null,null,null,null,null,null,null,null,null,null,null,null,null,null,null,null,null,null,null,null,null,null,null,null,null,null,null,null,null,null,null,{"$f":"VLOOKUP($W348,Reference!$AL$4:$AL$322,1,FALSE)","v":{"$error":"#N/A"}},{"$f":"VLOOKUP($N348,Reference!$J$47:$K$64,2,FALSE)","v":{"$error":"#N/A"}},null,{"$f":"VLOOKUP($W348,Reference!$AL$4:$AO$322,4,FALSE)","v":{"$error":"#N/A"}}]
[null,null,null,null,null,null,null,null,null,null,null,null,null,null,null,null,null,null,null,null,null,null,null,null,null,null,null,null,null,null,null,null,null,null,null,null,null,null,null,null,null,null,null,null,null,null,null,null,null,null,null,null,null,{"$f":"VLOOKUP($W349,Reference!$AL$4:$AL$322,1,FALSE)","v":{"$error":"#N/A"}},{"$f":"VLOOKUP($N349,Reference!$J$47:$K$64,2,FALSE)","v":{"$error":"#N/A"}},null,{"$f":"VLOOKUP($W349,Reference!$AL$4:$AO$322,4,FALSE)","v":{"$error":"#N/A"}}]
[null,null,null,null,null,null,null,null,null,null,null,null,null,null,null,null,null,null,null,null,null,null,null,null,null,null,null,null,null,null,null,null,null,null,null,null,null,null,null,null,null,null,null,null,null,null,null,null,null,null,null,null,null,{"$f":"VLOOKUP($W350,Reference!$AL$4:$AL$322,1,FALSE)","v":{"$error":"#N/A"}},{"$f":"VLOOKUP($N350,Reference!$J$47:$K$64,2,FALSE)","v":{"$error":"#N/A"}},null,{"$f":"VLOOKUP($W350,Reference!$AL$4:$AO$322,4,FALSE)","v":{"$error":"#N/A"}}]
[null,null,null,null,null,null,null,null,null,null,null,null,null,null,null,null,null,null,null,null,null,null,null,null,null,null,null,null,null,null,null,null,null,null,null,null,null,null,null,null,null,null,null,null,null,null,null,null,null,null,null,null,null,{"$f":"VLOOKUP($W351,Reference!$AL$4:$AL$322,1,FALSE)","v":{"$error":"#N/A"}},{"$f":"VLOOKUP($N351,Reference!$J$47:$K$64,2,FALSE)","v":{"$error":"#N/A"}},null,{"$f":"VLOOKUP($W351,Reference!$AL$4:$AO$322,4,FALSE)","v":{"$error":"#N/A"}}]
[null,null,null,null,null,null,null,null,null,null,null,null,null,null,null,null,null,null,null,null,null,null,null,null,null,null,null,null,null,null,null,null,null,null,null,null,null,null,null,null,null,null,null,null,null,null,null,null,null,null,null,null,null,{"$f":"VLOOKUP($W352,Reference!$AL$4:$AL$322,1,FALSE)","v":{"$error":"#N/A"}},{"$f":"VLOOKUP($N352,Reference!$J$47:$K$64,2,FALSE)","v":{"$error":"#N/A"}},null,{"$f":"VLOOKUP($W352,Reference!$AL$4:$AO$322,4,FALSE)","v":{"$error":"#N/A"}}]
[null,null,null,null,null,null,null,null,null,null,null,null,null,null,null,null,null,null,null,null,null,null,null,null,null,null,null,null,null,null,null,null,null,null,null,null,null,null,null,null,null,null,null,null,null,null,null,null,null,null,null,null,null,{"$f":"VLOOKUP($W353,Reference!$AL$4:$AL$322,1,FALSE)","v":{"$error":"#N/A"}},{"$f":"VLOOKUP($N353,Reference!$J$47:$K$64,2,FALSE)","v":{"$error":"#N/A"}},null,{"$f":"VLOOKUP($W353,Reference!$AL$4:$AO$322,4,FALSE)","v":{"$error":"#N/A"}}]
[null,null,null,null,null,null,null,null,null,null,null,null,null,null,null,null,null,null,null,null,null,null,null,null,null,null,null,null,null,null,null,null,null,null,null,null,null,null,null,null,null,null,null,null,null,null,null,null,null,null,null,null,null,{"$f":"VLOOKUP($W354,Reference!$AL$4:$AL$322,1,FALSE)","v":{"$error":"#N/A"}},{"$f":"VLOOKUP($N354,Reference!$J$47:$K$64,2,FALSE)","v":{"$error":"#N/A"}},null,{"$f":"VLOOKUP($W354,Reference!$AL$4:$AO$322,4,FALSE)","v":{"$error":"#N/A"}}]
[null,null,null,null,null,null,null,null,null,null,null,null,null,null,null,null,null,null,null,null,null,null,null,null,null,null,null,null,null,null,null,null,null,null,null,null,null,null,null,null,null,null,null,null,null,null,null,null,null,null,null,null,null,{"$f":"VLOOKUP($W355,Reference!$AL$4:$AL$322,1,FALSE)","v":{"$error":"#N/A"}},{"$f":"VLOOKUP($N355,Reference!$J$47:$K$64,2,FALSE)","v":{"$error":"#N/A"}},null,{"$f":"VLOOKUP($W355,Reference!$AL$4:$AO$322,4,FALSE)","v":{"$error":"#N/A"}}]
[null,null,null,null,null,null,null,null,null,null,null,null,null,null,null,null,null,null,null,null,null,null,null,null,null,null,null,null,null,null,null,null,null,null,null,null,null,null,null,null,null,null,null,null,null,null,null,null,null,null,null,null,null,{"$f":"VLOOKUP($W356,Reference!$AL$4:$AL$322,1,FALSE)","v":{"$error":"#N/A"}},{"$f":"VLOOKUP($N356,Reference!$J$47:$K$64,2,FALSE)","v":{"$error":"#N/A"}},null,{"$f":"VLOOKUP($W356,Reference!$AL$4:$AO$322,4,FALSE)","v":{"$error":"#N/A"}}]
[null,null,null,null,null,null,null,null,null,null,null,null,null,null,null,null,null,null,null,null,null,null,null,null,null,null,null,null,null,null,null,null,null,null,null,null,null,null,null,null,null,null,null,null,null,null,null,null,null,null,null,null,null,{"$f":"VLOOKUP($W357,Reference!$AL$4:$AL$322,1,FALSE)","v":{"$error":"#N/A"}},{"$f":"VLOOKUP($N357,Reference!$J$47:$K$64,2,FALSE)","v":{"$error":"#N/A"}},null,{"$f":"VLOOKUP($W357,Reference!$AL$4:$AO$322,4,FALSE)","v":{"$error":"#N/A"}}]
[null,null,null,null,null,null,null,null,null,null,null,null,null,null,null,null,null,null,null,null,null,null,null,null,null,null,null,null,null,null,null,null,null,null,null,null,null,null,null,null,null,null,null,null,null,null,null,null,null,null,null,null,null,{"$f":"VLOOKUP($W358,Reference!$AL$4:$AL$322,1,FALSE)","v":{"$error":"#N/A"}},{"$f":"VLOOKUP($N358,Reference!$J$47:$K$64,2,FALSE)","v":{"$error":"#N/A"}},null,{"$f":"VLOOKUP($W358,Reference!$AL$4:$AO$322,4,FALSE)","v":{"$error":"#N/A"}}]
[null,null,null,null,null,null,null,null,null,null,null,null,null,null,null,null,null,null,null,null,null,null,null,null,null,null,null,null,null,null,null,null,null,null,null,null,null,null,null,null,null,null,null,null,null,null,null,null,null,null,null,null,null,{"$f":"VLOOKUP($W359,Reference!$AL$4:$AL$322,1,FALSE)","v":{"$error":"#N/A"}},{"$f":"VLOOKUP($N359,Reference!$J$47:$K$64,2,FALSE)","v":{"$error":"#N/A"}},null,{"$f":"VLOOKUP($W359,Reference!$AL$4:$AO$322,4,FALSE)","v":{"$error":"#N/A"}}]
[null,null,null,null,null,null,null,null,null,null,null,null,null,null,null,null,null,null,null,null,null,null,null,null,null,null,null,null,null,null,null,null,null,null,null,null,null,null,null,null,null,null,null,null,null,null,null,null,null,null,null,null,null,{"$f":"VLOOKUP($W360,Reference!$AL$4:$AL$322,1,FALSE)","v":{"$error":"#N/A"}},{"$f":"VLOOKUP($N360,Reference!$J$47:$K$64,2,FALSE)","v":{"$error":"#N/A"}},null,{"$f":"VLOOKUP($W360,Reference!$AL$4:$AO$322,4,FALSE)","v":{"$error":"#N/A"}}]
[null,null,null,null,null,null,null,null,null,null,null,null,null,null,null,null,null,null,null,null,null,null,null,null,null,null,null,null,null,null,null,null,null,null,null,null,null,null,null,null,null,null,null,null,null,null,null,null,null,null,null,null,null,{"$f":"VLOOKUP($W361,Reference!$AL$4:$AL$322,1,FALSE)","v":{"$error":"#N/A"}},{"$f":"VLOOKUP($N361,Reference!$J$47:$K$64,2,FALSE)","v":{"$error":"#N/A"}},null,{"$f":"VLOOKUP($W361,Reference!$AL$4:$AO$322,4,FALSE)","v":{"$error":"#N/A"}}]
[null,null,null,null,null,null,null,null,null,null,null,null,null,null,null,null,null,null,null,null,null,null,null,null,null,null,null,null,null,null,null,null,null,null,null,null,null,null,null,null,null,null,null,null,null,null,null,null,null,null,null,null,null,{"$f":"VLOOKUP($W362,Reference!$AL$4:$AL$322,1,FALSE)","v":{"$error":"#N/A"}},{"$f":"VLOOKUP($N362,Reference!$J$47:$K$64,2,FALSE)","v":{"$error":"#N/A"}},null,{"$f":"VLOOKUP($W362,Reference!$AL$4:$AO$322,4,FALSE)","v":{"$error":"#N/A"}}]
[null,null,null,null,null,null,null,null,null,null,null,null,null,null,null,null,null,null,null,null,null,null,null,null,null,null,null,null,null,null,null,null,null,null,null,null,null,null,null,null,null,null,null,null,null,null,null,null,null,null,null,null,null,{"$f":"VLOOKUP($W363,Reference!$AL$4:$AL$322,1,FALSE)","v":{"$error":"#N/A"}},{"$f":"VLOOKUP($N363,Reference!$J$47:$K$64,2,FALSE)","v":{"$error":"#N/A"}},null,{"$f":"VLOOKUP($W363,Reference!$AL$4:$AO$322,4,FALSE)","v":{"$error":"#N/A"}}]
[null,null,null,null,null,null,null,null,null,null,null,null,null,null,null,null,null,null,null,null,null,null,null,null,null,null,null,null,null,null,null,null,null,null,null,null,null,null,null,null,null,null,null,null,null,null,null,null,null,null,null,null,null,{"$f":"VLOOKUP($W364,Reference!$AL$4:$AL$322,1,FALSE)","v":{"$error":"#N/A"}},{"$f":"VLOOKUP($N364,Reference!$J$47:$K$64,2,FALSE)","v":{"$error":"#N/A"}},null,{"$f":"VLOOKUP($W364,Reference!$AL$4:$AO$322,4,FALSE)","v":{"$error":"#N/A"}}]
[null,null,null,null,null,null,null,null,null,null,null,null,null,null,null,null,null,null,null,null,null,null,null,null,null,null,null,null,null,null,null,null,null,null,null,null,null,null,null,null,null,null,null,null,null,null,null,null,null,null,null,null,null,{"$f":"VLOOKUP($W365,Reference!$AL$4:$AL$322,1,FALSE)","v":{"$error":"#N/A"}},{"$f":"VLOOKUP($N365,Reference!$J$47:$K$64,2,FALSE)","v":{"$error":"#N/A"}},null,{"$f":"VLOOKUP($W365,Reference!$AL$4:$AO$322,4,FALSE)","v":{"$error":"#N/A"}}]
[null,null,null,null,null,null,null,null,null,null,null,null,null,null,null,null,null,null,null,null,null,null,null,null,null,null,null,null,null,null,null,null,null,null,null,null,null,null,null,null,null,null,null,null,null,null,null,null,null,null,null,null,null,{"$f":"VLOOKUP($W366,Reference!$AL$4:$AL$322,1,FALSE)","v":{"$error":"#N/A"}},{"$f":"VLOOKUP($N366,Reference!$J$47:$K$64,2,FALSE)","v":{"$error":"#N/A"}},null,{"$f":"VLOOKUP($W366,Reference!$AL$4:$AO$322,4,FALSE)","v":{"$error":"#N/A"}}]
[null,null,null,null,null,null,null,null,null,null,null,null,null,null,null,null,null,null,null,null,null,null,null,null,null,null,null,null,null,null,null,null,null,null,null,null,null,null,null,null,null,null,null,null,null,null,null,null,null,null,null,null,null,{"$f":"VLOOKUP($W367,Reference!$AL$4:$AL$322,1,FALSE)","v":{"$error":"#N/A"}},{"$f":"VLOOKUP($N367,Reference!$J$47:$K$64,2,FALSE)","v":{"$error":"#N/A"}},null,{"$f":"VLOOKUP($W367,Reference!$AL$4:$AO$322,4,FALSE)","v":{"$error":"#N/A"}}]
[null,null,null,null,null,null,null,null,null,null,null,null,null,null,null,null,null,null,null,null,null,null,null,null,null,null,null,null,null,null,null,null,null,null,null,null,null,null,null,null,null,null,null,null,null,null,null,null,null,null,null,null,null,{"$f":"VLOOKUP($W368,Reference!$AL$4:$AL$322,1,FALSE)","v":{"$error":"#N/A"}},{"$f":"VLOOKUP($N368,Reference!$J$47:$K$64,2,FALSE)","v":{"$error":"#N/A"}},null,{"$f":"VLOOKUP($W368,Reference!$AL$4:$AO$322,4,FALSE)","v":{"$error":"#N/A"}}]
[null,null,null,null,null,null,null,null,null,null,null,null,null,null,null,null,null,null,null,null,null,null,null,null,null,null,null,null,null,null,null,null,null,null,null,null,null,null,null,null,null,null,null,null,null,null,null,null,null,null,null,null,null,{"$f":"VLOOKUP($W369,Reference!$AL$4:$AL$322,1,FALSE)","v":{"$error":"#N/A"}},{"$f":"VLOOKUP($N369,Reference!$J$47:$K$64,2,FALSE)","v":{"$error":"#N/A"}},null,{"$f":"VLOOKUP($W369,Reference!$AL$4:$AO$322,4,FALSE)","v":{"$error":"#N/A"}}]
[null,null,null,null,null,null,null,null,null,null,null,null,null,null,null,null,null,null,null,null,null,null,null,null,null,null,null,null,null,null,null,null,null,null,null,null,null,null,null,null,null,null,null,null,null,null,null,null,null,null,null,null,null,{"$f":"VLOOKUP($W370,Reference!$AL$4:$AL$322,1,FALSE)","v":{"$error":"#N/A"}},{"$f":"VLOOKUP($N370,Reference!$J$47:$K$64,2,FALSE)","v":{"$error":"#N/A"}},null,{"$f":"VLOOKUP($W370,Reference!$AL$4:$AO$322,4,FALSE)","v":{"$error":"#N/A"}}]
[null,null,null,null,null,null,null,null,null,null,null,null,null,null,null,null,null,null,null,null,null,null,null,null,null,null,null,null,null,null,null,null,null,null,null,null,null,null,null,null,null,null,null,null,null,null,null,null,null,null,null,null,null,{"$f":"VLOOKUP($W371,Reference!$AL$4:$AL$322,1,FALSE)","v":{"$error":"#N/A"}},{"$f":"VLOOKUP($N371,Reference!$J$47:$K$64,2,FALSE)","v":{"$error":"#N/A"}},null,{"$f":"VLOOKUP($W371,Reference!$AL$4:$AO$322,4,FALSE)","v":{"$error":"#N/A"}}]
[null,null,null,null,null,null,null,null,null,null,null,null,null,null,null,null,null,null,null,null,null,null,null,null,null,null,null,null,null,null,null,null,null,null,null,null,null,null,null,null,null,null,null,null,null,null,null,null,null,null,null,null,null,{"$f":"VLOOKUP($W372,Reference!$AL$4:$AL$322,1,FALSE)","v":{"$error":"#N/A"}},{"$f":"VLOOKUP($N372,Reference!$J$47:$K$64,2,FALSE)","v":{"$error":"#N/A"}},null,{"$f":"VLOOKUP($W372,Reference!$AL$4:$AO$322,4,FALSE)","v":{"$error":"#N/A"}}]
[null,null,null,null,null,null,null,null,null,null,null,null,null,null,null,null,null,null,null,null,null,null,null,null,null,null,null,null,null,null,null,null,null,null,null,null,null,null,null,null,null,null,null,null,null,null,null,null,null,null,null,null,null,{"$f":"VLOOKUP($W373,Reference!$AL$4:$AL$322,1,FALSE)","v":{"$error":"#N/A"}},{"$f":"VLOOKUP($N373,Reference!$J$47:$K$64,2,FALSE)","v":{"$error":"#N/A"}},null,{"$f":"VLOOKUP($W373,Reference!$AL$4:$AO$322,4,FALSE)","v":{"$error":"#N/A"}}]
[null,null,null,null,null,null,null,null,null,null,null,null,null,null,null,null,null,null,null,null,null,null,null,null,null,null,null,null,null,null,null,null,null,null,null,null,null,null,null,null,null,null,null,null,null,null,null,null,null,null,null,null,null,{"$f":"VLOOKUP($W374,Reference!$AL$4:$AL$322,1,FALSE)","v":{"$error":"#N/A"}},{"$f":"VLOOKUP($N374,Reference!$J$47:$K$64,2,FALSE)","v":{"$error":"#N/A"}},null,{"$f":"VLOOKUP($W374,Reference!$AL$4:$AO$322,4,FALSE)","v":{"$error":"#N/A"}}]
[null,null,null,null,null,null,null,null,null,null,null,null,null,null,null,null,null,null,null,null,null,null,null,null,null,null,null,null,null,null,null,null,null,null,null,null,null,null,null,null,null,null,null,null,null,null,null,null,null,null,null,null,null,{"$f":"VLOOKUP($W375,Reference!$AL$4:$AL$322,1,FALSE)","v":{"$error":"#N/A"}},{"$f":"VLOOKUP($N375,Reference!$J$47:$K$64,2,FALSE)","v":{"$error":"#N/A"}},null,{"$f":"VLOOKUP($W375,Reference!$AL$4:$AO$322,4,FALSE)","v":{"$error":"#N/A"}}]
[null,null,null,null,null,null,null,null,null,null,null,null,null,null,null,null,null,null,null,null,null,null,null,null,null,null,null,null,null,null,null,null,null,null,null,null,null,null,null,null,null,null,null,null,null,null,null,null,null,null,null,null,null,{"$f":"VLOOKUP($W376,Reference!$AL$4:$AL$322,1,FALSE)","v":{"$error":"#N/A"}},{"$f":"VLOOKUP($N376,Reference!$J$47:$K$64,2,FALSE)","v":{"$error":"#N/A"}},null,{"$f":"VLOOKUP($W376,Reference!$AL$4:$AO$322,4,FALSE)","v":{"$error":"#N/A"}}]
[null,null,null,null,null,null,null,null,null,null,null,null,null,null,null,null,null,null,null,null,null,null,null,null,null,null,null,null,null,null,null,null,null,null,null,null,null,null,null,null,null,null,null,null,null,null,null,null,null,null,null,null,null,{"$f":"VLOOKUP($W377,Reference!$AL$4:$AL$322,1,FALSE)","v":{"$error":"#N/A"}},{"$f":"VLOOKUP($N377,Reference!$J$47:$K$64,2,FALSE)","v":{"$error":"#N/A"}},null,{"$f":"VLOOKUP($W377,Reference!$AL$4:$AO$322,4,FALSE)","v":{"$error":"#N/A"}}]
[null,null,null,null,null,null,null,null,null,null,null,null,null,null,null,null,null,null,null,null,null,null,null,null,null,null,null,null,null,null,null,null,null,null,null,null,null,null,null,null,null,null,null,null,null,null,null,null,null,null,null,null,null,{"$f":"VLOOKUP($W378,Reference!$AL$4:$AL$322,1,FALSE)","v":{"$error":"#N/A"}},{"$f":"VLOOKUP($N378,Reference!$J$47:$K$64,2,FALSE)","v":{"$error":"#N/A"}},null,{"$f":"VLOOKUP($W378,Reference!$AL$4:$AO$322,4,FALSE)","v":{"$error":"#N/A"}}]
[null,null,null,null,null,null,null,null,null,null,null,null,null,null,null,null,null,null,null,null,null,null,null,null,null,null,null,null,null,null,null,null,null,null,null,null,null,null,null,null,null,null,null,null,null,null,null,null,null,null,null,null,null,{"$f":"VLOOKUP($W379,Reference!$AL$4:$AL$322,1,FALSE)","v":{"$error":"#N/A"}},{"$f":"VLOOKUP($N379,Reference!$J$47:$K$64,2,FALSE)","v":{"$error":"#N/A"}},null,{"$f":"VLOOKUP($W379,Reference!$AL$4:$AO$322,4,FALSE)","v":{"$error":"#N/A"}}]
[null,null,null,null,null,null,null,null,null,null,null,null,null,null,null,null,null,null,null,null,null,null,null,null,null,null,null,null,null,null,null,null,null,null,null,null,null,null,null,null,null,null,null,null,null,null,null,null,null,null,null,null,null,{"$f":"VLOOKUP($W380,Reference!$AL$4:$AL$322,1,FALSE)","v":{"$error":"#N/A"}},{"$f":"VLOOKUP($N380,Reference!$J$47:$K$64,2,FALSE)","v":{"$error":"#N/A"}},null,{"$f":"VLOOKUP($W380,Reference!$AL$4:$AO$322,4,FALSE)","v":{"$error":"#N/A"}}]
[null,null,null,null,null,null,null,null,null,null,null,null,null,null,null,null,null,null,null,null,null,null,null,null,null,null,null,null,null,null,null,null,null,null,null,null,null,null,null,null,null,null,null,null,null,null,null,null,null,null,null,null,null,{"$f":"VLOOKUP($W381,Reference!$AL$4:$AL$322,1,FALSE)","v":{"$error":"#N/A"}},{"$f":"VLOOKUP($N381,Reference!$J$47:$K$64,2,FALSE)","v":{"$error":"#N/A"}},null,{"$f":"VLOOKUP($W381,Reference!$AL$4:$AO$322,4,FALSE)","v":{"$error":"#N/A"}}]
[null,null,null,null,null,null,null,null,null,null,null,null,null,null,null,null,null,null,null,null,null,null,null,null,null,null,null,null,null,null,null,null,null,null,null,null,null,null,null,null,null,null,null,null,null,null,null,null,null,null,null,null,null,{"$f":"VLOOKUP($W382,Reference!$AL$4:$AL$322,1,FALSE)","v":{"$error":"#N/A"}},{"$f":"VLOOKUP($N382,Reference!$J$47:$K$64,2,FALSE)","v":{"$error":"#N/A"}},null,{"$f":"VLOOKUP($W382,Reference!$AL$4:$AO$322,4,FALSE)","v":{"$error":"#N/A"}}]
[null,null,null,null,null,null,null,null,null,null,null,null,null,null,null,null,null,null,null,null,null,null,null,null,null,null,null,null,null,null,null,null,null,null,null,null,null,null,null,null,null,null,null,null,null,null,null,null,null,null,null,null,null,{"$f":"VLOOKUP($W383,Reference!$AL$4:$AL$322,1,FALSE)","v":{"$error":"#N/A"}},{"$f":"VLOOKUP($N383,Reference!$J$47:$K$64,2,FALSE)","v":{"$error":"#N/A"}},null,{"$f":"VLOOKUP($W383,Reference!$AL$4:$AO$322,4,FALSE)","v":{"$error":"#N/A"}}]
[null,null,null,null,null,null,null,null,null,null,null,null,null,null,null,null,null,null,null,null,null,null,null,null,null,null,null,null,null,null,null,null,null,null,null,null,null,null,null,null,null,null,null,null,null,null,null,null,null,null,null,null,null,{"$f":"VLOOKUP($W384,Reference!$AL$4:$AL$322,1,FALSE)","v":{"$error":"#N/A"}},{"$f":"VLOOKUP($N384,Reference!$J$47:$K$64,2,FALSE)","v":{"$error":"#N/A"}},null,{"$f":"VLOOKUP($W384,Reference!$AL$4:$AO$322,4,FALSE)","v":{"$error":"#N/A"}}]
[null,null,null,null,null,null,null,null,null,null,null,null,null,null,null,null,null,null,null,null,null,null,null,null,null,null,null,null,null,null,null,null,null,null,null,null,null,null,null,null,null,null,null,null,null,null,null,null,null,null,null,null,null,{"$f":"VLOOKUP($W385,Reference!$AL$4:$AL$322,1,FALSE)","v":{"$error":"#N/A"}},{"$f":"VLOOKUP($N385,Reference!$J$47:$K$64,2,FALSE)","v":{"$error":"#N/A"}},null,{"$f":"VLOOKUP($W385,Reference!$AL$4:$AO$322,4,FALSE)","v":{"$error":"#N/A"}}]
[null,null,null,null,null,null,null,null,null,null,null,null,null,null,null,null,null,null,null,null,null,null,null,null,null,null,null,null,null,null,null,null,null,null,null,null,null,null,null,null,null,null,null,null,null,null,null,null,null,null,null,null,null,{"$f":"VLOOKUP($W386,Reference!$AL$4:$AL$322,1,FALSE)","v":{"$error":"#N/A"}},{"$f":"VLOOKUP($N386,Reference!$J$47:$K$64,2,FALSE)","v":{"$error":"#N/A"}},null,{"$f":"VLOOKUP($W386,Reference!$AL$4:$AO$322,4,FALSE)","v":{"$error":"#N/A"}}]
[null,null,null,null,null,null,null,null,null,null,null,null,null,null,null,null,null,null,null,null,null,null,null,null,null,null,null,null,null,null,null,null,null,null,null,null,null,null,null,null,null,null,null,null,null,null,null,null,null,null,null,null,null,{"$f":"VLOOKUP($W387,Reference!$AL$4:$AL$322,1,FALSE)","v":{"$error":"#N/A"}},{"$f":"VLOOKUP($N387,Reference!$J$47:$K$64,2,FALSE)","v":{"$error":"#N/A"}},null,{"$f":"VLOOKUP($W387,Reference!$AL$4:$AO$322,4,FALSE)","v":{"$error":"#N/A"}}]
[null,null,null,null,null,null,null,null,null,null,null,null,null,null,null,null,null,null,null,null,null,null,null,null,null,null,null,null,null,null,null,null,null,null,null,null,null,null,null,null,null,null,null,null,null,null,null,null,null,null,null,null,null,{"$f":"VLOOKUP($W388,Reference!$AL$4:$AL$322,1,FALSE)","v":{"$error":"#N/A"}},{"$f":"VLOOKUP($N388,Reference!$J$47:$K$64,2,FALSE)","v":{"$error":"#N/A"}},null,{"$f":"VLOOKUP($W388,Reference!$AL$4:$AO$322,4,FALSE)","v":{"$error":"#N/A"}}]
[null,null,null,null,null,null,null,null,null,null,null,null,null,null,null,null,null,null,null,null,null,null,null,null,null,null,null,null,null,null,null,null,null,null,null,null,null,null,null,null,null,null,null,null,null,null,null,null,null,null,null,null,null,{"$f":"VLOOKUP($W389,Reference!$AL$4:$AL$322,1,FALSE)","v":{"$error":"#N/A"}},{"$f":"VLOOKUP($N389,Reference!$J$47:$K$64,2,FALSE)","v":{"$error":"#N/A"}},null,{"$f":"VLOOKUP($W389,Reference!$AL$4:$AO$322,4,FALSE)","v":{"$error":"#N/A"}}]
[null,null,null,null,null,null,null,null,null,null,null,null,null,null,null,null,null,null,null,null,null,null,null,null,null,null,null,null,null,null,null,null,null,null,null,null,null,null,null,null,null,null,null,null,null,null,null,null,null,null,null,null,null,{"$f":"VLOOKUP($W390,Reference!$AL$4:$AL$322,1,FALSE)","v":{"$error":"#N/A"}},{"$f":"VLOOKUP($N390,Reference!$J$47:$K$64,2,FALSE)","v":{"$error":"#N/A"}},null,{"$f":"VLOOKUP($W390,Reference!$AL$4:$AO$322,4,FALSE)","v":{"$error":"#N/A"}}]
[null,null,null,null,null,null,null,null,null,null,null,null,null,null,null,null,null,null,null,null,null,null,null,null,null,null,null,null,null,null,null,null,null,null,null,null,null,null,null,null,null,null,null,null,null,null,null,null,null,null,null,null,null,{"$f":"VLOOKUP($W391,Reference!$AL$4:$AL$322,1,FALSE)","v":{"$error":"#N/A"}},{"$f":"VLOOKUP($N391,Reference!$J$47:$K$64,2,FALSE)","v":{"$error":"#N/A"}},null,{"$f":"VLOOKUP($W391,Reference!$AL$4:$AO$322,4,FALSE)","v":{"$error":"#N/A"}}]
[null,null,null,null,null,null,null,null,null,null,null,null,null,null,null,null,null,null,null,null,null,null,null,null,null,null,null,null,null,null,null,null,null,null,null,null,null,null,null,null,null,null,null,null,null,null,null,null,null,null,null,null,null,{"$f":"VLOOKUP($W392,Reference!$AL$4:$AL$322,1,FALSE)","v":{"$error":"#N/A"}},{"$f":"VLOOKUP($N392,Reference!$J$47:$K$64,2,FALSE)","v":{"$error":"#N/A"}},null,{"$f":"VLOOKUP($W392,Reference!$AL$4:$AO$322,4,FALSE)","v":{"$error":"#N/A"}}]
[null,null,null,null,null,null,null,null,null,null,null,null,null,null,null,null,null,null,null,null,null,null,null,null,null,null,null,null,null,null,null,null,null,null,null,null,null,null,null,null,null,null,null,null,null,null,null,null,null,null,null,null,null,{"$f":"VLOOKUP($W393,Reference!$AL$4:$AL$322,1,FALSE)","v":{"$error":"#N/A"}},{"$f":"VLOOKUP($N393,Reference!$J$47:$K$64,2,FALSE)","v":{"$error":"#N/A"}},null,{"$f":"VLOOKUP($W393,Reference!$AL$4:$AO$322,4,FALSE)","v":{"$error":"#N/A"}}]
[null,null,null,null,null,null,null,null,null,null,null,null,null,null,null,null,null,null,null,null,null,null,null,null,null,null,null,null,null,null,null,null,null,null,null,null,null,null,null,null,null,null,null,null,null,null,null,null,null,null,null,null,null,{"$f":"VLOOKUP($W394,Reference!$AL$4:$AL$322,1,FALSE)","v":{"$error":"#N/A"}},{"$f":"VLOOKUP($N394,Reference!$J$47:$K$64,2,FALSE)","v":{"$error":"#N/A"}},null,{"$f":"VLOOKUP($W394,Reference!$AL$4:$AO$322,4,FALSE)","v":{"$error":"#N/A"}}]
[null,null,null,null,null,null,null,null,null,null,null,null,null,null,null,null,null,null,null,null,null,null,null,null,null,null,null,null,null,null,null,null,null,null,null,null,null,null,null,null,null,null,null,null,null,null,null,null,null,null,null,null,null,{"$f":"VLOOKUP($W395,Reference!$AL$4:$AL$322,1,FALSE)","v":{"$error":"#N/A"}},{"$f":"VLOOKUP($N395,Reference!$J$47:$K$64,2,FALSE)","v":{"$error":"#N/A"}},null,{"$f":"VLOOKUP($W395,Reference!$AL$4:$AO$322,4,FALSE)","v":{"$error":"#N/A"}}]
[null,null,null,null,null,null,null,null,null,null,null,null,null,null,null,null,null,null,null,null,null,null,null,null,null,null,null,null,null,null,null,null,null,null,null,null,null,null,null,null,null,null,null,null,null,null,null,null,null,null,null,null,null,{"$f":"VLOOKUP($W396,Reference!$AL$4:$AL$322,1,FALSE)","v":{"$error":"#N/A"}},{"$f":"VLOOKUP($N396,Reference!$J$47:$K$64,2,FALSE)","v":{"$error":"#N/A"}},null,{"$f":"VLOOKUP($W396,Reference!$AL$4:$AO$322,4,FALSE)","v":{"$error":"#N/A"}}]
[null,null,null,null,null,null,null,null,null,null,null,null,null,null,null,null,null,null,null,null,null,null,null,null,null,null,null,null,null,null,null,null,null,null,null,null,null,null,null,null,null,null,null,null,null,null,null,null,null,null,null,null,null,{"$f":"VLOOKUP($W397,Reference!$AL$4:$AL$322,1,FALSE)","v":{"$error":"#N/A"}},{"$f":"VLOOKUP($N397,Reference!$J$47:$K$64,2,FALSE)","v":{"$error":"#N/A"}},null,{"$f":"VLOOKUP($W397,Reference!$AL$4:$AO$322,4,FALSE)","v":{"$error":"#N/A"}}]
[null,null,null,null,null,null,null,null,null,null,null,null,null,null,null,null,null,null,null,null,null,null,null,null,null,null,null,null,null,null,null,null,null,null,null,null,null,null,null,null,null,null,null,null,null,null,null,null,null,null,null,null,null,{"$f":"VLOOKUP($W398,Reference!$AL$4:$AL$322,1,FALSE)","v":{"$error":"#N/A"}},{"$f":"VLOOKUP($N398,Reference!$J$47:$K$64,2,FALSE)","v":{"$error":"#N/A"}},null,{"$f":"VLOOKUP($W398,Reference!$AL$4:$AO$322,4,FALSE)","v":{"$error":"#N/A"}}]
[null,null,null,null,null,null,null,null,null,null,null,null,null,null,null,null,null,null,null,null,null,null,null,null,null,null,null,null,null,null,null,null,null,null,null,null,null,null,null,null,null,null,null,null,null,null,null,null,null,null,null,null,null,{"$f":"VLOOKUP($W399,Reference!$AL$4:$AL$322,1,FALSE)","v":{"$error":"#N/A"}},{"$f":"VLOOKUP($N399,Reference!$J$47:$K$64,2,FALSE)","v":{"$error":"#N/A"}},null,{"$f":"VLOOKUP($W399,Reference!$AL$4:$AO$322,4,FALSE)","v":{"$error":"#N/A"}}]
[null,null,null,null,null,null,null,null,null,null,null,null,null,null,null,null,null,null,null,null,null,null,null,null,null,null,null,null,null,null,null,null,null,null,null,null,null,null,null,null,null,null,null,null,null,null,null,null,null,null,null,null,null,{"$f":"VLOOKUP($W400,Reference!$AL$4:$AL$322,1,FALSE)","v":{"$error":"#N/A"}},{"$f":"VLOOKUP($N400,Reference!$J$47:$K$64,2,FALSE)","v":{"$error":"#N/A"}},null,{"$f":"VLOOKUP($W400,Reference!$AL$4:$AO$322,4,FALSE)","v":{"$error":"#N/A"}}]
[null,null,null,null,null,null,null,null,null,null,null,null,null,null,null,null,null,null,null,null,null,null,null,null,null,null,null,null,null,null,null,null,null,null,null,null,null,null,null,null,null,null,null,null,null,null,null,null,null,null,null,null,null,{"$f":"VLOOKUP($W401,Reference!$AL$4:$AL$322,1,FALSE)","v":{"$error":"#N/A"}},{"$f":"VLOOKUP($N401,Reference!$J$47:$K$64,2,FALSE)","v":{"$error":"#N/A"}},null,{"$f":"VLOOKUP($W401,Reference!$AL$4:$AO$322,4,FALSE)","v":{"$error":"#N/A"}}]
[null,null,null,null,null,null,null,null,null,null,null,null,null,null,null,null,null,null,null,null,null,null,null,null,null,null,null,null,null,null,null,null,null,null,null,null,null,null,null,null,null,null,null,null,null,null,null,null,null,null,null,null,null,{"$f":"VLOOKUP($W402,Reference!$AL$4:$AL$322,1,FALSE)","v":{"$error":"#N/A"}},{"$f":"VLOOKUP($N402,Reference!$J$47:$K$64,2,FALSE)","v":{"$error":"#N/A"}},null,{"$f":"VLOOKUP($W402,Reference!$AL$4:$AO$322,4,FALSE)","v":{"$error":"#N/A"}}]
[null,null,null,null,null,null,null,null,null,null,null,null,null,null,null,null,null,null,null,null,null,null,null,null,null,null,null,null,null,null,null,null,null,null,null,null,null,null,null,null,null,null,null,null,null,null,null,null,null,null,null,null,null,{"$f":"VLOOKUP($W403,Reference!$AL$4:$AL$322,1,FALSE)","v":{"$error":"#N/A"}},{"$f":"VLOOKUP($N403,Reference!$J$47:$K$64,2,FALSE)","v":{"$error":"#N/A"}},null,{"$f":"VLOOKUP($W403,Reference!$AL$4:$AO$322,4,FALSE)","v":{"$error":"#N/A"}}]
[null,null,null,null,null,null,null,null,null,null,null,null,null,null,null,null,null,null,null,null,null,null,null,null,null,null,null,null,null,null,null,null,null,null,null,null,null,null,null,null,null,null,null,null,null,null,null,null,null,null,null,null,null,{"$f":"VLOOKUP($W404,Reference!$AL$4:$AL$322,1,FALSE)","v":{"$error":"#N/A"}},{"$f":"VLOOKUP($N404,Reference!$J$47:$K$64,2,FALSE)","v":{"$error":"#N/A"}},null,{"$f":"VLOOKUP($W404,Reference!$AL$4:$AO$322,4,FALSE)","v":{"$error":"#N/A"}}]
[null,null,null,null,null,null,null,null,null,null,null,null,null,null,null,null,null,null,null,null,null,null,null,null,null,null,null,null,null,null,null,null,null,null,null,null,null,null,null,null,null,null,null,null,null,null,null,null,null,null,null,null,null,{"$f":"VLOOKUP($W405,Reference!$AL$4:$AL$322,1,FALSE)","v":{"$error":"#N/A"}},{"$f":"VLOOKUP($N405,Reference!$J$47:$K$64,2,FALSE)","v":{"$error":"#N/A"}},null,{"$f":"VLOOKUP($W405,Reference!$AL$4:$AO$322,4,FALSE)","v":{"$error":"#N/A"}}]
[null,null,null,null,null,null,null,null,null,null,null,null,null,null,null,null,null,null,null,null,null,null,null,null,null,null,null,null,null,null,null,null,null,null,null,null,null,null,null,null,null,null,null,null,null,null,null,null,null,null,null,null,null,{"$f":"VLOOKUP($W406,Reference!$AL$4:$AL$322,1,FALSE)","v":{"$error":"#N/A"}},{"$f":"VLOOKUP($N406,Reference!$J$47:$K$64,2,FALSE)","v":{"$error":"#N/A"}},null,{"$f":"VLOOKUP($W406,Reference!$AL$4:$AO$322,4,FALSE)","v":{"$error":"#N/A"}}]
[null,null,null,null,null,null,null,null,null,null,null,null,null,null,null,null,null,null,null,null,null,null,null,null,null,null,null,null,null,null,null,null,null,null,null,null,null,null,null,null,null,null,null,null,null,null,null,null,null,null,null,null,null,{"$f":"VLOOKUP($W407,Reference!$AL$4:$AL$322,1,FALSE)","v":{"$error":"#N/A"}},{"$f":"VLOOKUP($N407,Reference!$J$47:$K$64,2,FALSE)","v":{"$error":"#N/A"}},null,{"$f":"VLOOKUP($W407,Reference!$AL$4:$AO$322,4,FALSE)","v":{"$error":"#N/A"}}]
[null,null,null,null,null,null,null,null,null,null,null,null,null,null,null,null,null,null,null,null,null,null,null,null,null,null,null,null,null,null,null,null,null,null,null,null,null,null,null,null,null,null,null,null,null,null,null,null,null,null,null,null,null,{"$f":"VLOOKUP($W408,Reference!$AL$4:$AL$322,1,FALSE)","v":{"$error":"#N/A"}},{"$f":"VLOOKUP($N408,Reference!$J$47:$K$64,2,FALSE)","v":{"$error":"#N/A"}},null,{"$f":"VLOOKUP($W408,Reference!$AL$4:$AO$322,4,FALSE)","v":{"$error":"#N/A"}}]
[null,null,null,null,null,null,null,null,null,null,null,null,null,null,null,null,null,null,null,null,null,null,null,null,null,null,null,null,null,null,null,null,null,null,null,null,null,null,null,null,null,null,null,null,null,null,null,null,null,null,null,null,null,{"$f":"VLOOKUP($W409,Reference!$AL$4:$AL$322,1,FALSE)","v":{"$error":"#N/A"}},{"$f":"VLOOKUP($N409,Reference!$J$47:$K$64,2,FALSE)","v":{"$error":"#N/A"}},null,{"$f":"VLOOKUP($W409,Reference!$AL$4:$AO$322,4,FALSE)","v":{"$error":"#N/A"}}]
[null,null,null,null,null,null,null,null,null,null,null,null,null,null,null,null,null,null,null,null,null,null,null,null,null,null,null,null,null,null,null,null,null,null,null,null,null,null,null,null,null,null,null,null,null,null,null,null,null,null,null,null,null,{"$f":"VLOOKUP($W410,Reference!$AL$4:$AL$322,1,FALSE)","v":{"$error":"#N/A"}},{"$f":"VLOOKUP($N410,Reference!$J$47:$K$64,2,FALSE)","v":{"$error":"#N/A"}},null,{"$f":"VLOOKUP($W410,Reference!$AL$4:$AO$322,4,FALSE)","v":{"$error":"#N/A"}}]
[null,null,null,null,null,null,null,null,null,null,null,null,null,null,null,null,null,null,null,null,null,null,null,null,null,null,null,null,null,null,null,null,null,null,null,null,null,null,null,null,null,null,null,null,null,null,null,null,null,null,null,null,null,{"$f":"VLOOKUP($W411,Reference!$AL$4:$AL$322,1,FALSE)","v":{"$error":"#N/A"}},{"$f":"VLOOKUP($N411,Reference!$J$47:$K$64,2,FALSE)","v":{"$error":"#N/A"}},null,{"$f":"VLOOKUP($W411,Reference!$AL$4:$AO$322,4,FALSE)","v":{"$error":"#N/A"}}]
[null,null,null,null,null,null,null,null,null,null,null,null,null,null,null,null,null,null,null,null,null,null,null,null,null,null,null,null,null,null,null,null,null,null,null,null,null,null,null,null,null,null,null,null,null,null,null,null,null,null,null,null,null,{"$f":"VLOOKUP($W412,Reference!$AL$4:$AL$322,1,FALSE)","v":{"$error":"#N/A"}},{"$f":"VLOOKUP($N412,Reference!$J$47:$K$64,2,FALSE)","v":{"$error":"#N/A"}},null,{"$f":"VLOOKUP($W412,Reference!$AL$4:$AO$322,4,FALSE)","v":{"$error":"#N/A"}}]
[null,null,null,null,null,null,null,null,null,null,null,null,null,null,null,null,null,null,null,null,null,null,null,null,null,null,null,null,null,null,null,null,null,null,null,null,null,null,null,null,null,null,null,null,null,null,null,null,null,null,null,null,null,{"$f":"VLOOKUP($W413,Reference!$AL$4:$AL$322,1,FALSE)","v":{"$error":"#N/A"}},{"$f":"VLOOKUP($N413,Reference!$J$47:$K$64,2,FALSE)","v":{"$error":"#N/A"}},null,{"$f":"VLOOKUP($W413,Reference!$AL$4:$AO$322,4,FALSE)","v":{"$error":"#N/A"}}]
[null,null,null,null,null,null,null,null,null,null,null,null,null,null,null,null,null,null,null,null,null,null,null,null,null,null,null,null,null,null,null,null,null,null,null,null,null,null,null,null,null,null,null,null,null,null,null,null,null,null,null,null,null,{"$f":"VLOOKUP($W414,Reference!$AL$4:$AL$322,1,FALSE)","v":{"$error":"#N/A"}},{"$f":"VLOOKUP($N414,Reference!$J$47:$K$64,2,FALSE)","v":{"$error":"#N/A"}},null,{"$f":"VLOOKUP($W414,Reference!$AL$4:$AO$322,4,FALSE)","v":{"$error":"#N/A"}}]
[null,null,null,null,null,null,null,null,null,null,null,null,null,null,null,null,null,null,null,null,null,null,null,null,null,null,null,null,null,null,null,null,null,null,null,null,null,null,null,null,null,null,null,null,null,null,null,null,null,null,null,null,null,{"$f":"VLOOKUP($W415,Reference!$AL$4:$AL$322,1,FALSE)","v":{"$error":"#N/A"}},{"$f":"VLOOKUP($N415,Reference!$J$47:$K$64,2,FALSE)","v":{"$error":"#N/A"}},null,{"$f":"VLOOKUP($W415,Reference!$AL$4:$AO$322,4,FALSE)","v":{"$error":"#N/A"}}]
[null,null,null,null,null,null,null,null,null,null,null,null,null,null,null,null,null,null,null,null,null,null,null,null,null,null,null,null,null,null,null,null,null,null,null,null,null,null,null,null,null,null,null,null,null,null,null,null,null,null,null,null,null,{"$f":"VLOOKUP($W416,Reference!$AL$4:$AL$322,1,FALSE)","v":{"$error":"#N/A"}},{"$f":"VLOOKUP($N416,Reference!$J$47:$K$64,2,FALSE)","v":{"$error":"#N/A"}},null,{"$f":"VLOOKUP($W416,Reference!$AL$4:$AO$322,4,FALSE)","v":{"$error":"#N/A"}}]
[null,null,null,null,null,null,null,null,null,null,null,null,null,null,null,null,null,null,null,null,null,null,null,null,null,null,null,null,null,null,null,null,null,null,null,null,null,null,null,null,null,null,null,null,null,null,null,null,null,null,null,null,null,{"$f":"VLOOKUP($W417,Reference!$AL$4:$AL$322,1,FALSE)","v":{"$error":"#N/A"}},{"$f":"VLOOKUP($N417,Reference!$J$47:$K$64,2,FALSE)","v":{"$error":"#N/A"}},null,{"$f":"VLOOKUP($W417,Reference!$AL$4:$AO$322,4,FALSE)","v":{"$error":"#N/A"}}]
[null,null,null,null,null,null,null,null,null,null,null,null,null,null,null,null,null,null,null,null,null,null,null,null,null,null,null,null,null,null,null,null,null,null,null,null,null,null,null,null,null,null,null,null,null,null,null,null,null,null,null,null,null,{"$f":"VLOOKUP($W418,Reference!$AL$4:$AL$322,1,FALSE)","v":{"$error":"#N/A"}},{"$f":"VLOOKUP($N418,Reference!$J$47:$K$64,2,FALSE)","v":{"$error":"#N/A"}},null,{"$f":"VLOOKUP($W418,Reference!$AL$4:$AO$322,4,FALSE)","v":{"$error":"#N/A"}}]
[null,null,null,null,null,null,null,null,null,null,null,null,null,null,null,null,null,null,null,null,null,null,null,null,null,null,null,null,null,null,null,null,null,null,null,null,null,null,null,null,null,null,null,null,null,null,null,null,null,null,null,null,null,{"$f":"VLOOKUP($W419,Reference!$AL$4:$AL$322,1,FALSE)","v":{"$error":"#N/A"}},{"$f":"VLOOKUP($N419,Reference!$J$47:$K$64,2,FALSE)","v":{"$error":"#N/A"}},null,{"$f":"VLOOKUP($W419,Reference!$AL$4:$AO$322,4,FALSE)","v":{"$error":"#N/A"}}]
[null,null,null,null,null,null,null,null,null,null,null,null,null,null,null,null,null,null,null,null,null,null,null,null,null,null,null,null,null,null,null,null,null,null,null,null,null,null,null,null,null,null,null,null,null,null,null,null,null,null,null,null,null,{"$f":"VLOOKUP($W420,Reference!$AL$4:$AL$322,1,FALSE)","v":{"$error":"#N/A"}},{"$f":"VLOOKUP($N420,Reference!$J$47:$K$64,2,FALSE)","v":{"$error":"#N/A"}},null,{"$f":"VLOOKUP($W420,Reference!$AL$4:$AO$322,4,FALSE)","v":{"$error":"#N/A"}}]
[null,null,null,null,null,null,null,null,null,null,null,null,null,null,null,null,null,null,null,null,null,null,null,null,null,null,null,null,null,null,null,null,null,null,null,null,null,null,null,null,null,null,null,null,null,null,null,null,null,null,null,null,null,{"$f":"VLOOKUP($W421,Reference!$AL$4:$AL$322,1,FALSE)","v":{"$error":"#N/A"}},{"$f":"VLOOKUP($N421,Reference!$J$47:$K$64,2,FALSE)","v":{"$error":"#N/A"}},null,{"$f":"VLOOKUP($W421,Reference!$AL$4:$AO$322,4,FALSE)","v":{"$error":"#N/A"}}]
[null,null,null,null,null,null,null,null,null,null,null,null,null,null,null,null,null,null,null,null,null,null,null,null,null,null,null,null,null,null,null,null,null,null,null,null,null,null,null,null,null,null,null,null,null,null,null,null,null,null,null,null,null,{"$f":"VLOOKUP($W422,Reference!$AL$4:$AL$322,1,FALSE)","v":{"$error":"#N/A"}},{"$f":"VLOOKUP($N422,Reference!$J$47:$K$64,2,FALSE)","v":{"$error":"#N/A"}},null,{"$f":"VLOOKUP($W422,Reference!$AL$4:$AO$322,4,FALSE)","v":{"$error":"#N/A"}}]
[null,null,null,null,null,null,null,null,null,null,null,null,null,null,null,null,null,null,null,null,null,null,null,null,null,null,null,null,null,null,null,null,null,null,null,null,null,null,null,null,null,null,null,null,null,null,null,null,null,null,null,null,null,{"$f":"VLOOKUP($W423,Reference!$AL$4:$AL$322,1,FALSE)","v":{"$error":"#N/A"}},{"$f":"VLOOKUP($N423,Reference!$J$47:$K$64,2,FALSE)","v":{"$error":"#N/A"}},null,{"$f":"VLOOKUP($W423,Reference!$AL$4:$AO$322,4,FALSE)","v":{"$error":"#N/A"}}]
[null,null,null,null,null,null,null,null,null,null,null,null,null,null,null,null,null,null,null,null,null,null,null,null,null,null,null,null,null,null,null,null,null,null,null,null,null,null,null,null,null,null,null,null,null,null,null,null,null,null,null,null,null,{"$f":"VLOOKUP($W424,Reference!$AL$4:$AL$322,1,FALSE)","v":{"$error":"#N/A"}},{"$f":"VLOOKUP($N424,Reference!$J$47:$K$64,2,FALSE)","v":{"$error":"#N/A"}},null,{"$f":"VLOOKUP($W424,Reference!$AL$4:$AO$322,4,FALSE)","v":{"$error":"#N/A"}}]
[null,null,null,null,null,null,null,null,null,null,null,null,null,null,null,null,null,null,null,null,null,null,null,null,null,null,null,null,null,null,null,null,null,null,null,null,null,null,null,null,null,null,null,null,null,null,null,null,null,null,null,null,null,{"$f":"VLOOKUP($W425,Reference!$AL$4:$AL$322,1,FALSE)","v":{"$error":"#N/A"}},{"$f":"VLOOKUP($N425,Reference!$J$47:$K$64,2,FALSE)","v":{"$error":"#N/A"}},null,{"$f":"VLOOKUP($W425,Reference!$AL$4:$AO$322,4,FALSE)","v":{"$error":"#N/A"}}]
[null,null,null,null,null,null,null,null,null,null,null,null,null,null,null,null,null,null,null,null,null,null,null,null,null,null,null,null,null,null,null,null,null,null,null,null,null,null,null,null,null,null,null,null,null,null,null,null,null,null,null,null,null,{"$f":"VLOOKUP($W426,Reference!$AL$4:$AL$322,1,FALSE)","v":{"$error":"#N/A"}},{"$f":"VLOOKUP($N426,Reference!$J$47:$K$64,2,FALSE)","v":{"$error":"#N/A"}},null,{"$f":"VLOOKUP($W426,Reference!$AL$4:$AO$322,4,FALSE)","v":{"$error":"#N/A"}}]
[null,null,null,null,null,null,null,null,null,null,null,null,null,null,null,null,null,null,null,null,null,null,null,null,null,null,null,null,null,null,null,null,null,null,null,null,null,null,null,null,null,null,null,null,null,null,null,null,null,null,null,null,null,{"$f":"VLOOKUP($W427,Reference!$AL$4:$AL$322,1,FALSE)","v":{"$error":"#N/A"}},{"$f":"VLOOKUP($N427,Reference!$J$47:$K$64,2,FALSE)","v":{"$error":"#N/A"}},null,{"$f":"VLOOKUP($W427,Reference!$AL$4:$AO$322,4,FALSE)","v":{"$error":"#N/A"}}]
[null,null,null,null,null,null,null,null,null,null,null,null,null,null,null,null,null,null,null,null,null,null,null,null,null,null,null,null,null,null,null,null,null,null,null,null,null,null,null,null,null,null,null,null,null,null,null,null,null,null,null,null,null,{"$f":"VLOOKUP($W428,Reference!$AL$4:$AL$322,1,FALSE)","v":{"$error":"#N/A"}},{"$f":"VLOOKUP($N428,Reference!$J$47:$K$64,2,FALSE)","v":{"$error":"#N/A"}},null,{"$f":"VLOOKUP($W428,Reference!$AL$4:$AO$322,4,FALSE)","v":{"$error":"#N/A"}}]
[null,null,null,null,null,null,null,null,null,null,null,null,null,null,null,null,null,null,null,null,null,null,null,null,null,null,null,null,null,null,null,null,null,null,null,null,null,null,null,null,null,null,null,null,null,null,null,null,null,null,null,null,null,{"$f":"VLOOKUP($W429,Reference!$AL$4:$AL$322,1,FALSE)","v":{"$error":"#N/A"}},{"$f":"VLOOKUP($N429,Reference!$J$47:$K$64,2,FALSE)","v":{"$error":"#N/A"}},null,{"$f":"VLOOKUP($W429,Reference!$AL$4:$AO$322,4,FALSE)","v":{"$error":"#N/A"}}]
[null,null,null,null,null,null,null,null,null,null,null,null,null,null,null,null,null,null,null,null,null,null,null,null,null,null,null,null,null,null,null,null,null,null,null,null,null,null,null,null,null,null,null,null,null,null,null,null,null,null,null,null,null,{"$f":"VLOOKUP($W430,Reference!$AL$4:$AL$322,1,FALSE)","v":{"$error":"#N/A"}},{"$f":"VLOOKUP($N430,Reference!$J$47:$K$64,2,FALSE)","v":{"$error":"#N/A"}},null,{"$f":"VLOOKUP($W430,Reference!$AL$4:$AO$322,4,FALSE)","v":{"$error":"#N/A"}}]
[null,null,null,null,null,null,null,null,null,null,null,null,null,null,null,null,null,null,null,null,null,null,null,null,null,null,null,null,null,null,null,null,null,null,null,null,null,null,null,null,null,null,null,null,null,null,null,null,null,null,null,null,null,{"$f":"VLOOKUP($W431,Reference!$AL$4:$AL$322,1,FALSE)","v":{"$error":"#N/A"}},{"$f":"VLOOKUP($N431,Reference!$J$47:$K$64,2,FALSE)","v":{"$error":"#N/A"}},null,{"$f":"VLOOKUP($W431,Reference!$AL$4:$AO$322,4,FALSE)","v":{"$error":"#N/A"}}]
[null,null,null,null,null,null,null,null,null,null,null,null,null,null,null,null,null,null,null,null,null,null,null,null,null,null,null,null,null,null,null,null,null,null,null,null,null,null,null,null,null,null,null,null,null,null,null,null,null,null,null,null,null,{"$f":"VLOOKUP($W432,Reference!$AL$4:$AL$322,1,FALSE)","v":{"$error":"#N/A"}},{"$f":"VLOOKUP($N432,Reference!$J$47:$K$64,2,FALSE)","v":{"$error":"#N/A"}},null,{"$f":"VLOOKUP($W432,Reference!$AL$4:$AO$322,4,FALSE)","v":{"$error":"#N/A"}}]
[null,null,null,null,null,null,null,null,null,null,null,null,null,null,null,null,null,null,null,null,null,null,null,null,null,null,null,null,null,null,null,null,null,null,null,null,null,null,null,null,null,null,null,null,null,null,null,null,null,null,null,null,null,{"$f":"VLOOKUP($W433,Reference!$AL$4:$AL$322,1,FALSE)","v":{"$error":"#N/A"}},{"$f":"VLOOKUP($N433,Reference!$J$47:$K$64,2,FALSE)","v":{"$error":"#N/A"}},null,{"$f":"VLOOKUP($W433,Reference!$AL$4:$AO$322,4,FALSE)","v":{"$error":"#N/A"}}]
[null,null,null,null,null,null,null,null,null,null,null,null,null,null,null,null,null,null,null,null,null,null,null,null,null,null,null,null,null,null,null,null,null,null,null,null,null,null,null,null,null,null,null,null,null,null,null,null,null,null,null,null,null,{"$f":"VLOOKUP($W434,Reference!$AL$4:$AL$322,1,FALSE)","v":{"$error":"#N/A"}},{"$f":"VLOOKUP($N434,Reference!$J$47:$K$64,2,FALSE)","v":{"$error":"#N/A"}},null,{"$f":"VLOOKUP($W434,Reference!$AL$4:$AO$322,4,FALSE)","v":{"$error":"#N/A"}}]
[null,null,null,null,null,null,null,null,null,null,null,null,null,null,null,null,null,null,null,null,null,null,null,null,null,null,null,null,null,null,null,null,null,null,null,null,null,null,null,null,null,null,null,null,null,null,null,null,null,null,null,null,null,{"$f":"VLOOKUP($W435,Reference!$AL$4:$AL$322,1,FALSE)","v":{"$error":"#N/A"}},{"$f":"VLOOKUP($N435,Reference!$J$47:$K$64,2,FALSE)","v":{"$error":"#N/A"}},null,{"$f":"VLOOKUP($W435,Reference!$AL$4:$AO$322,4,FALSE)","v":{"$error":"#N/A"}}]
[null,null,null,null,null,null,null,null,null,null,null,null,null,null,null,null,null,null,null,null,null,null,null,null,null,null,null,null,null,null,null,null,null,null,null,null,null,null,null,null,null,null,null,null,null,null,null,null,null,null,null,null,null,{"$f":"VLOOKUP($W436,Reference!$AL$4:$AL$322,1,FALSE)","v":{"$error":"#N/A"}},{"$f":"VLOOKUP($N436,Reference!$J$47:$K$64,2,FALSE)","v":{"$error":"#N/A"}},null,{"$f":"VLOOKUP($W436,Reference!$AL$4:$AO$322,4,FALSE)","v":{"$error":"#N/A"}}]
[null,null,null,null,null,null,null,null,null,null,null,null,null,null,null,null,null,null,null,null,null,null,null,null,null,null,null,null,null,null,null,null,null,null,null,null,null,null,null,null,null,null,null,null,null,null,null,null,null,null,null,null,null,{"$f":"VLOOKUP($W437,Reference!$AL$4:$AL$322,1,FALSE)","v":{"$error":"#N/A"}},{"$f":"VLOOKUP($N437,Reference!$J$47:$K$64,2,FALSE)","v":{"$error":"#N/A"}},null,{"$f":"VLOOKUP($W437,Reference!$AL$4:$AO$322,4,FALSE)","v":{"$error":"#N/A"}}]
[null,null,null,null,null,null,null,null,null,null,null,null,null,null,null,null,null,null,null,null,null,null,null,null,null,null,null,null,null,null,null,null,null,null,null,null,null,null,null,null,null,null,null,null,null,null,null,null,null,null,null,null,null,{"$f":"VLOOKUP($W438,Reference!$AL$4:$AL$322,1,FALSE)","v":{"$error":"#N/A"}},{"$f":"VLOOKUP($N438,Reference!$J$47:$K$64,2,FALSE)","v":{"$error":"#N/A"}},null,{"$f":"VLOOKUP($W438,Reference!$AL$4:$AO$322,4,FALSE)","v":{"$error":"#N/A"}}]
[null,null,null,null,null,null,null,null,null,null,null,null,null,null,null,null,null,null,null,null,null,null,null,null,null,null,null,null,null,null,null,null,null,null,null,null,null,null,null,null,null,null,null,null,null,null,null,null,null,null,null,null,null,{"$f":"VLOOKUP($W439,Reference!$AL$4:$AL$322,1,FALSE)","v":{"$error":"#N/A"}},{"$f":"VLOOKUP($N439,Reference!$J$47:$K$64,2,FALSE)","v":{"$error":"#N/A"}},null,{"$f":"VLOOKUP($W439,Reference!$AL$4:$AO$322,4,FALSE)","v":{"$error":"#N/A"}}]
[null,null,null,null,null,null,null,null,null,null,null,null,null,null,null,null,null,null,null,null,null,null,null,null,null,null,null,null,null,null,null,null,null,null,null,null,null,null,null,null,null,null,null,null,null,null,null,null,null,null,null,null,null,{"$f":"VLOOKUP($W440,Reference!$AL$4:$AL$322,1,FALSE)","v":{"$error":"#N/A"}},{"$f":"VLOOKUP($N440,Reference!$J$47:$K$64,2,FALSE)","v":{"$error":"#N/A"}},null,{"$f":"VLOOKUP($W440,Reference!$AL$4:$AO$322,4,FALSE)","v":{"$error":"#N/A"}}]
[null,null,null,null,null,null,null,null,null,null,null,null,null,null,null,null,null,null,null,null,null,null,null,null,null,null,null,null,null,null,null,null,null,null,null,null,null,null,null,null,null,null,null,null,null,null,null,null,null,null,null,null,null,{"$f":"VLOOKUP($W441,Reference!$AL$4:$AL$322,1,FALSE)","v":{"$error":"#N/A"}},{"$f":"VLOOKUP($N441,Reference!$J$47:$K$64,2,FALSE)","v":{"$error":"#N/A"}},null,{"$f":"VLOOKUP($W441,Reference!$AL$4:$AO$322,4,FALSE)","v":{"$error":"#N/A"}}]
[null,null,null,null,null,null,null,null,null,null,null,null,null,null,null,null,null,null,null,null,null,null,null,null,null,null,null,null,null,null,null,null,null,null,null,null,null,null,null,null,null,null,null,null,null,null,null,null,null,null,null,null,null,{"$f":"VLOOKUP($W442,Reference!$AL$4:$AL$322,1,FALSE)","v":{"$error":"#N/A"}},{"$f":"VLOOKUP($N442,Reference!$J$47:$K$64,2,FALSE)","v":{"$error":"#N/A"}},null,{"$f":"VLOOKUP($W442,Reference!$AL$4:$AO$322,4,FALSE)","v":{"$error":"#N/A"}}]
[null,null,null,null,null,null,null,null,null,null,null,null,null,null,null,null,null,null,null,null,null,null,null,null,null,null,null,null,null,null,null,null,null,null,null,null,null,null,null,null,null,null,null,null,null,null,null,null,null,null,null,null,null,{"$f":"VLOOKUP($W443,Reference!$AL$4:$AL$322,1,FALSE)","v":{"$error":"#N/A"}},{"$f":"VLOOKUP($N443,Reference!$J$47:$K$64,2,FALSE)","v":{"$error":"#N/A"}},null,{"$f":"VLOOKUP($W443,Reference!$AL$4:$AO$322,4,FALSE)","v":{"$error":"#N/A"}}]
[null,null,null,null,null,null,null,null,null,null,null,null,null,null,null,null,null,null,null,null,null,null,null,null,null,null,null,null,null,null,null,null,null,null,null,null,null,null,null,null,null,null,null,null,null,null,null,null,null,null,null,null,null,{"$f":"VLOOKUP($W444,Reference!$AL$4:$AL$322,1,FALSE)","v":{"$error":"#N/A"}},{"$f":"VLOOKUP($N444,Reference!$J$47:$K$64,2,FALSE)","v":{"$error":"#N/A"}},null,{"$f":"VLOOKUP($W444,Reference!$AL$4:$AO$322,4,FALSE)","v":{"$error":"#N/A"}}]
[null,null,null,null,null,null,null,null,null,null,null,null,null,null,null,null,null,null,null,null,null,null,null,null,null,null,null,null,null,null,null,null,null,null,null,null,null,null,null,null,null,null,null,null,null,null,null,null,null,null,null,null,null,{"$f":"VLOOKUP($W445,Reference!$AL$4:$AL$322,1,FALSE)","v":{"$error":"#N/A"}},{"$f":"VLOOKUP($N445,Reference!$J$47:$K$64,2,FALSE)","v":{"$error":"#N/A"}},null,{"$f":"VLOOKUP($W445,Reference!$AL$4:$AO$322,4,FALSE)","v":{"$error":"#N/A"}}]
[null,null,null,null,null,null,null,null,null,null,null,null,null,null,null,null,null,null,null,null,null,null,null,null,null,null,null,null,null,null,null,null,null,null,null,null,null,null,null,null,null,null,null,null,null,null,null,null,null,null,null,null,null,{"$f":"VLOOKUP($W446,Reference!$AL$4:$AL$322,1,FALSE)","v":{"$error":"#N/A"}},{"$f":"VLOOKUP($N446,Reference!$J$47:$K$64,2,FALSE)","v":{"$error":"#N/A"}},null,{"$f":"VLOOKUP($W446,Reference!$AL$4:$AO$322,4,FALSE)","v":{"$error":"#N/A"}}]
[null,null,null,null,null,null,null,null,null,null,null,null,null,null,null,null,null,null,null,null,null,null,null,null,null,null,null,null,null,null,null,null,null,null,null,null,null,null,null,null,null,null,null,null,null,null,null,null,null,null,null,null,null,{"$f":"VLOOKUP($W447,Reference!$AL$4:$AL$322,1,FALSE)","v":{"$error":"#N/A"}},{"$f":"VLOOKUP($N447,Reference!$J$47:$K$64,2,FALSE)","v":{"$error":"#N/A"}},null,{"$f":"VLOOKUP($W447,Reference!$AL$4:$AO$322,4,FALSE)","v":{"$error":"#N/A"}}]
[null,null,null,null,null,null,null,null,null,null,null,null,null,null,null,null,null,null,null,null,null,null,null,null,null,null,null,null,null,null,null,null,null,null,null,null,null,null,null,null,null,null,null,null,null,null,null,null,null,null,null,null,null,{"$f":"VLOOKUP($W448,Reference!$AL$4:$AL$322,1,FALSE)","v":{"$error":"#N/A"}},{"$f":"VLOOKUP($N448,Reference!$J$47:$K$64,2,FALSE)","v":{"$error":"#N/A"}},null,{"$f":"VLOOKUP($W448,Reference!$AL$4:$AO$322,4,FALSE)","v":{"$error":"#N/A"}}]
[null,null,null,null,null,null,null,null,null,null,null,null,null,null,null,null,null,null,null,null,null,null,null,null,null,null,null,null,null,null,null,null,null,null,null,null,null,null,null,null,null,null,null,null,null,null,null,null,null,null,null,null,null,{"$f":"VLOOKUP($W449,Reference!$AL$4:$AL$322,1,FALSE)","v":{"$error":"#N/A"}},{"$f":"VLOOKUP($N449,Reference!$J$47:$K$64,2,FALSE)","v":{"$error":"#N/A"}},null,{"$f":"VLOOKUP($W449,Reference!$AL$4:$AO$322,4,FALSE)","v":{"$error":"#N/A"}}]
[null,null,null,null,null,null,null,null,null,null,null,null,null,null,null,null,null,null,null,null,null,null,null,null,null,null,null,null,null,null,null,null,null,null,null,null,null,null,null,null,null,null,null,null,null,null,null,null,null,null,null,null,null,{"$f":"VLOOKUP($W450,Reference!$AL$4:$AL$322,1,FALSE)","v":{"$error":"#N/A"}},{"$f":"VLOOKUP($N450,Reference!$J$47:$K$64,2,FALSE)","v":{"$error":"#N/A"}},null,{"$f":"VLOOKUP($W450,Reference!$AL$4:$AO$322,4,FALSE)","v":{"$error":"#N/A"}}]
[null,null,null,null,null,null,null,null,null,null,null,null,null,null,null,null,null,null,null,null,null,null,null,null,null,null,null,null,null,null,null,null,null,null,null,null,null,null,null,null,null,null,null,null,null,null,null,null,null,null,null,null,null,{"$f":"VLOOKUP($W451,Reference!$AL$4:$AL$322,1,FALSE)","v":{"$error":"#N/A"}},{"$f":"VLOOKUP($N451,Reference!$J$47:$K$64,2,FALSE)","v":{"$error":"#N/A"}},null,{"$f":"VLOOKUP($W451,Reference!$AL$4:$AO$322,4,FALSE)","v":{"$error":"#N/A"}}]
[null,null,null,null,null,null,null,null,null,null,null,null,null,null,null,null,null,null,null,null,null,null,null,null,null,null,null,null,null,null,null,null,null,null,null,null,null,null,null,null,null,null,null,null,null,null,null,null,null,null,null,null,null,{"$f":"VLOOKUP($W452,Reference!$AL$4:$AL$322,1,FALSE)","v":{"$error":"#N/A"}},{"$f":"VLOOKUP($N452,Reference!$J$47:$K$64,2,FALSE)","v":{"$error":"#N/A"}},null,{"$f":"VLOOKUP($W452,Reference!$AL$4:$AO$322,4,FALSE)","v":{"$error":"#N/A"}}]
[null,null,null,null,null,null,null,null,null,null,null,null,null,null,null,null,null,null,null,null,null,null,null,null,null,null,null,null,null,null,null,null,null,null,null,null,null,null,null,null,null,null,null,null,null,null,null,null,null,null,null,null,null,{"$f":"VLOOKUP($W453,Reference!$AL$4:$AL$322,1,FALSE)","v":{"$error":"#N/A"}},{"$f":"VLOOKUP($N453,Reference!$J$47:$K$64,2,FALSE)","v":{"$error":"#N/A"}},null,{"$f":"VLOOKUP($W453,Reference!$AL$4:$AO$322,4,FALSE)","v":{"$error":"#N/A"}}]
[null,null,null,null,null,null,null,null,null,null,null,null,null,null,null,null,null,null,null,null,null,null,null,null,null,null,null,null,null,null,null,null,null,null,null,null,null,null,null,null,null,null,null,null,null,null,null,null,null,null,null,null,null,{"$f":"VLOOKUP($W454,Reference!$AL$4:$AL$322,1,FALSE)","v":{"$error":"#N/A"}},{"$f":"VLOOKUP($N454,Reference!$J$47:$K$64,2,FALSE)","v":{"$error":"#N/A"}},null,{"$f":"VLOOKUP($W454,Reference!$AL$4:$AO$322,4,FALSE)","v":{"$error":"#N/A"}}]
[null,null,null,null,null,null,null,null,null,null,null,null,null,null,null,null,null,null,null,null,null,null,null,null,null,null,null,null,null,null,null,null,null,null,null,null,null,null,null,null,null,null,null,null,null,null,null,null,null,null,null,null,null,{"$f":"VLOOKUP($W455,Reference!$AL$4:$AL$322,1,FALSE)","v":{"$error":"#N/A"}},{"$f":"VLOOKUP($N455,Reference!$J$47:$K$64,2,FALSE)","v":{"$error":"#N/A"}},null,{"$f":"VLOOKUP($W455,Reference!$AL$4:$AO$322,4,FALSE)","v":{"$error":"#N/A"}}]
[null,null,null,null,null,null,null,null,null,null,null,null,null,null,null,null,null,null,null,null,null,null,null,null,null,null,null,null,null,null,null,null,null,null,null,null,null,null,null,null,null,null,null,null,null,null,null,null,null,null,null,null,null,{"$f":"VLOOKUP($W456,Reference!$AL$4:$AL$322,1,FALSE)","v":{"$error":"#N/A"}},{"$f":"VLOOKUP($N456,Reference!$J$47:$K$64,2,FALSE)","v":{"$error":"#N/A"}},null,{"$f":"VLOOKUP($W456,Reference!$AL$4:$AO$322,4,FALSE)","v":{"$error":"#N/A"}}]
[null,null,null,null,null,null,null,null,null,null,null,null,null,null,null,null,null,null,null,null,null,null,null,null,null,null,null,null,null,null,null,null,null,null,null,null,null,null,null,null,null,null,null,null,null,null,null,null,null,null,null,null,null,{"$f":"VLOOKUP($W457,Reference!$AL$4:$AL$322,1,FALSE)","v":{"$error":"#N/A"}},{"$f":"VLOOKUP($N457,Reference!$J$47:$K$64,2,FALSE)","v":{"$error":"#N/A"}},null,{"$f":"VLOOKUP($W457,Reference!$AL$4:$AO$322,4,FALSE)","v":{"$error":"#N/A"}}]
[null,null,null,null,null,null,null,null,null,null,null,null,null,null,null,null,null,null,null,null,null,null,null,null,null,null,null,null,null,null,null,null,null,null,null,null,null,null,null,null,null,null,null,null,null,null,null,null,null,null,null,null,null,{"$f":"VLOOKUP($W458,Reference!$AL$4:$AL$322,1,FALSE)","v":{"$error":"#N/A"}},{"$f":"VLOOKUP($N458,Reference!$J$47:$K$64,2,FALSE)","v":{"$error":"#N/A"}},null,{"$f":"VLOOKUP($W458,Reference!$AL$4:$AO$322,4,FALSE)","v":{"$error":"#N/A"}}]
[null,null,null,null,null,null,null,null,null,null,null,null,null,null,null,null,null,null,null,null,null,null,null,null,null,null,null,null,null,null,null,null,null,null,null,null,null,null,null,null,null,null,null,null,null,null,null,null,null,null,null,null,null,{"$f":"VLOOKUP($W459,Reference!$AL$4:$AL$322,1,FALSE)","v":{"$error":"#N/A"}},{"$f":"VLOOKUP($N459,Reference!$J$47:$K$64,2,FALSE)","v":{"$error":"#N/A"}},null,{"$f":"VLOOKUP($W459,Reference!$AL$4:$AO$322,4,FALSE)","v":{"$error":"#N/A"}}]
[null,null,null,null,null,null,null,null,null,null,null,null,null,null,null,null,null,null,null,null,null,null,null,null,null,null,null,null,null,null,null,null,null,null,null,null,null,null,null,null,null,null,null,null,null,null,null,null,null,null,null,null,null,{"$f":"VLOOKUP($W460,Reference!$AL$4:$AL$322,1,FALSE)","v":{"$error":"#N/A"}},{"$f":"VLOOKUP($N460,Reference!$J$47:$K$64,2,FALSE)","v":{"$error":"#N/A"}},null,{"$f":"VLOOKUP($W460,Reference!$AL$4:$AO$322,4,FALSE)","v":{"$error":"#N/A"}}]
[null,null,null,null,null,null,null,null,null,null,null,null,null,null,null,null,null,null,null,null,null,null,null,null,null,null,null,null,null,null,null,null,null,null,null,null,null,null,null,null,null,null,null,null,null,null,null,null,null,null,null,null,null,{"$f":"VLOOKUP($W461,Reference!$AL$4:$AL$322,1,FALSE)","v":{"$error":"#N/A"}},{"$f":"VLOOKUP($N461,Reference!$J$47:$K$64,2,FALSE)","v":{"$error":"#N/A"}},null,{"$f":"VLOOKUP($W461,Reference!$AL$4:$AO$322,4,FALSE)","v":{"$error":"#N/A"}}]
[null,null,null,null,null,null,null,null,null,null,null,null,null,null,null,null,null,null,null,null,null,null,null,null,null,null,null,null,null,null,null,null,null,null,null,null,null,null,null,null,null,null,null,null,null,null,null,null,null,null,null,null,null,{"$f":"VLOOKUP($W462,Reference!$AL$4:$AL$322,1,FALSE)","v":{"$error":"#N/A"}},{"$f":"VLOOKUP($N462,Reference!$J$47:$K$64,2,FALSE)","v":{"$error":"#N/A"}},null,{"$f":"VLOOKUP($W462,Reference!$AL$4:$AO$322,4,FALSE)","v":{"$error":"#N/A"}}]
[null,null,null,null,null,null,null,null,null,null,null,null,null,null,null,null,null,null,null,null,null,null,null,null,null,null,null,null,null,null,null,null,null,null,null,null,null,null,null,null,null,null,null,null,null,null,null,null,null,null,null,null,null,{"$f":"VLOOKUP($W463,Reference!$AL$4:$AL$322,1,FALSE)","v":{"$error":"#N/A"}},{"$f":"VLOOKUP($N463,Reference!$J$47:$K$64,2,FALSE)","v":{"$error":"#N/A"}},null,{"$f":"VLOOKUP($W463,Reference!$AL$4:$AO$322,4,FALSE)","v":{"$error":"#N/A"}}]
[null,null,null,null,null,null,null,null,null,null,null,null,null,null,null,null,null,null,null,null,null,null,null,null,null,null,null,null,null,null,null,null,null,null,null,null,null,null,null,null,null,null,null,null,null,null,null,null,null,null,null,null,null,{"$f":"VLOOKUP($W464,Reference!$AL$4:$AL$322,1,FALSE)","v":{"$error":"#N/A"}},{"$f":"VLOOKUP($N464,Reference!$J$47:$K$64,2,FALSE)","v":{"$error":"#N/A"}},null,{"$f":"VLOOKUP($W464,Reference!$AL$4:$AO$322,4,FALSE)","v":{"$error":"#N/A"}}]
[null,null,null,null,null,null,null,null,null,null,null,null,null,null,null,null,null,null,null,null,null,null,null,null,null,null,null,null,null,null,null,null,null,null,null,null,null,null,null,null,null,null,null,null,null,null,null,null,null,null,null,null,null,{"$f":"VLOOKUP($W465,Reference!$AL$4:$AL$322,1,FALSE)","v":{"$error":"#N/A"}},{"$f":"VLOOKUP($N465,Reference!$J$47:$K$64,2,FALSE)","v":{"$error":"#N/A"}},null,{"$f":"VLOOKUP($W465,Reference!$AL$4:$AO$322,4,FALSE)","v":{"$error":"#N/A"}}]
[null,null,null,null,null,null,null,null,null,null,null,null,null,null,null,null,null,null,null,null,null,null,null,null,null,null,null,null,null,null,null,null,null,null,null,null,null,null,null,null,null,null,null,null,null,null,null,null,null,null,null,null,null,{"$f":"VLOOKUP($W466,Reference!$AL$4:$AL$322,1,FALSE)","v":{"$error":"#N/A"}},{"$f":"VLOOKUP($N466,Reference!$J$47:$K$64,2,FALSE)","v":{"$error":"#N/A"}},null,{"$f":"VLOOKUP($W466,Reference!$AL$4:$AO$322,4,FALSE)","v":{"$error":"#N/A"}}]
[null,null,null,null,null,null,null,null,null,null,null,null,null,null,null,null,null,null,null,null,null,null,null,null,null,null,null,null,null,null,null,null,null,null,null,null,null,null,null,null,null,null,null,null,null,null,null,null,null,null,null,null,null,{"$f":"VLOOKUP($W467,Reference!$AL$4:$AL$322,1,FALSE)","v":{"$error":"#N/A"}},{"$f":"VLOOKUP($N467,Reference!$J$47:$K$64,2,FALSE)","v":{"$error":"#N/A"}},null,{"$f":"VLOOKUP($W467,Reference!$AL$4:$AO$322,4,FALSE)","v":{"$error":"#N/A"}}]
[null,null,null,null,null,null,null,null,null,null,null,null,null,null,null,null,null,null,null,null,null,null,null,null,null,null,null,null,null,null,null,null,null,null,null,null,null,null,null,null,null,null,null,null,null,null,null,null,null,null,null,null,null,{"$f":"VLOOKUP($W468,Reference!$AL$4:$AL$322,1,FALSE)","v":{"$error":"#N/A"}},{"$f":"VLOOKUP($N468,Reference!$J$47:$K$64,2,FALSE)","v":{"$error":"#N/A"}},null,{"$f":"VLOOKUP($W468,Reference!$AL$4:$AO$322,4,FALSE)","v":{"$error":"#N/A"}}]
[null,null,null,null,null,null,null,null,null,null,null,null,null,null,null,null,null,null,null,null,null,null,null,null,null,null,null,null,null,null,null,null,null,null,null,null,null,null,null,null,null,null,null,null,null,null,null,null,null,null,null,null,null,{"$f":"VLOOKUP($W469,Reference!$AL$4:$AL$322,1,FALSE)","v":{"$error":"#N/A"}},{"$f":"VLOOKUP($N469,Reference!$J$47:$K$64,2,FALSE)","v":{"$error":"#N/A"}},null,{"$f":"VLOOKUP($W469,Reference!$AL$4:$AO$322,4,FALSE)","v":{"$error":"#N/A"}}]
[null,null,null,null,null,null,null,null,null,null,null,null,null,null,null,null,null,null,null,null,null,null,null,null,null,null,null,null,null,null,null,null,null,null,null,null,null,null,null,null,null,null,null,null,null,null,null,null,null,null,null,null,null,{"$f":"VLOOKUP($W470,Reference!$AL$4:$AL$322,1,FALSE)","v":{"$error":"#N/A"}},{"$f":"VLOOKUP($N470,Reference!$J$47:$K$64,2,FALSE)","v":{"$error":"#N/A"}},null,{"$f":"VLOOKUP($W470,Reference!$AL$4:$AO$322,4,FALSE)","v":{"$error":"#N/A"}}]
[null,null,null,null,null,null,null,null,null,null,null,null,null,null,null,null,null,null,null,null,null,null,null,null,null,null,null,null,null,null,null,null,null,null,null,null,null,null,null,null,null,null,null,null,null,null,null,null,null,null,null,null,null,{"$f":"VLOOKUP($W471,Reference!$AL$4:$AL$322,1,FALSE)","v":{"$error":"#N/A"}},{"$f":"VLOOKUP($N471,Reference!$J$47:$K$64,2,FALSE)","v":{"$error":"#N/A"}},null,{"$f":"VLOOKUP($W471,Reference!$AL$4:$AO$322,4,FALSE)","v":{"$error":"#N/A"}}]
[null,null,null,null,null,null,null,null,null,null,null,null,null,null,null,null,null,null,null,null,null,null,null,null,null,null,null,null,null,null,null,null,null,null,null,null,null,null,null,null,null,null,null,null,null,null,null,null,null,null,null,null,null,{"$f":"VLOOKUP($W472,Reference!$AL$4:$AL$322,1,FALSE)","v":{"$error":"#N/A"}},{"$f":"VLOOKUP($N472,Reference!$J$47:$K$64,2,FALSE)","v":{"$error":"#N/A"}},null,{"$f":"VLOOKUP($W472,Reference!$AL$4:$AO$322,4,FALSE)","v":{"$error":"#N/A"}}]
[null,null,null,null,null,null,null,null,null,null,null,null,null,null,null,null,null,null,null,null,null,null,null,null,null,null,null,null,null,null,null,null,null,null,null,null,null,null,null,null,null,null,null,null,null,null,null,null,null,null,null,null,null,{"$f":"VLOOKUP($W473,Reference!$AL$4:$AL$322,1,FALSE)","v":{"$error":"#N/A"}},{"$f":"VLOOKUP($N473,Reference!$J$47:$K$64,2,FALSE)","v":{"$error":"#N/A"}},null,{"$f":"VLOOKUP($W473,Reference!$AL$4:$AO$322,4,FALSE)","v":{"$error":"#N/A"}}]
[null,null,null,null,null,null,null,null,null,null,null,null,null,null,null,null,null,null,null,null,null,null,null,null,null,null,null,null,null,null,null,null,null,null,null,null,null,null,null,null,null,null,null,null,null,null,null,null,null,null,null,null,null,{"$f":"VLOOKUP($W474,Reference!$AL$4:$AL$322,1,FALSE)","v":{"$error":"#N/A"}},{"$f":"VLOOKUP($N474,Reference!$J$47:$K$64,2,FALSE)","v":{"$error":"#N/A"}},null,{"$f":"VLOOKUP($W474,Reference!$AL$4:$AO$322,4,FALSE)","v":{"$error":"#N/A"}}]
[null,null,null,null,null,null,null,null,null,null,null,null,null,null,null,null,null,null,null,null,null,null,null,null,null,null,null,null,null,null,null,null,null,null,null,null,null,null,null,null,null,null,null,null,null,null,null,null,null,null,null,null,null,{"$f":"VLOOKUP($W475,Reference!$AL$4:$AL$322,1,FALSE)","v":{"$error":"#N/A"}},{"$f":"VLOOKUP($N475,Reference!$J$47:$K$64,2,FALSE)","v":{"$error":"#N/A"}},null,{"$f":"VLOOKUP($W475,Reference!$AL$4:$AO$322,4,FALSE)","v":{"$error":"#N/A"}}]
[null,null,null,null,null,null,null,null,null,null,null,null,null,null,null,null,null,null,null,null,null,null,null,null,null,null,null,null,null,null,null,null,null,null,null,null,null,null,null,null,null,null,null,null,null,null,null,null,null,null,null,null,null,{"$f":"VLOOKUP($W476,Reference!$AL$4:$AL$322,1,FALSE)","v":{"$error":"#N/A"}},{"$f":"VLOOKUP($N476,Reference!$J$47:$K$64,2,FALSE)","v":{"$error":"#N/A"}},null,{"$f":"VLOOKUP($W476,Reference!$AL$4:$AO$322,4,FALSE)","v":{"$error":"#N/A"}}]
[null,null,null,null,null,null,null,null,null,null,null,null,null,null,null,null,null,null,null,null,null,null,null,null,null,null,null,null,null,null,null,null,null,null,null,null,null,null,null,null,null,null,null,null,null,null,null,null,null,null,null,null,null,{"$f":"VLOOKUP($W477,Reference!$AL$4:$AL$322,1,FALSE)","v":{"$error":"#N/A"}},{"$f":"VLOOKUP($N477,Reference!$J$47:$K$64,2,FALSE)","v":{"$error":"#N/A"}},null,{"$f":"VLOOKUP($W477,Reference!$AL$4:$AO$322,4,FALSE)","v":{"$error":"#N/A"}}]
[null,null,null,null,null,null,null,null,null,null,null,null,null,null,null,null,null,null,null,null,null,null,null,null,null,null,null,null,null,null,null,null,null,null,null,null,null,null,null,null,null,null,null,null,null,null,null,null,null,null,null,null,null,{"$f":"VLOOKUP($W478,Reference!$AL$4:$AL$322,1,FALSE)","v":{"$error":"#N/A"}},{"$f":"VLOOKUP($N478,Reference!$J$47:$K$64,2,FALSE)","v":{"$error":"#N/A"}},null,{"$f":"VLOOKUP($W478,Reference!$AL$4:$AO$322,4,FALSE)","v":{"$error":"#N/A"}}]
[null,null,null,null,null,null,null,null,null,null,null,null,null,null,null,null,null,null,null,null,null,null,null,null,null,null,null,null,null,null,null,null,null,null,null,null,null,null,null,null,null,null,null,null,null,null,null,null,null,null,null,null,null,{"$f":"VLOOKUP($W479,Reference!$AL$4:$AL$322,1,FALSE)","v":{"$error":"#N/A"}},{"$f":"VLOOKUP($N479,Reference!$J$47:$K$64,2,FALSE)","v":{"$error":"#N/A"}},null,{"$f":"VLOOKUP($W479,Reference!$AL$4:$AO$322,4,FALSE)","v":{"$error":"#N/A"}}]
[null,null,null,null,null,null,null,null,null,null,null,null,null,null,null,null,null,null,null,null,null,null,null,null,null,null,null,null,null,null,null,null,null,null,null,null,null,null,null,null,null,null,null,null,null,null,null,null,null,null,null,null,null,{"$f":"VLOOKUP($W480,Reference!$AL$4:$AL$322,1,FALSE)","v":{"$error":"#N/A"}},{"$f":"VLOOKUP($N480,Reference!$J$47:$K$64,2,FALSE)","v":{"$error":"#N/A"}},null,{"$f":"VLOOKUP($W480,Reference!$AL$4:$AO$322,4,FALSE)","v":{"$error":"#N/A"}}]
[null,null,null,null,null,null,null,null,null,null,null,null,null,null,null,null,null,null,null,null,null,null,null,null,null,null,null,null,null,null,null,null,null,null,null,null,null,null,null,null,null,null,null,null,null,null,null,null,null,null,null,null,null,{"$f":"VLOOKUP($W481,Reference!$AL$4:$AL$322,1,FALSE)","v":{"$error":"#N/A"}},{"$f":"VLOOKUP($N481,Reference!$J$47:$K$64,2,FALSE)","v":{"$error":"#N/A"}},null,{"$f":"VLOOKUP($W481,Reference!$AL$4:$AO$322,4,FALSE)","v":{"$error":"#N/A"}}]
[null,null,null,null,null,null,null,null,null,null,null,null,null,null,null,null,null,null,null,null,null,null,null,null,null,null,null,null,null,null,null,null,null,null,null,null,null,null,null,null,null,null,null,null,null,null,null,null,null,null,null,null,null,{"$f":"VLOOKUP($W482,Reference!$AL$4:$AL$322,1,FALSE)","v":{"$error":"#N/A"}},{"$f":"VLOOKUP($N482,Reference!$J$47:$K$64,2,FALSE)","v":{"$error":"#N/A"}},null,{"$f":"VLOOKUP($W482,Reference!$AL$4:$AO$322,4,FALSE)","v":{"$error":"#N/A"}}]
[null,null,null,null,null,null,null,null,null,null,null,null,null,null,null,null,null,null,null,null,null,null,null,null,null,null,null,null,null,null,null,null,null,null,null,null,null,null,null,null,null,null,null,null,null,null,null,null,null,null,null,null,null,{"$f":"VLOOKUP($W483,Reference!$AL$4:$AL$322,1,FALSE)","v":{"$error":"#N/A"}},{"$f":"VLOOKUP($N483,Reference!$J$47:$K$64,2,FALSE)","v":{"$error":"#N/A"}},null,{"$f":"VLOOKUP($W483,Reference!$AL$4:$AO$322,4,FALSE)","v":{"$error":"#N/A"}}]
[null,null,null,null,null,null,null,null,null,null,null,null,null,null,null,null,null,null,null,null,null,null,null,null,null,null,null,null,null,null,null,null,null,null,null,null,null,null,null,null,null,null,null,null,null,null,null,null,null,null,null,null,null,{"$f":"VLOOKUP($W484,Reference!$AL$4:$AL$322,1,FALSE)","v":{"$error":"#N/A"}},{"$f":"VLOOKUP($N484,Reference!$J$47:$K$64,2,FALSE)","v":{"$error":"#N/A"}},null,{"$f":"VLOOKUP($W484,Reference!$AL$4:$AO$322,4,FALSE)","v":{"$error":"#N/A"}}]
[null,null,null,null,null,null,null,null,null,null,null,null,null,null,null,null,null,null,null,null,null,null,null,null,null,null,null,null,null,null,null,null,null,null,null,null,null,null,null,null,null,null,null,null,null,null,null,null,null,null,null,null,null,{"$f":"VLOOKUP($W485,Reference!$AL$4:$AL$322,1,FALSE)","v":{"$error":"#N/A"}},{"$f":"VLOOKUP($N485,Reference!$J$47:$K$64,2,FALSE)","v":{"$error":"#N/A"}},null,{"$f":"VLOOKUP($W485,Reference!$AL$4:$AO$322,4,FALSE)","v":{"$error":"#N/A"}}]
[null,null,null,null,null,null,null,null,null,null,null,null,null,null,null,null,null,null,null,null,null,null,null,null,null,null,null,null,null,null,null,null,null,null,null,null,null,null,null,null,null,null,null,null,null,null,null,null,null,null,null,null,null,{"$f":"VLOOKUP($W486,Reference!$AL$4:$AL$322,1,FALSE)","v":{"$error":"#N/A"}},{"$f":"VLOOKUP($N486,Reference!$J$47:$K$64,2,FALSE)","v":{"$error":"#N/A"}},null,{"$f":"VLOOKUP($W486,Reference!$AL$4:$AO$322,4,FALSE)","v":{"$error":"#N/A"}}]
[null,null,null,null,null,null,null,null,null,null,null,null,null,null,null,null,null,null,null,null,null,null,null,null,null,null,null,null,null,null,null,null,null,null,null,null,null,null,null,null,null,null,null,null,null,null,null,null,null,null,null,null,null,{"$f":"VLOOKUP($W487,Reference!$AL$4:$AL$322,1,FALSE)","v":{"$error":"#N/A"}},{"$f":"VLOOKUP($N487,Reference!$J$47:$K$64,2,FALSE)","v":{"$error":"#N/A"}},null,{"$f":"VLOOKUP($W487,Reference!$AL$4:$AO$322,4,FALSE)","v":{"$error":"#N/A"}}]
[null,null,null,null,null,null,null,null,null,null,null,null,null,null,null,null,null,null,null,null,null,null,null,null,null,null,null,null,null,null,null,null,null,null,null,null,null,null,null,null,null,null,null,null,null,null,null,null,null,null,null,null,null,{"$f":"VLOOKUP($W488,Reference!$AL$4:$AL$322,1,FALSE)","v":{"$error":"#N/A"}},{"$f":"VLOOKUP($N488,Reference!$J$47:$K$64,2,FALSE)","v":{"$error":"#N/A"}},null,{"$f":"VLOOKUP($W488,Reference!$AL$4:$AO$322,4,FALSE)","v":{"$error":"#N/A"}}]
[null,null,null,null,null,null,null,null,null,null,null,null,null,null,null,null,null,null,null,null,null,null,null,null,null,null,null,null,null,null,null,null,null,null,null,null,null,null,null,null,null,null,null,null,null,null,null,null,null,null,null,null,null,{"$f":"VLOOKUP($W489,Reference!$AL$4:$AL$322,1,FALSE)","v":{"$error":"#N/A"}},{"$f":"VLOOKUP($N489,Reference!$J$47:$K$64,2,FALSE)","v":{"$error":"#N/A"}},null,{"$f":"VLOOKUP($W489,Reference!$AL$4:$AO$322,4,FALSE)","v":{"$error":"#N/A"}}]
[null,null,null,null,null,null,null,null,null,null,null,null,null,null,null,null,null,null,null,null,null,null,null,null,null,null,null,null,null,null,null,null,null,null,null,null,null,null,null,null,null,null,null,null,null,null,null,null,null,null,null,null,null,{"$f":"VLOOKUP($W490,Reference!$AL$4:$AL$322,1,FALSE)","v":{"$error":"#N/A"}},{"$f":"VLOOKUP($N490,Reference!$J$47:$K$64,2,FALSE)","v":{"$error":"#N/A"}},null,{"$f":"VLOOKUP($W490,Reference!$AL$4:$AO$322,4,FALSE)","v":{"$error":"#N/A"}}]
[null,null,null,null,null,null,null,null,null,null,null,null,null,null,null,null,null,null,null,null,null,null,null,null,null,null,null,null,null,null,null,null,null,null,null,null,null,null,null,null,null,null,null,null,null,null,null,null,null,null,null,null,null,{"$f":"VLOOKUP($W491,Reference!$AL$4:$AL$322,1,FALSE)","v":{"$error":"#N/A"}},{"$f":"VLOOKUP($N491,Reference!$J$47:$K$64,2,FALSE)","v":{"$error":"#N/A"}},null,{"$f":"VLOOKUP($W491,Reference!$AL$4:$AO$322,4,FALSE)","v":{"$error":"#N/A"}}]
[null,null,null,null,null,null,null,null,null,null,null,null,null,null,null,null,null,null,null,null,null,null,null,null,null,null,null,null,null,null,null,null,null,null,null,null,null,null,null,null,null,null,null,null,null,null,null,null,null,null,null,null,null,{"$f":"VLOOKUP($W492,Reference!$AL$4:$AL$322,1,FALSE)","v":{"$error":"#N/A"}},{"$f":"VLOOKUP($N492,Reference!$J$47:$K$64,2,FALSE)","v":{"$error":"#N/A"}},null,{"$f":"VLOOKUP($W492,Reference!$AL$4:$AO$322,4,FALSE)","v":{"$error":"#N/A"}}]
[null,null,null,null,null,null,null,null,null,null,null,null,null,null,null,null,null,null,null,null,null,null,null,null,null,null,null,null,null,null,null,null,null,null,null,null,null,null,null,null,null,null,null,null,null,null,null,null,null,null,null,null,null,{"$f":"VLOOKUP($W493,Reference!$AL$4:$AL$322,1,FALSE)","v":{"$error":"#N/A"}},{"$f":"VLOOKUP($N493,Reference!$J$47:$K$64,2,FALSE)","v":{"$error":"#N/A"}},null,{"$f":"VLOOKUP($W493,Reference!$AL$4:$AO$322,4,FALSE)","v":{"$error":"#N/A"}}]
[null,null,null,null,null,null,null,null,null,null,null,null,null,null,null,null,null,null,null,null,null,null,null,null,null,null,null,null,null,null,null,null,null,null,null,null,null,null,null,null,null,null,null,null,null,null,null,null,null,null,null,null,null,{"$f":"VLOOKUP($W494,Reference!$AL$4:$AL$322,1,FALSE)","v":{"$error":"#N/A"}},{"$f":"VLOOKUP($N494,Reference!$J$47:$K$64,2,FALSE)","v":{"$error":"#N/A"}},null,{"$f":"VLOOKUP($W494,Reference!$AL$4:$AO$322,4,FALSE)","v":{"$error":"#N/A"}}]
[null,null,null,null,null,null,null,null,null,null,null,null,null,null,null,null,null,null,null,null,null,null,null,null,null,null,null,null,null,null,null,null,null,null,null,null,null,null,null,null,null,null,null,null,null,null,null,null,null,null,null,null,null,{"$f":"VLOOKUP($W495,Reference!$AL$4:$AL$322,1,FALSE)","v":{"$error":"#N/A"}},{"$f":"VLOOKUP($N495,Reference!$J$47:$K$64,2,FALSE)","v":{"$error":"#N/A"}},null,{"$f":"VLOOKUP($W495,Reference!$AL$4:$AO$322,4,FALSE)","v":{"$error":"#N/A"}}]
[null,null,null,null,null,null,null,null,null,null,null,null,null,null,null,null,null,null,null,null,null,null,null,null,null,null,null,null,null,null,null,null,null,null,null,null,null,null,null,null,null,null,null,null,null,null,null,null,null,null,null,null,null,{"$f":"VLOOKUP($W496,Reference!$AL$4:$AL$322,1,FALSE)","v":{"$error":"#N/A"}},{"$f":"VLOOKUP($N496,Reference!$J$47:$K$64,2,FALSE)","v":{"$error":"#N/A"}},null,{"$f":"VLOOKUP($W496,Reference!$AL$4:$AO$322,4,FALSE)","v":{"$error":"#N/A"}}]
[null,null,null,null,null,null,null,null,null,null,null,null,null,null,null,null,null,null,null,null,null,null,null,null,null,null,null,null,null,null,null,null,null,null,null,null,null,null,null,null,null,null,null,null,null,null,null,null,null,null,null,null,null,{"$f":"VLOOKUP($W497,Reference!$AL$4:$AL$322,1,FALSE)","v":{"$error":"#N/A"}},{"$f":"VLOOKUP($N497,Reference!$J$47:$K$64,2,FALSE)","v":{"$error":"#N/A"}},null,{"$f":"VLOOKUP($W497,Reference!$AL$4:$AO$322,4,FALSE)","v":{"$error":"#N/A"}}]
[null,null,null,null,null,null,null,null,null,null,null,null,null,null,null,null,null,null,null,null,null,null,null,null,null,null,null,null,null,null,null,null,null,null,null,null,null,null,null,null,null,null,null,null,null,null,null,null,null,null,null,null,null,{"$f":"VLOOKUP($W498,Reference!$AL$4:$AL$322,1,FALSE)","v":{"$error":"#N/A"}},{"$f":"VLOOKUP($N498,Reference!$J$47:$K$64,2,FALSE)","v":{"$error":"#N/A"}},null,{"$f":"VLOOKUP($W498,Reference!$AL$4:$AO$322,4,FALSE)","v":{"$error":"#N/A"}}]
[null,null,null,null,null,null,null,null,null,null,null,null,null,null,null,null,null,null,null,null,null,null,null,null,null,null,null,null,null,null,null,null,null,null,null,null,null,null,null,null,null,null,null,null,null,null,null,null,null,null,null,null,null,{"$f":"VLOOKUP($W499,Reference!$AL$4:$AL$322,1,FALSE)","v":{"$error":"#N/A"}},{"$f":"VLOOKUP($N499,Reference!$J$47:$K$64,2,FALSE)","v":{"$error":"#N/A"}},null,{"$f":"VLOOKUP($W499,Reference!$AL$4:$AO$322,4,FALSE)","v":{"$error":"#N/A"}}]
[null,null,null,null,null,null,null,null,null,null,null,null,null,null,null,null,null,null,null,null,null,null,null,null,null,null,null,null,null,null,null,null,null,null,null,null,null,null,null,null,null,null,null,null,null,null,null,null,null,null,null,null,null,{"$f":"VLOOKUP($W500,Reference!$AL$4:$AL$322,1,FALSE)","v":{"$error":"#N/A"}},{"$f":"VLOOKUP($N500,Reference!$J$47:$K$64,2,FALSE)","v":{"$error":"#N/A"}},null,{"$f":"VLOOKUP($W500,Reference!$AL$4:$AO$322,4,FALSE)","v":{"$error":"#N/A"}}]
[null,null,null,null,null,null,null,null,null,null,null,null,null,null,null,null,null,null,null,null,null,null,null,null,null,null,null,null,null,null,null,null,null,null,null,null,null,null,null,null,null,null,null,null,null,null,null,null,null,null,null,null,null,{"$f":"VLOOKUP($W501,Reference!$AL$4:$AL$322,1,FALSE)","v":{"$error":"#N/A"}},{"$f":"VLOOKUP($N501,Reference!$J$47:$K$64,2,FALSE)","v":{"$error":"#N/A"}},null,{"$f":"VLOOKUP($W501,Reference!$AL$4:$AO$322,4,FALSE)","v":{"$error":"#N/A"}}]

{"sheet":"Flat Sheet","index":2,"n_rows":501,"n_cols":32,"rows_kept":501,"cut":false,"hidden":true,"merged":[]}
["Record Type","Group Number","SubGroup Number","Class ID","Class Plan ID","First Name","MI","Last Name","Suffix","DOB","Gender","Member Type","Relationship","Subscriber Tier","Sub SSN","Mem SSN","Address","City","State","Zip Code","Primary Phone","Work Phone","Cell Phone","Email Address","Employee ID","Location ID","Hire Date","Coverage Start","Coverage End","COBRA Indicator","COBRA Start Date","COBRA End Date"]
[null,null,null,null,null,{"$f":"IF('Broker Sheet'!C2=\"\",\"\",'Broker Sheet'!C2)","v":""},{"$f":"IF('Broker Sheet'!D2=\"\",\"\",'Broker Sheet'!D2)","v":""},{"$f":"IF('Broker Sheet'!E2=\"\",\"\",'Broker Sheet'!E2)","v":""},{"$f":"IF('Broker Sheet'!F2=\"\",\"\",'Broker Sheet'!F2)","v":""},{"$f":"IF('Broker Sheet'!G2=\"\",\"\",TEXT('Broker Sheet'!G2,\"YYYYMMDD\"))","v":""},{"$f":"IF('Broker Sheet'!H2=\"\",\"\",'Broker Sheet'!H2)","v":""},{"$f":"IF('Broker Sheet'!I2=\"\",\"\",'Broker Sheet'!I2)","v":""},{"$f":"IF('Broker Sheet'!J2=\"\",\"\",VLOOKUP('Broker Sheet'!J2,(Reference!$E$4:$F$9),2,FALSE))","v":""},{"$f":"IF('Broker Sheet'!K2=\"\",\"\",'Broker Sheet'!K2)","v":""},{"$f":"IF('Broker Sheet'!R2=\"\",\"\",'Broker Sheet'!R2)","v":""},{"$f":"IF('Broker Sheet'!S2=\"\",\"\",'Broker Sheet'!S2)","v":""},{"$f":"IF('Broker Sheet'!T2=\"\",\"\",'Broker Sheet'!T2)","v":""},{"$f":"IF('Broker Sheet'!U2=\"\",\"\",'Broker Sheet'!U2)","v":""},{"$f":"IF('Broker Sheet'!V2=\"\",\"\",'Broker Sheet'!V2)","v":""},{"$f":"IF('Broker Sheet'!W2=\"\",\"\",'Broker Sheet'!W2)","v":""},{"$f":"IF('Broker Sheet'!Y2=\"\",\"\",'Broker Sheet'!Y2)","v":""},{"$f":"IF('Broker Sheet'!AA2=\"\",\"\",'Broker Sheet'!AA2)","v":""},{"$f":"IF('Broker Sheet'!Z2=\"\",\"\",'Broker Sheet'!Z2)","v":""},{"$f":"IF('Broker Sheet'!AB2=\"\",\"\",'Broker Sheet'!AB2)","v":""},null,null,{"$f":"IF('Broker Sheet'!L2=\"\",\"\",TEXT('Broker Sheet'!L2,\"YYYYMMDD\"))","v":""},{"$f":"IF('Broker Sheet'!AC2=\"\",\"\",TEXT('Broker Sheet'!AC2,\"YYYYMMDD\"))","v":""},{"$f":"IF('Broker Sheet'!AD2=\"\",\"\",TEXT('Broker Sheet'!AD2,\"YYYYMMDD\"))","v":""},{"$f":"IF('Broker Sheet'!AE2=\"\",\"\",'Broker Sheet'!AE2)","v":""},{"$f":"IF('Broker Sheet'!AF2=\"\",\"\",TEXT('Broker Sheet'!AF2,\"YYYYMMDD\"))","v":""},{"$f":"IF('Broker Sheet'!AG2=\"\",\"\",TEXT('Broker Sheet'!AG2,\"YYYYMMDD\"))","v":""}]
[null,null,null,null,null,{"$f":"IF('Broker Sheet'!C3=\"\",\"\",'Broker Sheet'!C3)","v":""},{"$f":"IF('Broker Sheet'!D3=\"\",\"\",'Broker Sheet'!D3)","v":""},{"$f":"IF('Broker Sheet'!E3=\"\",\"\",'Broker Sheet'!E3)","v":""},{"$f":"IF('Broker Sheet'!F3=\"\",\"\",'Broker Sheet'!F3)","v":""},{"$f":"IF('Broker Sheet'!G3=\"\",\"\",TEXT('Broker Sheet'!G3,\"YYYYMMDD\"))","v":""},{"$f":"IF('Broker Sheet'!H3=\"\",\"\",'Broker Sheet'!H3)","v":""},{"$f":"IF('Broker Sheet'!I3=\"\",\"\",'Broker Sheet'!I3)","v":""},{"$f":"IF('Broker Sheet'!J3=\"\",\"\",VLOOKUP('Broker Sheet'!J3,(Reference!$E$4:$F$9),2,FALSE))","v":""},{"$f":"IF('Broker Sheet'!K3=\"\",\"\",'Broker Sheet'!K3)","v":""},{"$f":"IF('Broker Sheet'!R3=\"\",\"\",'Broker Sheet'!R3)","v":""},{"$f":"IF('Broker Sheet'!S3=\"\",\"\",'Broker Sheet'!S3)","v":""},{"$f":"IF('Broker Sheet'!T3=\"\",\"\",'Broker Sheet'!T3)","v":""},{"$f":"IF('Broker Sheet'!U3=\"\",\"\",'Broker Sheet'!U3)","v":""},{"$f":"IF('Broker Sheet'!V3=\"\",\"\",'Broker Sheet'!V3)","v":""},{"$f":"IF('Broker Sheet'!W3=\"\",\"\",'Broker Sheet'!W3)","v":""},{"$f":"IF('Broker Sheet'!Y3=\"\",\"\",'Broker Sheet'!Y3)","v":""},{"$f":"IF('Broker Sheet'!AA3=\"\",\"\",'Broker Sheet'!AA3)","v":""},{"$f":"IF('Broker Sheet'!Z3=\"\",\"\",'Broker Sheet'!Z3)","v":""},{"$f":"IF('Broker Sheet'!AB3=\"\",\"\",'Broker Sheet'!AB3)","v":""},null,null,{"$f":"IF('Broker Sheet'!L3=\"\",\"\",TEXT('Broker Sheet'!L3,\"YYYYMMDD\"))","v":""},{"$f":"IF('Broker Sheet'!AC3=\"\",\"\",TEXT('Broker Sheet'!AC3,\"YYYYMMDD\"))","v":""},{"$f":"IF('Broker Sheet'!AD3=\"\",\"\",TEXT('Broker Sheet'!AD3,\"YYYYMMDD\"))","v":""},{"$f":"IF('Broker Sheet'!AE3=\"\",\"\",'Broker Sheet'!AE3)","v":""},{"$f":"IF('Broker Sheet'!AF3=\"\",\"\",TEXT('Broker Sheet'!AF3,\"YYYYMMDD\"))","v":""},{"$f":"IF('Broker Sheet'!AG3=\"\",\"\",TEXT('Broker Sheet'!AG3,\"YYYYMMDD\"))","v":""}]
[null,null,null,null,null,{"$f":"IF('Broker Sheet'!C4=\"\",\"\",'Broker Sheet'!C4)","v":""},{"$f":"IF('Broker Sheet'!D4=\"\",\"\",'Broker Sheet'!D4)","v":""},{"$f":"IF('Broker Sheet'!E4=\"\",\"\",'Broker Sheet'!E4)","v":""},{"$f":"IF('Broker Sheet'!F4=\"\",\"\",'Broker Sheet'!F4)","v":""},{"$f":"IF('Broker Sheet'!G4=\"\",\"\",TEXT('Broker Sheet'!G4,\"YYYYMMDD\"))","v":""},{"$f":"IF('Broker Sheet'!H4=\"\",\"\",'Broker Sheet'!H4)","v":""},{"$f":"IF('Broker Sheet'!I4=\"\",\"\",'Broker Sheet'!I4)","v":""},{"$f":"IF('Broker Sheet'!J4=\"\",\"\",VLOOKUP('Broker Sheet'!J4,(Reference!$E$4:$F$9),2,FALSE))","v":""},{"$f":"IF('Broker Sheet'!K4=\"\",\"\",'Broker Sheet'!K4)","v":""},{"$f":"IF('Broker Sheet'!R4=\"\",\"\",'Broker Sheet'!R4)","v":""},{"$f":"IF('Broker Sheet'!S4=\"\",\"\",'Broker Sheet'!S4)","v":""},{"$f":"IF('Broker Sheet'!T4=\"\",\"\",'Broker Sheet'!T4)","v":""},{"$f":"IF('Broker Sheet'!U4=\"\",\"\",'Broker Sheet'!U4)","v":""},{"$f":"IF('Broker Sheet'!V4=\"\",\"\",'Broker Sheet'!V4)","v":""},{"$f":"IF('Broker Sheet'!W4=\"\",\"\",'Broker Sheet'!W4)","v":""},{"$f":"IF('Broker Sheet'!Y4=\"\",\"\",'Broker Sheet'!Y4)","v":""},{"$f":"IF('Broker Sheet'!AA4=\"\",\"\",'Broker Sheet'!AA4)","v":""},{"$f":"IF('Broker Sheet'!Z4=\"\",\"\",'Broker Sheet'!Z4)","v":""},{"$f":"IF('Broker Sheet'!AB4=\"\",\"\",'Broker Sheet'!AB4)","v":""},null,null,{"$f":"IF('Broker Sheet'!L4=\"\",\"\",TEXT('Broker Sheet'!L4,\"YYYYMMDD\"))","v":""},{"$f":"IF('Broker Sheet'!AC4=\"\",\"\",TEXT('Broker Sheet'!AC4,\"YYYYMMDD\"))","v":""},{"$f":"IF('Broker Sheet'!AD4=\"\",\"\",TEXT('Broker Sheet'!AD4,\"YYYYMMDD\"))","v":""},{"$f":"IF('Broker Sheet'!AE4=\"\",\"\",'Broker Sheet'!AE4)","v":""},{"$f":"IF('Broker Sheet'!AF4=\"\",\"\",TEXT('Broker Sheet'!AF4,\"YYYYMMDD\"))","v":""},{"$f":"IF('Broker Sheet'!AG4=\"\",\"\",TEXT('Broker Sheet'!AG4,\"YYYYMMDD\"))","v":""}]
[null,null,null,null,null,{"$f":"IF('Broker Sheet'!C5=\"\",\"\",'Broker Sheet'!C5)","v":""},{"$f":"IF('Broker Sheet'!D5=\"\",\"\",'Broker Sheet'!D5)","v":""},{"$f":"IF('Broker Sheet'!E5=\"\",\"\",'Broker Sheet'!E5)","v":""},{"$f":"IF('Broker Sheet'!F5=\"\",\"\",'Broker Sheet'!F5)","v":""},{"$f":"IF('Broker Sheet'!G5=\"\",\"\",TEXT('Broker Sheet'!G5,\"YYYYMMDD\"))","v":""},{"$f":"IF('Broker Sheet'!H5=\"\",\"\",'Broker Sheet'!H5)","v":""},{"$f":"IF('Broker Sheet'!I5=\"\",\"\",'Broker Sheet'!I5)","v":""},{"$f":"IF('Broker Sheet'!J5=\"\",\"\",VLOOKUP('Broker Sheet'!J5,(Reference!$E$4:$F$9),2,FALSE))","v":""},{"$f":"IF('Broker Sheet'!K5=\"\",\"\",'Broker Sheet'!K5)","v":""},{"$f":"IF('Broker Sheet'!R5=\"\",\"\",'Broker Sheet'!R5)","v":""},{"$f":"IF('Broker Sheet'!S5=\"\",\"\",'Broker Sheet'!S5)","v":""},{"$f":"IF('Broker Sheet'!T5=\"\",\"\",'Broker Sheet'!T5)","v":""},{"$f":"IF('Broker Sheet'!U5=\"\",\"\",'Broker Sheet'!U5)","v":""},{"$f":"IF('Broker Sheet'!V5=\"\",\"\",'Broker Sheet'!V5)","v":""},{"$f":"IF('Broker Sheet'!W5=\"\",\"\",'Broker Sheet'!W5)","v":""},{"$f":"IF('Broker Sheet'!Y5=\"\",\"\",'Broker Sheet'!Y5)","v":""},{"$f":"IF('Broker Sheet'!AA5=\"\",\"\",'Broker Sheet'!AA5)","v":""},{"$f":"IF('Broker Sheet'!Z5=\"\",\"\",'Broker Sheet'!Z5)","v":""},{"$f":"IF('Broker Sheet'!AB5=\"\",\"\",'Broker Sheet'!AB5)","v":""},null,null,{"$f":"IF('Broker Sheet'!L5=\"\",\"\",TEXT('Broker Sheet'!L5,\"YYYYMMDD\"))","v":""},{"$f":"IF('Broker Sheet'!AC5=\"\",\"\",TEXT('Broker Sheet'!AC5,\"YYYYMMDD\"))","v":""},{"$f":"IF('Broker Sheet'!AD5=\"\",\"\",TEXT('Broker Sheet'!AD5,\"YYYYMMDD\"))","v":""},{"$f":"IF('Broker Sheet'!AE5=\"\",\"\",'Broker Sheet'!AE5)","v":""},{"$f":"IF('Broker Sheet'!AF5=\"\",\"\",TEXT('Broker Sheet'!AF5,\"YYYYMMDD\"))","v":""},{"$f":"IF('Broker Sheet'!AG5=\"\",\"\",TEXT('Broker Sheet'!AG5,\"YYYYMMDD\"))","v":""}]
[null,null,null,null,null,{"$f":"IF('Broker Sheet'!C6=\"\",\"\",'Broker Sheet'!C6)","v":""},{"$f":"IF('Broker Sheet'!D6=\"\",\"\",'Broker Sheet'!D6)","v":""},{"$f":"IF('Broker Sheet'!E6=\"\",\"\",'Broker Sheet'!E6)","v":""},{"$f":"IF('Broker Sheet'!F6=\"\",\"\",'Broker Sheet'!F6)","v":""},{"$f":"IF('Broker Sheet'!G6=\"\",\"\",TEXT('Broker Sheet'!G6,\"YYYYMMDD\"))","v":""},{"$f":"IF('Broker Sheet'!H6=\"\",\"\",'Broker Sheet'!H6)","v":""},{"$f":"IF('Broker Sheet'!I6=\"\",\"\",'Broker Sheet'!I6)","v":""},{"$f":"IF('Broker Sheet'!J6=\"\",\"\",VLOOKUP('Broker Sheet'!J6,(Reference!$E$4:$F$9),2,FALSE))","v":""},{"$f":"IF('Broker Sheet'!K6=\"\",\"\",'Broker Sheet'!K6)","v":""},{"$f":"IF('Broker Sheet'!R6=\"\",\"\",'Broker Sheet'!R6)","v":""},{"$f":"IF('Broker Sheet'!S6=\"\",\"\",'Broker Sheet'!S6)","v":""},{"$f":"IF('Broker Sheet'!T6=\"\",\"\",'Broker Sheet'!T6)","v":""},{"$f":"IF('Broker Sheet'!U6=\"\",\"\",'Broker Sheet'!U6)","v":""},{"$f":"IF('Broker Sheet'!V6=\"\",\"\",'Broker Sheet'!V6)","v":""},{"$f":"IF('Broker Sheet'!W6=\"\",\"\",'Broker Sheet'!W6)","v":""},{"$f":"IF('Broker Sheet'!Y6=\"\",\"\",'Broker Sheet'!Y6)","v":""},{"$f":"IF('Broker Sheet'!AA6=\"\",\"\",'Broker Sheet'!AA6)","v":""},{"$f":"IF('Broker Sheet'!Z6=\"\",\"\",'Broker Sheet'!Z6)","v":""},{"$f":"IF('Broker Sheet'!AB6=\"\",\"\",'Broker Sheet'!AB6)","v":""},null,null,{"$f":"IF('Broker Sheet'!L6=\"\",\"\",TEXT('Broker Sheet'!L6,\"YYYYMMDD\"))","v":""},{"$f":"IF('Broker Sheet'!AC6=\"\",\"\",TEXT('Broker Sheet'!AC6,\"YYYYMMDD\"))","v":""},{"$f":"IF('Broker Sheet'!AD6=\"\",\"\",TEXT('Broker Sheet'!AD6,\"YYYYMMDD\"))","v":""},{"$f":"IF('Broker Sheet'!AE6=\"\",\"\",'Broker Sheet'!AE6)","v":""},{"$f":"IF('Broker Sheet'!AF6=\"\",\"\",TEXT('Broker Sheet'!AF6,\"YYYYMMDD\"))","v":""},{"$f":"IF('Broker Sheet'!AG6=\"\",\"\",TEXT('Broker Sheet'!AG6,\"YYYYMMDD\"))","v":""}]
[null,null,null,null,null,{"$f":"IF('Broker Sheet'!C7=\"\",\"\",'Broker Sheet'!C7)","v":""},{"$f":"IF('Broker Sheet'!D7=\"\",\"\",'Broker Sheet'!D7)","v":""},{"$f":"IF('Broker Sheet'!E7=\"\",\"\",'Broker Sheet'!E7)","v":""},{"$f":"IF('Broker Sheet'!F7=\"\",\"\",'Broker Sheet'!F7)","v":""},{"$f":"IF('Broker Sheet'!G7=\"\",\"\",TEXT('Broker Sheet'!G7,\"YYYYMMDD\"))","v":""},{"$f":"IF('Broker Sheet'!H7=\"\",\"\",'Broker Sheet'!H7)","v":""},{"$f":"IF('Broker Sheet'!I7=\"\",\"\",'Broker Sheet'!I7)","v":""},{"$f":"IF('Broker Sheet'!J7=\"\",\"\",VLOOKUP('Broker Sheet'!J7,(Reference!$E$4:$F$9),2,FALSE))","v":""},{"$f":"IF('Broker Sheet'!K7=\"\",\"\",'Broker Sheet'!K7)","v":""},{"$f":"IF('Broker Sheet'!R7=\"\",\"\",'Broker Sheet'!R7)","v":""},{"$f":"IF('Broker Sheet'!S7=\"\",\"\",'Broker Sheet'!S7)","v":""},{"$f":"IF('Broker Sheet'!T7=\"\",\"\",'Broker Sheet'!T7)","v":""},{"$f":"IF('Broker Sheet'!U7=\"\",\"\",'Broker Sheet'!U7)","v":""},{"$f":"IF('Broker Sheet'!V7=\"\",\"\",'Broker Sheet'!V7)","v":""},{"$f":"IF('Broker Sheet'!W7=\"\",\"\",'Broker Sheet'!W7)","v":""},{"$f":"IF('Broker Sheet'!Y7=\"\",\"\",'Broker Sheet'!Y7)","v":""},{"$f":"IF('Broker Sheet'!AA7=\"\",\"\",'Broker Sheet'!AA7)","v":""},{"$f":"IF('Broker Sheet'!Z7=\"\",\"\",'Broker Sheet'!Z7)","v":""},{"$f":"IF('Broker Sheet'!AB7=\"\",\"\",'Broker Sheet'!AB7)","v":""},null,null,{"$f":"IF('Broker Sheet'!L7=\"\",\"\",TEXT('Broker Sheet'!L7,\"YYYYMMDD\"))","v":""},{"$f":"IF('Broker Sheet'!AC7=\"\",\"\",TEXT('Broker Sheet'!AC7,\"YYYYMMDD\"))","v":""},{"$f":"IF('Broker Sheet'!AD7=\"\",\"\",TEXT('Broker Sheet'!AD7,\"YYYYMMDD\"))","v":""},{"$f":"IF('Broker Sheet'!AE7=\"\",\"\",'Broker Sheet'!AE7)","v":""},{"$f":"IF('Broker Sheet'!AF7=\"\",\"\",TEXT('Broker Sheet'!AF7,\"YYYYMMDD\"))","v":""},{"$f":"IF('Broker Sheet'!AG7=\"\",\"\",TEXT('Broker Sheet'!AG7,\"YYYYMMDD\"))","v":""}]
[null,null,null,null,null,{"$f":"IF('Broker Sheet'!C8=\"\",\"\",'Broker Sheet'!C8)","v":""},{"$f":"IF('Broker Sheet'!D8=\"\",\"\",'Broker Sheet'!D8)","v":""},{"$f":"IF('Broker Sheet'!E8=\"\",\"\",'Broker Sheet'!E8)","v":""},{"$f":"IF('Broker Sheet'!F8=\"\",\"\",'Broker Sheet'!F8)","v":""},{"$f":"IF('Broker Sheet'!G8=\"\",\"\",TEXT('Broker Sheet'!G8,\"YYYYMMDD\"))","v":""},{"$f":"IF('Broker Sheet'!H8=\"\",\"\",'Broker Sheet'!H8)","v":""},{"$f":"IF('Broker Sheet'!I8=\"\",\"\",'Broker Sheet'!I8)","v":""},{"$f":"IF('Broker Sheet'!J8=\"\",\"\",VLOOKUP('Broker Sheet'!J8,(Reference!$E$4:$F$9),2,FALSE))","v":""},{"$f":"IF('Broker Sheet'!K8=\"\",\"\",'Broker Sheet'!K8)","v":""},{"$f":"IF('Broker Sheet'!R8=\"\",\"\",'Broker Sheet'!R8)","v":""},{"$f":"IF('Broker Sheet'!S8=\"\",\"\",'Broker Sheet'!S8)","v":""},{"$f":"IF('Broker Sheet'!T8=\"\",\"\",'Broker Sheet'!T8)","v":""},{"$f":"IF('Broker Sheet'!U8=\"\",\"\",'Broker Sheet'!U8)","v":""},{"$f":"IF('Broker Sheet'!V8=\"\",\"\",'Broker Sheet'!V8)","v":""},{"$f":"IF('Broker Sheet'!W8=\"\",\"\",'Broker Sheet'!W8)","v":""},{"$f":"IF('Broker Sheet'!Y8=\"\",\"\",'Broker Sheet'!Y8)","v":""},{"$f":"IF('Broker Sheet'!AA8=\"\",\"\",'Broker Sheet'!AA8)","v":""},{"$f":"IF('Broker Sheet'!Z8=\"\",\"\",'Broker Sheet'!Z8)","v":""},{"$f":"IF('Broker Sheet'!AB8=\"\",\"\",'Broker Sheet'!AB8)","v":""},null,null,{"$f":"IF('Broker Sheet'!L8=\"\",\"\",TEXT('Broker Sheet'!L8,\"YYYYMMDD\"))","v":""},{"$f":"IF('Broker Sheet'!AC8=\"\",\"\",TEXT('Broker Sheet'!AC8,\"YYYYMMDD\"))","v":""},{"$f":"IF('Broker Sheet'!AD8=\"\",\"\",TEXT('Broker Sheet'!AD8,\"YYYYMMDD\"))","v":""},{"$f":"IF('Broker Sheet'!AE8=\"\",\"\",'Broker Sheet'!AE8)","v":""},{"$f":"IF('Broker Sheet'!AF8=\"\",\"\",TEXT('Broker Sheet'!AF8,\"YYYYMMDD\"))","v":""},{"$f":"IF('Broker Sheet'!AG8=\"\",\"\",TEXT('Broker Sheet'!AG8,\"YYYYMMDD\"))","v":""}]
[null,null,null,null,null,{"$f":"IF('Broker Sheet'!C9=\"\",\"\",'Broker Sheet'!C9)","v":""},{"$f":"IF('Broker Sheet'!D9=\"\",\"\",'Broker Sheet'!D9)","v":""},{"$f":"IF('Broker Sheet'!E9=\"\",\"\",'Broker Sheet'!E9)","v":""},{"$f":"IF('Broker Sheet'!F9=\"\",\"\",'Broker Sheet'!F9)","v":""},{"$f":"IF('Broker Sheet'!G9=\"\",\"\",TEXT('Broker Sheet'!G9,\"YYYYMMDD\"))","v":""},{"$f":"IF('Broker Sheet'!H9=\"\",\"\",'Broker Sheet'!H9)","v":""},{"$f":"IF('Broker Sheet'!I9=\"\",\"\",'Broker Sheet'!I9)","v":""},{"$f":"IF('Broker Sheet'!J9=\"\",\"\",VLOOKUP('Broker Sheet'!J9,(Reference!$E$4:$F$9),2,FALSE))","v":""},{"$f":"IF('Broker Sheet'!K9=\"\",\"\",'Broker Sheet'!K9)","v":""},{"$f":"IF('Broker Sheet'!R9=\"\",\"\",'Broker Sheet'!R9)","v":""},{"$f":"IF('Broker Sheet'!S9=\"\",\"\",'Broker Sheet'!S9)","v":""},{"$f":"IF('Broker Sheet'!T9=\"\",\"\",'Broker Sheet'!T9)","v":""},{"$f":"IF('Broker Sheet'!U9=\"\",\"\",'Broker Sheet'!U9)","v":""},{"$f":"IF('Broker Sheet'!V9=\"\",\"\",'Broker Sheet'!V9)","v":""},{"$f":"IF('Broker Sheet'!W9=\"\",\"\",'Broker Sheet'!W9)","v":""},{"$f":"IF('Broker Sheet'!Y9=\"\",\"\",'Broker Sheet'!Y9)","v":""},{"$f":"IF('Broker Sheet'!AA9=\"\",\"\",'Broker Sheet'!AA9)","v":""},{"$f":"IF('Broker Sheet'!Z9=\"\",\"\",'Broker Sheet'!Z9)","v":""},{"$f":"IF('Broker Sheet'!AB9=\"\",\"\",'Broker Sheet'!AB9)","v":""},null,null,{"$f":"IF('Broker Sheet'!L9=\"\",\"\",TEXT('Broker Sheet'!L9,\"YYYYMMDD\"))","v":""},{"$f":"IF('Broker Sheet'!AC9=\"\",\"\",TEXT('Broker Sheet'!AC9,\"YYYYMMDD\"))","v":""},{"$f":"IF('Broker Sheet'!AD9=\"\",\"\",TEXT('Broker Sheet'!AD9,\"YYYYMMDD\"))","v":""},{"$f":"IF('Broker Sheet'!AE9=\"\",\"\",'Broker Sheet'!AE9)","v":""},{"$f":"IF('Broker Sheet'!AF9=\"\",\"\",TEXT('Broker Sheet'!AF9,\"YYYYMMDD\"))","v":""},{"$f":"IF('Broker Sheet'!AG9=\"\",\"\",TEXT('Broker Sheet'!AG9,\"YYYYMMDD\"))","v":""}]
[null,null,null,null,null,{"$f":"IF('Broker Sheet'!C10=\"\",\"\",'Broker Sheet'!C10)","v":""},{"$f":"IF('Broker Sheet'!D10=\"\",\"\",'Broker Sheet'!D10)","v":""},{"$f":"IF('Broker Sheet'!E10=\"\",\"\",'Broker Sheet'!E10)","v":""},{"$f":"IF('Broker Sheet'!F10=\"\",\"\",'Broker Sheet'!F10)","v":""},{"$f":"IF('Broker Sheet'!G10=\"\",\"\",TEXT('Broker Sheet'!G10,\"YYYYMMDD\"))","v":""},{"$f":"IF('Broker Sheet'!H10=\"\",\"\",'Broker Sheet'!H10)","v":""},{"$f":"IF('Broker Sheet'!I10=\"\",\"\",'Broker Sheet'!I10)","v":""},{"$f":"IF('Broker Sheet'!J10=\"\",\"\",VLOOKUP('Broker Sheet'!J10,(Reference!$E$4:$F$9),2,FALSE))","v":""},{"$f":"IF('Broker Sheet'!K10=\"\",\"\",'Broker Sheet'!K10)","v":""},{"$f":"IF('Broker Sheet'!R10=\"\",\"\",'Broker Sheet'!R10)","v":""},{"$f":"IF('Broker Sheet'!S10=\"\",\"\",'Broker Sheet'!S10)","v":""},{"$f":"IF('Broker Sheet'!T10=\"\",\"\",'Broker Sheet'!T10)","v":""},{"$f":"IF('Broker Sheet'!U10=\"\",\"\",'Broker Sheet'!U10)","v":""},{"$f":"IF('Broker Sheet'!V10=\"\",\"\",'Broker Sheet'!V10)","v":""},{"$f":"IF('Broker Sheet'!W10=\"\",\"\",'Broker Sheet'!W10)","v":""},{"$f":"IF('Broker Sheet'!Y10=\"\",\"\",'Broker Sheet'!Y10)","v":""},{"$f":"IF('Broker Sheet'!AA10=\"\",\"\",'Broker Sheet'!AA10)","v":""},{"$f":"IF('Broker Sheet'!Z10=\"\",\"\",'Broker Sheet'!Z10)","v":""},{"$f":"IF('Broker Sheet'!AB10=\"\",\"\",'Broker Sheet'!AB10)","v":""},null,null,{"$f":"IF('Broker Sheet'!L10=\"\",\"\",TEXT('Broker Sheet'!L10,\"YYYYMMDD\"))","v":""},{"$f":"IF('Broker Sheet'!AC10=\"\",\"\",TEXT('Broker Sheet'!AC10,\"YYYYMMDD\"))","v":""},{"$f":"IF('Broker Sheet'!AD10=\"\",\"\",TEXT('Broker Sheet'!AD10,\"YYYYMMDD\"))","v":""},{"$f":"IF('Broker Sheet'!AE10=\"\",\"\",'Broker Sheet'!AE10)","v":""},{"$f":"IF('Broker Sheet'!AF10=\"\",\"\",TEXT('Broker Sheet'!AF10,\"YYYYMMDD\"))","v":""},{"$f":"IF('Broker Sheet'!AG10=\"\",\"\",TEXT('Broker Sheet'!AG10,\"YYYYMMDD\"))","v":""}]
[null,null,null,null,null,{"$f":"IF('Broker Sheet'!C11=\"\",\"\",'Broker Sheet'!C11)","v":""},{"$f":"IF('Broker Sheet'!D11=\"\",\"\",'Broker Sheet'!D11)","v":""},{"$f":"IF('Broker Sheet'!E11=\"\",\"\",'Broker Sheet'!E11)","v":""},{"$f":"IF('Broker Sheet'!F11=\"\",\"\",'Broker Sheet'!F11)","v":""},{"$f":"IF('Broker Sheet'!G11=\"\",\"\",TEXT('Broker Sheet'!G11,\"YYYYMMDD\"))","v":""},{"$f":"IF('Broker Sheet'!H11=\"\",\"\",'Broker Sheet'!H11)","v":""},{"$f":"IF('Broker Sheet'!I11=\"\",\"\",'Broker Sheet'!I11)","v":""},{"$f":"IF('Broker Sheet'!J11=\"\",\"\",VLOOKUP('Broker Sheet'!J11,(Reference!$E$4:$F$9),2,FALSE))","v":""},{"$f":"IF('Broker Sheet'!K11=\"\",\"\",'Broker Sheet'!K11)","v":""},{"$f":"IF('Broker Sheet'!R11=\"\",\"\",'Broker Sheet'!R11)","v":""},{"$f":"IF('Broker Sheet'!S11=\"\",\"\",'Broker Sheet'!S11)","v":""},{"$f":"IF('Broker Sheet'!T11=\"\",\"\",'Broker Sheet'!T11)","v":""},{"$f":"IF('Broker Sheet'!U11=\"\",\"\",'Broker Sheet'!U11)","v":""},{"$f":"IF('Broker Sheet'!V11=\"\",\"\",'Broker Sheet'!V11)","v":""},{"$f":"IF('Broker Sheet'!W11=\"\",\"\",'Broker Sheet'!W11)","v":""},{"$f":"IF('Broker Sheet'!Y11=\"\",\"\",'Broker Sheet'!Y11)","v":""},{"$f":"IF('Broker Sheet'!AA11=\"\",\"\",'Broker Sheet'!AA11)","v":""},{"$f":"IF('Broker Sheet'!Z11=\"\",\"\",'Broker Sheet'!Z11)","v":""},{"$f":"IF('Broker Sheet'!AB11=\"\",\"\",'Broker Sheet'!AB11)","v":""},null,null,{"$f":"IF('Broker Sheet'!L11=\"\",\"\",TEXT('Broker Sheet'!L11,\"YYYYMMDD\"))","v":""},{"$f":"IF('Broker Sheet'!AC11=\"\",\"\",TEXT('Broker Sheet'!AC11,\"YYYYMMDD\"))","v":""},{"$f":"IF('Broker Sheet'!AD11=\"\",\"\",TEXT('Broker Sheet'!AD11,\"YYYYMMDD\"))","v":""},{"$f":"IF('Broker Sheet'!AE11=\"\",\"\",'Broker Sheet'!AE11)","v":""},{"$f":"IF('Broker Sheet'!AF11=\"\",\"\",TEXT('Broker Sheet'!AF11,\"YYYYMMDD\"))","v":""},{"$f":"IF('Broker Sheet'!AG11=\"\",\"\",TEXT('Broker Sheet'!AG11,\"YYYYMMDD\"))","v":""}]
[null,null,null,null,null,{"$f":"IF('Broker Sheet'!C12=\"\",\"\",'Broker Sheet'!C12)","v":""},{"$f":"IF('Broker Sheet'!D12=\"\",\"\",'Broker Sheet'!D12)","v":""},{"$f":"IF('Broker Sheet'!E12=\"\",\"\",'Broker Sheet'!E12)","v":""},{"$f":"IF('Broker Sheet'!F12=\"\",\"\",'Broker Sheet'!F12)","v":""},{"$f":"IF('Broker Sheet'!G12=\"\",\"\",TEXT('Broker Sheet'!G12,\"YYYYMMDD\"))","v":""},{"$f":"IF('Broker Sheet'!H12=\"\",\"\",'Broker Sheet'!H12)","v":""},{"$f":"IF('Broker Sheet'!I12=\"\",\"\",'Broker Sheet'!I12)","v":""},{"$f":"IF('Broker Sheet'!J12=\"\",\"\",VLOOKUP('Broker Sheet'!J12,(Reference!$E$4:$F$9),2,FALSE))","v":""},{"$f":"IF('Broker Sheet'!K12=\"\",\"\",'Broker Sheet'!K12)","v":""},{"$f":"IF('Broker Sheet'!R12=\"\",\"\",'Broker Sheet'!R12)","v":""},{"$f":"IF('Broker Sheet'!S12=\"\",\"\",'Broker Sheet'!S12)","v":""},{"$f":"IF('Broker Sheet'!T12=\"\",\"\",'Broker Sheet'!T12)","v":""},{"$f":"IF('Broker Sheet'!U12=\"\",\"\",'Broker Sheet'!U12)","v":""},{"$f":"IF('Broker Sheet'!V12=\"\",\"\",'Broker Sheet'!V12)","v":""},{"$f":"IF('Broker Sheet'!W12=\"\",\"\",'Broker Sheet'!W12)","v":""},{"$f":"IF('Broker Sheet'!Y12=\"\",\"\",'Broker Sheet'!Y12)","v":""},{"$f":"IF('Broker Sheet'!AA12=\"\",\"\",'Broker Sheet'!AA12)","v":""},{"$f":"IF('Broker Sheet'!Z12=\"\",\"\",'Broker Sheet'!Z12)","v":""},{"$f":"IF('Broker Sheet'!AB12=\"\",\"\",'Broker Sheet'!AB12)","v":""},null,null,{"$f":"IF('Broker Sheet'!L12=\"\",\"\",TEXT('Broker Sheet'!L12,\"YYYYMMDD\"))","v":""},{"$f":"IF('Broker Sheet'!AC12=\"\",\"\",TEXT('Broker Sheet'!AC12,\"YYYYMMDD\"))","v":""},{"$f":"IF('Broker Sheet'!AD12=\"\",\"\",TEXT('Broker Sheet'!AD12,\"YYYYMMDD\"))","v":""},{"$f":"IF('Broker Sheet'!AE12=\"\",\"\",'Broker Sheet'!AE12)","v":""},{"$f":"IF('Broker Sheet'!AF12=\"\",\"\",TEXT('Broker Sheet'!AF12,\"YYYYMMDD\"))","v":""},{"$f":"IF('Broker Sheet'!AG12=\"\",\"\",TEXT('Broker Sheet'!AG12,\"YYYYMMDD\"))","v":""}]
[null,null,null,null,null,{"$f":"IF('Broker Sheet'!C13=\"\",\"\",'Broker Sheet'!C13)","v":""},{"$f":"IF('Broker Sheet'!D13=\"\",\"\",'Broker Sheet'!D13)","v":""},{"$f":"IF('Broker Sheet'!E13=\"\",\"\",'Broker Sheet'!E13)","v":""},{"$f":"IF('Broker Sheet'!F13=\"\",\"\",'Broker Sheet'!F13)","v":""},{"$f":"IF('Broker Sheet'!G13=\"\",\"\",TEXT('Broker Sheet'!G13,\"YYYYMMDD\"))","v":""},{"$f":"IF('Broker Sheet'!H13=\"\",\"\",'Broker Sheet'!H13)","v":""},{"$f":"IF('Broker Sheet'!I13=\"\",\"\",'Broker Sheet'!I13)","v":""},{"$f":"IF('Broker Sheet'!J13=\"\",\"\",VLOOKUP('Broker Sheet'!J13,(Reference!$E$4:$F$9),2,FALSE))","v":""},{"$f":"IF('Broker Sheet'!K13=\"\",\"\",'Broker Sheet'!K13)","v":""},{"$f":"IF('Broker Sheet'!R13=\"\",\"\",'Broker Sheet'!R13)","v":""},{"$f":"IF('Broker Sheet'!S13=\"\",\"\",'Broker Sheet'!S13)","v":""},{"$f":"IF('Broker Sheet'!T13=\"\",\"\",'Broker Sheet'!T13)","v":""},{"$f":"IF('Broker Sheet'!U13=\"\",\"\",'Broker Sheet'!U13)","v":""},{"$f":"IF('Broker Sheet'!V13=\"\",\"\",'Broker Sheet'!V13)","v":""},{"$f":"IF('Broker Sheet'!W13=\"\",\"\",'Broker Sheet'!W13)","v":""},{"$f":"IF('Broker Sheet'!Y13=\"\",\"\",'Broker Sheet'!Y13)","v":""},{"$f":"IF('Broker Sheet'!AA13=\"\",\"\",'Broker Sheet'!AA13)","v":""},{"$f":"IF('Broker Sheet'!Z13=\"\",\"\",'Broker Sheet'!Z13)","v":""},{"$f":"IF('Broker Sheet'!AB13=\"\",\"\",'Broker Sheet'!AB13)","v":""},null,null,{"$f":"IF('Broker Sheet'!L13=\"\",\"\",TEXT('Broker Sheet'!L13,\"YYYYMMDD\"))","v":""},{"$f":"IF('Broker Sheet'!AC13=\"\",\"\",TEXT('Broker Sheet'!AC13,\"YYYYMMDD\"))","v":""},{"$f":"IF('Broker Sheet'!AD13=\"\",\"\",TEXT('Broker Sheet'!AD13,\"YYYYMMDD\"))","v":""},{"$f":"IF('Broker Sheet'!AE13=\"\",\"\",'Broker Sheet'!AE13)","v":""},{"$f":"IF('Broker Sheet'!AF13=\"\",\"\",TEXT('Broker Sheet'!AF13,\"YYYYMMDD\"))","v":""},{"$f":"IF('Broker Sheet'!AG13=\"\",\"\",TEXT('Broker Sheet'!AG13,\"YYYYMMDD\"))","v":""}]
[null,null,null,null,null,{"$f":"IF('Broker Sheet'!C14=\"\",\"\",'Broker Sheet'!C14)","v":""},{"$f":"IF('Broker Sheet'!D14=\"\",\"\",'Broker Sheet'!D14)","v":""},{"$f":"IF('Broker Sheet'!E14=\"\",\"\",'Broker Sheet'!E14)","v":""},{"$f":"IF('Broker Sheet'!F14=\"\",\"\",'Broker Sheet'!F14)","v":""},{"$f":"IF('Broker Sheet'!G14=\"\",\"\",TEXT('Broker Sheet'!G14,\"YYYYMMDD\"))","v":""},{"$f":"IF('Broker Sheet'!H14=\"\",\"\",'Broker Sheet'!H14)","v":""},{"$f":"IF('Broker Sheet'!I14=\"\",\"\",'Broker Sheet'!I14)","v":""},{"$f":"IF('Broker Sheet'!J14=\"\",\"\",VLOOKUP('Broker Sheet'!J14,(Reference!$E$4:$F$9),2,FALSE))","v":""},{"$f":"IF('Broker Sheet'!K14=\"\",\"\",'Broker Sheet'!K14)","v":""},{"$f":"IF('Broker Sheet'!R14=\"\",\"\",'Broker Sheet'!R14)","v":""},{"$f":"IF('Broker Sheet'!S14=\"\",\"\",'Broker Sheet'!S14)","v":""},{"$f":"IF('Broker Sheet'!T14=\"\",\"\",'Broker Sheet'!T14)","v":""},{"$f":"IF('Broker Sheet'!U14=\"\",\"\",'Broker Sheet'!U14)","v":""},{"$f":"IF('Broker Sheet'!V14=\"\",\"\",'Broker Sheet'!V14)","v":""},{"$f":"IF('Broker Sheet'!W14=\"\",\"\",'Broker Sheet'!W14)","v":""},{"$f":"IF('Broker Sheet'!Y14=\"\",\"\",'Broker Sheet'!Y14)","v":""},{"$f":"IF('Broker Sheet'!AA14=\"\",\"\",'Broker Sheet'!AA14)","v":""},{"$f":"IF('Broker Sheet'!Z14=\"\",\"\",'Broker Sheet'!Z14)","v":""},{"$f":"IF('Broker Sheet'!AB14=\"\",\"\",'Broker Sheet'!AB14)","v":""},null,null,{"$f":"IF('Broker Sheet'!L14=\"\",\"\",TEXT('Broker Sheet'!L14,\"YYYYMMDD\"))","v":""},{"$f":"IF('Broker Sheet'!AC14=\"\",\"\",TEXT('Broker Sheet'!AC14,\"YYYYMMDD\"))","v":""},{"$f":"IF('Broker Sheet'!AD14=\"\",\"\",TEXT('Broker Sheet'!AD14,\"YYYYMMDD\"))","v":""},{"$f":"IF('Broker Sheet'!AE14=\"\",\"\",'Broker Sheet'!AE14)","v":""},{"$f":"IF('Broker Sheet'!AF14=\"\",\"\",TEXT('Broker Sheet'!AF14,\"YYYYMMDD\"))","v":""},{"$f":"IF('Broker Sheet'!AG14=\"\",\"\",TEXT('Broker Sheet'!AG14,\"YYYYMMDD\"))","v":""}]
[null,null,null,null,null,{"$f":"IF('Broker Sheet'!C15=\"\",\"\",'Broker Sheet'!C15)","v":""},{"$f":"IF('Broker Sheet'!D15=\"\",\"\",'Broker Sheet'!D15)","v":""},{"$f":"IF('Broker Sheet'!E15=\"\",\"\",'Broker Sheet'!E15)","v":""},{"$f":"IF('Broker Sheet'!F15=\"\",\"\",'Broker Sheet'!F15)","v":""},{"$f":"IF('Broker Sheet'!G15=\"\",\"\",TEXT('Broker Sheet'!G15,\"YYYYMMDD\"))","v":""},{"$f":"IF('Broker Sheet'!H15=\"\",\"\",'Broker Sheet'!H15)","v":""},{"$f":"IF('Broker Sheet'!I15=\"\",\"\",'Broker Sheet'!I15)","v":""},{"$f":"IF('Broker Sheet'!J15=\"\",\"\",VLOOKUP('Broker Sheet'!J15,(Reference!$E$4:$F$9),2,FALSE))","v":""},{"$f":"IF('Broker Sheet'!K15=\"\",\"\",'Broker Sheet'!K15)","v":""},{"$f":"IF('Broker Sheet'!R15=\"\",\"\",'Broker Sheet'!R15)","v":""},{"$f":"IF('Broker Sheet'!S15=\"\",\"\",'Broker Sheet'!S15)","v":""},{"$f":"IF('Broker Sheet'!T15=\"\",\"\",'Broker Sheet'!T15)","v":""},{"$f":"IF('Broker Sheet'!U15=\"\",\"\",'Broker Sheet'!U15)","v":""},{"$f":"IF('Broker Sheet'!V15=\"\",\"\",'Broker Sheet'!V15)","v":""},{"$f":"IF('Broker Sheet'!W15=\"\",\"\",'Broker Sheet'!W15)","v":""},{"$f":"IF('Broker Sheet'!Y15=\"\",\"\",'Broker Sheet'!Y15)","v":""},{"$f":"IF('Broker Sheet'!AA15=\"\",\"\",'Broker Sheet'!AA15)","v":""},{"$f":"IF('Broker Sheet'!Z15=\"\",\"\",'Broker Sheet'!Z15)","v":""},{"$f":"IF('Broker Sheet'!AB15=\"\",\"\",'Broker Sheet'!AB15)","v":""},null,null,{"$f":"IF('Broker Sheet'!L15=\"\",\"\",TEXT('Broker Sheet'!L15,\"YYYYMMDD\"))","v":""},{"$f":"IF('Broker Sheet'!AC15=\"\",\"\",TEXT('Broker Sheet'!AC15,\"YYYYMMDD\"))","v":""},{"$f":"IF('Broker Sheet'!AD15=\"\",\"\",TEXT('Broker Sheet'!AD15,\"YYYYMMDD\"))","v":""},{"$f":"IF('Broker Sheet'!AE15=\"\",\"\",'Broker Sheet'!AE15)","v":""},{"$f":"IF('Broker Sheet'!AF15=\"\",\"\",TEXT('Broker Sheet'!AF15,\"YYYYMMDD\"))","v":""},{"$f":"IF('Broker Sheet'!AG15=\"\",\"\",TEXT('Broker Sheet'!AG15,\"YYYYMMDD\"))","v":""}]
[null,null,null,null,null,{"$f":"IF('Broker Sheet'!C16=\"\",\"\",'Broker Sheet'!C16)","v":""},{"$f":"IF('Broker Sheet'!D16=\"\",\"\",'Broker Sheet'!D16)","v":""},{"$f":"IF('Broker Sheet'!E16=\"\",\"\",'Broker Sheet'!E16)","v":""},{"$f":"IF('Broker Sheet'!F16=\"\",\"\",'Broker Sheet'!F16)","v":""},{"$f":"IF('Broker Sheet'!G16=\"\",\"\",TEXT('Broker Sheet'!G16,\"YYYYMMDD\"))","v":""},{"$f":"IF('Broker Sheet'!H16=\"\",\"\",'Broker Sheet'!H16)","v":""},{"$f":"IF('Broker Sheet'!I16=\"\",\"\",'Broker Sheet'!I16)","v":""},{"$f":"IF('Broker Sheet'!J16=\"\",\"\",VLOOKUP('Broker Sheet'!J16,(Reference!$E$4:$F$9),2,FALSE))","v":""},{"$f":"IF('Broker Sheet'!K16=\"\",\"\",'Broker Sheet'!K16)","v":""},{"$f":"IF('Broker Sheet'!R16=\"\",\"\",'Broker Sheet'!R16)","v":""},{"$f":"IF('Broker Sheet'!S16=\"\",\"\",'Broker Sheet'!S16)","v":""},{"$f":"IF('Broker Sheet'!T16=\"\",\"\",'Broker Sheet'!T16)","v":""},{"$f":"IF('Broker Sheet'!U16=\"\",\"\",'Broker Sheet'!U16)","v":""},{"$f":"IF('Broker Sheet'!V16=\"\",\"\",'Broker Sheet'!V16)","v":""},{"$f":"IF('Broker Sheet'!W16=\"\",\"\",'Broker Sheet'!W16)","v":""},{"$f":"IF('Broker Sheet'!Y16=\"\",\"\",'Broker Sheet'!Y16)","v":""},{"$f":"IF('Broker Sheet'!AA16=\"\",\"\",'Broker Sheet'!AA16)","v":""},{"$f":"IF('Broker Sheet'!Z16=\"\",\"\",'Broker Sheet'!Z16)","v":""},{"$f":"IF('Broker Sheet'!AB16=\"\",\"\",'Broker Sheet'!AB16)","v":""},null,null,{"$f":"IF('Broker Sheet'!L16=\"\",\"\",TEXT('Broker Sheet'!L16,\"YYYYMMDD\"))","v":""},{"$f":"IF('Broker Sheet'!AC16=\"\",\"\",TEXT('Broker Sheet'!AC16,\"YYYYMMDD\"))","v":""},{"$f":"IF('Broker Sheet'!AD16=\"\",\"\",TEXT('Broker Sheet'!AD16,\"YYYYMMDD\"))","v":""},{"$f":"IF('Broker Sheet'!AE16=\"\",\"\",'Broker Sheet'!AE16)","v":""},{"$f":"IF('Broker Sheet'!AF16=\"\",\"\",TEXT('Broker Sheet'!AF16,\"YYYYMMDD\"))","v":""},{"$f":"IF('Broker Sheet'!AG16=\"\",\"\",TEXT('Broker Sheet'!AG16,\"YYYYMMDD\"))","v":""}]
[null,null,null,null,null,{"$f":"IF('Broker Sheet'!C17=\"\",\"\",'Broker Sheet'!C17)","v":""},{"$f":"IF('Broker Sheet'!D17=\"\",\"\",'Broker Sheet'!D17)","v":""},{"$f":"IF('Broker Sheet'!E17=\"\",\"\",'Broker Sheet'!E17)","v":""},{"$f":"IF('Broker Sheet'!F17=\"\",\"\",'Broker Sheet'!F17)","v":""},{"$f":"IF('Broker Sheet'!G17=\"\",\"\",TEXT('Broker Sheet'!G17,\"YYYYMMDD\"))","v":""},{"$f":"IF('Broker Sheet'!H17=\"\",\"\",'Broker Sheet'!H17)","v":""},{"$f":"IF('Broker Sheet'!I17=\"\",\"\",'Broker Sheet'!I17)","v":""},{"$f":"IF('Broker Sheet'!J17=\"\",\"\",VLOOKUP('Broker Sheet'!J17,(Reference!$E$4:$F$9),2,FALSE))","v":""},{"$f":"IF('Broker Sheet'!K17=\"\",\"\",'Broker Sheet'!K17)","v":""},{"$f":"IF('Broker Sheet'!R17=\"\",\"\",'Broker Sheet'!R17)","v":""},{"$f":"IF('Broker Sheet'!S17=\"\",\"\",'Broker Sheet'!S17)","v":""},{"$f":"IF('Broker Sheet'!T17=\"\",\"\",'Broker Sheet'!T17)","v":""},{"$f":"IF('Broker Sheet'!U17=\"\",\"\",'Broker Sheet'!U17)","v":""},{"$f":"IF('Broker Sheet'!V17=\"\",\"\",'Broker Sheet'!V17)","v":""},{"$f":"IF('Broker Sheet'!W17=\"\",\"\",'Broker Sheet'!W17)","v":""},{"$f":"IF('Broker Sheet'!Y17=\"\",\"\",'Broker Sheet'!Y17)","v":""},{"$f":"IF('Broker Sheet'!AA17=\"\",\"\",'Broker Sheet'!AA17)","v":""},{"$f":"IF('Broker Sheet'!Z17=\"\",\"\",'Broker Sheet'!Z17)","v":""},{"$f":"IF('Broker Sheet'!AB17=\"\",\"\",'Broker Sheet'!AB17)","v":""},null,null,{"$f":"IF('Broker Sheet'!L17=\"\",\"\",TEXT('Broker Sheet'!L17,\"YYYYMMDD\"))","v":""},{"$f":"IF('Broker Sheet'!AC17=\"\",\"\",TEXT('Broker Sheet'!AC17,\"YYYYMMDD\"))","v":""},{"$f":"IF('Broker Sheet'!AD17=\"\",\"\",TEXT('Broker Sheet'!AD17,\"YYYYMMDD\"))","v":""},{"$f":"IF('Broker Sheet'!AE17=\"\",\"\",'Broker Sheet'!AE17)","v":""},{"$f":"IF('Broker Sheet'!AF17=\"\",\"\",TEXT('Broker Sheet'!AF17,\"YYYYMMDD\"))","v":""},{"$f":"IF('Broker Sheet'!AG17=\"\",\"\",TEXT('Broker Sheet'!AG17,\"YYYYMMDD\"))","v":""}]
[null,null,null,null,null,{"$f":"IF('Broker Sheet'!C18=\"\",\"\",'Broker Sheet'!C18)","v":""},{"$f":"IF('Broker Sheet'!D18=\"\",\"\",'Broker Sheet'!D18)","v":""},{"$f":"IF('Broker Sheet'!E18=\"\",\"\",'Broker Sheet'!E18)","v":""},{"$f":"IF('Broker Sheet'!F18=\"\",\"\",'Broker Sheet'!F18)","v":""},{"$f":"IF('Broker Sheet'!G18=\"\",\"\",TEXT('Broker Sheet'!G18,\"YYYYMMDD\"))","v":""},{"$f":"IF('Broker Sheet'!H18=\"\",\"\",'Broker Sheet'!H18)","v":""},{"$f":"IF('Broker Sheet'!I18=\"\",\"\",'Broker Sheet'!I18)","v":""},{"$f":"IF('Broker Sheet'!J18=\"\",\"\",VLOOKUP('Broker Sheet'!J18,(Reference!$E$4:$F$9),2,FALSE))","v":""},{"$f":"IF('Broker Sheet'!K18=\"\",\"\",'Broker Sheet'!K18)","v":""},{"$f":"IF('Broker Sheet'!R18=\"\",\"\",'Broker Sheet'!R18)","v":""},{"$f":"IF('Broker Sheet'!S18=\"\",\"\",'Broker Sheet'!S18)","v":""},{"$f":"IF('Broker Sheet'!T18=\"\",\"\",'Broker Sheet'!T18)","v":""},{"$f":"IF('Broker Sheet'!U18=\"\",\"\",'Broker Sheet'!U18)","v":""},{"$f":"IF('Broker Sheet'!V18=\"\",\"\",'Broker Sheet'!V18)","v":""},{"$f":"IF('Broker Sheet'!W18=\"\",\"\",'Broker Sheet'!W18)","v":""},{"$f":"IF('Broker Sheet'!Y18=\"\",\"\",'Broker Sheet'!Y18)","v":""},{"$f":"IF('Broker Sheet'!AA18=\"\",\"\",'Broker Sheet'!AA18)","v":""},{"$f":"IF('Broker Sheet'!Z18=\"\",\"\",'Broker Sheet'!Z18)","v":""},{"$f":"IF('Broker Sheet'!AB18=\"\",\"\",'Broker Sheet'!AB18)","v":""},null,null,{"$f":"IF('Broker Sheet'!L18=\"\",\"\",TEXT('Broker Sheet'!L18,\"YYYYMMDD\"))","v":""},{"$f":"IF('Broker Sheet'!AC18=\"\",\"\",TEXT('Broker Sheet'!AC18,\"YYYYMMDD\"))","v":""},{"$f":"IF('Broker Sheet'!AD18=\"\",\"\",TEXT('Broker Sheet'!AD18,\"YYYYMMDD\"))","v":""},{"$f":"IF('Broker Sheet'!AE18=\"\",\"\",'Broker Sheet'!AE18)","v":""},{"$f":"IF('Broker Sheet'!AF18=\"\",\"\",TEXT('Broker Sheet'!AF18,\"YYYYMMDD\"))","v":""},{"$f":"IF('Broker Sheet'!AG18=\"\",\"\",TEXT('Broker Sheet'!AG18,\"YYYYMMDD\"))","v":""}]
[null,null,null,null,null,{"$f":"IF('Broker Sheet'!C19=\"\",\"\",'Broker Sheet'!C19)","v":""},{"$f":"IF('Broker Sheet'!D19=\"\",\"\",'Broker Sheet'!D19)","v":""},{"$f":"IF('Broker Sheet'!E19=\"\",\"\",'Broker Sheet'!E19)","v":""},{"$f":"IF('Broker Sheet'!F19=\"\",\"\",'Broker Sheet'!F19)","v":""},{"$f":"IF('Broker Sheet'!G19=\"\",\"\",TEXT('Broker Sheet'!G19,\"YYYYMMDD\"))","v":""},{"$f":"IF('Broker Sheet'!H19=\"\",\"\",'Broker Sheet'!H19)","v":""},{"$f":"IF('Broker Sheet'!I19=\"\",\"\",'Broker Sheet'!I19)","v":""},{"$f":"IF('Broker Sheet'!J19=\"\",\"\",VLOOKUP('Broker Sheet'!J19,(Reference!$E$4:$F$9),2,FALSE))","v":""},{"$f":"IF('Broker Sheet'!K19=\"\",\"\",'Broker Sheet'!K19)","v":""},{"$f":"IF('Broker Sheet'!R19=\"\",\"\",'Broker Sheet'!R19)","v":""},{"$f":"IF('Broker Sheet'!S19=\"\",\"\",'Broker Sheet'!S19)","v":""},{"$f":"IF('Broker Sheet'!T19=\"\",\"\",'Broker Sheet'!T19)","v":""},{"$f":"IF('Broker Sheet'!U19=\"\",\"\",'Broker Sheet'!U19)","v":""},{"$f":"IF('Broker Sheet'!V19=\"\",\"\",'Broker Sheet'!V19)","v":""},{"$f":"IF('Broker Sheet'!W19=\"\",\"\",'Broker Sheet'!W19)","v":""},{"$f":"IF('Broker Sheet'!Y19=\"\",\"\",'Broker Sheet'!Y19)","v":""},{"$f":"IF('Broker Sheet'!AA19=\"\",\"\",'Broker Sheet'!AA19)","v":""},{"$f":"IF('Broker Sheet'!Z19=\"\",\"\",'Broker Sheet'!Z19)","v":""},{"$f":"IF('Broker Sheet'!AB19=\"\",\"\",'Broker Sheet'!AB19)","v":""},null,null,{"$f":"IF('Broker Sheet'!L19=\"\",\"\",TEXT('Broker Sheet'!L19,\"YYYYMMDD\"))","v":""},{"$f":"IF('Broker Sheet'!AC19=\"\",\"\",TEXT('Broker Sheet'!AC19,\"YYYYMMDD\"))","v":""},{"$f":"IF('Broker Sheet'!AD19=\"\",\"\",TEXT('Broker Sheet'!AD19,\"YYYYMMDD\"))","v":""},{"$f":"IF('Broker Sheet'!AE19=\"\",\"\",'Broker Sheet'!AE19)","v":""},{"$f":"IF('Broker Sheet'!AF19=\"\",\"\",TEXT('Broker Sheet'!AF19,\"YYYYMMDD\"))","v":""},{"$f":"IF('Broker Sheet'!AG19=\"\",\"\",TEXT('Broker Sheet'!AG19,\"YYYYMMDD\"))","v":""}]
[null,null,null,null,null,{"$f":"IF('Broker Sheet'!C20=\"\",\"\",'Broker Sheet'!C20)","v":""},{"$f":"IF('Broker Sheet'!D20=\"\",\"\",'Broker Sheet'!D20)","v":""},{"$f":"IF('Broker Sheet'!E20=\"\",\"\",'Broker Sheet'!E20)","v":""},{"$f":"IF('Broker Sheet'!F20=\"\",\"\",'Broker Sheet'!F20)","v":""},{"$f":"IF('Broker Sheet'!G20=\"\",\"\",TEXT('Broker Sheet'!G20,\"YYYYMMDD\"))","v":""},{"$f":"IF('Broker Sheet'!H20=\"\",\"\",'Broker Sheet'!H20)","v":""},{"$f":"IF('Broker Sheet'!I20=\"\",\"\",'Broker Sheet'!I20)","v":""},{"$f":"IF('Broker Sheet'!J20=\"\",\"\",VLOOKUP('Broker Sheet'!J20,(Reference!$E$4:$F$9),2,FALSE))","v":""},{"$f":"IF('Broker Sheet'!K20=\"\",\"\",'Broker Sheet'!K20)","v":""},{"$f":"IF('Broker Sheet'!R20=\"\",\"\",'Broker Sheet'!R20)","v":""},{"$f":"IF('Broker Sheet'!S20=\"\",\"\",'Broker Sheet'!S20)","v":""},{"$f":"IF('Broker Sheet'!T20=\"\",\"\",'Broker Sheet'!T20)","v":""},{"$f":"IF('Broker Sheet'!U20=\"\",\"\",'Broker Sheet'!U20)","v":""},{"$f":"IF('Broker Sheet'!V20=\"\",\"\",'Broker Sheet'!V20)","v":""},{"$f":"IF('Broker Sheet'!W20=\"\",\"\",'Broker Sheet'!W20)","v":""},{"$f":"IF('Broker Sheet'!Y20=\"\",\"\",'Broker Sheet'!Y20)","v":""},{"$f":"IF('Broker Sheet'!AA20=\"\",\"\",'Broker Sheet'!AA20)","v":""},{"$f":"IF('Broker Sheet'!Z20=\"\",\"\",'Broker Sheet'!Z20)","v":""},{"$f":"IF('Broker Sheet'!AB20=\"\",\"\",'Broker Sheet'!AB20)","v":""},null,null,{"$f":"IF('Broker Sheet'!L20=\"\",\"\",TEXT('Broker Sheet'!L20,\"YYYYMMDD\"))","v":""},{"$f":"IF('Broker Sheet'!AC20=\"\",\"\",TEXT('Broker Sheet'!AC20,\"YYYYMMDD\"))","v":""},{"$f":"IF('Broker Sheet'!AD20=\"\",\"\",TEXT('Broker Sheet'!AD20,\"YYYYMMDD\"))","v":""},{"$f":"IF('Broker Sheet'!AE20=\"\",\"\",'Broker Sheet'!AE20)","v":""},{"$f":"IF('Broker Sheet'!AF20=\"\",\"\",TEXT('Broker Sheet'!AF20,\"YYYYMMDD\"))","v":""},{"$f":"IF('Broker Sheet'!AG20=\"\",\"\",TEXT('Broker Sheet'!AG20,\"YYYYMMDD\"))","v":""}]
[null,null,null,null,null,{"$f":"IF('Broker Sheet'!C21=\"\",\"\",'Broker Sheet'!C21)","v":""},{"$f":"IF('Broker Sheet'!D21=\"\",\"\",'Broker Sheet'!D21)","v":""},{"$f":"IF('Broker Sheet'!E21=\"\",\"\",'Broker Sheet'!E21)","v":""},{"$f":"IF('Broker Sheet'!F21=\"\",\"\",'Broker Sheet'!F21)","v":""},{"$f":"IF('Broker Sheet'!G21=\"\",\"\",TEXT('Broker Sheet'!G21,\"YYYYMMDD\"))","v":""},{"$f":"IF('Broker Sheet'!H21=\"\",\"\",'Broker Sheet'!H21)","v":""},{"$f":"IF('Broker Sheet'!I21=\"\",\"\",'Broker Sheet'!I21)","v":""},{"$f":"IF('Broker Sheet'!J21=\"\",\"\",VLOOKUP('Broker Sheet'!J21,(Reference!$E$4:$F$9),2,FALSE))","v":""},{"$f":"IF('Broker Sheet'!K21=\"\",\"\",'Broker Sheet'!K21)","v":""},{"$f":"IF('Broker Sheet'!R21=\"\",\"\",'Broker Sheet'!R21)","v":""},{"$f":"IF('Broker Sheet'!S21=\"\",\"\",'Broker Sheet'!S21)","v":""},{"$f":"IF('Broker Sheet'!T21=\"\",\"\",'Broker Sheet'!T21)","v":""},{"$f":"IF('Broker Sheet'!U21=\"\",\"\",'Broker Sheet'!U21)","v":""},{"$f":"IF('Broker Sheet'!V21=\"\",\"\",'Broker Sheet'!V21)","v":""},{"$f":"IF('Broker Sheet'!W21=\"\",\"\",'Broker Sheet'!W21)","v":""},{"$f":"IF('Broker Sheet'!Y21=\"\",\"\",'Broker Sheet'!Y21)","v":""},{"$f":"IF('Broker Sheet'!AA21=\"\",\"\",'Broker Sheet'!AA21)","v":""},{"$f":"IF('Broker Sheet'!Z21=\"\",\"\",'Broker Sheet'!Z21)","v":""},{"$f":"IF('Broker Sheet'!AB21=\"\",\"\",'Broker Sheet'!AB21)","v":""},null,null,{"$f":"IF('Broker Sheet'!L21=\"\",\"\",TEXT('Broker Sheet'!L21,\"YYYYMMDD\"))","v":""},{"$f":"IF('Broker Sheet'!AC21=\"\",\"\",TEXT('Broker Sheet'!AC21,\"YYYYMMDD\"))","v":""},{"$f":"IF('Broker Sheet'!AD21=\"\",\"\",TEXT('Broker Sheet'!AD21,\"YYYYMMDD\"))","v":""},{"$f":"IF('Broker Sheet'!AE21=\"\",\"\",'Broker Sheet'!AE21)","v":""},{"$f":"IF('Broker Sheet'!AF21=\"\",\"\",TEXT('Broker Sheet'!AF21,\"YYYYMMDD\"))","v":""},{"$f":"IF('Broker Sheet'!AG21=\"\",\"\",TEXT('Broker Sheet'!AG21,\"YYYYMMDD\"))","v":""}]
[null,null,null,null,null,{"$f":"IF('Broker Sheet'!C22=\"\",\"\",'Broker Sheet'!C22)","v":""},{"$f":"IF('Broker Sheet'!D22=\"\",\"\",'Broker Sheet'!D22)","v":""},{"$f":"IF('Broker Sheet'!E22=\"\",\"\",'Broker Sheet'!E22)","v":""},{"$f":"IF('Broker Sheet'!F22=\"\",\"\",'Broker Sheet'!F22)","v":""},{"$f":"IF('Broker Sheet'!G22=\"\",\"\",TEXT('Broker Sheet'!G22,\"YYYYMMDD\"))","v":""},{"$f":"IF('Broker Sheet'!H22=\"\",\"\",'Broker Sheet'!H22)","v":""},{"$f":"IF('Broker Sheet'!I22=\"\",\"\",'Broker Sheet'!I22)","v":""},{"$f":"IF('Broker Sheet'!J22=\"\",\"\",VLOOKUP('Broker Sheet'!J22,(Reference!$E$4:$F$9),2,FALSE))","v":""},{"$f":"IF('Broker Sheet'!K22=\"\",\"\",'Broker Sheet'!K22)","v":""},{"$f":"IF('Broker Sheet'!R22=\"\",\"\",'Broker Sheet'!R22)","v":""},{"$f":"IF('Broker Sheet'!S22=\"\",\"\",'Broker Sheet'!S22)","v":""},{"$f":"IF('Broker Sheet'!T22=\"\",\"\",'Broker Sheet'!T22)","v":""},{"$f":"IF('Broker Sheet'!U22=\"\",\"\",'Broker Sheet'!U22)","v":""},{"$f":"IF('Broker Sheet'!V22=\"\",\"\",'Broker Sheet'!V22)","v":""},{"$f":"IF('Broker Sheet'!W22=\"\",\"\",'Broker Sheet'!W22)","v":""},{"$f":"IF('Broker Sheet'!Y22=\"\",\"\",'Broker Sheet'!Y22)","v":""},{"$f":"IF('Broker Sheet'!AA22=\"\",\"\",'Broker Sheet'!AA22)","v":""},{"$f":"IF('Broker Sheet'!Z22=\"\",\"\",'Broker Sheet'!Z22)","v":""},{"$f":"IF('Broker Sheet'!AB22=\"\",\"\",'Broker Sheet'!AB22)","v":""},null,null,{"$f":"IF('Broker Sheet'!L22=\"\",\"\",TEXT('Broker Sheet'!L22,\"YYYYMMDD\"))","v":""},{"$f":"IF('Broker Sheet'!AC22=\"\",\"\",TEXT('Broker Sheet'!AC22,\"YYYYMMDD\"))","v":""},{"$f":"IF('Broker Sheet'!AD22=\"\",\"\",TEXT('Broker Sheet'!AD22,\"YYYYMMDD\"))","v":""},{"$f":"IF('Broker Sheet'!AE22=\"\",\"\",'Broker Sheet'!AE22)","v":""},{"$f":"IF('Broker Sheet'!AF22=\"\",\"\",TEXT('Broker Sheet'!AF22,\"YYYYMMDD\"))","v":""},{"$f":"IF('Broker Sheet'!AG22=\"\",\"\",TEXT('Broker Sheet'!AG22,\"YYYYMMDD\"))","v":""}]
[null,null,null,null,null,{"$f":"IF('Broker Sheet'!C23=\"\",\"\",'Broker Sheet'!C23)","v":""},{"$f":"IF('Broker Sheet'!D23=\"\",\"\",'Broker Sheet'!D23)","v":""},{"$f":"IF('Broker Sheet'!E23=\"\",\"\",'Broker Sheet'!E23)","v":""},{"$f":"IF('Broker Sheet'!F23=\"\",\"\",'Broker Sheet'!F23)","v":""},{"$f":"IF('Broker Sheet'!G23=\"\",\"\",TEXT('Broker Sheet'!G23,\"YYYYMMDD\"))","v":""},{"$f":"IF('Broker Sheet'!H23=\"\",\"\",'Broker Sheet'!H23)","v":""},{"$f":"IF('Broker Sheet'!I23=\"\",\"\",'Broker Sheet'!I23)","v":""},{"$f":"IF('Broker Sheet'!J23=\"\",\"\",VLOOKUP('Broker Sheet'!J23,(Reference!$E$4:$F$9),2,FALSE))","v":""},{"$f":"IF('Broker Sheet'!K23=\"\",\"\",'Broker Sheet'!K23)","v":""},{"$f":"IF('Broker Sheet'!R23=\"\",\"\",'Broker Sheet'!R23)","v":""},{"$f":"IF('Broker Sheet'!S23=\"\",\"\",'Broker Sheet'!S23)","v":""},{"$f":"IF('Broker Sheet'!T23=\"\",\"\",'Broker Sheet'!T23)","v":""},{"$f":"IF('Broker Sheet'!U23=\"\",\"\",'Broker Sheet'!U23)","v":""},{"$f":"IF('Broker Sheet'!V23=\"\",\"\",'Broker Sheet'!V23)","v":""},{"$f":"IF('Broker Sheet'!W23=\"\",\"\",'Broker Sheet'!W23)","v":""},{"$f":"IF('Broker Sheet'!Y23=\"\",\"\",'Broker Sheet'!Y23)","v":""},{"$f":"IF('Broker Sheet'!AA23=\"\",\"\",'Broker Sheet'!AA23)","v":""},{"$f":"IF('Broker Sheet'!Z23=\"\",\"\",'Broker Sheet'!Z23)","v":""},{"$f":"IF('Broker Sheet'!AB23=\"\",\"\",'Broker Sheet'!AB23)","v":""},null,null,{"$f":"IF('Broker Sheet'!L23=\"\",\"\",TEXT('Broker Sheet'!L23,\"YYYYMMDD\"))","v":""},{"$f":"IF('Broker Sheet'!AC23=\"\",\"\",TEXT('Broker Sheet'!AC23,\"YYYYMMDD\"))","v":""},{"$f":"IF('Broker Sheet'!AD23=\"\",\"\",TEXT('Broker Sheet'!AD23,\"YYYYMMDD\"))","v":""},{"$f":"IF('Broker Sheet'!AE23=\"\",\"\",'Broker Sheet'!AE23)","v":""},{"$f":"IF('Broker Sheet'!AF23=\"\",\"\",TEXT('Broker Sheet'!AF23,\"YYYYMMDD\"))","v":""},{"$f":"IF('Broker Sheet'!AG23=\"\",\"\",TEXT('Broker Sheet'!AG23,\"YYYYMMDD\"))","v":""}]
[null,null,null,null,null,{"$f":"IF('Broker Sheet'!C24=\"\",\"\",'Broker Sheet'!C24)","v":""},{"$f":"IF('Broker Sheet'!D24=\"\",\"\",'Broker Sheet'!D24)","v":""},{"$f":"IF('Broker Sheet'!E24=\"\",\"\",'Broker Sheet'!E24)","v":""},{"$f":"IF('Broker Sheet'!F24=\"\",\"\",'Broker Sheet'!F24)","v":""},{"$f":"IF('Broker Sheet'!G24=\"\",\"\",TEXT('Broker Sheet'!G24,\"YYYYMMDD\"))","v":""},{"$f":"IF('Broker Sheet'!H24=\"\",\"\",'Broker Sheet'!H24)","v":""},{"$f":"IF('Broker Sheet'!I24=\"\",\"\",'Broker Sheet'!I24)","v":""},{"$f":"IF('Broker Sheet'!J24=\"\",\"\",VLOOKUP('Broker Sheet'!J24,(Reference!$E$4:$F$9),2,FALSE))","v":""},{"$f":"IF('Broker Sheet'!K24=\"\",\"\",'Broker Sheet'!K24)","v":""},{"$f":"IF('Broker Sheet'!R24=\"\",\"\",'Broker Sheet'!R24)","v":""},{"$f":"IF('Broker Sheet'!S24=\"\",\"\",'Broker Sheet'!S24)","v":""},{"$f":"IF('Broker Sheet'!T24=\"\",\"\",'Broker Sheet'!T24)","v":""},{"$f":"IF('Broker Sheet'!U24=\"\",\"\",'Broker Sheet'!U24)","v":""},{"$f":"IF('Broker Sheet'!V24=\"\",\"\",'Broker Sheet'!V24)","v":""},{"$f":"IF('Broker Sheet'!W24=\"\",\"\",'Broker Sheet'!W24)","v":""},{"$f":"IF('Broker Sheet'!Y24=\"\",\"\",'Broker Sheet'!Y24)","v":""},{"$f":"IF('Broker Sheet'!AA24=\"\",\"\",'Broker Sheet'!AA24)","v":""},{"$f":"IF('Broker Sheet'!Z24=\"\",\"\",'Broker Sheet'!Z24)","v":""},{"$f":"IF('Broker Sheet'!AB24=\"\",\"\",'Broker Sheet'!AB24)","v":""},null,null,{"$f":"IF('Broker Sheet'!L24=\"\",\"\",TEXT('Broker Sheet'!L24,\"YYYYMMDD\"))","v":""},{"$f":"IF('Broker Sheet'!AC24=\"\",\"\",TEXT('Broker Sheet'!AC24,\"YYYYMMDD\"))","v":""},{"$f":"IF('Broker Sheet'!AD24=\"\",\"\",TEXT('Broker Sheet'!AD24,\"YYYYMMDD\"))","v":""},{"$f":"IF('Broker Sheet'!AE24=\"\",\"\",'Broker Sheet'!AE24)","v":""},{"$f":"IF('Broker Sheet'!AF24=\"\",\"\",TEXT('Broker Sheet'!AF24,\"YYYYMMDD\"))","v":""},{"$f":"IF('Broker Sheet'!AG24=\"\",\"\",TEXT('Broker Sheet'!AG24,\"YYYYMMDD\"))","v":""}]
[null,null,null,null,null,{"$f":"IF('Broker Sheet'!C25=\"\",\"\",'Broker Sheet'!C25)","v":""},{"$f":"IF('Broker Sheet'!D25=\"\",\"\",'Broker Sheet'!D25)","v":""},{"$f":"IF('Broker Sheet'!E25=\"\",\"\",'Broker Sheet'!E25)","v":""},{"$f":"IF('Broker Sheet'!F25=\"\",\"\",'Broker Sheet'!F25)","v":""},{"$f":"IF('Broker Sheet'!G25=\"\",\"\",TEXT('Broker Sheet'!G25,\"YYYYMMDD\"))","v":""},{"$f":"IF('Broker Sheet'!H25=\"\",\"\",'Broker Sheet'!H25)","v":""},{"$f":"IF('Broker Sheet'!I25=\"\",\"\",'Broker Sheet'!I25)","v":""},{"$f":"IF('Broker Sheet'!J25=\"\",\"\",VLOOKUP('Broker Sheet'!J25,(Reference!$E$4:$F$9),2,FALSE))","v":""},{"$f":"IF('Broker Sheet'!K25=\"\",\"\",'Broker Sheet'!K25)","v":""},{"$f":"IF('Broker Sheet'!R25=\"\",\"\",'Broker Sheet'!R25)","v":""},{"$f":"IF('Broker Sheet'!S25=\"\",\"\",'Broker Sheet'!S25)","v":""},{"$f":"IF('Broker Sheet'!T25=\"\",\"\",'Broker Sheet'!T25)","v":""},{"$f":"IF('Broker Sheet'!U25=\"\",\"\",'Broker Sheet'!U25)","v":""},{"$f":"IF('Broker Sheet'!V25=\"\",\"\",'Broker Sheet'!V25)","v":""},{"$f":"IF('Broker Sheet'!W25=\"\",\"\",'Broker Sheet'!W25)","v":""},{"$f":"IF('Broker Sheet'!Y25=\"\",\"\",'Broker Sheet'!Y25)","v":""},{"$f":"IF('Broker Sheet'!AA25=\"\",\"\",'Broker Sheet'!AA25)","v":""},{"$f":"IF('Broker Sheet'!Z25=\"\",\"\",'Broker Sheet'!Z25)","v":""},{"$f":"IF('Broker Sheet'!AB25=\"\",\"\",'Broker Sheet'!AB25)","v":""},null,null,{"$f":"IF('Broker Sheet'!L25=\"\",\"\",TEXT('Broker Sheet'!L25,\"YYYYMMDD\"))","v":""},{"$f":"IF('Broker Sheet'!AC25=\"\",\"\",TEXT('Broker Sheet'!AC25,\"YYYYMMDD\"))","v":""},{"$f":"IF('Broker Sheet'!AD25=\"\",\"\",TEXT('Broker Sheet'!AD25,\"YYYYMMDD\"))","v":""},{"$f":"IF('Broker Sheet'!AE25=\"\",\"\",'Broker Sheet'!AE25)","v":""},{"$f":"IF('Broker Sheet'!AF25=\"\",\"\",TEXT('Broker Sheet'!AF25,\"YYYYMMDD\"))","v":""},{"$f":"IF('Broker Sheet'!AG25=\"\",\"\",TEXT('Broker Sheet'!AG25,\"YYYYMMDD\"))","v":""}]
[null,null,null,null,null,{"$f":"IF('Broker Sheet'!C26=\"\",\"\",'Broker Sheet'!C26)","v":""},{"$f":"IF('Broker Sheet'!D26=\"\",\"\",'Broker Sheet'!D26)","v":""},{"$f":"IF('Broker Sheet'!E26=\"\",\"\",'Broker Sheet'!E26)","v":""},{"$f":"IF('Broker Sheet'!F26=\"\",\"\",'Broker Sheet'!F26)","v":""},{"$f":"IF('Broker Sheet'!G26=\"\",\"\",TEXT('Broker Sheet'!G26,\"YYYYMMDD\"))","v":""},{"$f":"IF('Broker Sheet'!H26=\"\",\"\",'Broker Sheet'!H26)","v":""},{"$f":"IF('Broker Sheet'!I26=\"\",\"\",'Broker Sheet'!I26)","v":""},{"$f":"IF('Broker Sheet'!J26=\"\",\"\",VLOOKUP('Broker Sheet'!J26,(Reference!$E$4:$F$9),2,FALSE))","v":""},{"$f":"IF('Broker Sheet'!K26=\"\",\"\",'Broker Sheet'!K26)","v":""},{"$f":"IF('Broker Sheet'!R26=\"\",\"\",'Broker Sheet'!R26)","v":""},{"$f":"IF('Broker Sheet'!S26=\"\",\"\",'Broker Sheet'!S26)","v":""},{"$f":"IF('Broker Sheet'!T26=\"\",\"\",'Broker Sheet'!T26)","v":""},{"$f":"IF('Broker Sheet'!U26=\"\",\"\",'Broker Sheet'!U26)","v":""},{"$f":"IF('Broker Sheet'!V26=\"\",\"\",'Broker Sheet'!V26)","v":""},{"$f":"IF('Broker Sheet'!W26=\"\",\"\",'Broker Sheet'!W26)","v":""},{"$f":"IF('Broker Sheet'!Y26=\"\",\"\",'Broker Sheet'!Y26)","v":""},{"$f":"IF('Broker Sheet'!AA26=\"\",\"\",'Broker Sheet'!AA26)","v":""},{"$f":"IF('Broker Sheet'!Z26=\"\",\"\",'Broker Sheet'!Z26)","v":""},{"$f":"IF('Broker Sheet'!AB26=\"\",\"\",'Broker Sheet'!AB26)","v":""},null,null,{"$f":"IF('Broker Sheet'!L26=\"\",\"\",TEXT('Broker Sheet'!L26,\"YYYYMMDD\"))","v":""},{"$f":"IF('Broker Sheet'!AC26=\"\",\"\",TEXT('Broker Sheet'!AC26,\"YYYYMMDD\"))","v":""},{"$f":"IF('Broker Sheet'!AD26=\"\",\"\",TEXT('Broker Sheet'!AD26,\"YYYYMMDD\"))","v":""},{"$f":"IF('Broker Sheet'!AE26=\"\",\"\",'Broker Sheet'!AE26)","v":""},{"$f":"IF('Broker Sheet'!AF26=\"\",\"\",TEXT('Broker Sheet'!AF26,\"YYYYMMDD\"))","v":""},{"$f":"IF('Broker Sheet'!AG26=\"\",\"\",TEXT('Broker Sheet'!AG26,\"YYYYMMDD\"))","v":""}]
[null,null,null,null,null,{"$f":"IF('Broker Sheet'!C27=\"\",\"\",'Broker Sheet'!C27)","v":""},{"$f":"IF('Broker Sheet'!D27=\"\",\"\",'Broker Sheet'!D27)","v":""},{"$f":"IF('Broker Sheet'!E27=\"\",\"\",'Broker Sheet'!E27)","v":""},{"$f":"IF('Broker Sheet'!F27=\"\",\"\",'Broker Sheet'!F27)","v":""},{"$f":"IF('Broker Sheet'!G27=\"\",\"\",TEXT('Broker Sheet'!G27,\"YYYYMMDD\"))","v":""},{"$f":"IF('Broker Sheet'!H27=\"\",\"\",'Broker Sheet'!H27)","v":""},{"$f":"IF('Broker Sheet'!I27=\"\",\"\",'Broker Sheet'!I27)","v":""},{"$f":"IF('Broker Sheet'!J27=\"\",\"\",VLOOKUP('Broker Sheet'!J27,(Reference!$E$4:$F$9),2,FALSE))","v":""},{"$f":"IF('Broker Sheet'!K27=\"\",\"\",'Broker Sheet'!K27)","v":""},{"$f":"IF('Broker Sheet'!R27=\"\",\"\",'Broker Sheet'!R27)","v":""},{"$f":"IF('Broker Sheet'!S27=\"\",\"\",'Broker Sheet'!S27)","v":""},{"$f":"IF('Broker Sheet'!T27=\"\",\"\",'Broker Sheet'!T27)","v":""},{"$f":"IF('Broker Sheet'!U27=\"\",\"\",'Broker Sheet'!U27)","v":""},{"$f":"IF('Broker Sheet'!V27=\"\",\"\",'Broker Sheet'!V27)","v":""},{"$f":"IF('Broker Sheet'!W27=\"\",\"\",'Broker Sheet'!W27)","v":""},{"$f":"IF('Broker Sheet'!Y27=\"\",\"\",'Broker Sheet'!Y27)","v":""},{"$f":"IF('Broker Sheet'!AA27=\"\",\"\",'Broker Sheet'!AA27)","v":""},{"$f":"IF('Broker Sheet'!Z27=\"\",\"\",'Broker Sheet'!Z27)","v":""},{"$f":"IF('Broker Sheet'!AB27=\"\",\"\",'Broker Sheet'!AB27)","v":""},null,null,{"$f":"IF('Broker Sheet'!L27=\"\",\"\",TEXT('Broker Sheet'!L27,\"YYYYMMDD\"))","v":""},{"$f":"IF('Broker Sheet'!AC27=\"\",\"\",TEXT('Broker Sheet'!AC27,\"YYYYMMDD\"))","v":""},{"$f":"IF('Broker Sheet'!AD27=\"\",\"\",TEXT('Broker Sheet'!AD27,\"YYYYMMDD\"))","v":""},{"$f":"IF('Broker Sheet'!AE27=\"\",\"\",'Broker Sheet'!AE27)","v":""},{"$f":"IF('Broker Sheet'!AF27=\"\",\"\",TEXT('Broker Sheet'!AF27,\"YYYYMMDD\"))","v":""},{"$f":"IF('Broker Sheet'!AG27=\"\",\"\",TEXT('Broker Sheet'!AG27,\"YYYYMMDD\"))","v":""}]
[null,null,null,null,null,{"$f":"IF('Broker Sheet'!C28=\"\",\"\",'Broker Sheet'!C28)","v":""},{"$f":"IF('Broker Sheet'!D28=\"\",\"\",'Broker Sheet'!D28)","v":""},{"$f":"IF('Broker Sheet'!E28=\"\",\"\",'Broker Sheet'!E28)","v":""},{"$f":"IF('Broker Sheet'!F28=\"\",\"\",'Broker Sheet'!F28)","v":""},{"$f":"IF('Broker Sheet'!G28=\"\",\"\",TEXT('Broker Sheet'!G28,\"YYYYMMDD\"))","v":""},{"$f":"IF('Broker Sheet'!H28=\"\",\"\",'Broker Sheet'!H28)","v":""},{"$f":"IF('Broker Sheet'!I28=\"\",\"\",'Broker Sheet'!I28)","v":""},{"$f":"IF('Broker Sheet'!J28=\"\",\"\",VLOOKUP('Broker Sheet'!J28,(Reference!$E$4:$F$9),2,FALSE))","v":""},{"$f":"IF('Broker Sheet'!K28=\"\",\"\",'Broker Sheet'!K28)","v":""},{"$f":"IF('Broker Sheet'!R28=\"\",\"\",'Broker Sheet'!R28)","v":""},{"$f":"IF('Broker Sheet'!S28=\"\",\"\",'Broker Sheet'!S28)","v":""},{"$f":"IF('Broker Sheet'!T28=\"\",\"\",'Broker Sheet'!T28)","v":""},{"$f":"IF('Broker Sheet'!U28=\"\",\"\",'Broker Sheet'!U28)","v":""},{"$f":"IF('Broker Sheet'!V28=\"\",\"\",'Broker Sheet'!V28)","v":""},{"$f":"IF('Broker Sheet'!W28=\"\",\"\",'Broker Sheet'!W28)","v":""},{"$f":"IF('Broker Sheet'!Y28=\"\",\"\",'Broker Sheet'!Y28)","v":""},{"$f":"IF('Broker Sheet'!AA28=\"\",\"\",'Broker Sheet'!AA28)","v":""},{"$f":"IF('Broker Sheet'!Z28=\"\",\"\",'Broker Sheet'!Z28)","v":""},{"$f":"IF('Broker Sheet'!AB28=\"\",\"\",'Broker Sheet'!AB28)","v":""},null,null,{"$f":"IF('Broker Sheet'!L28=\"\",\"\",TEXT('Broker Sheet'!L28,\"YYYYMMDD\"))","v":""},{"$f":"IF('Broker Sheet'!AC28=\"\",\"\",TEXT('Broker Sheet'!AC28,\"YYYYMMDD\"))","v":""},{"$f":"IF('Broker Sheet'!AD28=\"\",\"\",TEXT('Broker Sheet'!AD28,\"YYYYMMDD\"))","v":""},{"$f":"IF('Broker Sheet'!AE28=\"\",\"\",'Broker Sheet'!AE28)","v":""},{"$f":"IF('Broker Sheet'!AF28=\"\",\"\",TEXT('Broker Sheet'!AF28,\"YYYYMMDD\"))","v":""},{"$f":"IF('Broker Sheet'!AG28=\"\",\"\",TEXT('Broker Sheet'!AG28,\"YYYYMMDD\"))","v":""}]
[null,null,null,null,null,{"$f":"IF('Broker Sheet'!C29=\"\",\"\",'Broker Sheet'!C29)","v":""},{"$f":"IF('Broker Sheet'!D29=\"\",\"\",'Broker Sheet'!D29)","v":""},{"$f":"IF('Broker Sheet'!E29=\"\",\"\",'Broker Sheet'!E29)","v":""},{"$f":"IF('Broker Sheet'!F29=\"\",\"\",'Broker Sheet'!F29)","v":""},{"$f":"IF('Broker Sheet'!G29=\"\",\"\",TEXT('Broker Sheet'!G29,\"YYYYMMDD\"))","v":""},{"$f":"IF('Broker Sheet'!H29=\"\",\"\",'Broker Sheet'!H29)","v":""},{"$f":"IF('Broker Sheet'!I29=\"\",\"\",'Broker Sheet'!I29)","v":""},{"$f":"IF('Broker Sheet'!J29=\"\",\"\",VLOOKUP('Broker Sheet'!J29,(Reference!$E$4:$F$9),2,FALSE))","v":""},{"$f":"IF('Broker Sheet'!K29=\"\",\"\",'Broker Sheet'!K29)","v":""},{"$f":"IF('Broker Sheet'!R29=\"\",\"\",'Broker Sheet'!R29)","v":""},{"$f":"IF('Broker Sheet'!S29=\"\",\"\",'Broker Sheet'!S29)","v":""},{"$f":"IF('Broker Sheet'!T29=\"\",\"\",'Broker Sheet'!T29)","v":""},{"$f":"IF('Broker Sheet'!U29=\"\",\"\",'Broker Sheet'!U29)","v":""},{"$f":"IF('Broker Sheet'!V29=\"\",\"\",'Broker Sheet'!V29)","v":""},{"$f":"IF('Broker Sheet'!W29=\"\",\"\",'Broker Sheet'!W29)","v":""},{"$f":"IF('Broker Sheet'!Y29=\"\",\"\",'Broker Sheet'!Y29)","v":""},{"$f":"IF('Broker Sheet'!AA29=\"\",\"\",'Broker Sheet'!AA29)","v":""},{"$f":"IF('Broker Sheet'!Z29=\"\",\"\",'Broker Sheet'!Z29)","v":""},{"$f":"IF('Broker Sheet'!AB29=\"\",\"\",'Broker Sheet'!AB29)","v":""},null,null,{"$f":"IF('Broker Sheet'!L29=\"\",\"\",TEXT('Broker Sheet'!L29,\"YYYYMMDD\"))","v":""},{"$f":"IF('Broker Sheet'!AC29=\"\",\"\",TEXT('Broker Sheet'!AC29,\"YYYYMMDD\"))","v":""},{"$f":"IF('Broker Sheet'!AD29=\"\",\"\",TEXT('Broker Sheet'!AD29,\"YYYYMMDD\"))","v":""},{"$f":"IF('Broker Sheet'!AE29=\"\",\"\",'Broker Sheet'!AE29)","v":""},{"$f":"IF('Broker Sheet'!AF29=\"\",\"\",TEXT('Broker Sheet'!AF29,\"YYYYMMDD\"))","v":""},{"$f":"IF('Broker Sheet'!AG29=\"\",\"\",TEXT('Broker Sheet'!AG29,\"YYYYMMDD\"))","v":""}]
[null,null,null,null,null,{"$f":"IF('Broker Sheet'!C30=\"\",\"\",'Broker Sheet'!C30)","v":""},{"$f":"IF('Broker Sheet'!D30=\"\",\"\",'Broker Sheet'!D30)","v":""},{"$f":"IF('Broker Sheet'!E30=\"\",\"\",'Broker Sheet'!E30)","v":""},{"$f":"IF('Broker Sheet'!F30=\"\",\"\",'Broker Sheet'!F30)","v":""},{"$f":"IF('Broker Sheet'!G30=\"\",\"\",TEXT('Broker Sheet'!G30,\"YYYYMMDD\"))","v":""},{"$f":"IF('Broker Sheet'!H30=\"\",\"\",'Broker Sheet'!H30)","v":""},{"$f":"IF('Broker Sheet'!I30=\"\",\"\",'Broker Sheet'!I30)","v":""},{"$f":"IF('Broker Sheet'!J30=\"\",\"\",VLOOKUP('Broker Sheet'!J30,(Reference!$E$4:$F$9),2,FALSE))","v":""},{"$f":"IF('Broker Sheet'!K30=\"\",\"\",'Broker Sheet'!K30)","v":""},{"$f":"IF('Broker Sheet'!R30=\"\",\"\",'Broker Sheet'!R30)","v":""},{"$f":"IF('Broker Sheet'!S30=\"\",\"\",'Broker Sheet'!S30)","v":""},{"$f":"IF('Broker Sheet'!T30=\"\",\"\",'Broker Sheet'!T30)","v":""},{"$f":"IF('Broker Sheet'!U30=\"\",\"\",'Broker Sheet'!U30)","v":""},{"$f":"IF('Broker Sheet'!V30=\"\",\"\",'Broker Sheet'!V30)","v":""},{"$f":"IF('Broker Sheet'!W30=\"\",\"\",'Broker Sheet'!W30)","v":""},{"$f":"IF('Broker Sheet'!Y30=\"\",\"\",'Broker Sheet'!Y30)","v":""},{"$f":"IF('Broker Sheet'!AA30=\"\",\"\",'Broker Sheet'!AA30)","v":""},{"$f":"IF('Broker Sheet'!Z30=\"\",\"\",'Broker Sheet'!Z30)","v":""},{"$f":"IF('Broker Sheet'!AB30=\"\",\"\",'Broker Sheet'!AB30)","v":""},null,null,{"$f":"IF('Broker Sheet'!L30=\"\",\"\",TEXT('Broker Sheet'!L30,\"YYYYMMDD\"))","v":""},{"$f":"IF('Broker Sheet'!AC30=\"\",\"\",TEXT('Broker Sheet'!AC30,\"YYYYMMDD\"))","v":""},{"$f":"IF('Broker Sheet'!AD30=\"\",\"\",TEXT('Broker Sheet'!AD30,\"YYYYMMDD\"))","v":""},{"$f":"IF('Broker Sheet'!AE30=\"\",\"\",'Broker Sheet'!AE30)","v":""},{"$f":"IF('Broker Sheet'!AF30=\"\",\"\",TEXT('Broker Sheet'!AF30,\"YYYYMMDD\"))","v":""},{"$f":"IF('Broker Sheet'!AG30=\"\",\"\",TEXT('Broker Sheet'!AG30,\"YYYYMMDD\"))","v":""}]
[null,null,null,null,null,{"$f":"IF('Broker Sheet'!C31=\"\",\"\",'Broker Sheet'!C31)","v":""},{"$f":"IF('Broker Sheet'!D31=\"\",\"\",'Broker Sheet'!D31)","v":""},{"$f":"IF('Broker Sheet'!E31=\"\",\"\",'Broker Sheet'!E31)","v":""},{"$f":"IF('Broker Sheet'!F31=\"\",\"\",'Broker Sheet'!F31)","v":""},{"$f":"IF('Broker Sheet'!G31=\"\",\"\",TEXT('Broker Sheet'!G31,\"YYYYMMDD\"))","v":""},{"$f":"IF('Broker Sheet'!H31=\"\",\"\",'Broker Sheet'!H31)","v":""},{"$f":"IF('Broker Sheet'!I31=\"\",\"\",'Broker Sheet'!I31)","v":""},{"$f":"IF('Broker Sheet'!J31=\"\",\"\",VLOOKUP('Broker Sheet'!J31,(Reference!$E$4:$F$9),2,FALSE))","v":""},{"$f":"IF('Broker Sheet'!K31=\"\",\"\",'Broker Sheet'!K31)","v":""},{"$f":"IF('Broker Sheet'!R31=\"\",\"\",'Broker Sheet'!R31)","v":""},{"$f":"IF('Broker Sheet'!S31=\"\",\"\",'Broker Sheet'!S31)","v":""},{"$f":"IF('Broker Sheet'!T31=\"\",\"\",'Broker Sheet'!T31)","v":""},{"$f":"IF('Broker Sheet'!U31=\"\",\"\",'Broker Sheet'!U31)","v":""},{"$f":"IF('Broker Sheet'!V31=\"\",\"\",'Broker Sheet'!V31)","v":""},{"$f":"IF('Broker Sheet'!W31=\"\",\"\",'Broker Sheet'!W31)","v":""},{"$f":"IF('Broker Sheet'!Y31=\"\",\"\",'Broker Sheet'!Y31)","v":""},{"$f":"IF('Broker Sheet'!AA31=\"\",\"\",'Broker Sheet'!AA31)","v":""},{"$f":"IF('Broker Sheet'!Z31=\"\",\"\",'Broker Sheet'!Z31)","v":""},{"$f":"IF('Broker Sheet'!AB31=\"\",\"\",'Broker Sheet'!AB31)","v":""},null,null,{"$f":"IF('Broker Sheet'!L31=\"\",\"\",TEXT('Broker Sheet'!L31,\"YYYYMMDD\"))","v":""},{"$f":"IF('Broker Sheet'!AC31=\"\",\"\",TEXT('Broker Sheet'!AC31,\"YYYYMMDD\"))","v":""},{"$f":"IF('Broker Sheet'!AD31=\"\",\"\",TEXT('Broker Sheet'!AD31,\"YYYYMMDD\"))","v":""},{"$f":"IF('Broker Sheet'!AE31=\"\",\"\",'Broker Sheet'!AE31)","v":""},{"$f":"IF('Broker Sheet'!AF31=\"\",\"\",TEXT('Broker Sheet'!AF31,\"YYYYMMDD\"))","v":""},{"$f":"IF('Broker Sheet'!AG31=\"\",\"\",TEXT('Broker Sheet'!AG31,\"YYYYMMDD\"))","v":""}]
[null,null,null,null,null,{"$f":"IF('Broker Sheet'!C32=\"\",\"\",'Broker Sheet'!C32)","v":""},{"$f":"IF('Broker Sheet'!D32=\"\",\"\",'Broker Sheet'!D32)","v":""},{"$f":"IF('Broker Sheet'!E32=\"\",\"\",'Broker Sheet'!E32)","v":""},{"$f":"IF('Broker Sheet'!F32=\"\",\"\",'Broker Sheet'!F32)","v":""},{"$f":"IF('Broker Sheet'!G32=\"\",\"\",TEXT('Broker Sheet'!G32,\"YYYYMMDD\"))","v":""},{"$f":"IF('Broker Sheet'!H32=\"\",\"\",'Broker Sheet'!H32)","v":""},{"$f":"IF('Broker Sheet'!I32=\"\",\"\",'Broker Sheet'!I32)","v":""},{"$f":"IF('Broker Sheet'!J32=\"\",\"\",VLOOKUP('Broker Sheet'!J32,(Reference!$E$4:$F$9),2,FALSE))","v":""},{"$f":"IF('Broker Sheet'!K32=\"\",\"\",'Broker Sheet'!K32)","v":""},{"$f":"IF('Broker Sheet'!R32=\"\",\"\",'Broker Sheet'!R32)","v":""},{"$f":"IF('Broker Sheet'!S32=\"\",\"\",'Broker Sheet'!S32)","v":""},{"$f":"IF('Broker Sheet'!T32=\"\",\"\",'Broker Sheet'!T32)","v":""},{"$f":"IF('Broker Sheet'!U32=\"\",\"\",'Broker Sheet'!U32)","v":""},{"$f":"IF('Broker Sheet'!V32=\"\",\"\",'Broker Sheet'!V32)","v":""},{"$f":"IF('Broker Sheet'!W32=\"\",\"\",'Broker Sheet'!W32)","v":""},{"$f":"IF('Broker Sheet'!Y32=\"\",\"\",'Broker Sheet'!Y32)","v":""},{"$f":"IF('Broker Sheet'!AA32=\"\",\"\",'Broker Sheet'!AA32)","v":""},{"$f":"IF('Broker Sheet'!Z32=\"\",\"\",'Broker Sheet'!Z32)","v":""},{"$f":"IF('Broker Sheet'!AB32=\"\",\"\",'Broker Sheet'!AB32)","v":""},null,null,{"$f":"IF('Broker Sheet'!L32=\"\",\"\",TEXT('Broker Sheet'!L32,\"YYYYMMDD\"))","v":""},{"$f":"IF('Broker Sheet'!AC32=\"\",\"\",TEXT('Broker Sheet'!AC32,\"YYYYMMDD\"))","v":""},{"$f":"IF('Broker Sheet'!AD32=\"\",\"\",TEXT('Broker Sheet'!AD32,\"YYYYMMDD\"))","v":""},{"$f":"IF('Broker Sheet'!AE32=\"\",\"\",'Broker Sheet'!AE32)","v":""},{"$f":"IF('Broker Sheet'!AF32=\"\",\"\",TEXT('Broker Sheet'!AF32,\"YYYYMMDD\"))","v":""},{"$f":"IF('Broker Sheet'!AG32=\"\",\"\",TEXT('Broker Sheet'!AG32,\"YYYYMMDD\"))","v":""}]
[null,null,null,null,null,{"$f":"IF('Broker Sheet'!C33=\"\",\"\",'Broker Sheet'!C33)","v":""},{"$f":"IF('Broker Sheet'!D33=\"\",\"\",'Broker Sheet'!D33)","v":""},{"$f":"IF('Broker Sheet'!E33=\"\",\"\",'Broker Sheet'!E33)","v":""},{"$f":"IF('Broker Sheet'!F33=\"\",\"\",'Broker Sheet'!F33)","v":""},{"$f":"IF('Broker Sheet'!G33=\"\",\"\",TEXT('Broker Sheet'!G33,\"YYYYMMDD\"))","v":""},{"$f":"IF('Broker Sheet'!H33=\"\",\"\",'Broker Sheet'!H33)","v":""},{"$f":"IF('Broker Sheet'!I33=\"\",\"\",'Broker Sheet'!I33)","v":""},{"$f":"IF('Broker Sheet'!J33=\"\",\"\",VLOOKUP('Broker Sheet'!J33,(Reference!$E$4:$F$9),2,FALSE))","v":""},{"$f":"IF('Broker Sheet'!K33=\"\",\"\",'Broker Sheet'!K33)","v":""},{"$f":"IF('Broker Sheet'!R33=\"\",\"\",'Broker Sheet'!R33)","v":""},{"$f":"IF('Broker Sheet'!S33=\"\",\"\",'Broker Sheet'!S33)","v":""},{"$f":"IF('Broker Sheet'!T33=\"\",\"\",'Broker Sheet'!T33)","v":""},{"$f":"IF('Broker Sheet'!U33=\"\",\"\",'Broker Sheet'!U33)","v":""},{"$f":"IF('Broker Sheet'!V33=\"\",\"\",'Broker Sheet'!V33)","v":""},{"$f":"IF('Broker Sheet'!W33=\"\",\"\",'Broker Sheet'!W33)","v":""},{"$f":"IF('Broker Sheet'!Y33=\"\",\"\",'Broker Sheet'!Y33)","v":""},{"$f":"IF('Broker Sheet'!AA33=\"\",\"\",'Broker Sheet'!AA33)","v":""},{"$f":"IF('Broker Sheet'!Z33=\"\",\"\",'Broker Sheet'!Z33)","v":""},{"$f":"IF('Broker Sheet'!AB33=\"\",\"\",'Broker Sheet'!AB33)","v":""},null,null,{"$f":"IF('Broker Sheet'!L33=\"\",\"\",TEXT('Broker Sheet'!L33,\"YYYYMMDD\"))","v":""},{"$f":"IF('Broker Sheet'!AC33=\"\",\"\",TEXT('Broker Sheet'!AC33,\"YYYYMMDD\"))","v":""},{"$f":"IF('Broker Sheet'!AD33=\"\",\"\",TEXT('Broker Sheet'!AD33,\"YYYYMMDD\"))","v":""},{"$f":"IF('Broker Sheet'!AE33=\"\",\"\",'Broker Sheet'!AE33)","v":""},{"$f":"IF('Broker Sheet'!AF33=\"\",\"\",TEXT('Broker Sheet'!AF33,\"YYYYMMDD\"))","v":""},{"$f":"IF('Broker Sheet'!AG33=\"\",\"\",TEXT('Broker Sheet'!AG33,\"YYYYMMDD\"))","v":""}]
[null,null,null,null,null,{"$f":"IF('Broker Sheet'!C34=\"\",\"\",'Broker Sheet'!C34)","v":""},{"$f":"IF('Broker Sheet'!D34=\"\",\"\",'Broker Sheet'!D34)","v":""},{"$f":"IF('Broker Sheet'!E34=\"\",\"\",'Broker Sheet'!E34)","v":""},{"$f":"IF('Broker Sheet'!F34=\"\",\"\",'Broker Sheet'!F34)","v":""},{"$f":"IF('Broker Sheet'!G34=\"\",\"\",TEXT('Broker Sheet'!G34,\"YYYYMMDD\"))","v":""},{"$f":"IF('Broker Sheet'!H34=\"\",\"\",'Broker Sheet'!H34)","v":""},{"$f":"IF('Broker Sheet'!I34=\"\",\"\",'Broker Sheet'!I34)","v":""},{"$f":"IF('Broker Sheet'!J34=\"\",\"\",VLOOKUP('Broker Sheet'!J34,(Reference!$E$4:$F$9),2,FALSE))","v":""},{"$f":"IF('Broker Sheet'!K34=\"\",\"\",'Broker Sheet'!K34)","v":""},{"$f":"IF('Broker Sheet'!R34=\"\",\"\",'Broker Sheet'!R34)","v":""},{"$f":"IF('Broker Sheet'!S34=\"\",\"\",'Broker Sheet'!S34)","v":""},{"$f":"IF('Broker Sheet'!T34=\"\",\"\",'Broker Sheet'!T34)","v":""},{"$f":"IF('Broker Sheet'!U34=\"\",\"\",'Broker Sheet'!U34)","v":""},{"$f":"IF('Broker Sheet'!V34=\"\",\"\",'Broker Sheet'!V34)","v":""},{"$f":"IF('Broker Sheet'!W34=\"\",\"\",'Broker Sheet'!W34)","v":""},{"$f":"IF('Broker Sheet'!Y34=\"\",\"\",'Broker Sheet'!Y34)","v":""},{"$f":"IF('Broker Sheet'!AA34=\"\",\"\",'Broker Sheet'!AA34)","v":""},{"$f":"IF('Broker Sheet'!Z34=\"\",\"\",'Broker Sheet'!Z34)","v":""},{"$f":"IF('Broker Sheet'!AB34=\"\",\"\",'Broker Sheet'!AB34)","v":""},null,null,{"$f":"IF('Broker Sheet'!L34=\"\",\"\",TEXT('Broker Sheet'!L34,\"YYYYMMDD\"))","v":""},{"$f":"IF('Broker Sheet'!AC34=\"\",\"\",TEXT('Broker Sheet'!AC34,\"YYYYMMDD\"))","v":""},{"$f":"IF('Broker Sheet'!AD34=\"\",\"\",TEXT('Broker Sheet'!AD34,\"YYYYMMDD\"))","v":""},{"$f":"IF('Broker Sheet'!AE34=\"\",\"\",'Broker Sheet'!AE34)","v":""},{"$f":"IF('Broker Sheet'!AF34=\"\",\"\",TEXT('Broker Sheet'!AF34,\"YYYYMMDD\"))","v":""},{"$f":"IF('Broker Sheet'!AG34=\"\",\"\",TEXT('Broker Sheet'!AG34,\"YYYYMMDD\"))","v":""}]
[null,null,null,null,null,{"$f":"IF('Broker Sheet'!C35=\"\",\"\",'Broker Sheet'!C35)","v":""},{"$f":"IF('Broker Sheet'!D35=\"\",\"\",'Broker Sheet'!D35)","v":""},{"$f":"IF('Broker Sheet'!E35=\"\",\"\",'Broker Sheet'!E35)","v":""},{"$f":"IF('Broker Sheet'!F35=\"\",\"\",'Broker Sheet'!F35)","v":""},{"$f":"IF('Broker Sheet'!G35=\"\",\"\",TEXT('Broker Sheet'!G35,\"YYYYMMDD\"))","v":""},{"$f":"IF('Broker Sheet'!H35=\"\",\"\",'Broker Sheet'!H35)","v":""},{"$f":"IF('Broker Sheet'!I35=\"\",\"\",'Broker Sheet'!I35)","v":""},{"$f":"IF('Broker Sheet'!J35=\"\",\"\",VLOOKUP('Broker Sheet'!J35,(Reference!$E$4:$F$9),2,FALSE))","v":""},{"$f":"IF('Broker Sheet'!K35=\"\",\"\",'Broker Sheet'!K35)","v":""},{"$f":"IF('Broker Sheet'!R35=\"\",\"\",'Broker Sheet'!R35)","v":""},{"$f":"IF('Broker Sheet'!S35=\"\",\"\",'Broker Sheet'!S35)","v":""},{"$f":"IF('Broker Sheet'!T35=\"\",\"\",'Broker Sheet'!T35)","v":""},{"$f":"IF('Broker Sheet'!U35=\"\",\"\",'Broker Sheet'!U35)","v":""},{"$f":"IF('Broker Sheet'!V35=\"\",\"\",'Broker Sheet'!V35)","v":""},{"$f":"IF('Broker Sheet'!W35=\"\",\"\",'Broker Sheet'!W35)","v":""},{"$f":"IF('Broker Sheet'!Y35=\"\",\"\",'Broker Sheet'!Y35)","v":""},{"$f":"IF('Broker Sheet'!AA35=\"\",\"\",'Broker Sheet'!AA35)","v":""},{"$f":"IF('Broker Sheet'!Z35=\"\",\"\",'Broker Sheet'!Z35)","v":""},{"$f":"IF('Broker Sheet'!AB35=\"\",\"\",'Broker Sheet'!AB35)","v":""},null,null,{"$f":"IF('Broker Sheet'!L35=\"\",\"\",TEXT('Broker Sheet'!L35,\"YYYYMMDD\"))","v":""},{"$f":"IF('Broker Sheet'!AC35=\"\",\"\",TEXT('Broker Sheet'!AC35,\"YYYYMMDD\"))","v":""},{"$f":"IF('Broker Sheet'!AD35=\"\",\"\",TEXT('Broker Sheet'!AD35,\"YYYYMMDD\"))","v":""},{"$f":"IF('Broker Sheet'!AE35=\"\",\"\",'Broker Sheet'!AE35)","v":""},{"$f":"IF('Broker Sheet'!AF35=\"\",\"\",TEXT('Broker Sheet'!AF35,\"YYYYMMDD\"))","v":""},{"$f":"IF('Broker Sheet'!AG35=\"\",\"\",TEXT('Broker Sheet'!AG35,\"YYYYMMDD\"))","v":""}]
[null,null,null,null,null,{"$f":"IF('Broker Sheet'!C36=\"\",\"\",'Broker Sheet'!C36)","v":""},{"$f":"IF('Broker Sheet'!D36=\"\",\"\",'Broker Sheet'!D36)","v":""},{"$f":"IF('Broker Sheet'!E36=\"\",\"\",'Broker Sheet'!E36)","v":""},{"$f":"IF('Broker Sheet'!F36=\"\",\"\",'Broker Sheet'!F36)","v":""},{"$f":"IF('Broker Sheet'!G36=\"\",\"\",TEXT('Broker Sheet'!G36,\"YYYYMMDD\"))","v":""},{"$f":"IF('Broker Sheet'!H36=\"\",\"\",'Broker Sheet'!H36)","v":""},{"$f":"IF('Broker Sheet'!I36=\"\",\"\",'Broker Sheet'!I36)","v":""},{"$f":"IF('Broker Sheet'!J36=\"\",\"\",VLOOKUP('Broker Sheet'!J36,(Reference!$E$4:$F$9),2,FALSE))","v":""},{"$f":"IF('Broker Sheet'!K36=\"\",\"\",'Broker Sheet'!K36)","v":""},{"$f":"IF('Broker Sheet'!R36=\"\",\"\",'Broker Sheet'!R36)","v":""},{"$f":"IF('Broker Sheet'!S36=\"\",\"\",'Broker Sheet'!S36)","v":""},{"$f":"IF('Broker Sheet'!T36=\"\",\"\",'Broker Sheet'!T36)","v":""},{"$f":"IF('Broker Sheet'!U36=\"\",\"\",'Broker Sheet'!U36)","v":""},{"$f":"IF('Broker Sheet'!V36=\"\",\"\",'Broker Sheet'!V36)","v":""},{"$f":"IF('Broker Sheet'!W36=\"\",\"\",'Broker Sheet'!W36)","v":""},{"$f":"IF('Broker Sheet'!Y36=\"\",\"\",'Broker Sheet'!Y36)","v":""},{"$f":"IF('Broker Sheet'!AA36=\"\",\"\",'Broker Sheet'!AA36)","v":""},{"$f":"IF('Broker Sheet'!Z36=\"\",\"\",'Broker Sheet'!Z36)","v":""},{"$f":"IF('Broker Sheet'!AB36=\"\",\"\",'Broker Sheet'!AB36)","v":""},null,null,{"$f":"IF('Broker Sheet'!L36=\"\",\"\",TEXT('Broker Sheet'!L36,\"YYYYMMDD\"))","v":""},{"$f":"IF('Broker Sheet'!AC36=\"\",\"\",TEXT('Broker Sheet'!AC36,\"YYYYMMDD\"))","v":""},{"$f":"IF('Broker Sheet'!AD36=\"\",\"\",TEXT('Broker Sheet'!AD36,\"YYYYMMDD\"))","v":""},{"$f":"IF('Broker Sheet'!AE36=\"\",\"\",'Broker Sheet'!AE36)","v":""},{"$f":"IF('Broker Sheet'!AF36=\"\",\"\",TEXT('Broker Sheet'!AF36,\"YYYYMMDD\"))","v":""},{"$f":"IF('Broker Sheet'!AG36=\"\",\"\",TEXT('Broker Sheet'!AG36,\"YYYYMMDD\"))","v":""}]
[null,null,null,null,null,{"$f":"IF('Broker Sheet'!C37=\"\",\"\",'Broker Sheet'!C37)","v":""},{"$f":"IF('Broker Sheet'!D37=\"\",\"\",'Broker Sheet'!D37)","v":""},{"$f":"IF('Broker Sheet'!E37=\"\",\"\",'Broker Sheet'!E37)","v":""},{"$f":"IF('Broker Sheet'!F37=\"\",\"\",'Broker Sheet'!F37)","v":""},{"$f":"IF('Broker Sheet'!G37=\"\",\"\",TEXT('Broker Sheet'!G37,\"YYYYMMDD\"))","v":""},{"$f":"IF('Broker Sheet'!H37=\"\",\"\",'Broker Sheet'!H37)","v":""},{"$f":"IF('Broker Sheet'!I37=\"\",\"\",'Broker Sheet'!I37)","v":""},{"$f":"IF('Broker Sheet'!J37=\"\",\"\",VLOOKUP('Broker Sheet'!J37,(Reference!$E$4:$F$9),2,FALSE))","v":""},{"$f":"IF('Broker Sheet'!K37=\"\",\"\",'Broker Sheet'!K37)","v":""},{"$f":"IF('Broker Sheet'!R37=\"\",\"\",'Broker Sheet'!R37)","v":""},{"$f":"IF('Broker Sheet'!S37=\"\",\"\",'Broker Sheet'!S37)","v":""},{"$f":"IF('Broker Sheet'!T37=\"\",\"\",'Broker Sheet'!T37)","v":""},{"$f":"IF('Broker Sheet'!U37=\"\",\"\",'Broker Sheet'!U37)","v":""},{"$f":"IF('Broker Sheet'!V37=\"\",\"\",'Broker Sheet'!V37)","v":""},{"$f":"IF('Broker Sheet'!W37=\"\",\"\",'Broker Sheet'!W37)","v":""},{"$f":"IF('Broker Sheet'!Y37=\"\",\"\",'Broker Sheet'!Y37)","v":""},{"$f":"IF('Broker Sheet'!AA37=\"\",\"\",'Broker Sheet'!AA37)","v":""},{"$f":"IF('Broker Sheet'!Z37=\"\",\"\",'Broker Sheet'!Z37)","v":""},{"$f":"IF('Broker Sheet'!AB37=\"\",\"\",'Broker Sheet'!AB37)","v":""},null,null,{"$f":"IF('Broker Sheet'!L37=\"\",\"\",TEXT('Broker Sheet'!L37,\"YYYYMMDD\"))","v":""},{"$f":"IF('Broker Sheet'!AC37=\"\",\"\",TEXT('Broker Sheet'!AC37,\"YYYYMMDD\"))","v":""},{"$f":"IF('Broker Sheet'!AD37=\"\",\"\",TEXT('Broker Sheet'!AD37,\"YYYYMMDD\"))","v":""},{"$f":"IF('Broker Sheet'!AE37=\"\",\"\",'Broker Sheet'!AE37)","v":""},{"$f":"IF('Broker Sheet'!AF37=\"\",\"\",TEXT('Broker Sheet'!AF37,\"YYYYMMDD\"))","v":""},{"$f":"IF('Broker Sheet'!AG37=\"\",\"\",TEXT('Broker Sheet'!AG37,\"YYYYMMDD\"))","v":""}]
[null,null,null,null,null,{"$f":"IF('Broker Sheet'!C38=\"\",\"\",'Broker Sheet'!C38)","v":""},{"$f":"IF('Broker Sheet'!D38=\"\",\"\",'Broker Sheet'!D38)","v":""},{"$f":"IF('Broker Sheet'!E38=\"\",\"\",'Broker Sheet'!E38)","v":""},{"$f":"IF('Broker Sheet'!F38=\"\",\"\",'Broker Sheet'!F38)","v":""},{"$f":"IF('Broker Sheet'!G38=\"\",\"\",TEXT('Broker Sheet'!G38,\"YYYYMMDD\"))","v":""},{"$f":"IF('Broker Sheet'!H38=\"\",\"\",'Broker Sheet'!H38)","v":""},{"$f":"IF('Broker Sheet'!I38=\"\",\"\",'Broker Sheet'!I38)","v":""},{"$f":"IF('Broker Sheet'!J38=\"\",\"\",VLOOKUP('Broker Sheet'!J38,(Reference!$E$4:$F$9),2,FALSE))","v":""},{"$f":"IF('Broker Sheet'!K38=\"\",\"\",'Broker Sheet'!K38)","v":""},{"$f":"IF('Broker Sheet'!R38=\"\",\"\",'Broker Sheet'!R38)","v":""},{"$f":"IF('Broker Sheet'!S38=\"\",\"\",'Broker Sheet'!S38)","v":""},{"$f":"IF('Broker Sheet'!T38=\"\",\"\",'Broker Sheet'!T38)","v":""},{"$f":"IF('Broker Sheet'!U38=\"\",\"\",'Broker Sheet'!U38)","v":""},{"$f":"IF('Broker Sheet'!V38=\"\",\"\",'Broker Sheet'!V38)","v":""},{"$f":"IF('Broker Sheet'!W38=\"\",\"\",'Broker Sheet'!W38)","v":""},{"$f":"IF('Broker Sheet'!Y38=\"\",\"\",'Broker Sheet'!Y38)","v":""},{"$f":"IF('Broker Sheet'!AA38=\"\",\"\",'Broker Sheet'!AA38)","v":""},{"$f":"IF('Broker Sheet'!Z38=\"\",\"\",'Broker Sheet'!Z38)","v":""},{"$f":"IF('Broker Sheet'!AB38=\"\",\"\",'Broker Sheet'!AB38)","v":""},null,null,{"$f":"IF('Broker Sheet'!L38=\"\",\"\",TEXT('Broker Sheet'!L38,\"YYYYMMDD\"))","v":""},{"$f":"IF('Broker Sheet'!AC38=\"\",\"\",TEXT('Broker Sheet'!AC38,\"YYYYMMDD\"))","v":""},{"$f":"IF('Broker Sheet'!AD38=\"\",\"\",TEXT('Broker Sheet'!AD38,\"YYYYMMDD\"))","v":""},{"$f":"IF('Broker Sheet'!AE38=\"\",\"\",'Broker Sheet'!AE38)","v":""},{"$f":"IF('Broker Sheet'!AF38=\"\",\"\",TEXT('Broker Sheet'!AF38,\"YYYYMMDD\"))","v":""},{"$f":"IF('Broker Sheet'!AG38=\"\",\"\",TEXT('Broker Sheet'!AG38,\"YYYYMMDD\"))","v":""}]
[null,null,null,null,null,{"$f":"IF('Broker Sheet'!C39=\"\",\"\",'Broker Sheet'!C39)","v":""},{"$f":"IF('Broker Sheet'!D39=\"\",\"\",'Broker Sheet'!D39)","v":""},{"$f":"IF('Broker Sheet'!E39=\"\",\"\",'Broker Sheet'!E39)","v":""},{"$f":"IF('Broker Sheet'!F39=\"\",\"\",'Broker Sheet'!F39)","v":""},{"$f":"IF('Broker Sheet'!G39=\"\",\"\",TEXT('Broker Sheet'!G39,\"YYYYMMDD\"))","v":""},{"$f":"IF('Broker Sheet'!H39=\"\",\"\",'Broker Sheet'!H39)","v":""},{"$f":"IF('Broker Sheet'!I39=\"\",\"\",'Broker Sheet'!I39)","v":""},{"$f":"IF('Broker Sheet'!J39=\"\",\"\",VLOOKUP('Broker Sheet'!J39,(Reference!$E$4:$F$9),2,FALSE))","v":""},{"$f":"IF('Broker Sheet'!K39=\"\",\"\",'Broker Sheet'!K39)","v":""},{"$f":"IF('Broker Sheet'!R39=\"\",\"\",'Broker Sheet'!R39)","v":""},{"$f":"IF('Broker Sheet'!S39=\"\",\"\",'Broker Sheet'!S39)","v":""},{"$f":"IF('Broker Sheet'!T39=\"\",\"\",'Broker Sheet'!T39)","v":""},{"$f":"IF('Broker Sheet'!U39=\"\",\"\",'Broker Sheet'!U39)","v":""},{"$f":"IF('Broker Sheet'!V39=\"\",\"\",'Broker Sheet'!V39)","v":""},{"$f":"IF('Broker Sheet'!W39=\"\",\"\",'Broker Sheet'!W39)","v":""},{"$f":"IF('Broker Sheet'!Y39=\"\",\"\",'Broker Sheet'!Y39)","v":""},{"$f":"IF('Broker Sheet'!AA39=\"\",\"\",'Broker Sheet'!AA39)","v":""},{"$f":"IF('Broker Sheet'!Z39=\"\",\"\",'Broker Sheet'!Z39)","v":""},{"$f":"IF('Broker Sheet'!AB39=\"\",\"\",'Broker Sheet'!AB39)","v":""},null,null,{"$f":"IF('Broker Sheet'!L39=\"\",\"\",TEXT('Broker Sheet'!L39,\"YYYYMMDD\"))","v":""},{"$f":"IF('Broker Sheet'!AC39=\"\",\"\",TEXT('Broker Sheet'!AC39,\"YYYYMMDD\"))","v":""},{"$f":"IF('Broker Sheet'!AD39=\"\",\"\",TEXT('Broker Sheet'!AD39,\"YYYYMMDD\"))","v":""},{"$f":"IF('Broker Sheet'!AE39=\"\",\"\",'Broker Sheet'!AE39)","v":""},{"$f":"IF('Broker Sheet'!AF39=\"\",\"\",TEXT('Broker Sheet'!AF39,\"YYYYMMDD\"))","v":""},{"$f":"IF('Broker Sheet'!AG39=\"\",\"\",TEXT('Broker Sheet'!AG39,\"YYYYMMDD\"))","v":""}]
[null,null,null,null,null,{"$f":"IF('Broker Sheet'!C40=\"\",\"\",'Broker Sheet'!C40)","v":""},{"$f":"IF('Broker Sheet'!D40=\"\",\"\",'Broker Sheet'!D40)","v":""},{"$f":"IF('Broker Sheet'!E40=\"\",\"\",'Broker Sheet'!E40)","v":""},{"$f":"IF('Broker Sheet'!F40=\"\",\"\",'Broker Sheet'!F40)","v":""},{"$f":"IF('Broker Sheet'!G40=\"\",\"\",TEXT('Broker Sheet'!G40,\"YYYYMMDD\"))","v":""},{"$f":"IF('Broker Sheet'!H40=\"\",\"\",'Broker Sheet'!H40)","v":""},{"$f":"IF('Broker Sheet'!I40=\"\",\"\",'Broker Sheet'!I40)","v":""},{"$f":"IF('Broker Sheet'!J40=\"\",\"\",VLOOKUP('Broker Sheet'!J40,(Reference!$E$4:$F$9),2,FALSE))","v":""},{"$f":"IF('Broker Sheet'!K40=\"\",\"\",'Broker Sheet'!K40)","v":""},{"$f":"IF('Broker Sheet'!R40=\"\",\"\",'Broker Sheet'!R40)","v":""},{"$f":"IF('Broker Sheet'!S40=\"\",\"\",'Broker Sheet'!S40)","v":""},{"$f":"IF('Broker Sheet'!T40=\"\",\"\",'Broker Sheet'!T40)","v":""},{"$f":"IF('Broker Sheet'!U40=\"\",\"\",'Broker Sheet'!U40)","v":""},{"$f":"IF('Broker Sheet'!V40=\"\",\"\",'Broker Sheet'!V40)","v":""},{"$f":"IF('Broker Sheet'!W40=\"\",\"\",'Broker Sheet'!W40)","v":""},{"$f":"IF('Broker Sheet'!Y40=\"\",\"\",'Broker Sheet'!Y40)","v":""},{"$f":"IF('Broker Sheet'!AA40=\"\",\"\",'Broker Sheet'!AA40)","v":""},{"$f":"IF('Broker Sheet'!Z40=\"\",\"\",'Broker Sheet'!Z40)","v":""},{"$f":"IF('Broker Sheet'!AB40=\"\",\"\",'Broker Sheet'!AB40)","v":""},null,null,{"$f":"IF('Broker Sheet'!L40=\"\",\"\",TEXT('Broker Sheet'!L40,\"YYYYMMDD\"))","v":""},{"$f":"IF('Broker Sheet'!AC40=\"\",\"\",TEXT('Broker Sheet'!AC40,\"YYYYMMDD\"))","v":""},{"$f":"IF('Broker Sheet'!AD40=\"\",\"\",TEXT('Broker Sheet'!AD40,\"YYYYMMDD\"))","v":""},{"$f":"IF('Broker Sheet'!AE40=\"\",\"\",'Broker Sheet'!AE40)","v":""},{"$f":"IF('Broker Sheet'!AF40=\"\",\"\",TEXT('Broker Sheet'!AF40,\"YYYYMMDD\"))","v":""},{"$f":"IF('Broker Sheet'!AG40=\"\",\"\",TEXT('Broker Sheet'!AG40,\"YYYYMMDD\"))","v":""}]
[null,null,null,null,null,{"$f":"IF('Broker Sheet'!C41=\"\",\"\",'Broker Sheet'!C41)","v":""},{"$f":"IF('Broker Sheet'!D41=\"\",\"\",'Broker Sheet'!D41)","v":""},{"$f":"IF('Broker Sheet'!E41=\"\",\"\",'Broker Sheet'!E41)","v":""},{"$f":"IF('Broker Sheet'!F41=\"\",\"\",'Broker Sheet'!F41)","v":""},{"$f":"IF('Broker Sheet'!G41=\"\",\"\",TEXT('Broker Sheet'!G41,\"YYYYMMDD\"))","v":""},{"$f":"IF('Broker Sheet'!H41=\"\",\"\",'Broker Sheet'!H41)","v":""},{"$f":"IF('Broker Sheet'!I41=\"\",\"\",'Broker Sheet'!I41)","v":""},{"$f":"IF('Broker Sheet'!J41=\"\",\"\",VLOOKUP('Broker Sheet'!J41,(Reference!$E$4:$F$9),2,FALSE))","v":""},{"$f":"IF('Broker Sheet'!K41=\"\",\"\",'Broker Sheet'!K41)","v":""},{"$f":"IF('Broker Sheet'!R41=\"\",\"\",'Broker Sheet'!R41)","v":""},{"$f":"IF('Broker Sheet'!S41=\"\",\"\",'Broker Sheet'!S41)","v":""},{"$f":"IF('Broker Sheet'!T41=\"\",\"\",'Broker Sheet'!T41)","v":""},{"$f":"IF('Broker Sheet'!U41=\"\",\"\",'Broker Sheet'!U41)","v":""},{"$f":"IF('Broker Sheet'!V41=\"\",\"\",'Broker Sheet'!V41)","v":""},{"$f":"IF('Broker Sheet'!W41=\"\",\"\",'Broker Sheet'!W41)","v":""},{"$f":"IF('Broker Sheet'!Y41=\"\",\"\",'Broker Sheet'!Y41)","v":""},{"$f":"IF('Broker Sheet'!AA41=\"\",\"\",'Broker Sheet'!AA41)","v":""},{"$f":"IF('Broker Sheet'!Z41=\"\",\"\",'Broker Sheet'!Z41)","v":""},{"$f":"IF('Broker Sheet'!AB41=\"\",\"\",'Broker Sheet'!AB41)","v":""},null,null,{"$f":"IF('Broker Sheet'!L41=\"\",\"\",TEXT('Broker Sheet'!L41,\"YYYYMMDD\"))","v":""},{"$f":"IF('Broker Sheet'!AC41=\"\",\"\",TEXT('Broker Sheet'!AC41,\"YYYYMMDD\"))","v":""},{"$f":"IF('Broker Sheet'!AD41=\"\",\"\",TEXT('Broker Sheet'!AD41,\"YYYYMMDD\"))","v":""},{"$f":"IF('Broker Sheet'!AE41=\"\",\"\",'Broker Sheet'!AE41)","v":""},{"$f":"IF('Broker Sheet'!AF41=\"\",\"\",TEXT('Broker Sheet'!AF41,\"YYYYMMDD\"))","v":""},{"$f":"IF('Broker Sheet'!AG41=\"\",\"\",TEXT('Broker Sheet'!AG41,\"YYYYMMDD\"))","v":""}]
[null,null,null,null,null,{"$f":"IF('Broker Sheet'!C42=\"\",\"\",'Broker Sheet'!C42)","v":""},{"$f":"IF('Broker Sheet'!D42=\"\",\"\",'Broker Sheet'!D42)","v":""},{"$f":"IF('Broker Sheet'!E42=\"\",\"\",'Broker Sheet'!E42)","v":""},{"$f":"IF('Broker Sheet'!F42=\"\",\"\",'Broker Sheet'!F42)","v":""},{"$f":"IF('Broker Sheet'!G42=\"\",\"\",TEXT('Broker Sheet'!G42,\"YYYYMMDD\"))","v":""},{"$f":"IF('Broker Sheet'!H42=\"\",\"\",'Broker Sheet'!H42)","v":""},{"$f":"IF('Broker Sheet'!I42=\"\",\"\",'Broker Sheet'!I42)","v":""},{"$f":"IF('Broker Sheet'!J42=\"\",\"\",VLOOKUP('Broker Sheet'!J42,(Reference!$E$4:$F$9),2,FALSE))","v":""},{"$f":"IF('Broker Sheet'!K42=\"\",\"\",'Broker Sheet'!K42)","v":""},{"$f":"IF('Broker Sheet'!R42=\"\",\"\",'Broker Sheet'!R42)","v":""},{"$f":"IF('Broker Sheet'!S42=\"\",\"\",'Broker Sheet'!S42)","v":""},{"$f":"IF('Broker Sheet'!T42=\"\",\"\",'Broker Sheet'!T42)","v":""},{"$f":"IF('Broker Sheet'!U42=\"\",\"\",'Broker Sheet'!U42)","v":""},{"$f":"IF('Broker Sheet'!V42=\"\",\"\",'Broker Sheet'!V42)","v":""},{"$f":"IF('Broker Sheet'!W42=\"\",\"\",'Broker Sheet'!W42)","v":""},{"$f":"IF('Broker Sheet'!Y42=\"\",\"\",'Broker Sheet'!Y42)","v":""},{"$f":"IF('Broker Sheet'!AA42=\"\",\"\",'Broker Sheet'!AA42)","v":""},{"$f":"IF('Broker Sheet'!Z42=\"\",\"\",'Broker Sheet'!Z42)","v":""},{"$f":"IF('Broker Sheet'!AB42=\"\",\"\",'Broker Sheet'!AB42)","v":""},null,null,{"$f":"IF('Broker Sheet'!L42=\"\",\"\",TEXT('Broker Sheet'!L42,\"YYYYMMDD\"))","v":""},{"$f":"IF('Broker Sheet'!AC42=\"\",\"\",TEXT('Broker Sheet'!AC42,\"YYYYMMDD\"))","v":""},{"$f":"IF('Broker Sheet'!AD42=\"\",\"\",TEXT('Broker Sheet'!AD42,\"YYYYMMDD\"))","v":""},{"$f":"IF('Broker Sheet'!AE42=\"\",\"\",'Broker Sheet'!AE42)","v":""},{"$f":"IF('Broker Sheet'!AF42=\"\",\"\",TEXT('Broker Sheet'!AF42,\"YYYYMMDD\"))","v":""},{"$f":"IF('Broker Sheet'!AG42=\"\",\"\",TEXT('Broker Sheet'!AG42,\"YYYYMMDD\"))","v":""}]
[null,null,null,null,null,{"$f":"IF('Broker Sheet'!C43=\"\",\"\",'Broker Sheet'!C43)","v":""},{"$f":"IF('Broker Sheet'!D43=\"\",\"\",'Broker Sheet'!D43)","v":""},{"$f":"IF('Broker Sheet'!E43=\"\",\"\",'Broker Sheet'!E43)","v":""},{"$f":"IF('Broker Sheet'!F43=\"\",\"\",'Broker Sheet'!F43)","v":""},{"$f":"IF('Broker Sheet'!G43=\"\",\"\",TEXT('Broker Sheet'!G43,\"YYYYMMDD\"))","v":""},{"$f":"IF('Broker Sheet'!H43=\"\",\"\",'Broker Sheet'!H43)","v":""},{"$f":"IF('Broker Sheet'!I43=\"\",\"\",'Broker Sheet'!I43)","v":""},{"$f":"IF('Broker Sheet'!J43=\"\",\"\",VLOOKUP('Broker Sheet'!J43,(Reference!$E$4:$F$9),2,FALSE))","v":""},{"$f":"IF('Broker Sheet'!K43=\"\",\"\",'Broker Sheet'!K43)","v":""},{"$f":"IF('Broker Sheet'!R43=\"\",\"\",'Broker Sheet'!R43)","v":""},{"$f":"IF('Broker Sheet'!S43=\"\",\"\",'Broker Sheet'!S43)","v":""},{"$f":"IF('Broker Sheet'!T43=\"\",\"\",'Broker Sheet'!T43)","v":""},{"$f":"IF('Broker Sheet'!U43=\"\",\"\",'Broker Sheet'!U43)","v":""},{"$f":"IF('Broker Sheet'!V43=\"\",\"\",'Broker Sheet'!V43)","v":""},{"$f":"IF('Broker Sheet'!W43=\"\",\"\",'Broker Sheet'!W43)","v":""},{"$f":"IF('Broker Sheet'!Y43=\"\",\"\",'Broker Sheet'!Y43)","v":""},{"$f":"IF('Broker Sheet'!AA43=\"\",\"\",'Broker Sheet'!AA43)","v":""},{"$f":"IF('Broker Sheet'!Z43=\"\",\"\",'Broker Sheet'!Z43)","v":""},{"$f":"IF('Broker Sheet'!AB43=\"\",\"\",'Broker Sheet'!AB43)","v":""},null,null,{"$f":"IF('Broker Sheet'!L43=\"\",\"\",TEXT('Broker Sheet'!L43,\"YYYYMMDD\"))","v":""},{"$f":"IF('Broker Sheet'!AC43=\"\",\"\",TEXT('Broker Sheet'!AC43,\"YYYYMMDD\"))","v":""},{"$f":"IF('Broker Sheet'!AD43=\"\",\"\",TEXT('Broker Sheet'!AD43,\"YYYYMMDD\"))","v":""},{"$f":"IF('Broker Sheet'!AE43=\"\",\"\",'Broker Sheet'!AE43)","v":""},{"$f":"IF('Broker Sheet'!AF43=\"\",\"\",TEXT('Broker Sheet'!AF43,\"YYYYMMDD\"))","v":""},{"$f":"IF('Broker Sheet'!AG43=\"\",\"\",TEXT('Broker Sheet'!AG43,\"YYYYMMDD\"))","v":""}]
[null,null,null,null,null,{"$f":"IF('Broker Sheet'!C44=\"\",\"\",'Broker Sheet'!C44)","v":""},{"$f":"IF('Broker Sheet'!D44=\"\",\"\",'Broker Sheet'!D44)","v":""},{"$f":"IF('Broker Sheet'!E44=\"\",\"\",'Broker Sheet'!E44)","v":""},{"$f":"IF('Broker Sheet'!F44=\"\",\"\",'Broker Sheet'!F44)","v":""},{"$f":"IF('Broker Sheet'!G44=\"\",\"\",TEXT('Broker Sheet'!G44,\"YYYYMMDD\"))","v":""},{"$f":"IF('Broker Sheet'!H44=\"\",\"\",'Broker Sheet'!H44)","v":""},{"$f":"IF('Broker Sheet'!I44=\"\",\"\",'Broker Sheet'!I44)","v":""},{"$f":"IF('Broker Sheet'!J44=\"\",\"\",VLOOKUP('Broker Sheet'!J44,(Reference!$E$4:$F$9),2,FALSE))","v":""},{"$f":"IF('Broker Sheet'!K44=\"\",\"\",'Broker Sheet'!K44)","v":""},{"$f":"IF('Broker Sheet'!R44=\"\",\"\",'Broker Sheet'!R44)","v":""},{"$f":"IF('Broker Sheet'!S44=\"\",\"\",'Broker Sheet'!S44)","v":""},{"$f":"IF('Broker Sheet'!T44=\"\",\"\",'Broker Sheet'!T44)","v":""},{"$f":"IF('Broker Sheet'!U44=\"\",\"\",'Broker Sheet'!U44)","v":""},{"$f":"IF('Broker Sheet'!V44=\"\",\"\",'Broker Sheet'!V44)","v":""},{"$f":"IF('Broker Sheet'!W44=\"\",\"\",'Broker Sheet'!W44)","v":""},{"$f":"IF('Broker Sheet'!Y44=\"\",\"\",'Broker Sheet'!Y44)","v":""},{"$f":"IF('Broker Sheet'!AA44=\"\",\"\",'Broker Sheet'!AA44)","v":""},{"$f":"IF('Broker Sheet'!Z44=\"\",\"\",'Broker Sheet'!Z44)","v":""},{"$f":"IF('Broker Sheet'!AB44=\"\",\"\",'Broker Sheet'!AB44)","v":""},null,null,{"$f":"IF('Broker Sheet'!L44=\"\",\"\",TEXT('Broker Sheet'!L44,\"YYYYMMDD\"))","v":""},{"$f":"IF('Broker Sheet'!AC44=\"\",\"\",TEXT('Broker Sheet'!AC44,\"YYYYMMDD\"))","v":""},{"$f":"IF('Broker Sheet'!AD44=\"\",\"\",TEXT('Broker Sheet'!AD44,\"YYYYMMDD\"))","v":""},{"$f":"IF('Broker Sheet'!AE44=\"\",\"\",'Broker Sheet'!AE44)","v":""},{"$f":"IF('Broker Sheet'!AF44=\"\",\"\",TEXT('Broker Sheet'!AF44,\"YYYYMMDD\"))","v":""},{"$f":"IF('Broker Sheet'!AG44=\"\",\"\",TEXT('Broker Sheet'!AG44,\"YYYYMMDD\"))","v":""}]
[null,null,null,null,null,{"$f":"IF('Broker Sheet'!C45=\"\",\"\",'Broker Sheet'!C45)","v":""},{"$f":"IF('Broker Sheet'!D45=\"\",\"\",'Broker Sheet'!D45)","v":""},{"$f":"IF('Broker Sheet'!E45=\"\",\"\",'Broker Sheet'!E45)","v":""},{"$f":"IF('Broker Sheet'!F45=\"\",\"\",'Broker Sheet'!F45)","v":""},{"$f":"IF('Broker Sheet'!G45=\"\",\"\",TEXT('Broker Sheet'!G45,\"YYYYMMDD\"))","v":""},{"$f":"IF('Broker Sheet'!H45=\"\",\"\",'Broker Sheet'!H45)","v":""},{"$f":"IF('Broker Sheet'!I45=\"\",\"\",'Broker Sheet'!I45)","v":""},{"$f":"IF('Broker Sheet'!J45=\"\",\"\",VLOOKUP('Broker Sheet'!J45,(Reference!$E$4:$F$9),2,FALSE))","v":""},{"$f":"IF('Broker Sheet'!K45=\"\",\"\",'Broker Sheet'!K45)","v":""},{"$f":"IF('Broker Sheet'!R45=\"\",\"\",'Broker Sheet'!R45)","v":""},{"$f":"IF('Broker Sheet'!S45=\"\",\"\",'Broker Sheet'!S45)","v":""},{"$f":"IF('Broker Sheet'!T45=\"\",\"\",'Broker Sheet'!T45)","v":""},{"$f":"IF('Broker Sheet'!U45=\"\",\"\",'Broker Sheet'!U45)","v":""},{"$f":"IF('Broker Sheet'!V45=\"\",\"\",'Broker Sheet'!V45)","v":""},{"$f":"IF('Broker Sheet'!W45=\"\",\"\",'Broker Sheet'!W45)","v":""},{"$f":"IF('Broker Sheet'!Y45=\"\",\"\",'Broker Sheet'!Y45)","v":""},{"$f":"IF('Broker Sheet'!AA45=\"\",\"\",'Broker Sheet'!AA45)","v":""},{"$f":"IF('Broker Sheet'!Z45=\"\",\"\",'Broker Sheet'!Z45)","v":""},{"$f":"IF('Broker Sheet'!AB45=\"\",\"\",'Broker Sheet'!AB45)","v":""},null,null,{"$f":"IF('Broker Sheet'!L45=\"\",\"\",TEXT('Broker Sheet'!L45,\"YYYYMMDD\"))","v":""},{"$f":"IF('Broker Sheet'!AC45=\"\",\"\",TEXT('Broker Sheet'!AC45,\"YYYYMMDD\"))","v":""},{"$f":"IF('Broker Sheet'!AD45=\"\",\"\",TEXT('Broker Sheet'!AD45,\"YYYYMMDD\"))","v":""},{"$f":"IF('Broker Sheet'!AE45=\"\",\"\",'Broker Sheet'!AE45)","v":""},{"$f":"IF('Broker Sheet'!AF45=\"\",\"\",TEXT('Broker Sheet'!AF45,\"YYYYMMDD\"))","v":""},{"$f":"IF('Broker Sheet'!AG45=\"\",\"\",TEXT('Broker Sheet'!AG45,\"YYYYMMDD\"))","v":""}]
[null,null,null,null,null,{"$f":"IF('Broker Sheet'!C46=\"\",\"\",'Broker Sheet'!C46)","v":""},{"$f":"IF('Broker Sheet'!D46=\"\",\"\",'Broker Sheet'!D46)","v":""},{"$f":"IF('Broker Sheet'!E46=\"\",\"\",'Broker Sheet'!E46)","v":""},{"$f":"IF('Broker Sheet'!F46=\"\",\"\",'Broker Sheet'!F46)","v":""},{"$f":"IF('Broker Sheet'!G46=\"\",\"\",TEXT('Broker Sheet'!G46,\"YYYYMMDD\"))","v":""},{"$f":"IF('Broker Sheet'!H46=\"\",\"\",'Broker Sheet'!H46)","v":""},{"$f":"IF('Broker Sheet'!I46=\"\",\"\",'Broker Sheet'!I46)","v":""},{"$f":"IF('Broker Sheet'!J46=\"\",\"\",VLOOKUP('Broker Sheet'!J46,(Reference!$E$4:$F$9),2,FALSE))","v":""},{"$f":"IF('Broker Sheet'!K46=\"\",\"\",'Broker Sheet'!K46)","v":""},{"$f":"IF('Broker Sheet'!R46=\"\",\"\",'Broker Sheet'!R46)","v":""},{"$f":"IF('Broker Sheet'!S46=\"\",\"\",'Broker Sheet'!S46)","v":""},{"$f":"IF('Broker Sheet'!T46=\"\",\"\",'Broker Sheet'!T46)","v":""},{"$f":"IF('Broker Sheet'!U46=\"\",\"\",'Broker Sheet'!U46)","v":""},{"$f":"IF('Broker Sheet'!V46=\"\",\"\",'Broker Sheet'!V46)","v":""},{"$f":"IF('Broker Sheet'!W46=\"\",\"\",'Broker Sheet'!W46)","v":""},{"$f":"IF('Broker Sheet'!Y46=\"\",\"\",'Broker Sheet'!Y46)","v":""},{"$f":"IF('Broker Sheet'!AA46=\"\",\"\",'Broker Sheet'!AA46)","v":""},{"$f":"IF('Broker Sheet'!Z46=\"\",\"\",'Broker Sheet'!Z46)","v":""},{"$f":"IF('Broker Sheet'!AB46=\"\",\"\",'Broker Sheet'!AB46)","v":""},null,null,{"$f":"IF('Broker Sheet'!L46=\"\",\"\",TEXT('Broker Sheet'!L46,\"YYYYMMDD\"))","v":""},{"$f":"IF('Broker Sheet'!AC46=\"\",\"\",TEXT('Broker Sheet'!AC46,\"YYYYMMDD\"))","v":""},{"$f":"IF('Broker Sheet'!AD46=\"\",\"\",TEXT('Broker Sheet'!AD46,\"YYYYMMDD\"))","v":""},{"$f":"IF('Broker Sheet'!AE46=\"\",\"\",'Broker Sheet'!AE46)","v":""},{"$f":"IF('Broker Sheet'!AF46=\"\",\"\",TEXT('Broker Sheet'!AF46,\"YYYYMMDD\"))","v":""},{"$f":"IF('Broker Sheet'!AG46=\"\",\"\",TEXT('Broker Sheet'!AG46,\"YYYYMMDD\"))","v":""}]
[null,null,null,null,null,{"$f":"IF('Broker Sheet'!C47=\"\",\"\",'Broker Sheet'!C47)","v":""},{"$f":"IF('Broker Sheet'!D47=\"\",\"\",'Broker Sheet'!D47)","v":""},{"$f":"IF('Broker Sheet'!E47=\"\",\"\",'Broker Sheet'!E47)","v":""},{"$f":"IF('Broker Sheet'!F47=\"\",\"\",'Broker Sheet'!F47)","v":""},{"$f":"IF('Broker Sheet'!G47=\"\",\"\",TEXT('Broker Sheet'!G47,\"YYYYMMDD\"))","v":""},{"$f":"IF('Broker Sheet'!H47=\"\",\"\",'Broker Sheet'!H47)","v":""},{"$f":"IF('Broker Sheet'!I47=\"\",\"\",'Broker Sheet'!I47)","v":""},{"$f":"IF('Broker Sheet'!J47=\"\",\"\",VLOOKUP('Broker Sheet'!J47,(Reference!$E$4:$F$9),2,FALSE))","v":""},{"$f":"IF('Broker Sheet'!K47=\"\",\"\",'Broker Sheet'!K47)","v":""},{"$f":"IF('Broker Sheet'!R47=\"\",\"\",'Broker Sheet'!R47)","v":""},{"$f":"IF('Broker Sheet'!S47=\"\",\"\",'Broker Sheet'!S47)","v":""},{"$f":"IF('Broker Sheet'!T47=\"\",\"\",'Broker Sheet'!T47)","v":""},{"$f":"IF('Broker Sheet'!U47=\"\",\"\",'Broker Sheet'!U47)","v":""},{"$f":"IF('Broker Sheet'!V47=\"\",\"\",'Broker Sheet'!V47)","v":""},{"$f":"IF('Broker Sheet'!W47=\"\",\"\",'Broker Sheet'!W47)","v":""},{"$f":"IF('Broker Sheet'!Y47=\"\",\"\",'Broker Sheet'!Y47)","v":""},{"$f":"IF('Broker Sheet'!AA47=\"\",\"\",'Broker Sheet'!AA47)","v":""},{"$f":"IF('Broker Sheet'!Z47=\"\",\"\",'Broker Sheet'!Z47)","v":""},{"$f":"IF('Broker Sheet'!AB47=\"\",\"\",'Broker Sheet'!AB47)","v":""},null,null,{"$f":"IF('Broker Sheet'!L47=\"\",\"\",TEXT('Broker Sheet'!L47,\"YYYYMMDD\"))","v":""},{"$f":"IF('Broker Sheet'!AC47=\"\",\"\",TEXT('Broker Sheet'!AC47,\"YYYYMMDD\"))","v":""},{"$f":"IF('Broker Sheet'!AD47=\"\",\"\",TEXT('Broker Sheet'!AD47,\"YYYYMMDD\"))","v":""},{"$f":"IF('Broker Sheet'!AE47=\"\",\"\",'Broker Sheet'!AE47)","v":""},{"$f":"IF('Broker Sheet'!AF47=\"\",\"\",TEXT('Broker Sheet'!AF47,\"YYYYMMDD\"))","v":""},{"$f":"IF('Broker Sheet'!AG47=\"\",\"\",TEXT('Broker Sheet'!AG47,\"YYYYMMDD\"))","v":""}]
[null,null,null,null,null,{"$f":"IF('Broker Sheet'!C48=\"\",\"\",'Broker Sheet'!C48)","v":""},{"$f":"IF('Broker Sheet'!D48=\"\",\"\",'Broker Sheet'!D48)","v":""},{"$f":"IF('Broker Sheet'!E48=\"\",\"\",'Broker Sheet'!E48)","v":""},{"$f":"IF('Broker Sheet'!F48=\"\",\"\",'Broker Sheet'!F48)","v":""},{"$f":"IF('Broker Sheet'!G48=\"\",\"\",TEXT('Broker Sheet'!G48,\"YYYYMMDD\"))","v":""},{"$f":"IF('Broker Sheet'!H48=\"\",\"\",'Broker Sheet'!H48)","v":""},{"$f":"IF('Broker Sheet'!I48=\"\",\"\",'Broker Sheet'!I48)","v":""},{"$f":"IF('Broker Sheet'!J48=\"\",\"\",VLOOKUP('Broker Sheet'!J48,(Reference!$E$4:$F$9),2,FALSE))","v":""},{"$f":"IF('Broker Sheet'!K48=\"\",\"\",'Broker Sheet'!K48)","v":""},{"$f":"IF('Broker Sheet'!R48=\"\",\"\",'Broker Sheet'!R48)","v":""},{"$f":"IF('Broker Sheet'!S48=\"\",\"\",'Broker Sheet'!S48)","v":""},{"$f":"IF('Broker Sheet'!T48=\"\",\"\",'Broker Sheet'!T48)","v":""},{"$f":"IF('Broker Sheet'!U48=\"\",\"\",'Broker Sheet'!U48)","v":""},{"$f":"IF('Broker Sheet'!V48=\"\",\"\",'Broker Sheet'!V48)","v":""},{"$f":"IF('Broker Sheet'!W48=\"\",\"\",'Broker Sheet'!W48)","v":""},{"$f":"IF('Broker Sheet'!Y48=\"\",\"\",'Broker Sheet'!Y48)","v":""},{"$f":"IF('Broker Sheet'!AA48=\"\",\"\",'Broker Sheet'!AA48)","v":""},{"$f":"IF('Broker Sheet'!Z48=\"\",\"\",'Broker Sheet'!Z48)","v":""},{"$f":"IF('Broker Sheet'!AB48=\"\",\"\",'Broker Sheet'!AB48)","v":""},null,null,{"$f":"IF('Broker Sheet'!L48=\"\",\"\",TEXT('Broker Sheet'!L48,\"YYYYMMDD\"))","v":""},{"$f":"IF('Broker Sheet'!AC48=\"\",\"\",TEXT('Broker Sheet'!AC48,\"YYYYMMDD\"))","v":""},{"$f":"IF('Broker Sheet'!AD48=\"\",\"\",TEXT('Broker Sheet'!AD48,\"YYYYMMDD\"))","v":""},{"$f":"IF('Broker Sheet'!AE48=\"\",\"\",'Broker Sheet'!AE48)","v":""},{"$f":"IF('Broker Sheet'!AF48=\"\",\"\",TEXT('Broker Sheet'!AF48,\"YYYYMMDD\"))","v":""},{"$f":"IF('Broker Sheet'!AG48=\"\",\"\",TEXT('Broker Sheet'!AG48,\"YYYYMMDD\"))","v":""}]
[null,null,null,null,null,{"$f":"IF('Broker Sheet'!C49=\"\",\"\",'Broker Sheet'!C49)","v":""},{"$f":"IF('Broker Sheet'!D49=\"\",\"\",'Broker Sheet'!D49)","v":""},{"$f":"IF('Broker Sheet'!E49=\"\",\"\",'Broker Sheet'!E49)","v":""},{"$f":"IF('Broker Sheet'!F49=\"\",\"\",'Broker Sheet'!F49)","v":""},{"$f":"IF('Broker Sheet'!G49=\"\",\"\",TEXT('Broker Sheet'!G49,\"YYYYMMDD\"))","v":""},{"$f":"IF('Broker Sheet'!H49=\"\",\"\",'Broker Sheet'!H49)","v":""},{"$f":"IF('Broker Sheet'!I49=\"\",\"\",'Broker Sheet'!I49)","v":""},{"$f":"IF('Broker Sheet'!J49=\"\",\"\",VLOOKUP('Broker Sheet'!J49,(Reference!$E$4:$F$9),2,FALSE))","v":""},{"$f":"IF('Broker Sheet'!K49=\"\",\"\",'Broker Sheet'!K49)","v":""},{"$f":"IF('Broker Sheet'!R49=\"\",\"\",'Broker Sheet'!R49)","v":""},{"$f":"IF('Broker Sheet'!S49=\"\",\"\",'Broker Sheet'!S49)","v":""},{"$f":"IF('Broker Sheet'!T49=\"\",\"\",'Broker Sheet'!T49)","v":""},{"$f":"IF('Broker Sheet'!U49=\"\",\"\",'Broker Sheet'!U49)","v":""},{"$f":"IF('Broker Sheet'!V49=\"\",\"\",'Broker Sheet'!V49)","v":""},{"$f":"IF('Broker Sheet'!W49=\"\",\"\",'Broker Sheet'!W49)","v":""},{"$f":"IF('Broker Sheet'!Y49=\"\",\"\",'Broker Sheet'!Y49)","v":""},{"$f":"IF('Broker Sheet'!AA49=\"\",\"\",'Broker Sheet'!AA49)","v":""},{"$f":"IF('Broker Sheet'!Z49=\"\",\"\",'Broker Sheet'!Z49)","v":""},{"$f":"IF('Broker Sheet'!AB49=\"\",\"\",'Broker Sheet'!AB49)","v":""},null,null,{"$f":"IF('Broker Sheet'!L49=\"\",\"\",TEXT('Broker Sheet'!L49,\"YYYYMMDD\"))","v":""},{"$f":"IF('Broker Sheet'!AC49=\"\",\"\",TEXT('Broker Sheet'!AC49,\"YYYYMMDD\"))","v":""},{"$f":"IF('Broker Sheet'!AD49=\"\",\"\",TEXT('Broker Sheet'!AD49,\"YYYYMMDD\"))","v":""},{"$f":"IF('Broker Sheet'!AE49=\"\",\"\",'Broker Sheet'!AE49)","v":""},{"$f":"IF('Broker Sheet'!AF49=\"\",\"\",TEXT('Broker Sheet'!AF49,\"YYYYMMDD\"))","v":""},{"$f":"IF('Broker Sheet'!AG49=\"\",\"\",TEXT('Broker Sheet'!AG49,\"YYYYMMDD\"))","v":""}]
[null,null,null,null,null,{"$f":"IF('Broker Sheet'!C50=\"\",\"\",'Broker Sheet'!C50)","v":""},{"$f":"IF('Broker Sheet'!D50=\"\",\"\",'Broker Sheet'!D50)","v":""},{"$f":"IF('Broker Sheet'!E50=\"\",\"\",'Broker Sheet'!E50)","v":""},{"$f":"IF('Broker Sheet'!F50=\"\",\"\",'Broker Sheet'!F50)","v":""},{"$f":"IF('Broker Sheet'!G50=\"\",\"\",TEXT('Broker Sheet'!G50,\"YYYYMMDD\"))","v":""},{"$f":"IF('Broker Sheet'!H50=\"\",\"\",'Broker Sheet'!H50)","v":""},{"$f":"IF('Broker Sheet'!I50=\"\",\"\",'Broker Sheet'!I50)","v":""},{"$f":"IF('Broker Sheet'!J50=\"\",\"\",VLOOKUP('Broker Sheet'!J50,(Reference!$E$4:$F$9),2,FALSE))","v":""},{"$f":"IF('Broker Sheet'!K50=\"\",\"\",'Broker Sheet'!K50)","v":""},{"$f":"IF('Broker Sheet'!R50=\"\",\"\",'Broker Sheet'!R50)","v":""},{"$f":"IF('Broker Sheet'!S50=\"\",\"\",'Broker Sheet'!S50)","v":""},{"$f":"IF('Broker Sheet'!T50=\"\",\"\",'Broker Sheet'!T50)","v":""},{"$f":"IF('Broker Sheet'!U50=\"\",\"\",'Broker Sheet'!U50)","v":""},{"$f":"IF('Broker Sheet'!V50=\"\",\"\",'Broker Sheet'!V50)","v":""},{"$f":"IF('Broker Sheet'!W50=\"\",\"\",'Broker Sheet'!W50)","v":""},{"$f":"IF('Broker Sheet'!Y50=\"\",\"\",'Broker Sheet'!Y50)","v":""},{"$f":"IF('Broker Sheet'!AA50=\"\",\"\",'Broker Sheet'!AA50)","v":""},{"$f":"IF('Broker Sheet'!Z50=\"\",\"\",'Broker Sheet'!Z50)","v":""},{"$f":"IF('Broker Sheet'!AB50=\"\",\"\",'Broker Sheet'!AB50)","v":""},null,null,{"$f":"IF('Broker Sheet'!L50=\"\",\"\",TEXT('Broker Sheet'!L50,\"YYYYMMDD\"))","v":""},{"$f":"IF('Broker Sheet'!AC50=\"\",\"\",TEXT('Broker Sheet'!AC50,\"YYYYMMDD\"))","v":""},{"$f":"IF('Broker Sheet'!AD50=\"\",\"\",TEXT('Broker Sheet'!AD50,\"YYYYMMDD\"))","v":""},{"$f":"IF('Broker Sheet'!AE50=\"\",\"\",'Broker Sheet'!AE50)","v":""},{"$f":"IF('Broker Sheet'!AF50=\"\",\"\",TEXT('Broker Sheet'!AF50,\"YYYYMMDD\"))","v":""},{"$f":"IF('Broker Sheet'!AG50=\"\",\"\",TEXT('Broker Sheet'!AG50,\"YYYYMMDD\"))","v":""}]
[null,null,null,null,null,{"$f":"IF('Broker Sheet'!C51=\"\",\"\",'Broker Sheet'!C51)","v":""},{"$f":"IF('Broker Sheet'!D51=\"\",\"\",'Broker Sheet'!D51)","v":""},{"$f":"IF('Broker Sheet'!E51=\"\",\"\",'Broker Sheet'!E51)","v":""},{"$f":"IF('Broker Sheet'!F51=\"\",\"\",'Broker Sheet'!F51)","v":""},{"$f":"IF('Broker Sheet'!G51=\"\",\"\",TEXT('Broker Sheet'!G51,\"YYYYMMDD\"))","v":""},{"$f":"IF('Broker Sheet'!H51=\"\",\"\",'Broker Sheet'!H51)","v":""},{"$f":"IF('Broker Sheet'!I51=\"\",\"\",'Broker Sheet'!I51)","v":""},{"$f":"IF('Broker Sheet'!J51=\"\",\"\",VLOOKUP('Broker Sheet'!J51,(Reference!$E$4:$F$9),2,FALSE))","v":""},{"$f":"IF('Broker Sheet'!K51=\"\",\"\",'Broker Sheet'!K51)","v":""},{"$f":"IF('Broker Sheet'!R51=\"\",\"\",'Broker Sheet'!R51)","v":""},{"$f":"IF('Broker Sheet'!S51=\"\",\"\",'Broker Sheet'!S51)","v":""},{"$f":"IF('Broker Sheet'!T51=\"\",\"\",'Broker Sheet'!T51)","v":""},{"$f":"IF('Broker Sheet'!U51=\"\",\"\",'Broker Sheet'!U51)","v":""},{"$f":"IF('Broker Sheet'!V51=\"\",\"\",'Broker Sheet'!V51)","v":""},{"$f":"IF('Broker Sheet'!W51=\"\",\"\",'Broker Sheet'!W51)","v":""},{"$f":"IF('Broker Sheet'!Y51=\"\",\"\",'Broker Sheet'!Y51)","v":""},{"$f":"IF('Broker Sheet'!AA51=\"\",\"\",'Broker Sheet'!AA51)","v":""},{"$f":"IF('Broker Sheet'!Z51=\"\",\"\",'Broker Sheet'!Z51)","v":""},{"$f":"IF('Broker Sheet'!AB51=\"\",\"\",'Broker Sheet'!AB51)","v":""},null,null,{"$f":"IF('Broker Sheet'!L51=\"\",\"\",TEXT('Broker Sheet'!L51,\"YYYYMMDD\"))","v":""},{"$f":"IF('Broker Sheet'!AC51=\"\",\"\",TEXT('Broker Sheet'!AC51,\"YYYYMMDD\"))","v":""},{"$f":"IF('Broker Sheet'!AD51=\"\",\"\",TEXT('Broker Sheet'!AD51,\"YYYYMMDD\"))","v":""},{"$f":"IF('Broker Sheet'!AE51=\"\",\"\",'Broker Sheet'!AE51)","v":""},{"$f":"IF('Broker Sheet'!AF51=\"\",\"\",TEXT('Broker Sheet'!AF51,\"YYYYMMDD\"))","v":""},{"$f":"IF('Broker Sheet'!AG51=\"\",\"\",TEXT('Broker Sheet'!AG51,\"YYYYMMDD\"))","v":""}]
[null,null,null,null,null,{"$f":"IF('Broker Sheet'!C52=\"\",\"\",'Broker Sheet'!C52)","v":""},{"$f":"IF('Broker Sheet'!D52=\"\",\"\",'Broker Sheet'!D52)","v":""},{"$f":"IF('Broker Sheet'!E52=\"\",\"\",'Broker Sheet'!E52)","v":""},{"$f":"IF('Broker Sheet'!F52=\"\",\"\",'Broker Sheet'!F52)","v":""},{"$f":"IF('Broker Sheet'!G52=\"\",\"\",TEXT('Broker Sheet'!G52,\"YYYYMMDD\"))","v":""},{"$f":"IF('Broker Sheet'!H52=\"\",\"\",'Broker Sheet'!H52)","v":""},{"$f":"IF('Broker Sheet'!I52=\"\",\"\",'Broker Sheet'!I52)","v":""},{"$f":"IF('Broker Sheet'!J52=\"\",\"\",VLOOKUP('Broker Sheet'!J52,(Reference!$E$4:$F$9),2,FALSE))","v":""},{"$f":"IF('Broker Sheet'!K52=\"\",\"\",'Broker Sheet'!K52)","v":""},{"$f":"IF('Broker Sheet'!R52=\"\",\"\",'Broker Sheet'!R52)","v":""},{"$f":"IF('Broker Sheet'!S52=\"\",\"\",'Broker Sheet'!S52)","v":""},{"$f":"IF('Broker Sheet'!T52=\"\",\"\",'Broker Sheet'!T52)","v":""},{"$f":"IF('Broker Sheet'!U52=\"\",\"\",'Broker Sheet'!U52)","v":""},{"$f":"IF('Broker Sheet'!V52=\"\",\"\",'Broker Sheet'!V52)","v":""},{"$f":"IF('Broker Sheet'!W52=\"\",\"\",'Broker Sheet'!W52)","v":""},{"$f":"IF('Broker Sheet'!Y52=\"\",\"\",'Broker Sheet'!Y52)","v":""},{"$f":"IF('Broker Sheet'!AA52=\"\",\"\",'Broker Sheet'!AA52)","v":""},{"$f":"IF('Broker Sheet'!Z52=\"\",\"\",'Broker Sheet'!Z52)","v":""},{"$f":"IF('Broker Sheet'!AB52=\"\",\"\",'Broker Sheet'!AB52)","v":""},null,null,{"$f":"IF('Broker Sheet'!L52=\"\",\"\",TEXT('Broker Sheet'!L52,\"YYYYMMDD\"))","v":""},{"$f":"IF('Broker Sheet'!AC52=\"\",\"\",TEXT('Broker Sheet'!AC52,\"YYYYMMDD\"))","v":""},{"$f":"IF('Broker Sheet'!AD52=\"\",\"\",TEXT('Broker Sheet'!AD52,\"YYYYMMDD\"))","v":""},{"$f":"IF('Broker Sheet'!AE52=\"\",\"\",'Broker Sheet'!AE52)","v":""},{"$f":"IF('Broker Sheet'!AF52=\"\",\"\",TEXT('Broker Sheet'!AF52,\"YYYYMMDD\"))","v":""},{"$f":"IF('Broker Sheet'!AG52=\"\",\"\",TEXT('Broker Sheet'!AG52,\"YYYYMMDD\"))","v":""}]
[null,null,null,null,null,{"$f":"IF('Broker Sheet'!C53=\"\",\"\",'Broker Sheet'!C53)","v":""},{"$f":"IF('Broker Sheet'!D53=\"\",\"\",'Broker Sheet'!D53)","v":""},{"$f":"IF('Broker Sheet'!E53=\"\",\"\",'Broker Sheet'!E53)","v":""},{"$f":"IF('Broker Sheet'!F53=\"\",\"\",'Broker Sheet'!F53)","v":""},{"$f":"IF('Broker Sheet'!G53=\"\",\"\",TEXT('Broker Sheet'!G53,\"YYYYMMDD\"))","v":""},{"$f":"IF('Broker Sheet'!H53=\"\",\"\",'Broker Sheet'!H53)","v":""},{"$f":"IF('Broker Sheet'!I53=\"\",\"\",'Broker Sheet'!I53)","v":""},{"$f":"IF('Broker Sheet'!J53=\"\",\"\",VLOOKUP('Broker Sheet'!J53,(Reference!$E$4:$F$9),2,FALSE))","v":""},{"$f":"IF('Broker Sheet'!K53=\"\",\"\",'Broker Sheet'!K53)","v":""},{"$f":"IF('Broker Sheet'!R53=\"\",\"\",'Broker Sheet'!R53)","v":""},{"$f":"IF('Broker Sheet'!S53=\"\",\"\",'Broker Sheet'!S53)","v":""},{"$f":"IF('Broker Sheet'!T53=\"\",\"\",'Broker Sheet'!T53)","v":""},{"$f":"IF('Broker Sheet'!U53=\"\",\"\",'Broker Sheet'!U53)","v":""},{"$f":"IF('Broker Sheet'!V53=\"\",\"\",'Broker Sheet'!V53)","v":""},{"$f":"IF('Broker Sheet'!W53=\"\",\"\",'Broker Sheet'!W53)","v":""},{"$f":"IF('Broker Sheet'!Y53=\"\",\"\",'Broker Sheet'!Y53)","v":""},{"$f":"IF('Broker Sheet'!AA53=\"\",\"\",'Broker Sheet'!AA53)","v":""},{"$f":"IF('Broker Sheet'!Z53=\"\",\"\",'Broker Sheet'!Z53)","v":""},{"$f":"IF('Broker Sheet'!AB53=\"\",\"\",'Broker Sheet'!AB53)","v":""},null,null,{"$f":"IF('Broker Sheet'!L53=\"\",\"\",TEXT('Broker Sheet'!L53,\"YYYYMMDD\"))","v":""},{"$f":"IF('Broker Sheet'!AC53=\"\",\"\",TEXT('Broker Sheet'!AC53,\"YYYYMMDD\"))","v":""},{"$f":"IF('Broker Sheet'!AD53=\"\",\"\",TEXT('Broker Sheet'!AD53,\"YYYYMMDD\"))","v":""},{"$f":"IF('Broker Sheet'!AE53=\"\",\"\",'Broker Sheet'!AE53)","v":""},{"$f":"IF('Broker Sheet'!AF53=\"\",\"\",TEXT('Broker Sheet'!AF53,\"YYYYMMDD\"))","v":""},{"$f":"IF('Broker Sheet'!AG53=\"\",\"\",TEXT('Broker Sheet'!AG53,\"YYYYMMDD\"))","v":""}]
[null,null,null,null,null,{"$f":"IF('Broker Sheet'!C54=\"\",\"\",'Broker Sheet'!C54)","v":""},{"$f":"IF('Broker Sheet'!D54=\"\",\"\",'Broker Sheet'!D54)","v":""},{"$f":"IF('Broker Sheet'!E54=\"\",\"\",'Broker Sheet'!E54)","v":""},{"$f":"IF('Broker Sheet'!F54=\"\",\"\",'Broker Sheet'!F54)","v":""},{"$f":"IF('Broker Sheet'!G54=\"\",\"\",TEXT('Broker Sheet'!G54,\"YYYYMMDD\"))","v":""},{"$f":"IF('Broker Sheet'!H54=\"\",\"\",'Broker Sheet'!H54)","v":""},{"$f":"IF('Broker Sheet'!I54=\"\",\"\",'Broker Sheet'!I54)","v":""},{"$f":"IF('Broker Sheet'!J54=\"\",\"\",VLOOKUP('Broker Sheet'!J54,(Reference!$E$4:$F$9),2,FALSE))","v":""},{"$f":"IF('Broker Sheet'!K54=\"\",\"\",'Broker Sheet'!K54)","v":""},{"$f":"IF('Broker Sheet'!R54=\"\",\"\",'Broker Sheet'!R54)","v":""},{"$f":"IF('Broker Sheet'!S54=\"\",\"\",'Broker Sheet'!S54)","v":""},{"$f":"IF('Broker Sheet'!T54=\"\",\"\",'Broker Sheet'!T54)","v":""},{"$f":"IF('Broker Sheet'!U54=\"\",\"\",'Broker Sheet'!U54)","v":""},{"$f":"IF('Broker Sheet'!V54=\"\",\"\",'Broker Sheet'!V54)","v":""},{"$f":"IF('Broker Sheet'!W54=\"\",\"\",'Broker Sheet'!W54)","v":""},{"$f":"IF('Broker Sheet'!Y54=\"\",\"\",'Broker Sheet'!Y54)","v":""},{"$f":"IF('Broker Sheet'!AA54=\"\",\"\",'Broker Sheet'!AA54)","v":""},{"$f":"IF('Broker Sheet'!Z54=\"\",\"\",'Broker Sheet'!Z54)","v":""},{"$f":"IF('Broker Sheet'!AB54=\"\",\"\",'Broker Sheet'!AB54)","v":""},null,null,{"$f":"IF('Broker Sheet'!L54=\"\",\"\",TEXT('Broker Sheet'!L54,\"YYYYMMDD\"))","v":""},{"$f":"IF('Broker Sheet'!AC54=\"\",\"\",TEXT('Broker Sheet'!AC54,\"YYYYMMDD\"))","v":""},{"$f":"IF('Broker Sheet'!AD54=\"\",\"\",TEXT('Broker Sheet'!AD54,\"YYYYMMDD\"))","v":""},{"$f":"IF('Broker Sheet'!AE54=\"\",\"\",'Broker Sheet'!AE54)","v":""},{"$f":"IF('Broker Sheet'!AF54=\"\",\"\",TEXT('Broker Sheet'!AF54,\"YYYYMMDD\"))","v":""},{"$f":"IF('Broker Sheet'!AG54=\"\",\"\",TEXT('Broker Sheet'!AG54,\"YYYYMMDD\"))","v":""}]
[null,null,null,null,null,{"$f":"IF('Broker Sheet'!C55=\"\",\"\",'Broker Sheet'!C55)","v":""},{"$f":"IF('Broker Sheet'!D55=\"\",\"\",'Broker Sheet'!D55)","v":""},{"$f":"IF('Broker Sheet'!E55=\"\",\"\",'Broker Sheet'!E55)","v":""},{"$f":"IF('Broker Sheet'!F55=\"\",\"\",'Broker Sheet'!F55)","v":""},{"$f":"IF('Broker Sheet'!G55=\"\",\"\",TEXT('Broker Sheet'!G55,\"YYYYMMDD\"))","v":""},{"$f":"IF('Broker Sheet'!H55=\"\",\"\",'Broker Sheet'!H55)","v":""},{"$f":"IF('Broker Sheet'!I55=\"\",\"\",'Broker Sheet'!I55)","v":""},{"$f":"IF('Broker Sheet'!J55=\"\",\"\",VLOOKUP('Broker Sheet'!J55,(Reference!$E$4:$F$9),2,FALSE))","v":""},{"$f":"IF('Broker Sheet'!K55=\"\",\"\",'Broker Sheet'!K55)","v":""},{"$f":"IF('Broker Sheet'!R55=\"\",\"\",'Broker Sheet'!R55)","v":""},{"$f":"IF('Broker Sheet'!S55=\"\",\"\",'Broker Sheet'!S55)","v":""},{"$f":"IF('Broker Sheet'!T55=\"\",\"\",'Broker Sheet'!T55)","v":""},{"$f":"IF('Broker Sheet'!U55=\"\",\"\",'Broker Sheet'!U55)","v":""},{"$f":"IF('Broker Sheet'!V55=\"\",\"\",'Broker Sheet'!V55)","v":""},{"$f":"IF('Broker Sheet'!W55=\"\",\"\",'Broker Sheet'!W55)","v":""},{"$f":"IF('Broker Sheet'!Y55=\"\",\"\",'Broker Sheet'!Y55)","v":""},{"$f":"IF('Broker Sheet'!AA55=\"\",\"\",'Broker Sheet'!AA55)","v":""},{"$f":"IF('Broker Sheet'!Z55=\"\",\"\",'Broker Sheet'!Z55)","v":""},{"$f":"IF('Broker Sheet'!AB55=\"\",\"\",'Broker Sheet'!AB55)","v":""},null,null,{"$f":"IF('Broker Sheet'!L55=\"\",\"\",TEXT('Broker Sheet'!L55,\"YYYYMMDD\"))","v":""},{"$f":"IF('Broker Sheet'!AC55=\"\",\"\",TEXT('Broker Sheet'!AC55,\"YYYYMMDD\"))","v":""},{"$f":"IF('Broker Sheet'!AD55=\"\",\"\",TEXT('Broker Sheet'!AD55,\"YYYYMMDD\"))","v":""},{"$f":"IF('Broker Sheet'!AE55=\"\",\"\",'Broker Sheet'!AE55)","v":""},{"$f":"IF('Broker Sheet'!AF55=\"\",\"\",TEXT('Broker Sheet'!AF55,\"YYYYMMDD\"))","v":""},{"$f":"IF('Broker Sheet'!AG55=\"\",\"\",TEXT('Broker Sheet'!AG55,\"YYYYMMDD\"))","v":""}]
[null,null,null,null,null,{"$f":"IF('Broker Sheet'!C56=\"\",\"\",'Broker Sheet'!C56)","v":""},{"$f":"IF('Broker Sheet'!D56=\"\",\"\",'Broker Sheet'!D56)","v":""},{"$f":"IF('Broker Sheet'!E56=\"\",\"\",'Broker Sheet'!E56)","v":""},{"$f":"IF('Broker Sheet'!F56=\"\",\"\",'Broker Sheet'!F56)","v":""},{"$f":"IF('Broker Sheet'!G56=\"\",\"\",TEXT('Broker Sheet'!G56,\"YYYYMMDD\"))","v":""},{"$f":"IF('Broker Sheet'!H56=\"\",\"\",'Broker Sheet'!H56)","v":""},{"$f":"IF('Broker Sheet'!I56=\"\",\"\",'Broker Sheet'!I56)","v":""},{"$f":"IF('Broker Sheet'!J56=\"\",\"\",VLOOKUP('Broker Sheet'!J56,(Reference!$E$4:$F$9),2,FALSE))","v":""},{"$f":"IF('Broker Sheet'!K56=\"\",\"\",'Broker Sheet'!K56)","v":""},{"$f":"IF('Broker Sheet'!R56=\"\",\"\",'Broker Sheet'!R56)","v":""},{"$f":"IF('Broker Sheet'!S56=\"\",\"\",'Broker Sheet'!S56)","v":""},{"$f":"IF('Broker Sheet'!T56=\"\",\"\",'Broker Sheet'!T56)","v":""},{"$f":"IF('Broker Sheet'!U56=\"\",\"\",'Broker Sheet'!U56)","v":""},{"$f":"IF('Broker Sheet'!V56=\"\",\"\",'Broker Sheet'!V56)","v":""},{"$f":"IF('Broker Sheet'!W56=\"\",\"\",'Broker Sheet'!W56)","v":""},{"$f":"IF('Broker Sheet'!Y56=\"\",\"\",'Broker Sheet'!Y56)","v":""},{"$f":"IF('Broker Sheet'!AA56=\"\",\"\",'Broker Sheet'!AA56)","v":""},{"$f":"IF('Broker Sheet'!Z56=\"\",\"\",'Broker Sheet'!Z56)","v":""},{"$f":"IF('Broker Sheet'!AB56=\"\",\"\",'Broker Sheet'!AB56)","v":""},null,null,{"$f":"IF('Broker Sheet'!L56=\"\",\"\",TEXT('Broker Sheet'!L56,\"YYYYMMDD\"))","v":""},{"$f":"IF('Broker Sheet'!AC56=\"\",\"\",TEXT('Broker Sheet'!AC56,\"YYYYMMDD\"))","v":""},{"$f":"IF('Broker Sheet'!AD56=\"\",\"\",TEXT('Broker Sheet'!AD56,\"YYYYMMDD\"))","v":""},{"$f":"IF('Broker Sheet'!AE56=\"\",\"\",'Broker Sheet'!AE56)","v":""},{"$f":"IF('Broker Sheet'!AF56=\"\",\"\",TEXT('Broker Sheet'!AF56,\"YYYYMMDD\"))","v":""},{"$f":"IF('Broker Sheet'!AG56=\"\",\"\",TEXT('Broker Sheet'!AG56,\"YYYYMMDD\"))","v":""}]
[null,null,null,null,null,{"$f":"IF('Broker Sheet'!C57=\"\",\"\",'Broker Sheet'!C57)","v":""},{"$f":"IF('Broker Sheet'!D57=\"\",\"\",'Broker Sheet'!D57)","v":""},{"$f":"IF('Broker Sheet'!E57=\"\",\"\",'Broker Sheet'!E57)","v":""},{"$f":"IF('Broker Sheet'!F57=\"\",\"\",'Broker Sheet'!F57)","v":""},{"$f":"IF('Broker Sheet'!G57=\"\",\"\",TEXT('Broker Sheet'!G57,\"YYYYMMDD\"))","v":""},{"$f":"IF('Broker Sheet'!H57=\"\",\"\",'Broker Sheet'!H57)","v":""},{"$f":"IF('Broker Sheet'!I57=\"\",\"\",'Broker Sheet'!I57)","v":""},{"$f":"IF('Broker Sheet'!J57=\"\",\"\",VLOOKUP('Broker Sheet'!J57,(Reference!$E$4:$F$9),2,FALSE))","v":""},{"$f":"IF('Broker Sheet'!K57=\"\",\"\",'Broker Sheet'!K57)","v":""},{"$f":"IF('Broker Sheet'!R57=\"\",\"\",'Broker Sheet'!R57)","v":""},{"$f":"IF('Broker Sheet'!S57=\"\",\"\",'Broker Sheet'!S57)","v":""},{"$f":"IF('Broker Sheet'!T57=\"\",\"\",'Broker Sheet'!T57)","v":""},{"$f":"IF('Broker Sheet'!U57=\"\",\"\",'Broker Sheet'!U57)","v":""},{"$f":"IF('Broker Sheet'!V57=\"\",\"\",'Broker Sheet'!V57)","v":""},{"$f":"IF('Broker Sheet'!W57=\"\",\"\",'Broker Sheet'!W57)","v":""},{"$f":"IF('Broker Sheet'!Y57=\"\",\"\",'Broker Sheet'!Y57)","v":""},{"$f":"IF('Broker Sheet'!AA57=\"\",\"\",'Broker Sheet'!AA57)","v":""},{"$f":"IF('Broker Sheet'!Z57=\"\",\"\",'Broker Sheet'!Z57)","v":""},{"$f":"IF('Broker Sheet'!AB57=\"\",\"\",'Broker Sheet'!AB57)","v":""},null,null,{"$f":"IF('Broker Sheet'!L57=\"\",\"\",TEXT('Broker Sheet'!L57,\"YYYYMMDD\"))","v":""},{"$f":"IF('Broker Sheet'!AC57=\"\",\"\",TEXT('Broker Sheet'!AC57,\"YYYYMMDD\"))","v":""},{"$f":"IF('Broker Sheet'!AD57=\"\",\"\",TEXT('Broker Sheet'!AD57,\"YYYYMMDD\"))","v":""},{"$f":"IF('Broker Sheet'!AE57=\"\",\"\",'Broker Sheet'!AE57)","v":""},{"$f":"IF('Broker Sheet'!AF57=\"\",\"\",TEXT('Broker Sheet'!AF57,\"YYYYMMDD\"))","v":""},{"$f":"IF('Broker Sheet'!AG57=\"\",\"\",TEXT('Broker Sheet'!AG57,\"YYYYMMDD\"))","v":""}]
[null,null,null,null,null,{"$f":"IF('Broker Sheet'!C58=\"\",\"\",'Broker Sheet'!C58)","v":""},{"$f":"IF('Broker Sheet'!D58=\"\",\"\",'Broker Sheet'!D58)","v":""},{"$f":"IF('Broker Sheet'!E58=\"\",\"\",'Broker Sheet'!E58)","v":""},{"$f":"IF('Broker Sheet'!F58=\"\",\"\",'Broker Sheet'!F58)","v":""},{"$f":"IF('Broker Sheet'!G58=\"\",\"\",TEXT('Broker Sheet'!G58,\"YYYYMMDD\"))","v":""},{"$f":"IF('Broker Sheet'!H58=\"\",\"\",'Broker Sheet'!H58)","v":""},{"$f":"IF('Broker Sheet'!I58=\"\",\"\",'Broker Sheet'!I58)","v":""},{"$f":"IF('Broker Sheet'!J58=\"\",\"\",VLOOKUP('Broker Sheet'!J58,(Reference!$E$4:$F$9),2,FALSE))","v":""},{"$f":"IF('Broker Sheet'!K58=\"\",\"\",'Broker Sheet'!K58)","v":""},{"$f":"IF('Broker Sheet'!R58=\"\",\"\",'Broker Sheet'!R58)","v":""},{"$f":"IF('Broker Sheet'!S58=\"\",\"\",'Broker Sheet'!S58)","v":""},{"$f":"IF('Broker Sheet'!T58=\"\",\"\",'Broker Sheet'!T58)","v":""},{"$f":"IF('Broker Sheet'!U58=\"\",\"\",'Broker Sheet'!U58)","v":""},{"$f":"IF('Broker Sheet'!V58=\"\",\"\",'Broker Sheet'!V58)","v":""},{"$f":"IF('Broker Sheet'!W58=\"\",\"\",'Broker Sheet'!W58)","v":""},{"$f":"IF('Broker Sheet'!Y58=\"\",\"\",'Broker Sheet'!Y58)","v":""},{"$f":"IF('Broker Sheet'!AA58=\"\",\"\",'Broker Sheet'!AA58)","v":""},{"$f":"IF('Broker Sheet'!Z58=\"\",\"\",'Broker Sheet'!Z58)","v":""},{"$f":"IF('Broker Sheet'!AB58=\"\",\"\",'Broker Sheet'!AB58)","v":""},null,null,{"$f":"IF('Broker Sheet'!L58=\"\",\"\",TEXT('Broker Sheet'!L58,\"YYYYMMDD\"))","v":""},{"$f":"IF('Broker Sheet'!AC58=\"\",\"\",TEXT('Broker Sheet'!AC58,\"YYYYMMDD\"))","v":""},{"$f":"IF('Broker Sheet'!AD58=\"\",\"\",TEXT('Broker Sheet'!AD58,\"YYYYMMDD\"))","v":""},{"$f":"IF('Broker Sheet'!AE58=\"\",\"\",'Broker Sheet'!AE58)","v":""},{"$f":"IF('Broker Sheet'!AF58=\"\",\"\",TEXT('Broker Sheet'!AF58,\"YYYYMMDD\"))","v":""},{"$f":"IF('Broker Sheet'!AG58=\"\",\"\",TEXT('Broker Sheet'!AG58,\"YYYYMMDD\"))","v":""}]
[null,null,null,null,null,{"$f":"IF('Broker Sheet'!C59=\"\",\"\",'Broker Sheet'!C59)","v":""},{"$f":"IF('Broker Sheet'!D59=\"\",\"\",'Broker Sheet'!D59)","v":""},{"$f":"IF('Broker Sheet'!E59=\"\",\"\",'Broker Sheet'!E59)","v":""},{"$f":"IF('Broker Sheet'!F59=\"\",\"\",'Broker Sheet'!F59)","v":""},{"$f":"IF('Broker Sheet'!G59=\"\",\"\",TEXT('Broker Sheet'!G59,\"YYYYMMDD\"))","v":""},{"$f":"IF('Broker Sheet'!H59=\"\",\"\",'Broker Sheet'!H59)","v":""},{"$f":"IF('Broker Sheet'!I59=\"\",\"\",'Broker Sheet'!I59)","v":""},{"$f":"IF('Broker Sheet'!J59=\"\",\"\",VLOOKUP('Broker Sheet'!J59,(Reference!$E$4:$F$9),2,FALSE))","v":""},{"$f":"IF('Broker Sheet'!K59=\"\",\"\",'Broker Sheet'!K59)","v":""},{"$f":"IF('Broker Sheet'!R59=\"\",\"\",'Broker Sheet'!R59)","v":""},{"$f":"IF('Broker Sheet'!S59=\"\",\"\",'Broker Sheet'!S59)","v":""},{"$f":"IF('Broker Sheet'!T59=\"\",\"\",'Broker Sheet'!T59)","v":""},{"$f":"IF('Broker Sheet'!U59=\"\",\"\",'Broker Sheet'!U59)","v":""},{"$f":"IF('Broker Sheet'!V59=\"\",\"\",'Broker Sheet'!V59)","v":""},{"$f":"IF('Broker Sheet'!W59=\"\",\"\",'Broker Sheet'!W59)","v":""},{"$f":"IF('Broker Sheet'!Y59=\"\",\"\",'Broker Sheet'!Y59)","v":""},{"$f":"IF('Broker Sheet'!AA59=\"\",\"\",'Broker Sheet'!AA59)","v":""},{"$f":"IF('Broker Sheet'!Z59=\"\",\"\",'Broker Sheet'!Z59)","v":""},{"$f":"IF('Broker Sheet'!AB59=\"\",\"\",'Broker Sheet'!AB59)","v":""},null,null,{"$f":"IF('Broker Sheet'!L59=\"\",\"\",TEXT('Broker Sheet'!L59,\"YYYYMMDD\"))","v":""},{"$f":"IF('Broker Sheet'!AC59=\"\",\"\",TEXT('Broker Sheet'!AC59,\"YYYYMMDD\"))","v":""},{"$f":"IF('Broker Sheet'!AD59=\"\",\"\",TEXT('Broker Sheet'!AD59,\"YYYYMMDD\"))","v":""},{"$f":"IF('Broker Sheet'!AE59=\"\",\"\",'Broker Sheet'!AE59)","v":""},{"$f":"IF('Broker Sheet'!AF59=\"\",\"\",TEXT('Broker Sheet'!AF59,\"YYYYMMDD\"))","v":""},{"$f":"IF('Broker Sheet'!AG59=\"\",\"\",TEXT('Broker Sheet'!AG59,\"YYYYMMDD\"))","v":""}]
[null,null,null,null,null,{"$f":"IF('Broker Sheet'!C60=\"\",\"\",'Broker Sheet'!C60)","v":""},{"$f":"IF('Broker Sheet'!D60=\"\",\"\",'Broker Sheet'!D60)","v":""},{"$f":"IF('Broker Sheet'!E60=\"\",\"\",'Broker Sheet'!E60)","v":""},{"$f":"IF('Broker Sheet'!F60=\"\",\"\",'Broker Sheet'!F60)","v":""},{"$f":"IF('Broker Sheet'!G60=\"\",\"\",TEXT('Broker Sheet'!G60,\"YYYYMMDD\"))","v":""},{"$f":"IF('Broker Sheet'!H60=\"\",\"\",'Broker Sheet'!H60)","v":""},{"$f":"IF('Broker Sheet'!I60=\"\",\"\",'Broker Sheet'!I60)","v":""},{"$f":"IF('Broker Sheet'!J60=\"\",\"\",VLOOKUP('Broker Sheet'!J60,(Reference!$E$4:$F$9),2,FALSE))","v":""},{"$f":"IF('Broker Sheet'!K60=\"\",\"\",'Broker Sheet'!K60)","v":""},{"$f":"IF('Broker Sheet'!R60=\"\",\"\",'Broker Sheet'!R60)","v":""},{"$f":"IF('Broker Sheet'!S60=\"\",\"\",'Broker Sheet'!S60)","v":""},{"$f":"IF('Broker Sheet'!T60=\"\",\"\",'Broker Sheet'!T60)","v":""},{"$f":"IF('Broker Sheet'!U60=\"\",\"\",'Broker Sheet'!U60)","v":""},{"$f":"IF('Broker Sheet'!V60=\"\",\"\",'Broker Sheet'!V60)","v":""},{"$f":"IF('Broker Sheet'!W60=\"\",\"\",'Broker Sheet'!W60)","v":""},{"$f":"IF('Broker Sheet'!Y60=\"\",\"\",'Broker Sheet'!Y60)","v":""},{"$f":"IF('Broker Sheet'!AA60=\"\",\"\",'Broker Sheet'!AA60)","v":""},{"$f":"IF('Broker Sheet'!Z60=\"\",\"\",'Broker Sheet'!Z60)","v":""},{"$f":"IF('Broker Sheet'!AB60=\"\",\"\",'Broker Sheet'!AB60)","v":""},null,null,{"$f":"IF('Broker Sheet'!L60=\"\",\"\",TEXT('Broker Sheet'!L60,\"YYYYMMDD\"))","v":""},{"$f":"IF('Broker Sheet'!AC60=\"\",\"\",TEXT('Broker Sheet'!AC60,\"YYYYMMDD\"))","v":""},{"$f":"IF('Broker Sheet'!AD60=\"\",\"\",TEXT('Broker Sheet'!AD60,\"YYYYMMDD\"))","v":""},{"$f":"IF('Broker Sheet'!AE60=\"\",\"\",'Broker Sheet'!AE60)","v":""},{"$f":"IF('Broker Sheet'!AF60=\"\",\"\",TEXT('Broker Sheet'!AF60,\"YYYYMMDD\"))","v":""},{"$f":"IF('Broker Sheet'!AG60=\"\",\"\",TEXT('Broker Sheet'!AG60,\"YYYYMMDD\"))","v":""}]
[null,null,null,null,null,{"$f":"IF('Broker Sheet'!C61=\"\",\"\",'Broker Sheet'!C61)","v":""},{"$f":"IF('Broker Sheet'!D61=\"\",\"\",'Broker Sheet'!D61)","v":""},{"$f":"IF('Broker Sheet'!E61=\"\",\"\",'Broker Sheet'!E61)","v":""},{"$f":"IF('Broker Sheet'!F61=\"\",\"\",'Broker Sheet'!F61)","v":""},{"$f":"IF('Broker Sheet'!G61=\"\",\"\",TEXT('Broker Sheet'!G61,\"YYYYMMDD\"))","v":""},{"$f":"IF('Broker Sheet'!H61=\"\",\"\",'Broker Sheet'!H61)","v":""},{"$f":"IF('Broker Sheet'!I61=\"\",\"\",'Broker Sheet'!I61)","v":""},{"$f":"IF('Broker Sheet'!J61=\"\",\"\",VLOOKUP('Broker Sheet'!J61,(Reference!$E$4:$F$9),2,FALSE))","v":""},{"$f":"IF('Broker Sheet'!K61=\"\",\"\",'Broker Sheet'!K61)","v":""},{"$f":"IF('Broker Sheet'!R61=\"\",\"\",'Broker Sheet'!R61)","v":""},{"$f":"IF('Broker Sheet'!S61=\"\",\"\",'Broker Sheet'!S61)","v":""},{"$f":"IF('Broker Sheet'!T61=\"\",\"\",'Broker Sheet'!T61)","v":""},{"$f":"IF('Broker Sheet'!U61=\"\",\"\",'Broker Sheet'!U61)","v":""},{"$f":"IF('Broker Sheet'!V61=\"\",\"\",'Broker Sheet'!V61)","v":""},{"$f":"IF('Broker Sheet'!W61=\"\",\"\",'Broker Sheet'!W61)","v":""},{"$f":"IF('Broker Sheet'!Y61=\"\",\"\",'Broker Sheet'!Y61)","v":""},{"$f":"IF('Broker Sheet'!AA61=\"\",\"\",'Broker Sheet'!AA61)","v":""},{"$f":"IF('Broker Sheet'!Z61=\"\",\"\",'Broker Sheet'!Z61)","v":""},{"$f":"IF('Broker Sheet'!AB61=\"\",\"\",'Broker Sheet'!AB61)","v":""},null,null,{"$f":"IF('Broker Sheet'!L61=\"\",\"\",TEXT('Broker Sheet'!L61,\"YYYYMMDD\"))","v":""},{"$f":"IF('Broker Sheet'!AC61=\"\",\"\",TEXT('Broker Sheet'!AC61,\"YYYYMMDD\"))","v":""},{"$f":"IF('Broker Sheet'!AD61=\"\",\"\",TEXT('Broker Sheet'!AD61,\"YYYYMMDD\"))","v":""},{"$f":"IF('Broker Sheet'!AE61=\"\",\"\",'Broker Sheet'!AE61)","v":""},{"$f":"IF('Broker Sheet'!AF61=\"\",\"\",TEXT('Broker Sheet'!AF61,\"YYYYMMDD\"))","v":""},{"$f":"IF('Broker Sheet'!AG61=\"\",\"\",TEXT('Broker Sheet'!AG61,\"YYYYMMDD\"))","v":""}]
[null,null,null,null,null,{"$f":"IF('Broker Sheet'!C62=\"\",\"\",'Broker Sheet'!C62)","v":""},{"$f":"IF('Broker Sheet'!D62=\"\",\"\",'Broker Sheet'!D62)","v":""},{"$f":"IF('Broker Sheet'!E62=\"\",\"\",'Broker Sheet'!E62)","v":""},{"$f":"IF('Broker Sheet'!F62=\"\",\"\",'Broker Sheet'!F62)","v":""},{"$f":"IF('Broker Sheet'!G62=\"\",\"\",TEXT('Broker Sheet'!G62,\"YYYYMMDD\"))","v":""},{"$f":"IF('Broker Sheet'!H62=\"\",\"\",'Broker Sheet'!H62)","v":""},{"$f":"IF('Broker Sheet'!I62=\"\",\"\",'Broker Sheet'!I62)","v":""},{"$f":"IF('Broker Sheet'!J62=\"\",\"\",VLOOKUP('Broker Sheet'!J62,(Reference!$E$4:$F$9),2,FALSE))","v":""},{"$f":"IF('Broker Sheet'!K62=\"\",\"\",'Broker Sheet'!K62)","v":""},{"$f":"IF('Broker Sheet'!R62=\"\",\"\",'Broker Sheet'!R62)","v":""},{"$f":"IF('Broker Sheet'!S62=\"\",\"\",'Broker Sheet'!S62)","v":""},{"$f":"IF('Broker Sheet'!T62=\"\",\"\",'Broker Sheet'!T62)","v":""},{"$f":"IF('Broker Sheet'!U62=\"\",\"\",'Broker Sheet'!U62)","v":""},{"$f":"IF('Broker Sheet'!V62=\"\",\"\",'Broker Sheet'!V62)","v":""},{"$f":"IF('Broker Sheet'!W62=\"\",\"\",'Broker Sheet'!W62)","v":""},{"$f":"IF('Broker Sheet'!Y62=\"\",\"\",'Broker Sheet'!Y62)","v":""},{"$f":"IF('Broker Sheet'!AA62=\"\",\"\",'Broker Sheet'!AA62)","v":""},{"$f":"IF('Broker Sheet'!Z62=\"\",\"\",'Broker Sheet'!Z62)","v":""},{"$f":"IF('Broker Sheet'!AB62=\"\",\"\",'Broker Sheet'!AB62)","v":""},null,null,{"$f":"IF('Broker Sheet'!L62=\"\",\"\",TEXT('Broker Sheet'!L62,\"YYYYMMDD\"))","v":""},{"$f":"IF('Broker Sheet'!AC62=\"\",\"\",TEXT('Broker Sheet'!AC62,\"YYYYMMDD\"))","v":""},{"$f":"IF('Broker Sheet'!AD62=\"\",\"\",TEXT('Broker Sheet'!AD62,\"YYYYMMDD\"))","v":""},{"$f":"IF('Broker Sheet'!AE62=\"\",\"\",'Broker Sheet'!AE62)","v":""},{"$f":"IF('Broker Sheet'!AF62=\"\",\"\",TEXT('Broker Sheet'!AF62,\"YYYYMMDD\"))","v":""},{"$f":"IF('Broker Sheet'!AG62=\"\",\"\",TEXT('Broker Sheet'!AG62,\"YYYYMMDD\"))","v":""}]
[null,null,null,null,null,{"$f":"IF('Broker Sheet'!C63=\"\",\"\",'Broker Sheet'!C63)","v":""},{"$f":"IF('Broker Sheet'!D63=\"\",\"\",'Broker Sheet'!D63)","v":""},{"$f":"IF('Broker Sheet'!E63=\"\",\"\",'Broker Sheet'!E63)","v":""},{"$f":"IF('Broker Sheet'!F63=\"\",\"\",'Broker Sheet'!F63)","v":""},{"$f":"IF('Broker Sheet'!G63=\"\",\"\",TEXT('Broker Sheet'!G63,\"YYYYMMDD\"))","v":""},{"$f":"IF('Broker Sheet'!H63=\"\",\"\",'Broker Sheet'!H63)","v":""},{"$f":"IF('Broker Sheet'!I63=\"\",\"\",'Broker Sheet'!I63)","v":""},{"$f":"IF('Broker Sheet'!J63=\"\",\"\",VLOOKUP('Broker Sheet'!J63,(Reference!$E$4:$F$9),2,FALSE))","v":""},{"$f":"IF('Broker Sheet'!K63=\"\",\"\",'Broker Sheet'!K63)","v":""},{"$f":"IF('Broker Sheet'!R63=\"\",\"\",'Broker Sheet'!R63)","v":""},{"$f":"IF('Broker Sheet'!S63=\"\",\"\",'Broker Sheet'!S63)","v":""},{"$f":"IF('Broker Sheet'!T63=\"\",\"\",'Broker Sheet'!T63)","v":""},{"$f":"IF('Broker Sheet'!U63=\"\",\"\",'Broker Sheet'!U63)","v":""},{"$f":"IF('Broker Sheet'!V63=\"\",\"\",'Broker Sheet'!V63)","v":""},{"$f":"IF('Broker Sheet'!W63=\"\",\"\",'Broker Sheet'!W63)","v":""},{"$f":"IF('Broker Sheet'!Y63=\"\",\"\",'Broker Sheet'!Y63)","v":""},{"$f":"IF('Broker Sheet'!AA63=\"\",\"\",'Broker Sheet'!AA63)","v":""},{"$f":"IF('Broker Sheet'!Z63=\"\",\"\",'Broker Sheet'!Z63)","v":""},{"$f":"IF('Broker Sheet'!AB63=\"\",\"\",'Broker Sheet'!AB63)","v":""},null,null,{"$f":"IF('Broker Sheet'!L63=\"\",\"\",TEXT('Broker Sheet'!L63,\"YYYYMMDD\"))","v":""},{"$f":"IF('Broker Sheet'!AC63=\"\",\"\",TEXT('Broker Sheet'!AC63,\"YYYYMMDD\"))","v":""},{"$f":"IF('Broker Sheet'!AD63=\"\",\"\",TEXT('Broker Sheet'!AD63,\"YYYYMMDD\"))","v":""},{"$f":"IF('Broker Sheet'!AE63=\"\",\"\",'Broker Sheet'!AE63)","v":""},{"$f":"IF('Broker Sheet'!AF63=\"\",\"\",TEXT('Broker Sheet'!AF63,\"YYYYMMDD\"))","v":""},{"$f":"IF('Broker Sheet'!AG63=\"\",\"\",TEXT('Broker Sheet'!AG63,\"YYYYMMDD\"))","v":""}]
[null,null,null,null,null,{"$f":"IF('Broker Sheet'!C64=\"\",\"\",'Broker Sheet'!C64)","v":""},{"$f":"IF('Broker Sheet'!D64=\"\",\"\",'Broker Sheet'!D64)","v":""},{"$f":"IF('Broker Sheet'!E64=\"\",\"\",'Broker Sheet'!E64)","v":""},{"$f":"IF('Broker Sheet'!F64=\"\",\"\",'Broker Sheet'!F64)","v":""},{"$f":"IF('Broker Sheet'!G64=\"\",\"\",TEXT('Broker Sheet'!G64,\"YYYYMMDD\"))","v":""},{"$f":"IF('Broker Sheet'!H64=\"\",\"\",'Broker Sheet'!H64)","v":""},{"$f":"IF('Broker Sheet'!I64=\"\",\"\",'Broker Sheet'!I64)","v":""},{"$f":"IF('Broker Sheet'!J64=\"\",\"\",VLOOKUP('Broker Sheet'!J64,(Reference!$E$4:$F$9),2,FALSE))","v":""},{"$f":"IF('Broker Sheet'!K64=\"\",\"\",'Broker Sheet'!K64)","v":""},{"$f":"IF('Broker Sheet'!R64=\"\",\"\",'Broker Sheet'!R64)","v":""},{"$f":"IF('Broker Sheet'!S64=\"\",\"\",'Broker Sheet'!S64)","v":""},{"$f":"IF('Broker Sheet'!T64=\"\",\"\",'Broker Sheet'!T64)","v":""},{"$f":"IF('Broker Sheet'!U64=\"\",\"\",'Broker Sheet'!U64)","v":""},{"$f":"IF('Broker Sheet'!V64=\"\",\"\",'Broker Sheet'!V64)","v":""},{"$f":"IF('Broker Sheet'!W64=\"\",\"\",'Broker Sheet'!W64)","v":""},{"$f":"IF('Broker Sheet'!Y64=\"\",\"\",'Broker Sheet'!Y64)","v":""},{"$f":"IF('Broker Sheet'!AA64=\"\",\"\",'Broker Sheet'!AA64)","v":""},{"$f":"IF('Broker Sheet'!Z64=\"\",\"\",'Broker Sheet'!Z64)","v":""},{"$f":"IF('Broker Sheet'!AB64=\"\",\"\",'Broker Sheet'!AB64)","v":""},null,null,{"$f":"IF('Broker Sheet'!L64=\"\",\"\",TEXT('Broker Sheet'!L64,\"YYYYMMDD\"))","v":""},{"$f":"IF('Broker Sheet'!AC64=\"\",\"\",TEXT('Broker Sheet'!AC64,\"YYYYMMDD\"))","v":""},{"$f":"IF('Broker Sheet'!AD64=\"\",\"\",TEXT('Broker Sheet'!AD64,\"YYYYMMDD\"))","v":""},{"$f":"IF('Broker Sheet'!AE64=\"\",\"\",'Broker Sheet'!AE64)","v":""},{"$f":"IF('Broker Sheet'!AF64=\"\",\"\",TEXT('Broker Sheet'!AF64,\"YYYYMMDD\"))","v":""},{"$f":"IF('Broker Sheet'!AG64=\"\",\"\",TEXT('Broker Sheet'!AG64,\"YYYYMMDD\"))","v":""}]
[null,null,null,null,null,{"$f":"IF('Broker Sheet'!C65=\"\",\"\",'Broker Sheet'!C65)","v":""},{"$f":"IF('Broker Sheet'!D65=\"\",\"\",'Broker Sheet'!D65)","v":""},{"$f":"IF('Broker Sheet'!E65=\"\",\"\",'Broker Sheet'!E65)","v":""},{"$f":"IF('Broker Sheet'!F65=\"\",\"\",'Broker Sheet'!F65)","v":""},{"$f":"IF('Broker Sheet'!G65=\"\",\"\",TEXT('Broker Sheet'!G65,\"YYYYMMDD\"))","v":""},{"$f":"IF('Broker Sheet'!H65=\"\",\"\",'Broker Sheet'!H65)","v":""},{"$f":"IF('Broker Sheet'!I65=\"\",\"\",'Broker Sheet'!I65)","v":""},{"$f":"IF('Broker Sheet'!J65=\"\",\"\",VLOOKUP('Broker Sheet'!J65,(Reference!$E$4:$F$9),2,FALSE))","v":""},{"$f":"IF('Broker Sheet'!K65=\"\",\"\",'Broker Sheet'!K65)","v":""},{"$f":"IF('Broker Sheet'!R65=\"\",\"\",'Broker Sheet'!R65)","v":""},{"$f":"IF('Broker Sheet'!S65=\"\",\"\",'Broker Sheet'!S65)","v":""},{"$f":"IF('Broker Sheet'!T65=\"\",\"\",'Broker Sheet'!T65)","v":""},{"$f":"IF('Broker Sheet'!U65=\"\",\"\",'Broker Sheet'!U65)","v":""},{"$f":"IF('Broker Sheet'!V65=\"\",\"\",'Broker Sheet'!V65)","v":""},{"$f":"IF('Broker Sheet'!W65=\"\",\"\",'Broker Sheet'!W65)","v":""},{"$f":"IF('Broker Sheet'!Y65=\"\",\"\",'Broker Sheet'!Y65)","v":""},{"$f":"IF('Broker Sheet'!AA65=\"\",\"\",'Broker Sheet'!AA65)","v":""},{"$f":"IF('Broker Sheet'!Z65=\"\",\"\",'Broker Sheet'!Z65)","v":""},{"$f":"IF('Broker Sheet'!AB65=\"\",\"\",'Broker Sheet'!AB65)","v":""},null,null,{"$f":"IF('Broker Sheet'!L65=\"\",\"\",TEXT('Broker Sheet'!L65,\"YYYYMMDD\"))","v":""},{"$f":"IF('Broker Sheet'!AC65=\"\",\"\",TEXT('Broker Sheet'!AC65,\"YYYYMMDD\"))","v":""},{"$f":"IF('Broker Sheet'!AD65=\"\",\"\",TEXT('Broker Sheet'!AD65,\"YYYYMMDD\"))","v":""},{"$f":"IF('Broker Sheet'!AE65=\"\",\"\",'Broker Sheet'!AE65)","v":""},{"$f":"IF('Broker Sheet'!AF65=\"\",\"\",TEXT('Broker Sheet'!AF65,\"YYYYMMDD\"))","v":""},{"$f":"IF('Broker Sheet'!AG65=\"\",\"\",TEXT('Broker Sheet'!AG65,\"YYYYMMDD\"))","v":""}]
[null,null,null,null,null,{"$f":"IF('Broker Sheet'!C66=\"\",\"\",'Broker Sheet'!C66)","v":""},{"$f":"IF('Broker Sheet'!D66=\"\",\"\",'Broker Sheet'!D66)","v":""},{"$f":"IF('Broker Sheet'!E66=\"\",\"\",'Broker Sheet'!E66)","v":""},{"$f":"IF('Broker Sheet'!F66=\"\",\"\",'Broker Sheet'!F66)","v":""},{"$f":"IF('Broker Sheet'!G66=\"\",\"\",TEXT('Broker Sheet'!G66,\"YYYYMMDD\"))","v":""},{"$f":"IF('Broker Sheet'!H66=\"\",\"\",'Broker Sheet'!H66)","v":""},{"$f":"IF('Broker Sheet'!I66=\"\",\"\",'Broker Sheet'!I66)","v":""},{"$f":"IF('Broker Sheet'!J66=\"\",\"\",VLOOKUP('Broker Sheet'!J66,(Reference!$E$4:$F$9),2,FALSE))","v":""},{"$f":"IF('Broker Sheet'!K66=\"\",\"\",'Broker Sheet'!K66)","v":""},{"$f":"IF('Broker Sheet'!R66=\"\",\"\",'Broker Sheet'!R66)","v":""},{"$f":"IF('Broker Sheet'!S66=\"\",\"\",'Broker Sheet'!S66)","v":""},{"$f":"IF('Broker Sheet'!T66=\"\",\"\",'Broker Sheet'!T66)","v":""},{"$f":"IF('Broker Sheet'!U66=\"\",\"\",'Broker Sheet'!U66)","v":""},{"$f":"IF('Broker Sheet'!V66=\"\",\"\",'Broker Sheet'!V66)","v":""},{"$f":"IF('Broker Sheet'!W66=\"\",\"\",'Broker Sheet'!W66)","v":""},{"$f":"IF('Broker Sheet'!Y66=\"\",\"\",'Broker Sheet'!Y66)","v":""},{"$f":"IF('Broker Sheet'!AA66=\"\",\"\",'Broker Sheet'!AA66)","v":""},{"$f":"IF('Broker Sheet'!Z66=\"\",\"\",'Broker Sheet'!Z66)","v":""},{"$f":"IF('Broker Sheet'!AB66=\"\",\"\",'Broker Sheet'!AB66)","v":""},null,null,{"$f":"IF('Broker Sheet'!L66=\"\",\"\",TEXT('Broker Sheet'!L66,\"YYYYMMDD\"))","v":""},{"$f":"IF('Broker Sheet'!AC66=\"\",\"\",TEXT('Broker Sheet'!AC66,\"YYYYMMDD\"))","v":""},{"$f":"IF('Broker Sheet'!AD66=\"\",\"\",TEXT('Broker Sheet'!AD66,\"YYYYMMDD\"))","v":""},{"$f":"IF('Broker Sheet'!AE66=\"\",\"\",'Broker Sheet'!AE66)","v":""},{"$f":"IF('Broker Sheet'!AF66=\"\",\"\",TEXT('Broker Sheet'!AF66,\"YYYYMMDD\"))","v":""},{"$f":"IF('Broker Sheet'!AG66=\"\",\"\",TEXT('Broker Sheet'!AG66,\"YYYYMMDD\"))","v":""}]
[null,null,null,null,null,{"$f":"IF('Broker Sheet'!C67=\"\",\"\",'Broker Sheet'!C67)","v":""},{"$f":"IF('Broker Sheet'!D67=\"\",\"\",'Broker Sheet'!D67)","v":""},{"$f":"IF('Broker Sheet'!E67=\"\",\"\",'Broker Sheet'!E67)","v":""},{"$f":"IF('Broker Sheet'!F67=\"\",\"\",'Broker Sheet'!F67)","v":""},{"$f":"IF('Broker Sheet'!G67=\"\",\"\",TEXT('Broker Sheet'!G67,\"YYYYMMDD\"))","v":""},{"$f":"IF('Broker Sheet'!H67=\"\",\"\",'Broker Sheet'!H67)","v":""},{"$f":"IF('Broker Sheet'!I67=\"\",\"\",'Broker Sheet'!I67)","v":""},{"$f":"IF('Broker Sheet'!J67=\"\",\"\",VLOOKUP('Broker Sheet'!J67,(Reference!$E$4:$F$9),2,FALSE))","v":""},{"$f":"IF('Broker Sheet'!K67=\"\",\"\",'Broker Sheet'!K67)","v":""},{"$f":"IF('Broker Sheet'!R67=\"\",\"\",'Broker Sheet'!R67)","v":""},{"$f":"IF('Broker Sheet'!S67=\"\",\"\",'Broker Sheet'!S67)","v":""},{"$f":"IF('Broker Sheet'!T67=\"\",\"\",'Broker Sheet'!T67)","v":""},{"$f":"IF('Broker Sheet'!U67=\"\",\"\",'Broker Sheet'!U67)","v":""},{"$f":"IF('Broker Sheet'!V67=\"\",\"\",'Broker Sheet'!V67)","v":""},{"$f":"IF('Broker Sheet'!W67=\"\",\"\",'Broker Sheet'!W67)","v":""},{"$f":"IF('Broker Sheet'!Y67=\"\",\"\",'Broker Sheet'!Y67)","v":""},{"$f":"IF('Broker Sheet'!AA67=\"\",\"\",'Broker Sheet'!AA67)","v":""},{"$f":"IF('Broker Sheet'!Z67=\"\",\"\",'Broker Sheet'!Z67)","v":""},{"$f":"IF('Broker Sheet'!AB67=\"\",\"\",'Broker Sheet'!AB67)","v":""},null,null,{"$f":"IF('Broker Sheet'!L67=\"\",\"\",TEXT('Broker Sheet'!L67,\"YYYYMMDD\"))","v":""},{"$f":"IF('Broker Sheet'!AC67=\"\",\"\",TEXT('Broker Sheet'!AC67,\"YYYYMMDD\"))","v":""},{"$f":"IF('Broker Sheet'!AD67=\"\",\"\",TEXT('Broker Sheet'!AD67,\"YYYYMMDD\"))","v":""},{"$f":"IF('Broker Sheet'!AE67=\"\",\"\",'Broker Sheet'!AE67)","v":""},{"$f":"IF('Broker Sheet'!AF67=\"\",\"\",TEXT('Broker Sheet'!AF67,\"YYYYMMDD\"))","v":""},{"$f":"IF('Broker Sheet'!AG67=\"\",\"\",TEXT('Broker Sheet'!AG67,\"YYYYMMDD\"))","v":""}]
[null,null,null,null,null,{"$f":"IF('Broker Sheet'!C68=\"\",\"\",'Broker Sheet'!C68)","v":""},{"$f":"IF('Broker Sheet'!D68=\"\",\"\",'Broker Sheet'!D68)","v":""},{"$f":"IF('Broker Sheet'!E68=\"\",\"\",'Broker Sheet'!E68)","v":""},{"$f":"IF('Broker Sheet'!F68=\"\",\"\",'Broker Sheet'!F68)","v":""},{"$f":"IF('Broker Sheet'!G68=\"\",\"\",TEXT('Broker Sheet'!G68,\"YYYYMMDD\"))","v":""},{"$f":"IF('Broker Sheet'!H68=\"\",\"\",'Broker Sheet'!H68)","v":""},{"$f":"IF('Broker Sheet'!I68=\"\",\"\",'Broker Sheet'!I68)","v":""},{"$f":"IF('Broker Sheet'!J68=\"\",\"\",VLOOKUP('Broker Sheet'!J68,(Reference!$E$4:$F$9),2,FALSE))","v":""},{"$f":"IF('Broker Sheet'!K68=\"\",\"\",'Broker Sheet'!K68)","v":""},{"$f":"IF('Broker Sheet'!R68=\"\",\"\",'Broker Sheet'!R68)","v":""},{"$f":"IF('Broker Sheet'!S68=\"\",\"\",'Broker Sheet'!S68)","v":""},{"$f":"IF('Broker Sheet'!T68=\"\",\"\",'Broker Sheet'!T68)","v":""},{"$f":"IF('Broker Sheet'!U68=\"\",\"\",'Broker Sheet'!U68)","v":""},{"$f":"IF('Broker Sheet'!V68=\"\",\"\",'Broker Sheet'!V68)","v":""},{"$f":"IF('Broker Sheet'!W68=\"\",\"\",'Broker Sheet'!W68)","v":""},{"$f":"IF('Broker Sheet'!Y68=\"\",\"\",'Broker Sheet'!Y68)","v":""},{"$f":"IF('Broker Sheet'!AA68=\"\",\"\",'Broker Sheet'!AA68)","v":""},{"$f":"IF('Broker Sheet'!Z68=\"\",\"\",'Broker Sheet'!Z68)","v":""},{"$f":"IF('Broker Sheet'!AB68=\"\",\"\",'Broker Sheet'!AB68)","v":""},null,null,{"$f":"IF('Broker Sheet'!L68=\"\",\"\",TEXT('Broker Sheet'!L68,\"YYYYMMDD\"))","v":""},{"$f":"IF('Broker Sheet'!AC68=\"\",\"\",TEXT('Broker Sheet'!AC68,\"YYYYMMDD\"))","v":""},{"$f":"IF('Broker Sheet'!AD68=\"\",\"\",TEXT('Broker Sheet'!AD68,\"YYYYMMDD\"))","v":""},{"$f":"IF('Broker Sheet'!AE68=\"\",\"\",'Broker Sheet'!AE68)","v":""},{"$f":"IF('Broker Sheet'!AF68=\"\",\"\",TEXT('Broker Sheet'!AF68,\"YYYYMMDD\"))","v":""},{"$f":"IF('Broker Sheet'!AG68=\"\",\"\",TEXT('Broker Sheet'!AG68,\"YYYYMMDD\"))","v":""}]
[null,null,null,null,null,{"$f":"IF('Broker Sheet'!C69=\"\",\"\",'Broker Sheet'!C69)","v":""},{"$f":"IF('Broker Sheet'!D69=\"\",\"\",'Broker Sheet'!D69)","v":""},{"$f":"IF('Broker Sheet'!E69=\"\",\"\",'Broker Sheet'!E69)","v":""},{"$f":"IF('Broker Sheet'!F69=\"\",\"\",'Broker Sheet'!F69)","v":""},{"$f":"IF('Broker Sheet'!G69=\"\",\"\",TEXT('Broker Sheet'!G69,\"YYYYMMDD\"))","v":""},{"$f":"IF('Broker Sheet'!H69=\"\",\"\",'Broker Sheet'!H69)","v":""},{"$f":"IF('Broker Sheet'!I69=\"\",\"\",'Broker Sheet'!I69)","v":""},{"$f":"IF('Broker Sheet'!J69=\"\",\"\",VLOOKUP('Broker Sheet'!J69,(Reference!$E$4:$F$9),2,FALSE))","v":""},{"$f":"IF('Broker Sheet'!K69=\"\",\"\",'Broker Sheet'!K69)","v":""},{"$f":"IF('Broker Sheet'!R69=\"\",\"\",'Broker Sheet'!R69)","v":""},{"$f":"IF('Broker Sheet'!S69=\"\",\"\",'Broker Sheet'!S69)","v":""},{"$f":"IF('Broker Sheet'!T69=\"\",\"\",'Broker Sheet'!T69)","v":""},{"$f":"IF('Broker Sheet'!U69=\"\",\"\",'Broker Sheet'!U69)","v":""},{"$f":"IF('Broker Sheet'!V69=\"\",\"\",'Broker Sheet'!V69)","v":""},{"$f":"IF('Broker Sheet'!W69=\"\",\"\",'Broker Sheet'!W69)","v":""},{"$f":"IF('Broker Sheet'!Y69=\"\",\"\",'Broker Sheet'!Y69)","v":""},{"$f":"IF('Broker Sheet'!AA69=\"\",\"\",'Broker Sheet'!AA69)","v":""},{"$f":"IF('Broker Sheet'!Z69=\"\",\"\",'Broker Sheet'!Z69)","v":""},{"$f":"IF('Broker Sheet'!AB69=\"\",\"\",'Broker Sheet'!AB69)","v":""},null,null,{"$f":"IF('Broker Sheet'!L69=\"\",\"\",TEXT('Broker Sheet'!L69,\"YYYYMMDD\"))","v":""},{"$f":"IF('Broker Sheet'!AC69=\"\",\"\",TEXT('Broker Sheet'!AC69,\"YYYYMMDD\"))","v":""},{"$f":"IF('Broker Sheet'!AD69=\"\",\"\",TEXT('Broker Sheet'!AD69,\"YYYYMMDD\"))","v":""},{"$f":"IF('Broker Sheet'!AE69=\"\",\"\",'Broker Sheet'!AE69)","v":""},{"$f":"IF('Broker Sheet'!AF69=\"\",\"\",TEXT('Broker Sheet'!AF69,\"YYYYMMDD\"))","v":""},{"$f":"IF('Broker Sheet'!AG69=\"\",\"\",TEXT('Broker Sheet'!AG69,\"YYYYMMDD\"))","v":""}]
[null,null,null,null,null,{"$f":"IF('Broker Sheet'!C70=\"\",\"\",'Broker Sheet'!C70)","v":""},{"$f":"IF('Broker Sheet'!D70=\"\",\"\",'Broker Sheet'!D70)","v":""},{"$f":"IF('Broker Sheet'!E70=\"\",\"\",'Broker Sheet'!E70)","v":""},{"$f":"IF('Broker Sheet'!F70=\"\",\"\",'Broker Sheet'!F70)","v":""},{"$f":"IF('Broker Sheet'!G70=\"\",\"\",TEXT('Broker Sheet'!G70,\"YYYYMMDD\"))","v":""},{"$f":"IF('Broker Sheet'!H70=\"\",\"\",'Broker Sheet'!H70)","v":""},{"$f":"IF('Broker Sheet'!I70=\"\",\"\",'Broker Sheet'!I70)","v":""},{"$f":"IF('Broker Sheet'!J70=\"\",\"\",VLOOKUP('Broker Sheet'!J70,(Reference!$E$4:$F$9),2,FALSE))","v":""},{"$f":"IF('Broker Sheet'!K70=\"\",\"\",'Broker Sheet'!K70)","v":""},{"$f":"IF('Broker Sheet'!R70=\"\",\"\",'Broker Sheet'!R70)","v":""},{"$f":"IF('Broker Sheet'!S70=\"\",\"\",'Broker Sheet'!S70)","v":""},{"$f":"IF('Broker Sheet'!T70=\"\",\"\",'Broker Sheet'!T70)","v":""},{"$f":"IF('Broker Sheet'!U70=\"\",\"\",'Broker Sheet'!U70)","v":""},{"$f":"IF('Broker Sheet'!V70=\"\",\"\",'Broker Sheet'!V70)","v":""},{"$f":"IF('Broker Sheet'!W70=\"\",\"\",'Broker Sheet'!W70)","v":""},{"$f":"IF('Broker Sheet'!Y70=\"\",\"\",'Broker Sheet'!Y70)","v":""},{"$f":"IF('Broker Sheet'!AA70=\"\",\"\",'Broker Sheet'!AA70)","v":""},{"$f":"IF('Broker Sheet'!Z70=\"\",\"\",'Broker Sheet'!Z70)","v":""},{"$f":"IF('Broker Sheet'!AB70=\"\",\"\",'Broker Sheet'!AB70)","v":""},null,null,{"$f":"IF('Broker Sheet'!L70=\"\",\"\",TEXT('Broker Sheet'!L70,\"YYYYMMDD\"))","v":""},{"$f":"IF('Broker Sheet'!AC70=\"\",\"\",TEXT('Broker Sheet'!AC70,\"YYYYMMDD\"))","v":""},{"$f":"IF('Broker Sheet'!AD70=\"\",\"\",TEXT('Broker Sheet'!AD70,\"YYYYMMDD\"))","v":""},{"$f":"IF('Broker Sheet'!AE70=\"\",\"\",'Broker Sheet'!AE70)","v":""},{"$f":"IF('Broker Sheet'!AF70=\"\",\"\",TEXT('Broker Sheet'!AF70,\"YYYYMMDD\"))","v":""},{"$f":"IF('Broker Sheet'!AG70=\"\",\"\",TEXT('Broker Sheet'!AG70,\"YYYYMMDD\"))","v":""}]
[null,null,null,null,null,{"$f":"IF('Broker Sheet'!C71=\"\",\"\",'Broker Sheet'!C71)","v":""},{"$f":"IF('Broker Sheet'!D71=\"\",\"\",'Broker Sheet'!D71)","v":""},{"$f":"IF('Broker Sheet'!E71=\"\",\"\",'Broker Sheet'!E71)","v":""},{"$f":"IF('Broker Sheet'!F71=\"\",\"\",'Broker Sheet'!F71)","v":""},{"$f":"IF('Broker Sheet'!G71=\"\",\"\",TEXT('Broker Sheet'!G71,\"YYYYMMDD\"))","v":""},{"$f":"IF('Broker Sheet'!H71=\"\",\"\",'Broker Sheet'!H71)","v":""},{"$f":"IF('Broker Sheet'!I71=\"\",\"\",'Broker Sheet'!I71)","v":""},{"$f":"IF('Broker Sheet'!J71=\"\",\"\",VLOOKUP('Broker Sheet'!J71,(Reference!$E$4:$F$9),2,FALSE))","v":""},{"$f":"IF('Broker Sheet'!K71=\"\",\"\",'Broker Sheet'!K71)","v":""},{"$f":"IF('Broker Sheet'!R71=\"\",\"\",'Broker Sheet'!R71)","v":""},{"$f":"IF('Broker Sheet'!S71=\"\",\"\",'Broker Sheet'!S71)","v":""},{"$f":"IF('Broker Sheet'!T71=\"\",\"\",'Broker Sheet'!T71)","v":""},{"$f":"IF('Broker Sheet'!U71=\"\",\"\",'Broker Sheet'!U71)","v":""},{"$f":"IF('Broker Sheet'!V71=\"\",\"\",'Broker Sheet'!V71)","v":""},{"$f":"IF('Broker Sheet'!W71=\"\",\"\",'Broker Sheet'!W71)","v":""},{"$f":"IF('Broker Sheet'!Y71=\"\",\"\",'Broker Sheet'!Y71)","v":""},{"$f":"IF('Broker Sheet'!AA71=\"\",\"\",'Broker Sheet'!AA71)","v":""},{"$f":"IF('Broker Sheet'!Z71=\"\",\"\",'Broker Sheet'!Z71)","v":""},{"$f":"IF('Broker Sheet'!AB71=\"\",\"\",'Broker Sheet'!AB71)","v":""},null,null,{"$f":"IF('Broker Sheet'!L71=\"\",\"\",TEXT('Broker Sheet'!L71,\"YYYYMMDD\"))","v":""},{"$f":"IF('Broker Sheet'!AC71=\"\",\"\",TEXT('Broker Sheet'!AC71,\"YYYYMMDD\"))","v":""},{"$f":"IF('Broker Sheet'!AD71=\"\",\"\",TEXT('Broker Sheet'!AD71,\"YYYYMMDD\"))","v":""},{"$f":"IF('Broker Sheet'!AE71=\"\",\"\",'Broker Sheet'!AE71)","v":""},{"$f":"IF('Broker Sheet'!AF71=\"\",\"\",TEXT('Broker Sheet'!AF71,\"YYYYMMDD\"))","v":""},{"$f":"IF('Broker Sheet'!AG71=\"\",\"\",TEXT('Broker Sheet'!AG71,\"YYYYMMDD\"))","v":""}]
[null,null,null,null,null,{"$f":"IF('Broker Sheet'!C72=\"\",\"\",'Broker Sheet'!C72)","v":""},{"$f":"IF('Broker Sheet'!D72=\"\",\"\",'Broker Sheet'!D72)","v":""},{"$f":"IF('Broker Sheet'!E72=\"\",\"\",'Broker Sheet'!E72)","v":""},{"$f":"IF('Broker Sheet'!F72=\"\",\"\",'Broker Sheet'!F72)","v":""},{"$f":"IF('Broker Sheet'!G72=\"\",\"\",TEXT('Broker Sheet'!G72,\"YYYYMMDD\"))","v":""},{"$f":"IF('Broker Sheet'!H72=\"\",\"\",'Broker Sheet'!H72)","v":""},{"$f":"IF('Broker Sheet'!I72=\"\",\"\",'Broker Sheet'!I72)","v":""},{"$f":"IF('Broker Sheet'!J72=\"\",\"\",VLOOKUP('Broker Sheet'!J72,(Reference!$E$4:$F$9),2,FALSE))","v":""},{"$f":"IF('Broker Sheet'!K72=\"\",\"\",'Broker Sheet'!K72)","v":""},{"$f":"IF('Broker Sheet'!R72=\"\",\"\",'Broker Sheet'!R72)","v":""},{"$f":"IF('Broker Sheet'!S72=\"\",\"\",'Broker Sheet'!S72)","v":""},{"$f":"IF('Broker Sheet'!T72=\"\",\"\",'Broker Sheet'!T72)","v":""},{"$f":"IF('Broker Sheet'!U72=\"\",\"\",'Broker Sheet'!U72)","v":""},{"$f":"IF('Broker Sheet'!V72=\"\",\"\",'Broker Sheet'!V72)","v":""},{"$f":"IF('Broker Sheet'!W72=\"\",\"\",'Broker Sheet'!W72)","v":""},{"$f":"IF('Broker Sheet'!Y72=\"\",\"\",'Broker Sheet'!Y72)","v":""},{"$f":"IF('Broker Sheet'!AA72=\"\",\"\",'Broker Sheet'!AA72)","v":""},{"$f":"IF('Broker Sheet'!Z72=\"\",\"\",'Broker Sheet'!Z72)","v":""},{"$f":"IF('Broker Sheet'!AB72=\"\",\"\",'Broker Sheet'!AB72)","v":""},null,null,{"$f":"IF('Broker Sheet'!L72=\"\",\"\",TEXT('Broker Sheet'!L72,\"YYYYMMDD\"))","v":""},{"$f":"IF('Broker Sheet'!AC72=\"\",\"\",TEXT('Broker Sheet'!AC72,\"YYYYMMDD\"))","v":""},{"$f":"IF('Broker Sheet'!AD72=\"\",\"\",TEXT('Broker Sheet'!AD72,\"YYYYMMDD\"))","v":""},{"$f":"IF('Broker Sheet'!AE72=\"\",\"\",'Broker Sheet'!AE72)","v":""},{"$f":"IF('Broker Sheet'!AF72=\"\",\"\",TEXT('Broker Sheet'!AF72,\"YYYYMMDD\"))","v":""},{"$f":"IF('Broker Sheet'!AG72=\"\",\"\",TEXT('Broker Sheet'!AG72,\"YYYYMMDD\"))","v":""}]
[null,null,null,null,null,{"$f":"IF('Broker Sheet'!C73=\"\",\"\",'Broker Sheet'!C73)","v":""},{"$f":"IF('Broker Sheet'!D73=\"\",\"\",'Broker Sheet'!D73)","v":""},{"$f":"IF('Broker Sheet'!E73=\"\",\"\",'Broker Sheet'!E73)","v":""},{"$f":"IF('Broker Sheet'!F73=\"\",\"\",'Broker Sheet'!F73)","v":""},{"$f":"IF('Broker Sheet'!G73=\"\",\"\",TEXT('Broker Sheet'!G73,\"YYYYMMDD\"))","v":""},{"$f":"IF('Broker Sheet'!H73=\"\",\"\",'Broker Sheet'!H73)","v":""},{"$f":"IF('Broker Sheet'!I73=\"\",\"\",'Broker Sheet'!I73)","v":""},{"$f":"IF('Broker Sheet'!J73=\"\",\"\",VLOOKUP('Broker Sheet'!J73,(Reference!$E$4:$F$9),2,FALSE))","v":""},{"$f":"IF('Broker Sheet'!K73=\"\",\"\",'Broker Sheet'!K73)","v":""},{"$f":"IF('Broker Sheet'!R73=\"\",\"\",'Broker Sheet'!R73)","v":""},{"$f":"IF('Broker Sheet'!S73=\"\",\"\",'Broker Sheet'!S73)","v":""},{"$f":"IF('Broker Sheet'!T73=\"\",\"\",'Broker Sheet'!T73)","v":""},{"$f":"IF('Broker Sheet'!U73=\"\",\"\",'Broker Sheet'!U73)","v":""},{"$f":"IF('Broker Sheet'!V73=\"\",\"\",'Broker Sheet'!V73)","v":""},{"$f":"IF('Broker Sheet'!W73=\"\",\"\",'Broker Sheet'!W73)","v":""},{"$f":"IF('Broker Sheet'!Y73=\"\",\"\",'Broker Sheet'!Y73)","v":""},{"$f":"IF('Broker Sheet'!AA73=\"\",\"\",'Broker Sheet'!AA73)","v":""},{"$f":"IF('Broker Sheet'!Z73=\"\",\"\",'Broker Sheet'!Z73)","v":""},{"$f":"IF('Broker Sheet'!AB73=\"\",\"\",'Broker Sheet'!AB73)","v":""},null,null,{"$f":"IF('Broker Sheet'!L73=\"\",\"\",TEXT('Broker Sheet'!L73,\"YYYYMMDD\"))","v":""},{"$f":"IF('Broker Sheet'!AC73=\"\",\"\",TEXT('Broker Sheet'!AC73,\"YYYYMMDD\"))","v":""},{"$f":"IF('Broker Sheet'!AD73=\"\",\"\",TEXT('Broker Sheet'!AD73,\"YYYYMMDD\"))","v":""},{"$f":"IF('Broker Sheet'!AE73=\"\",\"\",'Broker Sheet'!AE73)","v":""},{"$f":"IF('Broker Sheet'!AF73=\"\",\"\",TEXT('Broker Sheet'!AF73,\"YYYYMMDD\"))","v":""},{"$f":"IF('Broker Sheet'!AG73=\"\",\"\",TEXT('Broker Sheet'!AG73,\"YYYYMMDD\"))","v":""}]
[null,null,null,null,null,{"$f":"IF('Broker Sheet'!C74=\"\",\"\",'Broker Sheet'!C74)","v":""},{"$f":"IF('Broker Sheet'!D74=\"\",\"\",'Broker Sheet'!D74)","v":""},{"$f":"IF('Broker Sheet'!E74=\"\",\"\",'Broker Sheet'!E74)","v":""},{"$f":"IF('Broker Sheet'!F74=\"\",\"\",'Broker Sheet'!F74)","v":""},{"$f":"IF('Broker Sheet'!G74=\"\",\"\",TEXT('Broker Sheet'!G74,\"YYYYMMDD\"))","v":""},{"$f":"IF('Broker Sheet'!H74=\"\",\"\",'Broker Sheet'!H74)","v":""},{"$f":"IF('Broker Sheet'!I74=\"\",\"\",'Broker Sheet'!I74)","v":""},{"$f":"IF('Broker Sheet'!J74=\"\",\"\",VLOOKUP('Broker Sheet'!J74,(Reference!$E$4:$F$9),2,FALSE))","v":""},{"$f":"IF('Broker Sheet'!K74=\"\",\"\",'Broker Sheet'!K74)","v":""},{"$f":"IF('Broker Sheet'!R74=\"\",\"\",'Broker Sheet'!R74)","v":""},{"$f":"IF('Broker Sheet'!S74=\"\",\"\",'Broker Sheet'!S74)","v":""},{"$f":"IF('Broker Sheet'!T74=\"\",\"\",'Broker Sheet'!T74)","v":""},{"$f":"IF('Broker Sheet'!U74=\"\",\"\",'Broker Sheet'!U74)","v":""},{"$f":"IF('Broker Sheet'!V74=\"\",\"\",'Broker Sheet'!V74)","v":""},{"$f":"IF('Broker Sheet'!W74=\"\",\"\",'Broker Sheet'!W74)","v":""},{"$f":"IF('Broker Sheet'!Y74=\"\",\"\",'Broker Sheet'!Y74)","v":""},{"$f":"IF('Broker Sheet'!AA74=\"\",\"\",'Broker Sheet'!AA74)","v":""},{"$f":"IF('Broker Sheet'!Z74=\"\",\"\",'Broker Sheet'!Z74)","v":""},{"$f":"IF('Broker Sheet'!AB74=\"\",\"\",'Broker Sheet'!AB74)","v":""},null,null,{"$f":"IF('Broker Sheet'!L74=\"\",\"\",TEXT('Broker Sheet'!L74,\"YYYYMMDD\"))","v":""},{"$f":"IF('Broker Sheet'!AC74=\"\",\"\",TEXT('Broker Sheet'!AC74,\"YYYYMMDD\"))","v":""},{"$f":"IF('Broker Sheet'!AD74=\"\",\"\",TEXT('Broker Sheet'!AD74,\"YYYYMMDD\"))","v":""},{"$f":"IF('Broker Sheet'!AE74=\"\",\"\",'Broker Sheet'!AE74)","v":""},{"$f":"IF('Broker Sheet'!AF74=\"\",\"\",TEXT('Broker Sheet'!AF74,\"YYYYMMDD\"))","v":""},{"$f":"IF('Broker Sheet'!AG74=\"\",\"\",TEXT('Broker Sheet'!AG74,\"YYYYMMDD\"))","v":""}]
[null,null,null,null,null,{"$f":"IF('Broker Sheet'!C75=\"\",\"\",'Broker Sheet'!C75)","v":""},{"$f":"IF('Broker Sheet'!D75=\"\",\"\",'Broker Sheet'!D75)","v":""},{"$f":"IF('Broker Sheet'!E75=\"\",\"\",'Broker Sheet'!E75)","v":""},{"$f":"IF('Broker Sheet'!F75=\"\",\"\",'Broker Sheet'!F75)","v":""},{"$f":"IF('Broker Sheet'!G75=\"\",\"\",TEXT('Broker Sheet'!G75,\"YYYYMMDD\"))","v":""},{"$f":"IF('Broker Sheet'!H75=\"\",\"\",'Broker Sheet'!H75)","v":""},{"$f":"IF('Broker Sheet'!I75=\"\",\"\",'Broker Sheet'!I75)","v":""},{"$f":"IF('Broker Sheet'!J75=\"\",\"\",VLOOKUP('Broker Sheet'!J75,(Reference!$E$4:$F$9),2,FALSE))","v":""},{"$f":"IF('Broker Sheet'!K75=\"\",\"\",'Broker Sheet'!K75)","v":""},{"$f":"IF('Broker Sheet'!R75=\"\",\"\",'Broker Sheet'!R75)","v":""},{"$f":"IF('Broker Sheet'!S75=\"\",\"\",'Broker Sheet'!S75)","v":""},{"$f":"IF('Broker Sheet'!T75=\"\",\"\",'Broker Sheet'!T75)","v":""},{"$f":"IF('Broker Sheet'!U75=\"\",\"\",'Broker Sheet'!U75)","v":""},{"$f":"IF('Broker Sheet'!V75=\"\",\"\",'Broker Sheet'!V75)","v":""},{"$f":"IF('Broker Sheet'!W75=\"\",\"\",'Broker Sheet'!W75)","v":""},{"$f":"IF('Broker Sheet'!Y75=\"\",\"\",'Broker Sheet'!Y75)","v":""},{"$f":"IF('Broker Sheet'!AA75=\"\",\"\",'Broker Sheet'!AA75)","v":""},{"$f":"IF('Broker Sheet'!Z75=\"\",\"\",'Broker Sheet'!Z75)","v":""},{"$f":"IF('Broker Sheet'!AB75=\"\",\"\",'Broker Sheet'!AB75)","v":""},null,null,{"$f":"IF('Broker Sheet'!L75=\"\",\"\",TEXT('Broker Sheet'!L75,\"YYYYMMDD\"))","v":""},{"$f":"IF('Broker Sheet'!AC75=\"\",\"\",TEXT('Broker Sheet'!AC75,\"YYYYMMDD\"))","v":""},{"$f":"IF('Broker Sheet'!AD75=\"\",\"\",TEXT('Broker Sheet'!AD75,\"YYYYMMDD\"))","v":""},{"$f":"IF('Broker Sheet'!AE75=\"\",\"\",'Broker Sheet'!AE75)","v":""},{"$f":"IF('Broker Sheet'!AF75=\"\",\"\",TEXT('Broker Sheet'!AF75,\"YYYYMMDD\"))","v":""},{"$f":"IF('Broker Sheet'!AG75=\"\",\"\",TEXT('Broker Sheet'!AG75,\"YYYYMMDD\"))","v":""}]
[null,null,null,null,null,{"$f":"IF('Broker Sheet'!C76=\"\",\"\",'Broker Sheet'!C76)","v":""},{"$f":"IF('Broker Sheet'!D76=\"\",\"\",'Broker Sheet'!D76)","v":""},{"$f":"IF('Broker Sheet'!E76=\"\",\"\",'Broker Sheet'!E76)","v":""},{"$f":"IF('Broker Sheet'!F76=\"\",\"\",'Broker Sheet'!F76)","v":""},{"$f":"IF('Broker Sheet'!G76=\"\",\"\",TEXT('Broker Sheet'!G76,\"YYYYMMDD\"))","v":""},{"$f":"IF('Broker Sheet'!H76=\"\",\"\",'Broker Sheet'!H76)","v":""},{"$f":"IF('Broker Sheet'!I76=\"\",\"\",'Broker Sheet'!I76)","v":""},{"$f":"IF('Broker Sheet'!J76=\"\",\"\",VLOOKUP('Broker Sheet'!J76,(Reference!$E$4:$F$9),2,FALSE))","v":""},{"$f":"IF('Broker Sheet'!K76=\"\",\"\",'Broker Sheet'!K76)","v":""},{"$f":"IF('Broker Sheet'!R76=\"\",\"\",'Broker Sheet'!R76)","v":""},{"$f":"IF('Broker Sheet'!S76=\"\",\"\",'Broker Sheet'!S76)","v":""},{"$f":"IF('Broker Sheet'!T76=\"\",\"\",'Broker Sheet'!T76)","v":""},{"$f":"IF('Broker Sheet'!U76=\"\",\"\",'Broker Sheet'!U76)","v":""},{"$f":"IF('Broker Sheet'!V76=\"\",\"\",'Broker Sheet'!V76)","v":""},{"$f":"IF('Broker Sheet'!W76=\"\",\"\",'Broker Sheet'!W76)","v":""},{"$f":"IF('Broker Sheet'!Y76=\"\",\"\",'Broker Sheet'!Y76)","v":""},{"$f":"IF('Broker Sheet'!AA76=\"\",\"\",'Broker Sheet'!AA76)","v":""},{"$f":"IF('Broker Sheet'!Z76=\"\",\"\",'Broker Sheet'!Z76)","v":""},{"$f":"IF('Broker Sheet'!AB76=\"\",\"\",'Broker Sheet'!AB76)","v":""},null,null,{"$f":"IF('Broker Sheet'!L76=\"\",\"\",TEXT('Broker Sheet'!L76,\"YYYYMMDD\"))","v":""},{"$f":"IF('Broker Sheet'!AC76=\"\",\"\",TEXT('Broker Sheet'!AC76,\"YYYYMMDD\"))","v":""},{"$f":"IF('Broker Sheet'!AD76=\"\",\"\",TEXT('Broker Sheet'!AD76,\"YYYYMMDD\"))","v":""},{"$f":"IF('Broker Sheet'!AE76=\"\",\"\",'Broker Sheet'!AE76)","v":""},{"$f":"IF('Broker Sheet'!AF76=\"\",\"\",TEXT('Broker Sheet'!AF76,\"YYYYMMDD\"))","v":""},{"$f":"IF('Broker Sheet'!AG76=\"\",\"\",TEXT('Broker Sheet'!AG76,\"YYYYMMDD\"))","v":""}]
[null,null,null,null,null,{"$f":"IF('Broker Sheet'!C77=\"\",\"\",'Broker Sheet'!C77)","v":""},{"$f":"IF('Broker Sheet'!D77=\"\",\"\",'Broker Sheet'!D77)","v":""},{"$f":"IF('Broker Sheet'!E77=\"\",\"\",'Broker Sheet'!E77)","v":""},{"$f":"IF('Broker Sheet'!F77=\"\",\"\",'Broker Sheet'!F77)","v":""},{"$f":"IF('Broker Sheet'!G77=\"\",\"\",TEXT('Broker Sheet'!G77,\"YYYYMMDD\"))","v":""},{"$f":"IF('Broker Sheet'!H77=\"\",\"\",'Broker Sheet'!H77)","v":""},{"$f":"IF('Broker Sheet'!I77=\"\",\"\",'Broker Sheet'!I77)","v":""},{"$f":"IF('Broker Sheet'!J77=\"\",\"\",VLOOKUP('Broker Sheet'!J77,(Reference!$E$4:$F$9),2,FALSE))","v":""},{"$f":"IF('Broker Sheet'!K77=\"\",\"\",'Broker Sheet'!K77)","v":""},{"$f":"IF('Broker Sheet'!R77=\"\",\"\",'Broker Sheet'!R77)","v":""},{"$f":"IF('Broker Sheet'!S77=\"\",\"\",'Broker Sheet'!S77)","v":""},{"$f":"IF('Broker Sheet'!T77=\"\",\"\",'Broker Sheet'!T77)","v":""},{"$f":"IF('Broker Sheet'!U77=\"\",\"\",'Broker Sheet'!U77)","v":""},{"$f":"IF('Broker Sheet'!V77=\"\",\"\",'Broker Sheet'!V77)","v":""},{"$f":"IF('Broker Sheet'!W77=\"\",\"\",'Broker Sheet'!W77)","v":""},{"$f":"IF('Broker Sheet'!Y77=\"\",\"\",'Broker Sheet'!Y77)","v":""},{"$f":"IF('Broker Sheet'!AA77=\"\",\"\",'Broker Sheet'!AA77)","v":""},{"$f":"IF('Broker Sheet'!Z77=\"\",\"\",'Broker Sheet'!Z77)","v":""},{"$f":"IF('Broker Sheet'!AB77=\"\",\"\",'Broker Sheet'!AB77)","v":""},null,null,{"$f":"IF('Broker Sheet'!L77=\"\",\"\",TEXT('Broker Sheet'!L77,\"YYYYMMDD\"))","v":""},{"$f":"IF('Broker Sheet'!AC77=\"\",\"\",TEXT('Broker Sheet'!AC77,\"YYYYMMDD\"))","v":""},{"$f":"IF('Broker Sheet'!AD77=\"\",\"\",TEXT('Broker Sheet'!AD77,\"YYYYMMDD\"))","v":""},{"$f":"IF('Broker Sheet'!AE77=\"\",\"\",'Broker Sheet'!AE77)","v":""},{"$f":"IF('Broker Sheet'!AF77=\"\",\"\",TEXT('Broker Sheet'!AF77,\"YYYYMMDD\"))","v":""},{"$f":"IF('Broker Sheet'!AG77=\"\",\"\",TEXT('Broker Sheet'!AG77,\"YYYYMMDD\"))","v":""}]
[null,null,null,null,null,{"$f":"IF('Broker Sheet'!C78=\"\",\"\",'Broker Sheet'!C78)","v":""},{"$f":"IF('Broker Sheet'!D78=\"\",\"\",'Broker Sheet'!D78)","v":""},{"$f":"IF('Broker Sheet'!E78=\"\",\"\",'Broker Sheet'!E78)","v":""},{"$f":"IF('Broker Sheet'!F78=\"\",\"\",'Broker Sheet'!F78)","v":""},{"$f":"IF('Broker Sheet'!G78=\"\",\"\",TEXT('Broker Sheet'!G78,\"YYYYMMDD\"))","v":""},{"$f":"IF('Broker Sheet'!H78=\"\",\"\",'Broker Sheet'!H78)","v":""},{"$f":"IF('Broker Sheet'!I78=\"\",\"\",'Broker Sheet'!I78)","v":""},{"$f":"IF('Broker Sheet'!J78=\"\",\"\",VLOOKUP('Broker Sheet'!J78,(Reference!$E$4:$F$9),2,FALSE))","v":""},{"$f":"IF('Broker Sheet'!K78=\"\",\"\",'Broker Sheet'!K78)","v":""},{"$f":"IF('Broker Sheet'!R78=\"\",\"\",'Broker Sheet'!R78)","v":""},{"$f":"IF('Broker Sheet'!S78=\"\",\"\",'Broker Sheet'!S78)","v":""},{"$f":"IF('Broker Sheet'!T78=\"\",\"\",'Broker Sheet'!T78)","v":""},{"$f":"IF('Broker Sheet'!U78=\"\",\"\",'Broker Sheet'!U78)","v":""},{"$f":"IF('Broker Sheet'!V78=\"\",\"\",'Broker Sheet'!V78)","v":""},{"$f":"IF('Broker Sheet'!W78=\"\",\"\",'Broker Sheet'!W78)","v":""},{"$f":"IF('Broker Sheet'!Y78=\"\",\"\",'Broker Sheet'!Y78)","v":""},{"$f":"IF('Broker Sheet'!AA78=\"\",\"\",'Broker Sheet'!AA78)","v":""},{"$f":"IF('Broker Sheet'!Z78=\"\",\"\",'Broker Sheet'!Z78)","v":""},{"$f":"IF('Broker Sheet'!AB78=\"\",\"\",'Broker Sheet'!AB78)","v":""},null,null,{"$f":"IF('Broker Sheet'!L78=\"\",\"\",TEXT('Broker Sheet'!L78,\"YYYYMMDD\"))","v":""},{"$f":"IF('Broker Sheet'!AC78=\"\",\"\",TEXT('Broker Sheet'!AC78,\"YYYYMMDD\"))","v":""},{"$f":"IF('Broker Sheet'!AD78=\"\",\"\",TEXT('Broker Sheet'!AD78,\"YYYYMMDD\"))","v":""},{"$f":"IF('Broker Sheet'!AE78=\"\",\"\",'Broker Sheet'!AE78)","v":""},{"$f":"IF('Broker Sheet'!AF78=\"\",\"\",TEXT('Broker Sheet'!AF78,\"YYYYMMDD\"))","v":""},{"$f":"IF('Broker Sheet'!AG78=\"\",\"\",TEXT('Broker Sheet'!AG78,\"YYYYMMDD\"))","v":""}]
[null,null,null,null,null,{"$f":"IF('Broker Sheet'!C79=\"\",\"\",'Broker Sheet'!C79)","v":""},{"$f":"IF('Broker Sheet'!D79=\"\",\"\",'Broker Sheet'!D79)","v":""},{"$f":"IF('Broker Sheet'!E79=\"\",\"\",'Broker Sheet'!E79)","v":""},{"$f":"IF('Broker Sheet'!F79=\"\",\"\",'Broker Sheet'!F79)","v":""},{"$f":"IF('Broker Sheet'!G79=\"\",\"\",TEXT('Broker Sheet'!G79,\"YYYYMMDD\"))","v":""},{"$f":"IF('Broker Sheet'!H79=\"\",\"\",'Broker Sheet'!H79)","v":""},{"$f":"IF('Broker Sheet'!I79=\"\",\"\",'Broker Sheet'!I79)","v":""},{"$f":"IF('Broker Sheet'!J79=\"\",\"\",VLOOKUP('Broker Sheet'!J79,(Reference!$E$4:$F$9),2,FALSE))","v":""},{"$f":"IF('Broker Sheet'!K79=\"\",\"\",'Broker Sheet'!K79)","v":""},{"$f":"IF('Broker Sheet'!R79=\"\",\"\",'Broker Sheet'!R79)","v":""},{"$f":"IF('Broker Sheet'!S79=\"\",\"\",'Broker Sheet'!S79)","v":""},{"$f":"IF('Broker Sheet'!T79=\"\",\"\",'Broker Sheet'!T79)","v":""},{"$f":"IF('Broker Sheet'!U79=\"\",\"\",'Broker Sheet'!U79)","v":""},{"$f":"IF('Broker Sheet'!V79=\"\",\"\",'Broker Sheet'!V79)","v":""},{"$f":"IF('Broker Sheet'!W79=\"\",\"\",'Broker Sheet'!W79)","v":""},{"$f":"IF('Broker Sheet'!Y79=\"\",\"\",'Broker Sheet'!Y79)","v":""},{"$f":"IF('Broker Sheet'!AA79=\"\",\"\",'Broker Sheet'!AA79)","v":""},{"$f":"IF('Broker Sheet'!Z79=\"\",\"\",'Broker Sheet'!Z79)","v":""},{"$f":"IF('Broker Sheet'!AB79=\"\",\"\",'Broker Sheet'!AB79)","v":""},null,null,{"$f":"IF('Broker Sheet'!L79=\"\",\"\",TEXT('Broker Sheet'!L79,\"YYYYMMDD\"))","v":""},{"$f":"IF('Broker Sheet'!AC79=\"\",\"\",TEXT('Broker Sheet'!AC79,\"YYYYMMDD\"))","v":""},{"$f":"IF('Broker Sheet'!AD79=\"\",\"\",TEXT('Broker Sheet'!AD79,\"YYYYMMDD\"))","v":""},{"$f":"IF('Broker Sheet'!AE79=\"\",\"\",'Broker Sheet'!AE79)","v":""},{"$f":"IF('Broker Sheet'!AF79=\"\",\"\",TEXT('Broker Sheet'!AF79,\"YYYYMMDD\"))","v":""},{"$f":"IF('Broker Sheet'!AG79=\"\",\"\",TEXT('Broker Sheet'!AG79,\"YYYYMMDD\"))","v":""}]
[null,null,null,null,null,{"$f":"IF('Broker Sheet'!C80=\"\",\"\",'Broker Sheet'!C80)","v":""},{"$f":"IF('Broker Sheet'!D80=\"\",\"\",'Broker Sheet'!D80)","v":""},{"$f":"IF('Broker Sheet'!E80=\"\",\"\",'Broker Sheet'!E80)","v":""},{"$f":"IF('Broker Sheet'!F80=\"\",\"\",'Broker Sheet'!F80)","v":""},{"$f":"IF('Broker Sheet'!G80=\"\",\"\",TEXT('Broker Sheet'!G80,\"YYYYMMDD\"))","v":""},{"$f":"IF('Broker Sheet'!H80=\"\",\"\",'Broker Sheet'!H80)","v":""},{"$f":"IF('Broker Sheet'!I80=\"\",\"\",'Broker Sheet'!I80)","v":""},{"$f":"IF('Broker Sheet'!J80=\"\",\"\",VLOOKUP('Broker Sheet'!J80,(Reference!$E$4:$F$9),2,FALSE))","v":""},{"$f":"IF('Broker Sheet'!K80=\"\",\"\",'Broker Sheet'!K80)","v":""},{"$f":"IF('Broker Sheet'!R80=\"\",\"\",'Broker Sheet'!R80)","v":""},{"$f":"IF('Broker Sheet'!S80=\"\",\"\",'Broker Sheet'!S80)","v":""},{"$f":"IF('Broker Sheet'!T80=\"\",\"\",'Broker Sheet'!T80)","v":""},{"$f":"IF('Broker Sheet'!U80=\"\",\"\",'Broker Sheet'!U80)","v":""},{"$f":"IF('Broker Sheet'!V80=\"\",\"\",'Broker Sheet'!V80)","v":""},{"$f":"IF('Broker Sheet'!W80=\"\",\"\",'Broker Sheet'!W80)","v":""},{"$f":"IF('Broker Sheet'!Y80=\"\",\"\",'Broker Sheet'!Y80)","v":""},{"$f":"IF('Broker Sheet'!AA80=\"\",\"\",'Broker Sheet'!AA80)","v":""},{"$f":"IF('Broker Sheet'!Z80=\"\",\"\",'Broker Sheet'!Z80)","v":""},{"$f":"IF('Broker Sheet'!AB80=\"\",\"\",'Broker Sheet'!AB80)","v":""},null,null,{"$f":"IF('Broker Sheet'!L80=\"\",\"\",TEXT('Broker Sheet'!L80,\"YYYYMMDD\"))","v":""},{"$f":"IF('Broker Sheet'!AC80=\"\",\"\",TEXT('Broker Sheet'!AC80,\"YYYYMMDD\"))","v":""},{"$f":"IF('Broker Sheet'!AD80=\"\",\"\",TEXT('Broker Sheet'!AD80,\"YYYYMMDD\"))","v":""},{"$f":"IF('Broker Sheet'!AE80=\"\",\"\",'Broker Sheet'!AE80)","v":""},{"$f":"IF('Broker Sheet'!AF80=\"\",\"\",TEXT('Broker Sheet'!AF80,\"YYYYMMDD\"))","v":""},{"$f":"IF('Broker Sheet'!AG80=\"\",\"\",TEXT('Broker Sheet'!AG80,\"YYYYMMDD\"))","v":""}]
[null,null,null,null,null,{"$f":"IF('Broker Sheet'!C81=\"\",\"\",'Broker Sheet'!C81)","v":""},{"$f":"IF('Broker Sheet'!D81=\"\",\"\",'Broker Sheet'!D81)","v":""},{"$f":"IF('Broker Sheet'!E81=\"\",\"\",'Broker Sheet'!E81)","v":""},{"$f":"IF('Broker Sheet'!F81=\"\",\"\",'Broker Sheet'!F81)","v":""},{"$f":"IF('Broker Sheet'!G81=\"\",\"\",TEXT('Broker Sheet'!G81,\"YYYYMMDD\"))","v":""},{"$f":"IF('Broker Sheet'!H81=\"\",\"\",'Broker Sheet'!H81)","v":""},{"$f":"IF('Broker Sheet'!I81=\"\",\"\",'Broker Sheet'!I81)","v":""},{"$f":"IF('Broker Sheet'!J81=\"\",\"\",VLOOKUP('Broker Sheet'!J81,(Reference!$E$4:$F$9),2,FALSE))","v":""},{"$f":"IF('Broker Sheet'!K81=\"\",\"\",'Broker Sheet'!K81)","v":""},{"$f":"IF('Broker Sheet'!R81=\"\",\"\",'Broker Sheet'!R81)","v":""},{"$f":"IF('Broker Sheet'!S81=\"\",\"\",'Broker Sheet'!S81)","v":""},{"$f":"IF('Broker Sheet'!T81=\"\",\"\",'Broker Sheet'!T81)","v":""},{"$f":"IF('Broker Sheet'!U81=\"\",\"\",'Broker Sheet'!U81)","v":""},{"$f":"IF('Broker Sheet'!V81=\"\",\"\",'Broker Sheet'!V81)","v":""},{"$f":"IF('Broker Sheet'!W81=\"\",\"\",'Broker Sheet'!W81)","v":""},{"$f":"IF('Broker Sheet'!Y81=\"\",\"\",'Broker Sheet'!Y81)","v":""},{"$f":"IF('Broker Sheet'!AA81=\"\",\"\",'Broker Sheet'!AA81)","v":""},{"$f":"IF('Broker Sheet'!Z81=\"\",\"\",'Broker Sheet'!Z81)","v":""},{"$f":"IF('Broker Sheet'!AB81=\"\",\"\",'Broker Sheet'!AB81)","v":""},null,null,{"$f":"IF('Broker Sheet'!L81=\"\",\"\",TEXT('Broker Sheet'!L81,\"YYYYMMDD\"))","v":""},{"$f":"IF('Broker Sheet'!AC81=\"\",\"\",TEXT('Broker Sheet'!AC81,\"YYYYMMDD\"))","v":""},{"$f":"IF('Broker Sheet'!AD81=\"\",\"\",TEXT('Broker Sheet'!AD81,\"YYYYMMDD\"))","v":""},{"$f":"IF('Broker Sheet'!AE81=\"\",\"\",'Broker Sheet'!AE81)","v":""},{"$f":"IF('Broker Sheet'!AF81=\"\",\"\",TEXT('Broker Sheet'!AF81,\"YYYYMMDD\"))","v":""},{"$f":"IF('Broker Sheet'!AG81=\"\",\"\",TEXT('Broker Sheet'!AG81,\"YYYYMMDD\"))","v":""}]
[null,null,null,null,null,{"$f":"IF('Broker Sheet'!C82=\"\",\"\",'Broker Sheet'!C82)","v":""},{"$f":"IF('Broker Sheet'!D82=\"\",\"\",'Broker Sheet'!D82)","v":""},{"$f":"IF('Broker Sheet'!E82=\"\",\"\",'Broker Sheet'!E82)","v":""},{"$f":"IF('Broker Sheet'!F82=\"\",\"\",'Broker Sheet'!F82)","v":""},{"$f":"IF('Broker Sheet'!G82=\"\",\"\",TEXT('Broker Sheet'!G82,\"YYYYMMDD\"))","v":""},{"$f":"IF('Broker Sheet'!H82=\"\",\"\",'Broker Sheet'!H82)","v":""},{"$f":"IF('Broker Sheet'!I82=\"\",\"\",'Broker Sheet'!I82)","v":""},{"$f":"IF('Broker Sheet'!J82=\"\",\"\",VLOOKUP('Broker Sheet'!J82,(Reference!$E$4:$F$9),2,FALSE))","v":""},{"$f":"IF('Broker Sheet'!K82=\"\",\"\",'Broker Sheet'!K82)","v":""},{"$f":"IF('Broker Sheet'!R82=\"\",\"\",'Broker Sheet'!R82)","v":""},{"$f":"IF('Broker Sheet'!S82=\"\",\"\",'Broker Sheet'!S82)","v":""},{"$f":"IF('Broker Sheet'!T82=\"\",\"\",'Broker Sheet'!T82)","v":""},{"$f":"IF('Broker Sheet'!U82=\"\",\"\",'Broker Sheet'!U82)","v":""},{"$f":"IF('Broker Sheet'!V82=\"\",\"\",'Broker Sheet'!V82)","v":""},{"$f":"IF('Broker Sheet'!W82=\"\",\"\",'Broker Sheet'!W82)","v":""},{"$f":"IF('Broker Sheet'!Y82=\"\",\"\",'Broker Sheet'!Y82)","v":""},{"$f":"IF('Broker Sheet'!AA82=\"\",\"\",'Broker Sheet'!AA82)","v":""},{"$f":"IF('Broker Sheet'!Z82=\"\",\"\",'Broker Sheet'!Z82)","v":""},{"$f":"IF('Broker Sheet'!AB82=\"\",\"\",'Broker Sheet'!AB82)","v":""},null,null,{"$f":"IF('Broker Sheet'!L82=\"\",\"\",TEXT('Broker Sheet'!L82,\"YYYYMMDD\"))","v":""},{"$f":"IF('Broker Sheet'!AC82=\"\",\"\",TEXT('Broker Sheet'!AC82,\"YYYYMMDD\"))","v":""},{"$f":"IF('Broker Sheet'!AD82=\"\",\"\",TEXT('Broker Sheet'!AD82,\"YYYYMMDD\"))","v":""},{"$f":"IF('Broker Sheet'!AE82=\"\",\"\",'Broker Sheet'!AE82)","v":""},{"$f":"IF('Broker Sheet'!AF82=\"\",\"\",TEXT('Broker Sheet'!AF82,\"YYYYMMDD\"))","v":""},{"$f":"IF('Broker Sheet'!AG82=\"\",\"\",TEXT('Broker Sheet'!AG82,\"YYYYMMDD\"))","v":""}]
[null,null,null,null,null,{"$f":"IF('Broker Sheet'!C83=\"\",\"\",'Broker Sheet'!C83)","v":""},{"$f":"IF('Broker Sheet'!D83=\"\",\"\",'Broker Sheet'!D83)","v":""},{"$f":"IF('Broker Sheet'!E83=\"\",\"\",'Broker Sheet'!E83)","v":""},{"$f":"IF('Broker Sheet'!F83=\"\",\"\",'Broker Sheet'!F83)","v":""},{"$f":"IF('Broker Sheet'!G83=\"\",\"\",TEXT('Broker Sheet'!G83,\"YYYYMMDD\"))","v":""},{"$f":"IF('Broker Sheet'!H83=\"\",\"\",'Broker Sheet'!H83)","v":""},{"$f":"IF('Broker Sheet'!I83=\"\",\"\",'Broker Sheet'!I83)","v":""},{"$f":"IF('Broker Sheet'!J83=\"\",\"\",VLOOKUP('Broker Sheet'!J83,(Reference!$E$4:$F$9),2,FALSE))","v":""},{"$f":"IF('Broker Sheet'!K83=\"\",\"\",'Broker Sheet'!K83)","v":""},{"$f":"IF('Broker Sheet'!R83=\"\",\"\",'Broker Sheet'!R83)","v":""},{"$f":"IF('Broker Sheet'!S83=\"\",\"\",'Broker Sheet'!S83)","v":""},{"$f":"IF('Broker Sheet'!T83=\"\",\"\",'Broker Sheet'!T83)","v":""},{"$f":"IF('Broker Sheet'!U83=\"\",\"\",'Broker Sheet'!U83)","v":""},{"$f":"IF('Broker Sheet'!V83=\"\",\"\",'Broker Sheet'!V83)","v":""},{"$f":"IF('Broker Sheet'!W83=\"\",\"\",'Broker Sheet'!W83)","v":""},{"$f":"IF('Broker Sheet'!Y83=\"\",\"\",'Broker Sheet'!Y83)","v":""},{"$f":"IF('Broker Sheet'!AA83=\"\",\"\",'Broker Sheet'!AA83)","v":""},{"$f":"IF('Broker Sheet'!Z83=\"\",\"\",'Broker Sheet'!Z83)","v":""},{"$f":"IF('Broker Sheet'!AB83=\"\",\"\",'Broker Sheet'!AB83)","v":""},null,null,{"$f":"IF('Broker Sheet'!L83=\"\",\"\",TEXT('Broker Sheet'!L83,\"YYYYMMDD\"))","v":""},{"$f":"IF('Broker Sheet'!AC83=\"\",\"\",TEXT('Broker Sheet'!AC83,\"YYYYMMDD\"))","v":""},{"$f":"IF('Broker Sheet'!AD83=\"\",\"\",TEXT('Broker Sheet'!AD83,\"YYYYMMDD\"))","v":""},{"$f":"IF('Broker Sheet'!AE83=\"\",\"\",'Broker Sheet'!AE83)","v":""},{"$f":"IF('Broker Sheet'!AF83=\"\",\"\",TEXT('Broker Sheet'!AF83,\"YYYYMMDD\"))","v":""},{"$f":"IF('Broker Sheet'!AG83=\"\",\"\",TEXT('Broker Sheet'!AG83,\"YYYYMMDD\"))","v":""}]
[null,null,null,null,null,{"$f":"IF('Broker Sheet'!C84=\"\",\"\",'Broker Sheet'!C84)","v":""},{"$f":"IF('Broker Sheet'!D84=\"\",\"\",'Broker Sheet'!D84)","v":""},{"$f":"IF('Broker Sheet'!E84=\"\",\"\",'Broker Sheet'!E84)","v":""},{"$f":"IF('Broker Sheet'!F84=\"\",\"\",'Broker Sheet'!F84)","v":""},{"$f":"IF('Broker Sheet'!G84=\"\",\"\",TEXT('Broker Sheet'!G84,\"YYYYMMDD\"))","v":""},{"$f":"IF('Broker Sheet'!H84=\"\",\"\",'Broker Sheet'!H84)","v":""},{"$f":"IF('Broker Sheet'!I84=\"\",\"\",'Broker Sheet'!I84)","v":""},{"$f":"IF('Broker Sheet'!J84=\"\",\"\",VLOOKUP('Broker Sheet'!J84,(Reference!$E$4:$F$9),2,FALSE))","v":""},{"$f":"IF('Broker Sheet'!K84=\"\",\"\",'Broker Sheet'!K84)","v":""},{"$f":"IF('Broker Sheet'!R84=\"\",\"\",'Broker Sheet'!R84)","v":""},{"$f":"IF('Broker Sheet'!S84=\"\",\"\",'Broker Sheet'!S84)","v":""},{"$f":"IF('Broker Sheet'!T84=\"\",\"\",'Broker Sheet'!T84)","v":""},{"$f":"IF('Broker Sheet'!U84=\"\",\"\",'Broker Sheet'!U84)","v":""},{"$f":"IF('Broker Sheet'!V84=\"\",\"\",'Broker Sheet'!V84)","v":""},{"$f":"IF('Broker Sheet'!W84=\"\",\"\",'Broker Sheet'!W84)","v":""},{"$f":"IF('Broker Sheet'!Y84=\"\",\"\",'Broker Sheet'!Y84)","v":""},{"$f":"IF('Broker Sheet'!AA84=\"\",\"\",'Broker Sheet'!AA84)","v":""},{"$f":"IF('Broker Sheet'!Z84=\"\",\"\",'Broker Sheet'!Z84)","v":""},{"$f":"IF('Broker Sheet'!AB84=\"\",\"\",'Broker Sheet'!AB84)","v":""},null,null,{"$f":"IF('Broker Sheet'!L84=\"\",\"\",TEXT('Broker Sheet'!L84,\"YYYYMMDD\"))","v":""},{"$f":"IF('Broker Sheet'!AC84=\"\",\"\",TEXT('Broker Sheet'!AC84,\"YYYYMMDD\"))","v":""},{"$f":"IF('Broker Sheet'!AD84=\"\",\"\",TEXT('Broker Sheet'!AD84,\"YYYYMMDD\"))","v":""},{"$f":"IF('Broker Sheet'!AE84=\"\",\"\",'Broker Sheet'!AE84)","v":""},{"$f":"IF('Broker Sheet'!AF84=\"\",\"\",TEXT('Broker Sheet'!AF84,\"YYYYMMDD\"))","v":""},{"$f":"IF('Broker Sheet'!AG84=\"\",\"\",TEXT('Broker Sheet'!AG84,\"YYYYMMDD\"))","v":""}]
[null,null,null,null,null,{"$f":"IF('Broker Sheet'!C85=\"\",\"\",'Broker Sheet'!C85)","v":""},{"$f":"IF('Broker Sheet'!D85=\"\",\"\",'Broker Sheet'!D85)","v":""},{"$f":"IF('Broker Sheet'!E85=\"\",\"\",'Broker Sheet'!E85)","v":""},{"$f":"IF('Broker Sheet'!F85=\"\",\"\",'Broker Sheet'!F85)","v":""},{"$f":"IF('Broker Sheet'!G85=\"\",\"\",TEXT('Broker Sheet'!G85,\"YYYYMMDD\"))","v":""},{"$f":"IF('Broker Sheet'!H85=\"\",\"\",'Broker Sheet'!H85)","v":""},{"$f":"IF('Broker Sheet'!I85=\"\",\"\",'Broker Sheet'!I85)","v":""},{"$f":"IF('Broker Sheet'!J85=\"\",\"\",VLOOKUP('Broker Sheet'!J85,(Reference!$E$4:$F$9),2,FALSE))","v":""},{"$f":"IF('Broker Sheet'!K85=\"\",\"\",'Broker Sheet'!K85)","v":""},{"$f":"IF('Broker Sheet'!R85=\"\",\"\",'Broker Sheet'!R85)","v":""},{"$f":"IF('Broker Sheet'!S85=\"\",\"\",'Broker Sheet'!S85)","v":""},{"$f":"IF('Broker Sheet'!T85=\"\",\"\",'Broker Sheet'!T85)","v":""},{"$f":"IF('Broker Sheet'!U85=\"\",\"\",'Broker Sheet'!U85)","v":""},{"$f":"IF('Broker Sheet'!V85=\"\",\"\",'Broker Sheet'!V85)","v":""},{"$f":"IF('Broker Sheet'!W85=\"\",\"\",'Broker Sheet'!W85)","v":""},{"$f":"IF('Broker Sheet'!Y85=\"\",\"\",'Broker Sheet'!Y85)","v":""},{"$f":"IF('Broker Sheet'!AA85=\"\",\"\",'Broker Sheet'!AA85)","v":""},{"$f":"IF('Broker Sheet'!Z85=\"\",\"\",'Broker Sheet'!Z85)","v":""},{"$f":"IF('Broker Sheet'!AB85=\"\",\"\",'Broker Sheet'!AB85)","v":""},null,null,{"$f":"IF('Broker Sheet'!L85=\"\",\"\",TEXT('Broker Sheet'!L85,\"YYYYMMDD\"))","v":""},{"$f":"IF('Broker Sheet'!AC85=\"\",\"\",TEXT('Broker Sheet'!AC85,\"YYYYMMDD\"))","v":""},{"$f":"IF('Broker Sheet'!AD85=\"\",\"\",TEXT('Broker Sheet'!AD85,\"YYYYMMDD\"))","v":""},{"$f":"IF('Broker Sheet'!AE85=\"\",\"\",'Broker Sheet'!AE85)","v":""},{"$f":"IF('Broker Sheet'!AF85=\"\",\"\",TEXT('Broker Sheet'!AF85,\"YYYYMMDD\"))","v":""},{"$f":"IF('Broker Sheet'!AG85=\"\",\"\",TEXT('Broker Sheet'!AG85,\"YYYYMMDD\"))","v":""}]
[null,null,null,null,null,{"$f":"IF('Broker Sheet'!C86=\"\",\"\",'Broker Sheet'!C86)","v":""},{"$f":"IF('Broker Sheet'!D86=\"\",\"\",'Broker Sheet'!D86)","v":""},{"$f":"IF('Broker Sheet'!E86=\"\",\"\",'Broker Sheet'!E86)","v":""},{"$f":"IF('Broker Sheet'!F86=\"\",\"\",'Broker Sheet'!F86)","v":""},{"$f":"IF('Broker Sheet'!G86=\"\",\"\",TEXT('Broker Sheet'!G86,\"YYYYMMDD\"))","v":""},{"$f":"IF('Broker Sheet'!H86=\"\",\"\",'Broker Sheet'!H86)","v":""},{"$f":"IF('Broker Sheet'!I86=\"\",\"\",'Broker Sheet'!I86)","v":""},{"$f":"IF('Broker Sheet'!J86=\"\",\"\",VLOOKUP('Broker Sheet'!J86,(Reference!$E$4:$F$9),2,FALSE))","v":""},{"$f":"IF('Broker Sheet'!K86=\"\",\"\",'Broker Sheet'!K86)","v":""},{"$f":"IF('Broker Sheet'!R86=\"\",\"\",'Broker Sheet'!R86)","v":""},{"$f":"IF('Broker Sheet'!S86=\"\",\"\",'Broker Sheet'!S86)","v":""},{"$f":"IF('Broker Sheet'!T86=\"\",\"\",'Broker Sheet'!T86)","v":""},{"$f":"IF('Broker Sheet'!U86=\"\",\"\",'Broker Sheet'!U86)","v":""},{"$f":"IF('Broker Sheet'!V86=\"\",\"\",'Broker Sheet'!V86)","v":""},{"$f":"IF('Broker Sheet'!W86=\"\",\"\",'Broker Sheet'!W86)","v":""},{"$f":"IF('Broker Sheet'!Y86=\"\",\"\",'Broker Sheet'!Y86)","v":""},{"$f":"IF('Broker Sheet'!AA86=\"\",\"\",'Broker Sheet'!AA86)","v":""},{"$f":"IF('Broker Sheet'!Z86=\"\",\"\",'Broker Sheet'!Z86)","v":""},{"$f":"IF('Broker Sheet'!AB86=\"\",\"\",'Broker Sheet'!AB86)","v":""},null,null,{"$f":"IF('Broker Sheet'!L86=\"\",\"\",TEXT('Broker Sheet'!L86,\"YYYYMMDD\"))","v":""},{"$f":"IF('Broker Sheet'!AC86=\"\",\"\",TEXT('Broker Sheet'!AC86,\"YYYYMMDD\"))","v":""},{"$f":"IF('Broker Sheet'!AD86=\"\",\"\",TEXT('Broker Sheet'!AD86,\"YYYYMMDD\"))","v":""},{"$f":"IF('Broker Sheet'!AE86=\"\",\"\",'Broker Sheet'!AE86)","v":""},{"$f":"IF('Broker Sheet'!AF86=\"\",\"\",TEXT('Broker Sheet'!AF86,\"YYYYMMDD\"))","v":""},{"$f":"IF('Broker Sheet'!AG86=\"\",\"\",TEXT('Broker Sheet'!AG86,\"YYYYMMDD\"))","v":""}]
[null,null,null,null,null,{"$f":"IF('Broker Sheet'!C87=\"\",\"\",'Broker Sheet'!C87)","v":""},{"$f":"IF('Broker Sheet'!D87=\"\",\"\",'Broker Sheet'!D87)","v":""},{"$f":"IF('Broker Sheet'!E87=\"\",\"\",'Broker Sheet'!E87)","v":""},{"$f":"IF('Broker Sheet'!F87=\"\",\"\",'Broker Sheet'!F87)","v":""},{"$f":"IF('Broker Sheet'!G87=\"\",\"\",TEXT('Broker Sheet'!G87,\"YYYYMMDD\"))","v":""},{"$f":"IF('Broker Sheet'!H87=\"\",\"\",'Broker Sheet'!H87)","v":""},{"$f":"IF('Broker Sheet'!I87=\"\",\"\",'Broker Sheet'!I87)","v":""},{"$f":"IF('Broker Sheet'!J87=\"\",\"\",VLOOKUP('Broker Sheet'!J87,(Reference!$E$4:$F$9),2,FALSE))","v":""},{"$f":"IF('Broker Sheet'!K87=\"\",\"\",'Broker Sheet'!K87)","v":""},{"$f":"IF('Broker Sheet'!R87=\"\",\"\",'Broker Sheet'!R87)","v":""},{"$f":"IF('Broker Sheet'!S87=\"\",\"\",'Broker Sheet'!S87)","v":""},{"$f":"IF('Broker Sheet'!T87=\"\",\"\",'Broker Sheet'!T87)","v":""},{"$f":"IF('Broker Sheet'!U87=\"\",\"\",'Broker Sheet'!U87)","v":""},{"$f":"IF('Broker Sheet'!V87=\"\",\"\",'Broker Sheet'!V87)","v":""},{"$f":"IF('Broker Sheet'!W87=\"\",\"\",'Broker Sheet'!W87)","v":""},{"$f":"IF('Broker Sheet'!Y87=\"\",\"\",'Broker Sheet'!Y87)","v":""},{"$f":"IF('Broker Sheet'!AA87=\"\",\"\",'Broker Sheet'!AA87)","v":""},{"$f":"IF('Broker Sheet'!Z87=\"\",\"\",'Broker Sheet'!Z87)","v":""},{"$f":"IF('Broker Sheet'!AB87=\"\",\"\",'Broker Sheet'!AB87)","v":""},null,null,{"$f":"IF('Broker Sheet'!L87=\"\",\"\",TEXT('Broker Sheet'!L87,\"YYYYMMDD\"))","v":""},{"$f":"IF('Broker Sheet'!AC87=\"\",\"\",TEXT('Broker Sheet'!AC87,\"YYYYMMDD\"))","v":""},{"$f":"IF('Broker Sheet'!AD87=\"\",\"\",TEXT('Broker Sheet'!AD87,\"YYYYMMDD\"))","v":""},{"$f":"IF('Broker Sheet'!AE87=\"\",\"\",'Broker Sheet'!AE87)","v":""},{"$f":"IF('Broker Sheet'!AF87=\"\",\"\",TEXT('Broker Sheet'!AF87,\"YYYYMMDD\"))","v":""},{"$f":"IF('Broker Sheet'!AG87=\"\",\"\",TEXT('Broker Sheet'!AG87,\"YYYYMMDD\"))","v":""}]
[null,null,null,null,null,{"$f":"IF('Broker Sheet'!C88=\"\",\"\",'Broker Sheet'!C88)","v":""},{"$f":"IF('Broker Sheet'!D88=\"\",\"\",'Broker Sheet'!D88)","v":""},{"$f":"IF('Broker Sheet'!E88=\"\",\"\",'Broker Sheet'!E88)","v":""},{"$f":"IF('Broker Sheet'!F88=\"\",\"\",'Broker Sheet'!F88)","v":""},{"$f":"IF('Broker Sheet'!G88=\"\",\"\",TEXT('Broker Sheet'!G88,\"YYYYMMDD\"))","v":""},{"$f":"IF('Broker Sheet'!H88=\"\",\"\",'Broker Sheet'!H88)","v":""},{"$f":"IF('Broker Sheet'!I88=\"\",\"\",'Broker Sheet'!I88)","v":""},{"$f":"IF('Broker Sheet'!J88=\"\",\"\",VLOOKUP('Broker Sheet'!J88,(Reference!$E$4:$F$9),2,FALSE))","v":""},{"$f":"IF('Broker Sheet'!K88=\"\",\"\",'Broker Sheet'!K88)","v":""},{"$f":"IF('Broker Sheet'!R88=\"\",\"\",'Broker Sheet'!R88)","v":""},{"$f":"IF('Broker Sheet'!S88=\"\",\"\",'Broker Sheet'!S88)","v":""},{"$f":"IF('Broker Sheet'!T88=\"\",\"\",'Broker Sheet'!T88)","v":""},{"$f":"IF('Broker Sheet'!U88=\"\",\"\",'Broker Sheet'!U88)","v":""},{"$f":"IF('Broker Sheet'!V88=\"\",\"\",'Broker Sheet'!V88)","v":""},{"$f":"IF('Broker Sheet'!W88=\"\",\"\",'Broker Sheet'!W88)","v":""},{"$f":"IF('Broker Sheet'!Y88=\"\",\"\",'Broker Sheet'!Y88)","v":""},{"$f":"IF('Broker Sheet'!AA88=\"\",\"\",'Broker Sheet'!AA88)","v":""},{"$f":"IF('Broker Sheet'!Z88=\"\",\"\",'Broker Sheet'!Z88)","v":""},{"$f":"IF('Broker Sheet'!AB88=\"\",\"\",'Broker Sheet'!AB88)","v":""},null,null,{"$f":"IF('Broker Sheet'!L88=\"\",\"\",TEXT('Broker Sheet'!L88,\"YYYYMMDD\"))","v":""},{"$f":"IF('Broker Sheet'!AC88=\"\",\"\",TEXT('Broker Sheet'!AC88,\"YYYYMMDD\"))","v":""},{"$f":"IF('Broker Sheet'!AD88=\"\",\"\",TEXT('Broker Sheet'!AD88,\"YYYYMMDD\"))","v":""},{"$f":"IF('Broker Sheet'!AE88=\"\",\"\",'Broker Sheet'!AE88)","v":""},{"$f":"IF('Broker Sheet'!AF88=\"\",\"\",TEXT('Broker Sheet'!AF88,\"YYYYMMDD\"))","v":""},{"$f":"IF('Broker Sheet'!AG88=\"\",\"\",TEXT('Broker Sheet'!AG88,\"YYYYMMDD\"))","v":""}]
[null,null,null,null,null,{"$f":"IF('Broker Sheet'!C89=\"\",\"\",'Broker Sheet'!C89)","v":""},{"$f":"IF('Broker Sheet'!D89=\"\",\"\",'Broker Sheet'!D89)","v":""},{"$f":"IF('Broker Sheet'!E89=\"\",\"\",'Broker Sheet'!E89)","v":""},{"$f":"IF('Broker Sheet'!F89=\"\",\"\",'Broker Sheet'!F89)","v":""},{"$f":"IF('Broker Sheet'!G89=\"\",\"\",TEXT('Broker Sheet'!G89,\"YYYYMMDD\"))","v":""},{"$f":"IF('Broker Sheet'!H89=\"\",\"\",'Broker Sheet'!H89)","v":""},{"$f":"IF('Broker Sheet'!I89=\"\",\"\",'Broker Sheet'!I89)","v":""},{"$f":"IF('Broker Sheet'!J89=\"\",\"\",VLOOKUP('Broker Sheet'!J89,(Reference!$E$4:$F$9),2,FALSE))","v":""},{"$f":"IF('Broker Sheet'!K89=\"\",\"\",'Broker Sheet'!K89)","v":""},{"$f":"IF('Broker Sheet'!R89=\"\",\"\",'Broker Sheet'!R89)","v":""},{"$f":"IF('Broker Sheet'!S89=\"\",\"\",'Broker Sheet'!S89)","v":""},{"$f":"IF('Broker Sheet'!T89=\"\",\"\",'Broker Sheet'!T89)","v":""},{"$f":"IF('Broker Sheet'!U89=\"\",\"\",'Broker Sheet'!U89)","v":""},{"$f":"IF('Broker Sheet'!V89=\"\",\"\",'Broker Sheet'!V89)","v":""},{"$f":"IF('Broker Sheet'!W89=\"\",\"\",'Broker Sheet'!W89)","v":""},{"$f":"IF('Broker Sheet'!Y89=\"\",\"\",'Broker Sheet'!Y89)","v":""},{"$f":"IF('Broker Sheet'!AA89=\"\",\"\",'Broker Sheet'!AA89)","v":""},{"$f":"IF('Broker Sheet'!Z89=\"\",\"\",'Broker Sheet'!Z89)","v":""},{"$f":"IF('Broker Sheet'!AB89=\"\",\"\",'Broker Sheet'!AB89)","v":""},null,null,{"$f":"IF('Broker Sheet'!L89=\"\",\"\",TEXT('Broker Sheet'!L89,\"YYYYMMDD\"))","v":""},{"$f":"IF('Broker Sheet'!AC89=\"\",\"\",TEXT('Broker Sheet'!AC89,\"YYYYMMDD\"))","v":""},{"$f":"IF('Broker Sheet'!AD89=\"\",\"\",TEXT('Broker Sheet'!AD89,\"YYYYMMDD\"))","v":""},{"$f":"IF('Broker Sheet'!AE89=\"\",\"\",'Broker Sheet'!AE89)","v":""},{"$f":"IF('Broker Sheet'!AF89=\"\",\"\",TEXT('Broker Sheet'!AF89,\"YYYYMMDD\"))","v":""},{"$f":"IF('Broker Sheet'!AG89=\"\",\"\",TEXT('Broker Sheet'!AG89,\"YYYYMMDD\"))","v":""}]
[null,null,null,null,null,{"$f":"IF('Broker Sheet'!C90=\"\",\"\",'Broker Sheet'!C90)","v":""},{"$f":"IF('Broker Sheet'!D90=\"\",\"\",'Broker Sheet'!D90)","v":""},{"$f":"IF('Broker Sheet'!E90=\"\",\"\",'Broker Sheet'!E90)","v":""},{"$f":"IF('Broker Sheet'!F90=\"\",\"\",'Broker Sheet'!F90)","v":""},{"$f":"IF('Broker Sheet'!G90=\"\",\"\",TEXT('Broker Sheet'!G90,\"YYYYMMDD\"))","v":""},{"$f":"IF('Broker Sheet'!H90=\"\",\"\",'Broker Sheet'!H90)","v":""},{"$f":"IF('Broker Sheet'!I90=\"\",\"\",'Broker Sheet'!I90)","v":""},{"$f":"IF('Broker Sheet'!J90=\"\",\"\",VLOOKUP('Broker Sheet'!J90,(Reference!$E$4:$F$9),2,FALSE))","v":""},{"$f":"IF('Broker Sheet'!K90=\"\",\"\",'Broker Sheet'!K90)","v":""},{"$f":"IF('Broker Sheet'!R90=\"\",\"\",'Broker Sheet'!R90)","v":""},{"$f":"IF('Broker Sheet'!S90=\"\",\"\",'Broker Sheet'!S90)","v":""},{"$f":"IF('Broker Sheet'!T90=\"\",\"\",'Broker Sheet'!T90)","v":""},{"$f":"IF('Broker Sheet'!U90=\"\",\"\",'Broker Sheet'!U90)","v":""},{"$f":"IF('Broker Sheet'!V90=\"\",\"\",'Broker Sheet'!V90)","v":""},{"$f":"IF('Broker Sheet'!W90=\"\",\"\",'Broker Sheet'!W90)","v":""},{"$f":"IF('Broker Sheet'!Y90=\"\",\"\",'Broker Sheet'!Y90)","v":""},{"$f":"IF('Broker Sheet'!AA90=\"\",\"\",'Broker Sheet'!AA90)","v":""},{"$f":"IF('Broker Sheet'!Z90=\"\",\"\",'Broker Sheet'!Z90)","v":""},{"$f":"IF('Broker Sheet'!AB90=\"\",\"\",'Broker Sheet'!AB90)","v":""},null,null,{"$f":"IF('Broker Sheet'!L90=\"\",\"\",TEXT('Broker Sheet'!L90,\"YYYYMMDD\"))","v":""},{"$f":"IF('Broker Sheet'!AC90=\"\",\"\",TEXT('Broker Sheet'!AC90,\"YYYYMMDD\"))","v":""},{"$f":"IF('Broker Sheet'!AD90=\"\",\"\",TEXT('Broker Sheet'!AD90,\"YYYYMMDD\"))","v":""},{"$f":"IF('Broker Sheet'!AE90=\"\",\"\",'Broker Sheet'!AE90)","v":""},{"$f":"IF('Broker Sheet'!AF90=\"\",\"\",TEXT('Broker Sheet'!AF90,\"YYYYMMDD\"))","v":""},{"$f":"IF('Broker Sheet'!AG90=\"\",\"\",TEXT('Broker Sheet'!AG90,\"YYYYMMDD\"))","v":""}]
[null,null,null,null,null,{"$f":"IF('Broker Sheet'!C91=\"\",\"\",'Broker Sheet'!C91)","v":""},{"$f":"IF('Broker Sheet'!D91=\"\",\"\",'Broker Sheet'!D91)","v":""},{"$f":"IF('Broker Sheet'!E91=\"\",\"\",'Broker Sheet'!E91)","v":""},{"$f":"IF('Broker Sheet'!F91=\"\",\"\",'Broker Sheet'!F91)","v":""},{"$f":"IF('Broker Sheet'!G91=\"\",\"\",TEXT('Broker Sheet'!G91,\"YYYYMMDD\"))","v":""},{"$f":"IF('Broker Sheet'!H91=\"\",\"\",'Broker Sheet'!H91)","v":""},{"$f":"IF('Broker Sheet'!I91=\"\",\"\",'Broker Sheet'!I91)","v":""},{"$f":"IF('Broker Sheet'!J91=\"\",\"\",VLOOKUP('Broker Sheet'!J91,(Reference!$E$4:$F$9),2,FALSE))","v":""},{"$f":"IF('Broker Sheet'!K91=\"\",\"\",'Broker Sheet'!K91)","v":""},{"$f":"IF('Broker Sheet'!R91=\"\",\"\",'Broker Sheet'!R91)","v":""},{"$f":"IF('Broker Sheet'!S91=\"\",\"\",'Broker Sheet'!S91)","v":""},{"$f":"IF('Broker Sheet'!T91=\"\",\"\",'Broker Sheet'!T91)","v":""},{"$f":"IF('Broker Sheet'!U91=\"\",\"\",'Broker Sheet'!U91)","v":""},{"$f":"IF('Broker Sheet'!V91=\"\",\"\",'Broker Sheet'!V91)","v":""},{"$f":"IF('Broker Sheet'!W91=\"\",\"\",'Broker Sheet'!W91)","v":""},{"$f":"IF('Broker Sheet'!Y91=\"\",\"\",'Broker Sheet'!Y91)","v":""},{"$f":"IF('Broker Sheet'!AA91=\"\",\"\",'Broker Sheet'!AA91)","v":""},{"$f":"IF('Broker Sheet'!Z91=\"\",\"\",'Broker Sheet'!Z91)","v":""},{"$f":"IF('Broker Sheet'!AB91=\"\",\"\",'Broker Sheet'!AB91)","v":""},null,null,{"$f":"IF('Broker Sheet'!L91=\"\",\"\",TEXT('Broker Sheet'!L91,\"YYYYMMDD\"))","v":""},{"$f":"IF('Broker Sheet'!AC91=\"\",\"\",TEXT('Broker Sheet'!AC91,\"YYYYMMDD\"))","v":""},{"$f":"IF('Broker Sheet'!AD91=\"\",\"\",TEXT('Broker Sheet'!AD91,\"YYYYMMDD\"))","v":""},{"$f":"IF('Broker Sheet'!AE91=\"\",\"\",'Broker Sheet'!AE91)","v":""},{"$f":"IF('Broker Sheet'!AF91=\"\",\"\",TEXT('Broker Sheet'!AF91,\"YYYYMMDD\"))","v":""},{"$f":"IF('Broker Sheet'!AG91=\"\",\"\",TEXT('Broker Sheet'!AG91,\"YYYYMMDD\"))","v":""}]
[null,null,null,null,null,{"$f":"IF('Broker Sheet'!C92=\"\",\"\",'Broker Sheet'!C92)","v":""},{"$f":"IF('Broker Sheet'!D92=\"\",\"\",'Broker Sheet'!D92)","v":""},{"$f":"IF('Broker Sheet'!E92=\"\",\"\",'Broker Sheet'!E92)","v":""},{"$f":"IF('Broker Sheet'!F92=\"\",\"\",'Broker Sheet'!F92)","v":""},{"$f":"IF('Broker Sheet'!G92=\"\",\"\",TEXT('Broker Sheet'!G92,\"YYYYMMDD\"))","v":""},{"$f":"IF('Broker Sheet'!H92=\"\",\"\",'Broker Sheet'!H92)","v":""},{"$f":"IF('Broker Sheet'!I92=\"\",\"\",'Broker Sheet'!I92)","v":""},{"$f":"IF('Broker Sheet'!J92=\"\",\"\",VLOOKUP('Broker Sheet'!J92,(Reference!$E$4:$F$9),2,FALSE))","v":""},{"$f":"IF('Broker Sheet'!K92=\"\",\"\",'Broker Sheet'!K92)","v":""},{"$f":"IF('Broker Sheet'!R92=\"\",\"\",'Broker Sheet'!R92)","v":""},{"$f":"IF('Broker Sheet'!S92=\"\",\"\",'Broker Sheet'!S92)","v":""},{"$f":"IF('Broker Sheet'!T92=\"\",\"\",'Broker Sheet'!T92)","v":""},{"$f":"IF('Broker Sheet'!U92=\"\",\"\",'Broker Sheet'!U92)","v":""},{"$f":"IF('Broker Sheet'!V92=\"\",\"\",'Broker Sheet'!V92)","v":""},{"$f":"IF('Broker Sheet'!W92=\"\",\"\",'Broker Sheet'!W92)","v":""},{"$f":"IF('Broker Sheet'!Y92=\"\",\"\",'Broker Sheet'!Y92)","v":""},{"$f":"IF('Broker Sheet'!AA92=\"\",\"\",'Broker Sheet'!AA92)","v":""},{"$f":"IF('Broker Sheet'!Z92=\"\",\"\",'Broker Sheet'!Z92)","v":""},{"$f":"IF('Broker Sheet'!AB92=\"\",\"\",'Broker Sheet'!AB92)","v":""},null,null,{"$f":"IF('Broker Sheet'!L92=\"\",\"\",TEXT('Broker Sheet'!L92,\"YYYYMMDD\"))","v":""},{"$f":"IF('Broker Sheet'!AC92=\"\",\"\",TEXT('Broker Sheet'!AC92,\"YYYYMMDD\"))","v":""},{"$f":"IF('Broker Sheet'!AD92=\"\",\"\",TEXT('Broker Sheet'!AD92,\"YYYYMMDD\"))","v":""},{"$f":"IF('Broker Sheet'!AE92=\"\",\"\",'Broker Sheet'!AE92)","v":""},{"$f":"IF('Broker Sheet'!AF92=\"\",\"\",TEXT('Broker Sheet'!AF92,\"YYYYMMDD\"))","v":""},{"$f":"IF('Broker Sheet'!AG92=\"\",\"\",TEXT('Broker Sheet'!AG92,\"YYYYMMDD\"))","v":""}]
[null,null,null,null,null,{"$f":"IF('Broker Sheet'!C93=\"\",\"\",'Broker Sheet'!C93)","v":""},{"$f":"IF('Broker Sheet'!D93=\"\",\"\",'Broker Sheet'!D93)","v":""},{"$f":"IF('Broker Sheet'!E93=\"\",\"\",'Broker Sheet'!E93)","v":""},{"$f":"IF('Broker Sheet'!F93=\"\",\"\",'Broker Sheet'!F93)","v":""},{"$f":"IF('Broker Sheet'!G93=\"\",\"\",TEXT('Broker Sheet'!G93,\"YYYYMMDD\"))","v":""},{"$f":"IF('Broker Sheet'!H93=\"\",\"\",'Broker Sheet'!H93)","v":""},{"$f":"IF('Broker Sheet'!I93=\"\",\"\",'Broker Sheet'!I93)","v":""},{"$f":"IF('Broker Sheet'!J93=\"\",\"\",VLOOKUP('Broker Sheet'!J93,(Reference!$E$4:$F$9),2,FALSE))","v":""},{"$f":"IF('Broker Sheet'!K93=\"\",\"\",'Broker Sheet'!K93)","v":""},{"$f":"IF('Broker Sheet'!R93=\"\",\"\",'Broker Sheet'!R93)","v":""},{"$f":"IF('Broker Sheet'!S93=\"\",\"\",'Broker Sheet'!S93)","v":""},{"$f":"IF('Broker Sheet'!T93=\"\",\"\",'Broker Sheet'!T93)","v":""},{"$f":"IF('Broker Sheet'!U93=\"\",\"\",'Broker Sheet'!U93)","v":""},{"$f":"IF('Broker Sheet'!V93=\"\",\"\",'Broker Sheet'!V93)","v":""},{"$f":"IF('Broker Sheet'!W93=\"\",\"\",'Broker Sheet'!W93)","v":""},{"$f":"IF('Broker Sheet'!Y93=\"\",\"\",'Broker Sheet'!Y93)","v":""},{"$f":"IF('Broker Sheet'!AA93=\"\",\"\",'Broker Sheet'!AA93)","v":""},{"$f":"IF('Broker Sheet'!Z93=\"\",\"\",'Broker Sheet'!Z93)","v":""},{"$f":"IF('Broker Sheet'!AB93=\"\",\"\",'Broker Sheet'!AB93)","v":""},null,null,{"$f":"IF('Broker Sheet'!L93=\"\",\"\",TEXT('Broker Sheet'!L93,\"YYYYMMDD\"))","v":""},{"$f":"IF('Broker Sheet'!AC93=\"\",\"\",TEXT('Broker Sheet'!AC93,\"YYYYMMDD\"))","v":""},{"$f":"IF('Broker Sheet'!AD93=\"\",\"\",TEXT('Broker Sheet'!AD93,\"YYYYMMDD\"))","v":""},{"$f":"IF('Broker Sheet'!AE93=\"\",\"\",'Broker Sheet'!AE93)","v":""},{"$f":"IF('Broker Sheet'!AF93=\"\",\"\",TEXT('Broker Sheet'!AF93,\"YYYYMMDD\"))","v":""},{"$f":"IF('Broker Sheet'!AG93=\"\",\"\",TEXT('Broker Sheet'!AG93,\"YYYYMMDD\"))","v":""}]
[null,null,null,null,null,{"$f":"IF('Broker Sheet'!C94=\"\",\"\",'Broker Sheet'!C94)","v":""},{"$f":"IF('Broker Sheet'!D94=\"\",\"\",'Broker Sheet'!D94)","v":""},{"$f":"IF('Broker Sheet'!E94=\"\",\"\",'Broker Sheet'!E94)","v":""},{"$f":"IF('Broker Sheet'!F94=\"\",\"\",'Broker Sheet'!F94)","v":""},{"$f":"IF('Broker Sheet'!G94=\"\",\"\",TEXT('Broker Sheet'!G94,\"YYYYMMDD\"))","v":""},{"$f":"IF('Broker Sheet'!H94=\"\",\"\",'Broker Sheet'!H94)","v":""},{"$f":"IF('Broker Sheet'!I94=\"\",\"\",'Broker Sheet'!I94)","v":""},{"$f":"IF('Broker Sheet'!J94=\"\",\"\",VLOOKUP('Broker Sheet'!J94,(Reference!$E$4:$F$9),2,FALSE))","v":""},{"$f":"IF('Broker Sheet'!K94=\"\",\"\",'Broker Sheet'!K94)","v":""},{"$f":"IF('Broker Sheet'!R94=\"\",\"\",'Broker Sheet'!R94)","v":""},{"$f":"IF('Broker Sheet'!S94=\"\",\"\",'Broker Sheet'!S94)","v":""},{"$f":"IF('Broker Sheet'!T94=\"\",\"\",'Broker Sheet'!T94)","v":""},{"$f":"IF('Broker Sheet'!U94=\"\",\"\",'Broker Sheet'!U94)","v":""},{"$f":"IF('Broker Sheet'!V94=\"\",\"\",'Broker Sheet'!V94)","v":""},{"$f":"IF('Broker Sheet'!W94=\"\",\"\",'Broker Sheet'!W94)","v":""},{"$f":"IF('Broker Sheet'!Y94=\"\",\"\",'Broker Sheet'!Y94)","v":""},{"$f":"IF('Broker Sheet'!AA94=\"\",\"\",'Broker Sheet'!AA94)","v":""},{"$f":"IF('Broker Sheet'!Z94=\"\",\"\",'Broker Sheet'!Z94)","v":""},{"$f":"IF('Broker Sheet'!AB94=\"\",\"\",'Broker Sheet'!AB94)","v":""},null,null,{"$f":"IF('Broker Sheet'!L94=\"\",\"\",TEXT('Broker Sheet'!L94,\"YYYYMMDD\"))","v":""},{"$f":"IF('Broker Sheet'!AC94=\"\",\"\",TEXT('Broker Sheet'!AC94,\"YYYYMMDD\"))","v":""},{"$f":"IF('Broker Sheet'!AD94=\"\",\"\",TEXT('Broker Sheet'!AD94,\"YYYYMMDD\"))","v":""},{"$f":"IF('Broker Sheet'!AE94=\"\",\"\",'Broker Sheet'!AE94)","v":""},{"$f":"IF('Broker Sheet'!AF94=\"\",\"\",TEXT('Broker Sheet'!AF94,\"YYYYMMDD\"))","v":""},{"$f":"IF('Broker Sheet'!AG94=\"\",\"\",TEXT('Broker Sheet'!AG94,\"YYYYMMDD\"))","v":""}]
[null,null,null,null,null,{"$f":"IF('Broker Sheet'!C95=\"\",\"\",'Broker Sheet'!C95)","v":""},{"$f":"IF('Broker Sheet'!D95=\"\",\"\",'Broker Sheet'!D95)","v":""},{"$f":"IF('Broker Sheet'!E95=\"\",\"\",'Broker Sheet'!E95)","v":""},{"$f":"IF('Broker Sheet'!F95=\"\",\"\",'Broker Sheet'!F95)","v":""},{"$f":"IF('Broker Sheet'!G95=\"\",\"\",TEXT('Broker Sheet'!G95,\"YYYYMMDD\"))","v":""},{"$f":"IF('Broker Sheet'!H95=\"\",\"\",'Broker Sheet'!H95)","v":""},{"$f":"IF('Broker Sheet'!I95=\"\",\"\",'Broker Sheet'!I95)","v":""},{"$f":"IF('Broker Sheet'!J95=\"\",\"\",VLOOKUP('Broker Sheet'!J95,(Reference!$E$4:$F$9),2,FALSE))","v":""},{"$f":"IF('Broker Sheet'!K95=\"\",\"\",'Broker Sheet'!K95)","v":""},{"$f":"IF('Broker Sheet'!R95=\"\",\"\",'Broker Sheet'!R95)","v":""},{"$f":"IF('Broker Sheet'!S95=\"\",\"\",'Broker Sheet'!S95)","v":""},{"$f":"IF('Broker Sheet'!T95=\"\",\"\",'Broker Sheet'!T95)","v":""},{"$f":"IF('Broker Sheet'!U95=\"\",\"\",'Broker Sheet'!U95)","v":""},{"$f":"IF('Broker Sheet'!V95=\"\",\"\",'Broker Sheet'!V95)","v":""},{"$f":"IF('Broker Sheet'!W95=\"\",\"\",'Broker Sheet'!W95)","v":""},{"$f":"IF('Broker Sheet'!Y95=\"\",\"\",'Broker Sheet'!Y95)","v":""},{"$f":"IF('Broker Sheet'!AA95=\"\",\"\",'Broker Sheet'!AA95)","v":""},{"$f":"IF('Broker Sheet'!Z95=\"\",\"\",'Broker Sheet'!Z95)","v":""},{"$f":"IF('Broker Sheet'!AB95=\"\",\"\",'Broker Sheet'!AB95)","v":""},null,null,{"$f":"IF('Broker Sheet'!L95=\"\",\"\",TEXT('Broker Sheet'!L95,\"YYYYMMDD\"))","v":""},{"$f":"IF('Broker Sheet'!AC95=\"\",\"\",TEXT('Broker Sheet'!AC95,\"YYYYMMDD\"))","v":""},{"$f":"IF('Broker Sheet'!AD95=\"\",\"\",TEXT('Broker Sheet'!AD95,\"YYYYMMDD\"))","v":""},{"$f":"IF('Broker Sheet'!AE95=\"\",\"\",'Broker Sheet'!AE95)","v":""},{"$f":"IF('Broker Sheet'!AF95=\"\",\"\",TEXT('Broker Sheet'!AF95,\"YYYYMMDD\"))","v":""},{"$f":"IF('Broker Sheet'!AG95=\"\",\"\",TEXT('Broker Sheet'!AG95,\"YYYYMMDD\"))","v":""}]
[null,null,null,null,null,{"$f":"IF('Broker Sheet'!C96=\"\",\"\",'Broker Sheet'!C96)","v":""},{"$f":"IF('Broker Sheet'!D96=\"\",\"\",'Broker Sheet'!D96)","v":""},{"$f":"IF('Broker Sheet'!E96=\"\",\"\",'Broker Sheet'!E96)","v":""},{"$f":"IF('Broker Sheet'!F96=\"\",\"\",'Broker Sheet'!F96)","v":""},{"$f":"IF('Broker Sheet'!G96=\"\",\"\",TEXT('Broker Sheet'!G96,\"YYYYMMDD\"))","v":""},{"$f":"IF('Broker Sheet'!H96=\"\",\"\",'Broker Sheet'!H96)","v":""},{"$f":"IF('Broker Sheet'!I96=\"\",\"\",'Broker Sheet'!I96)","v":""},{"$f":"IF('Broker Sheet'!J96=\"\",\"\",VLOOKUP('Broker Sheet'!J96,(Reference!$E$4:$F$9),2,FALSE))","v":""},{"$f":"IF('Broker Sheet'!K96=\"\",\"\",'Broker Sheet'!K96)","v":""},{"$f":"IF('Broker Sheet'!R96=\"\",\"\",'Broker Sheet'!R96)","v":""},{"$f":"IF('Broker Sheet'!S96=\"\",\"\",'Broker Sheet'!S96)","v":""},{"$f":"IF('Broker Sheet'!T96=\"\",\"\",'Broker Sheet'!T96)","v":""},{"$f":"IF('Broker Sheet'!U96=\"\",\"\",'Broker Sheet'!U96)","v":""},{"$f":"IF('Broker Sheet'!V96=\"\",\"\",'Broker Sheet'!V96)","v":""},{"$f":"IF('Broker Sheet'!W96=\"\",\"\",'Broker Sheet'!W96)","v":""},{"$f":"IF('Broker Sheet'!Y96=\"\",\"\",'Broker Sheet'!Y96)","v":""},{"$f":"IF('Broker Sheet'!AA96=\"\",\"\",'Broker Sheet'!AA96)","v":""},{"$f":"IF('Broker Sheet'!Z96=\"\",\"\",'Broker Sheet'!Z96)","v":""},{"$f":"IF('Broker Sheet'!AB96=\"\",\"\",'Broker Sheet'!AB96)","v":""},null,null,{"$f":"IF('Broker Sheet'!L96=\"\",\"\",TEXT('Broker Sheet'!L96,\"YYYYMMDD\"))","v":""},{"$f":"IF('Broker Sheet'!AC96=\"\",\"\",TEXT('Broker Sheet'!AC96,\"YYYYMMDD\"))","v":""},{"$f":"IF('Broker Sheet'!AD96=\"\",\"\",TEXT('Broker Sheet'!AD96,\"YYYYMMDD\"))","v":""},{"$f":"IF('Broker Sheet'!AE96=\"\",\"\",'Broker Sheet'!AE96)","v":""},{"$f":"IF('Broker Sheet'!AF96=\"\",\"\",TEXT('Broker Sheet'!AF96,\"YYYYMMDD\"))","v":""},{"$f":"IF('Broker Sheet'!AG96=\"\",\"\",TEXT('Broker Sheet'!AG96,\"YYYYMMDD\"))","v":""}]
[null,null,null,null,null,{"$f":"IF('Broker Sheet'!C97=\"\",\"\",'Broker Sheet'!C97)","v":""},{"$f":"IF('Broker Sheet'!D97=\"\",\"\",'Broker Sheet'!D97)","v":""},{"$f":"IF('Broker Sheet'!E97=\"\",\"\",'Broker Sheet'!E97)","v":""},{"$f":"IF('Broker Sheet'!F97=\"\",\"\",'Broker Sheet'!F97)","v":""},{"$f":"IF('Broker Sheet'!G97=\"\",\"\",TEXT('Broker Sheet'!G97,\"YYYYMMDD\"))","v":""},{"$f":"IF('Broker Sheet'!H97=\"\",\"\",'Broker Sheet'!H97)","v":""},{"$f":"IF('Broker Sheet'!I97=\"\",\"\",'Broker Sheet'!I97)","v":""},{"$f":"IF('Broker Sheet'!J97=\"\",\"\",VLOOKUP('Broker Sheet'!J97,(Reference!$E$4:$F$9),2,FALSE))","v":""},{"$f":"IF('Broker Sheet'!K97=\"\",\"\",'Broker Sheet'!K97)","v":""},{"$f":"IF('Broker Sheet'!R97=\"\",\"\",'Broker Sheet'!R97)","v":""},{"$f":"IF('Broker Sheet'!S97=\"\",\"\",'Broker Sheet'!S97)","v":""},{"$f":"IF('Broker Sheet'!T97=\"\",\"\",'Broker Sheet'!T97)","v":""},{"$f":"IF('Broker Sheet'!U97=\"\",\"\",'Broker Sheet'!U97)","v":""},{"$f":"IF('Broker Sheet'!V97=\"\",\"\",'Broker Sheet'!V97)","v":""},{"$f":"IF('Broker Sheet'!W97=\"\",\"\",'Broker Sheet'!W97)","v":""},{"$f":"IF('Broker Sheet'!Y97=\"\",\"\",'Broker Sheet'!Y97)","v":""},{"$f":"IF('Broker Sheet'!AA97=\"\",\"\",'Broker Sheet'!AA97)","v":""},{"$f":"IF('Broker Sheet'!Z97=\"\",\"\",'Broker Sheet'!Z97)","v":""},{"$f":"IF('Broker Sheet'!AB97=\"\",\"\",'Broker Sheet'!AB97)","v":""},null,null,{"$f":"IF('Broker Sheet'!L97=\"\",\"\",TEXT('Broker Sheet'!L97,\"YYYYMMDD\"))","v":""},{"$f":"IF('Broker Sheet'!AC97=\"\",\"\",TEXT('Broker Sheet'!AC97,\"YYYYMMDD\"))","v":""},{"$f":"IF('Broker Sheet'!AD97=\"\",\"\",TEXT('Broker Sheet'!AD97,\"YYYYMMDD\"))","v":""},{"$f":"IF('Broker Sheet'!AE97=\"\",\"\",'Broker Sheet'!AE97)","v":""},{"$f":"IF('Broker Sheet'!AF97=\"\",\"\",TEXT('Broker Sheet'!AF97,\"YYYYMMDD\"))","v":""},{"$f":"IF('Broker Sheet'!AG97=\"\",\"\",TEXT('Broker Sheet'!AG97,\"YYYYMMDD\"))","v":""}]
[null,null,null,null,null,{"$f":"IF('Broker Sheet'!C98=\"\",\"\",'Broker Sheet'!C98)","v":""},{"$f":"IF('Broker Sheet'!D98=\"\",\"\",'Broker Sheet'!D98)","v":""},{"$f":"IF('Broker Sheet'!E98=\"\",\"\",'Broker Sheet'!E98)","v":""},{"$f":"IF('Broker Sheet'!F98=\"\",\"\",'Broker Sheet'!F98)","v":""},{"$f":"IF('Broker Sheet'!G98=\"\",\"\",TEXT('Broker Sheet'!G98,\"YYYYMMDD\"))","v":""},{"$f":"IF('Broker Sheet'!H98=\"\",\"\",'Broker Sheet'!H98)","v":""},{"$f":"IF('Broker Sheet'!I98=\"\",\"\",'Broker Sheet'!I98)","v":""},{"$f":"IF('Broker Sheet'!J98=\"\",\"\",VLOOKUP('Broker Sheet'!J98,(Reference!$E$4:$F$9),2,FALSE))","v":""},{"$f":"IF('Broker Sheet'!K98=\"\",\"\",'Broker Sheet'!K98)","v":""},{"$f":"IF('Broker Sheet'!R98=\"\",\"\",'Broker Sheet'!R98)","v":""},{"$f":"IF('Broker Sheet'!S98=\"\",\"\",'Broker Sheet'!S98)","v":""},{"$f":"IF('Broker Sheet'!T98=\"\",\"\",'Broker Sheet'!T98)","v":""},{"$f":"IF('Broker Sheet'!U98=\"\",\"\",'Broker Sheet'!U98)","v":""},{"$f":"IF('Broker Sheet'!V98=\"\",\"\",'Broker Sheet'!V98)","v":""},{"$f":"IF('Broker Sheet'!W98=\"\",\"\",'Broker Sheet'!W98)","v":""},{"$f":"IF('Broker Sheet'!Y98=\"\",\"\",'Broker Sheet'!Y98)","v":""},{"$f":"IF('Broker Sheet'!AA98=\"\",\"\",'Broker Sheet'!AA98)","v":""},{"$f":"IF('Broker Sheet'!Z98=\"\",\"\",'Broker Sheet'!Z98)","v":""},{"$f":"IF('Broker Sheet'!AB98=\"\",\"\",'Broker Sheet'!AB98)","v":""},null,null,{"$f":"IF('Broker Sheet'!L98=\"\",\"\",TEXT('Broker Sheet'!L98,\"YYYYMMDD\"))","v":""},{"$f":"IF('Broker Sheet'!AC98=\"\",\"\",TEXT('Broker Sheet'!AC98,\"YYYYMMDD\"))","v":""},{"$f":"IF('Broker Sheet'!AD98=\"\",\"\",TEXT('Broker Sheet'!AD98,\"YYYYMMDD\"))","v":""},{"$f":"IF('Broker Sheet'!AE98=\"\",\"\",'Broker Sheet'!AE98)","v":""},{"$f":"IF('Broker Sheet'!AF98=\"\",\"\",TEXT('Broker Sheet'!AF98,\"YYYYMMDD\"))","v":""},{"$f":"IF('Broker Sheet'!AG98=\"\",\"\",TEXT('Broker Sheet'!AG98,\"YYYYMMDD\"))","v":""}]
[null,null,null,null,null,{"$f":"IF('Broker Sheet'!C99=\"\",\"\",'Broker Sheet'!C99)","v":""},{"$f":"IF('Broker Sheet'!D99=\"\",\"\",'Broker Sheet'!D99)","v":""},{"$f":"IF('Broker Sheet'!E99=\"\",\"\",'Broker Sheet'!E99)","v":""},{"$f":"IF('Broker Sheet'!F99=\"\",\"\",'Broker Sheet'!F99)","v":""},{"$f":"IF('Broker Sheet'!G99=\"\",\"\",TEXT('Broker Sheet'!G99,\"YYYYMMDD\"))","v":""},{"$f":"IF('Broker Sheet'!H99=\"\",\"\",'Broker Sheet'!H99)","v":""},{"$f":"IF('Broker Sheet'!I99=\"\",\"\",'Broker Sheet'!I99)","v":""},{"$f":"IF('Broker Sheet'!J99=\"\",\"\",VLOOKUP('Broker Sheet'!J99,(Reference!$E$4:$F$9),2,FALSE))","v":""},{"$f":"IF('Broker Sheet'!K99=\"\",\"\",'Broker Sheet'!K99)","v":""},{"$f":"IF('Broker Sheet'!R99=\"\",\"\",'Broker Sheet'!R99)","v":""},{"$f":"IF('Broker Sheet'!S99=\"\",\"\",'Broker Sheet'!S99)","v":""},{"$f":"IF('Broker Sheet'!T99=\"\",\"\",'Broker Sheet'!T99)","v":""},{"$f":"IF('Broker Sheet'!U99=\"\",\"\",'Broker Sheet'!U99)","v":""},{"$f":"IF('Broker Sheet'!V99=\"\",\"\",'Broker Sheet'!V99)","v":""},{"$f":"IF('Broker Sheet'!W99=\"\",\"\",'Broker Sheet'!W99)","v":""},{"$f":"IF('Broker Sheet'!Y99=\"\",\"\",'Broker Sheet'!Y99)","v":""},{"$f":"IF('Broker Sheet'!AA99=\"\",\"\",'Broker Sheet'!AA99)","v":""},{"$f":"IF('Broker Sheet'!Z99=\"\",\"\",'Broker Sheet'!Z99)","v":""},{"$f":"IF('Broker Sheet'!AB99=\"\",\"\",'Broker Sheet'!AB99)","v":""},null,null,{"$f":"IF('Broker Sheet'!L99=\"\",\"\",TEXT('Broker Sheet'!L99,\"YYYYMMDD\"))","v":""},{"$f":"IF('Broker Sheet'!AC99=\"\",\"\",TEXT('Broker Sheet'!AC99,\"YYYYMMDD\"))","v":""},{"$f":"IF('Broker Sheet'!AD99=\"\",\"\",TEXT('Broker Sheet'!AD99,\"YYYYMMDD\"))","v":""},{"$f":"IF('Broker Sheet'!AE99=\"\",\"\",'Broker Sheet'!AE99)","v":""},{"$f":"IF('Broker Sheet'!AF99=\"\",\"\",TEXT('Broker Sheet'!AF99,\"YYYYMMDD\"))","v":""},{"$f":"IF('Broker Sheet'!AG99=\"\",\"\",TEXT('Broker Sheet'!AG99,\"YYYYMMDD\"))","v":""}]
[null,null,null,null,null,{"$f":"IF('Broker Sheet'!C100=\"\",\"\",'Broker Sheet'!C100)","v":""},{"$f":"IF('Broker Sheet'!D100=\"\",\"\",'Broker Sheet'!D100)","v":""},{"$f":"IF('Broker Sheet'!E100=\"\",\"\",'Broker Sheet'!E100)","v":""},{"$f":"IF('Broker Sheet'!F100=\"\",\"\",'Broker Sheet'!F100)","v":""},{"$f":"IF('Broker Sheet'!G100=\"\",\"\",TEXT('Broker Sheet'!G100,\"YYYYMMDD\"))","v":""},{"$f":"IF('Broker Sheet'!H100=\"\",\"\",'Broker Sheet'!H100)","v":""},{"$f":"IF('Broker Sheet'!I100=\"\",\"\",'Broker Sheet'!I100)","v":""},{"$f":"IF('Broker Sheet'!J100=\"\",\"\",VLOOKUP('Broker Sheet'!J100,(Reference!$E$4:$F$9),2,FALSE))","v":""},{"$f":"IF('Broker Sheet'!K100=\"\",\"\",'Broker Sheet'!K100)","v":""},{"$f":"IF('Broker Sheet'!R100=\"\",\"\",'Broker Sheet'!R100)","v":""},{"$f":"IF('Broker Sheet'!S100=\"\",\"\",'Broker Sheet'!S100)","v":""},{"$f":"IF('Broker Sheet'!T100=\"\",\"\",'Broker Sheet'!T100)","v":""},{"$f":"IF('Broker Sheet'!U100=\"\",\"\",'Broker Sheet'!U100)","v":""},{"$f":"IF('Broker Sheet'!V100=\"\",\"\",'Broker Sheet'!V100)","v":""},{"$f":"IF('Broker Sheet'!W100=\"\",\"\",'Broker Sheet'!W100)","v":""},{"$f":"IF('Broker Sheet'!Y100=\"\",\"\",'Broker Sheet'!Y100)","v":""},{"$f":"IF('Broker Sheet'!AA100=\"\",\"\",'Broker Sheet'!AA100)","v":""},{"$f":"IF('Broker Sheet'!Z100=\"\",\"\",'Broker Sheet'!Z100)","v":""},{"$f":"IF('Broker Sheet'!AB100=\"\",\"\",'Broker Sheet'!AB100)","v":""},null,null,{"$f":"IF('Broker Sheet'!L100=\"\",\"\",TEXT('Broker Sheet'!L100,\"YYYYMMDD\"))","v":""},{"$f":"IF('Broker Sheet'!AC100=\"\",\"\",TEXT('Broker Sheet'!AC100,\"YYYYMMDD\"))","v":""},{"$f":"IF('Broker Sheet'!AD100=\"\",\"\",TEXT('Broker Sheet'!AD100,\"YYYYMMDD\"))","v":""},{"$f":"IF('Broker Sheet'!AE100=\"\",\"\",'Broker Sheet'!AE100)","v":""},{"$f":"IF('Broker Sheet'!AF100=\"\",\"\",TEXT('Broker Sheet'!AF100,\"YYYYMMDD\"))","v":""},{"$f":"IF('Broker Sheet'!AG100=\"\",\"\",TEXT('Broker Sheet'!AG100,\"YYYYMMDD\"))","v":""}]
[null,null,null,null,null,{"$f":"IF('Broker Sheet'!C101=\"\",\"\",'Broker Sheet'!C101)","v":""},{"$f":"IF('Broker Sheet'!D101=\"\",\"\",'Broker Sheet'!D101)","v":""},{"$f":"IF('Broker Sheet'!E101=\"\",\"\",'Broker Sheet'!E101)","v":""},{"$f":"IF('Broker Sheet'!F101=\"\",\"\",'Broker Sheet'!F101)","v":""},{"$f":"IF('Broker Sheet'!G101=\"\",\"\",TEXT('Broker Sheet'!G101,\"YYYYMMDD\"))","v":""},{"$f":"IF('Broker Sheet'!H101=\"\",\"\",'Broker Sheet'!H101)","v":""},{"$f":"IF('Broker Sheet'!I101=\"\",\"\",'Broker Sheet'!I101)","v":""},{"$f":"IF('Broker Sheet'!J101=\"\",\"\",VLOOKUP('Broker Sheet'!J101,(Reference!$E$4:$F$9),2,FALSE))","v":""},{"$f":"IF('Broker Sheet'!K101=\"\",\"\",'Broker Sheet'!K101)","v":""},{"$f":"IF('Broker Sheet'!R101=\"\",\"\",'Broker Sheet'!R101)","v":""},{"$f":"IF('Broker Sheet'!S101=\"\",\"\",'Broker Sheet'!S101)","v":""},{"$f":"IF('Broker Sheet'!T101=\"\",\"\",'Broker Sheet'!T101)","v":""},{"$f":"IF('Broker Sheet'!U101=\"\",\"\",'Broker Sheet'!U101)","v":""},{"$f":"IF('Broker Sheet'!V101=\"\",\"\",'Broker Sheet'!V101)","v":""},{"$f":"IF('Broker Sheet'!W101=\"\",\"\",'Broker Sheet'!W101)","v":""},{"$f":"IF('Broker Sheet'!Y101=\"\",\"\",'Broker Sheet'!Y101)","v":""},{"$f":"IF('Broker Sheet'!AA101=\"\",\"\",'Broker Sheet'!AA101)","v":""},{"$f":"IF('Broker Sheet'!Z101=\"\",\"\",'Broker Sheet'!Z101)","v":""},{"$f":"IF('Broker Sheet'!AB101=\"\",\"\",'Broker Sheet'!AB101)","v":""},null,null,{"$f":"IF('Broker Sheet'!L101=\"\",\"\",TEXT('Broker Sheet'!L101,\"YYYYMMDD\"))","v":""},{"$f":"IF('Broker Sheet'!AC101=\"\",\"\",TEXT('Broker Sheet'!AC101,\"YYYYMMDD\"))","v":""},{"$f":"IF('Broker Sheet'!AD101=\"\",\"\",TEXT('Broker Sheet'!AD101,\"YYYYMMDD\"))","v":""},{"$f":"IF('Broker Sheet'!AE101=\"\",\"\",'Broker Sheet'!AE101)","v":""},{"$f":"IF('Broker Sheet'!AF101=\"\",\"\",TEXT('Broker Sheet'!AF101,\"YYYYMMDD\"))","v":""},{"$f":"IF('Broker Sheet'!AG101=\"\",\"\",TEXT('Broker Sheet'!AG101,\"YYYYMMDD\"))","v":""}]
[null,null,null,null,null,{"$f":"IF('Broker Sheet'!C102=\"\",\"\",'Broker Sheet'!C102)","v":""},{"$f":"IF('Broker Sheet'!D102=\"\",\"\",'Broker Sheet'!D102)","v":""},{"$f":"IF('Broker Sheet'!E102=\"\",\"\",'Broker Sheet'!E102)","v":""},{"$f":"IF('Broker Sheet'!F102=\"\",\"\",'Broker Sheet'!F102)","v":""},{"$f":"IF('Broker Sheet'!G102=\"\",\"\",TEXT('Broker Sheet'!G102,\"YYYYMMDD\"))","v":""},{"$f":"IF('Broker Sheet'!H102=\"\",\"\",'Broker Sheet'!H102)","v":""},{"$f":"IF('Broker Sheet'!I102=\"\",\"\",'Broker Sheet'!I102)","v":""},{"$f":"IF('Broker Sheet'!J102=\"\",\"\",VLOOKUP('Broker Sheet'!J102,(Reference!$E$4:$F$9),2,FALSE))","v":""},{"$f":"IF('Broker Sheet'!K102=\"\",\"\",'Broker Sheet'!K102)","v":""},{"$f":"IF('Broker Sheet'!R102=\"\",\"\",'Broker Sheet'!R102)","v":""},{"$f":"IF('Broker Sheet'!S102=\"\",\"\",'Broker Sheet'!S102)","v":""},{"$f":"IF('Broker Sheet'!T102=\"\",\"\",'Broker Sheet'!T102)","v":""},{"$f":"IF('Broker Sheet'!U102=\"\",\"\",'Broker Sheet'!U102)","v":""},{"$f":"IF('Broker Sheet'!V102=\"\",\"\",'Broker Sheet'!V102)","v":""},{"$f":"IF('Broker Sheet'!W102=\"\",\"\",'Broker Sheet'!W102)","v":""},{"$f":"IF('Broker Sheet'!Y102=\"\",\"\",'Broker Sheet'!Y102)","v":""},{"$f":"IF('Broker Sheet'!AA102=\"\",\"\",'Broker Sheet'!AA102)","v":""},{"$f":"IF('Broker Sheet'!Z102=\"\",\"\",'Broker Sheet'!Z102)","v":""},{"$f":"IF('Broker Sheet'!AB102=\"\",\"\",'Broker Sheet'!AB102)","v":""},null,null,{"$f":"IF('Broker Sheet'!L102=\"\",\"\",TEXT('Broker Sheet'!L102,\"YYYYMMDD\"))","v":""},{"$f":"IF('Broker Sheet'!AC102=\"\",\"\",TEXT('Broker Sheet'!AC102,\"YYYYMMDD\"))","v":""},{"$f":"IF('Broker Sheet'!AD102=\"\",\"\",TEXT('Broker Sheet'!AD102,\"YYYYMMDD\"))","v":""},{"$f":"IF('Broker Sheet'!AE102=\"\",\"\",'Broker Sheet'!AE102)","v":""},{"$f":"IF('Broker Sheet'!AF102=\"\",\"\",TEXT('Broker Sheet'!AF102,\"YYYYMMDD\"))","v":""},{"$f":"IF('Broker Sheet'!AG102=\"\",\"\",TEXT('Broker Sheet'!AG102,\"YYYYMMDD\"))","v":""}]
[null,null,null,null,null,{"$f":"IF('Broker Sheet'!C103=\"\",\"\",'Broker Sheet'!C103)","v":""},{"$f":"IF('Broker Sheet'!D103=\"\",\"\",'Broker Sheet'!D103)","v":""},{"$f":"IF('Broker Sheet'!E103=\"\",\"\",'Broker Sheet'!E103)","v":""},{"$f":"IF('Broker Sheet'!F103=\"\",\"\",'Broker Sheet'!F103)","v":""},{"$f":"IF('Broker Sheet'!G103=\"\",\"\",TEXT('Broker Sheet'!G103,\"YYYYMMDD\"))","v":""},{"$f":"IF('Broker Sheet'!H103=\"\",\"\",'Broker Sheet'!H103)","v":""},{"$f":"IF('Broker Sheet'!I103=\"\",\"\",'Broker Sheet'!I103)","v":""},{"$f":"IF('Broker Sheet'!J103=\"\",\"\",VLOOKUP('Broker Sheet'!J103,(Reference!$E$4:$F$9),2,FALSE))","v":""},{"$f":"IF('Broker Sheet'!K103=\"\",\"\",'Broker Sheet'!K103)","v":""},{"$f":"IF('Broker Sheet'!R103=\"\",\"\",'Broker Sheet'!R103)","v":""},{"$f":"IF('Broker Sheet'!S103=\"\",\"\",'Broker Sheet'!S103)","v":""},{"$f":"IF('Broker Sheet'!T103=\"\",\"\",'Broker Sheet'!T103)","v":""},{"$f":"IF('Broker Sheet'!U103=\"\",\"\",'Broker Sheet'!U103)","v":""},{"$f":"IF('Broker Sheet'!V103=\"\",\"\",'Broker Sheet'!V103)","v":""},{"$f":"IF('Broker Sheet'!W103=\"\",\"\",'Broker Sheet'!W103)","v":""},{"$f":"IF('Broker Sheet'!Y103=\"\",\"\",'Broker Sheet'!Y103)","v":""},{"$f":"IF('Broker Sheet'!AA103=\"\",\"\",'Broker Sheet'!AA103)","v":""},{"$f":"IF('Broker Sheet'!Z103=\"\",\"\",'Broker Sheet'!Z103)","v":""},{"$f":"IF('Broker Sheet'!AB103=\"\",\"\",'Broker Sheet'!AB103)","v":""},null,null,{"$f":"IF('Broker Sheet'!L103=\"\",\"\",TEXT('Broker Sheet'!L103,\"YYYYMMDD\"))","v":""},{"$f":"IF('Broker Sheet'!AC103=\"\",\"\",TEXT('Broker Sheet'!AC103,\"YYYYMMDD\"))","v":""},{"$f":"IF('Broker Sheet'!AD103=\"\",\"\",TEXT('Broker Sheet'!AD103,\"YYYYMMDD\"))","v":""},{"$f":"IF('Broker Sheet'!AE103=\"\",\"\",'Broker Sheet'!AE103)","v":""},{"$f":"IF('Broker Sheet'!AF103=\"\",\"\",TEXT('Broker Sheet'!AF103,\"YYYYMMDD\"))","v":""},{"$f":"IF('Broker Sheet'!AG103=\"\",\"\",TEXT('Broker Sheet'!AG103,\"YYYYMMDD\"))","v":""}]
[null,null,null,null,null,{"$f":"IF('Broker Sheet'!C104=\"\",\"\",'Broker Sheet'!C104)","v":""},{"$f":"IF('Broker Sheet'!D104=\"\",\"\",'Broker Sheet'!D104)","v":""},{"$f":"IF('Broker Sheet'!E104=\"\",\"\",'Broker Sheet'!E104)","v":""},{"$f":"IF('Broker Sheet'!F104=\"\",\"\",'Broker Sheet'!F104)","v":""},{"$f":"IF('Broker Sheet'!G104=\"\",\"\",TEXT('Broker Sheet'!G104,\"YYYYMMDD\"))","v":""},{"$f":"IF('Broker Sheet'!H104=\"\",\"\",'Broker Sheet'!H104)","v":""},{"$f":"IF('Broker Sheet'!I104=\"\",\"\",'Broker Sheet'!I104)","v":""},{"$f":"IF('Broker Sheet'!J104=\"\",\"\",VLOOKUP('Broker Sheet'!J104,(Reference!$E$4:$F$9),2,FALSE))","v":""},{"$f":"IF('Broker Sheet'!K104=\"\",\"\",'Broker Sheet'!K104)","v":""},{"$f":"IF('Broker Sheet'!R104=\"\",\"\",'Broker Sheet'!R104)","v":""},{"$f":"IF('Broker Sheet'!S104=\"\",\"\",'Broker Sheet'!S104)","v":""},{"$f":"IF('Broker Sheet'!T104=\"\",\"\",'Broker Sheet'!T104)","v":""},{"$f":"IF('Broker Sheet'!U104=\"\",\"\",'Broker Sheet'!U104)","v":""},{"$f":"IF('Broker Sheet'!V104=\"\",\"\",'Broker Sheet'!V104)","v":""},{"$f":"IF('Broker Sheet'!W104=\"\",\"\",'Broker Sheet'!W104)","v":""},{"$f":"IF('Broker Sheet'!Y104=\"\",\"\",'Broker Sheet'!Y104)","v":""},{"$f":"IF('Broker Sheet'!AA104=\"\",\"\",'Broker Sheet'!AA104)","v":""},{"$f":"IF('Broker Sheet'!Z104=\"\",\"\",'Broker Sheet'!Z104)","v":""},{"$f":"IF('Broker Sheet'!AB104=\"\",\"\",'Broker Sheet'!AB104)","v":""},null,null,{"$f":"IF('Broker Sheet'!L104=\"\",\"\",TEXT('Broker Sheet'!L104,\"YYYYMMDD\"))","v":""},{"$f":"IF('Broker Sheet'!AC104=\"\",\"\",TEXT('Broker Sheet'!AC104,\"YYYYMMDD\"))","v":""},{"$f":"IF('Broker Sheet'!AD104=\"\",\"\",TEXT('Broker Sheet'!AD104,\"YYYYMMDD\"))","v":""},{"$f":"IF('Broker Sheet'!AE104=\"\",\"\",'Broker Sheet'!AE104)","v":""},{"$f":"IF('Broker Sheet'!AF104=\"\",\"\",TEXT('Broker Sheet'!AF104,\"YYYYMMDD\"))","v":""},{"$f":"IF('Broker Sheet'!AG104=\"\",\"\",TEXT('Broker Sheet'!AG104,\"YYYYMMDD\"))","v":""}]
[null,null,null,null,null,{"$f":"IF('Broker Sheet'!C105=\"\",\"\",'Broker Sheet'!C105)","v":""},{"$f":"IF('Broker Sheet'!D105=\"\",\"\",'Broker Sheet'!D105)","v":""},{"$f":"IF('Broker Sheet'!E105=\"\",\"\",'Broker Sheet'!E105)","v":""},{"$f":"IF('Broker Sheet'!F105=\"\",\"\",'Broker Sheet'!F105)","v":""},{"$f":"IF('Broker Sheet'!G105=\"\",\"\",TEXT('Broker Sheet'!G105,\"YYYYMMDD\"))","v":""},{"$f":"IF('Broker Sheet'!H105=\"\",\"\",'Broker Sheet'!H105)","v":""},{"$f":"IF('Broker Sheet'!I105=\"\",\"\",'Broker Sheet'!I105)","v":""},{"$f":"IF('Broker Sheet'!J105=\"\",\"\",VLOOKUP('Broker Sheet'!J105,(Reference!$E$4:$F$9),2,FALSE))","v":""},{"$f":"IF('Broker Sheet'!K105=\"\",\"\",'Broker Sheet'!K105)","v":""},{"$f":"IF('Broker Sheet'!R105=\"\",\"\",'Broker Sheet'!R105)","v":""},{"$f":"IF('Broker Sheet'!S105=\"\",\"\",'Broker Sheet'!S105)","v":""},{"$f":"IF('Broker Sheet'!T105=\"\",\"\",'Broker Sheet'!T105)","v":""},{"$f":"IF('Broker Sheet'!U105=\"\",\"\",'Broker Sheet'!U105)","v":""},{"$f":"IF('Broker Sheet'!V105=\"\",\"\",'Broker Sheet'!V105)","v":""},{"$f":"IF('Broker Sheet'!W105=\"\",\"\",'Broker Sheet'!W105)","v":""},{"$f":"IF('Broker Sheet'!Y105=\"\",\"\",'Broker Sheet'!Y105)","v":""},{"$f":"IF('Broker Sheet'!AA105=\"\",\"\",'Broker Sheet'!AA105)","v":""},{"$f":"IF('Broker Sheet'!Z105=\"\",\"\",'Broker Sheet'!Z105)","v":""},{"$f":"IF('Broker Sheet'!AB105=\"\",\"\",'Broker Sheet'!AB105)","v":""},null,null,{"$f":"IF('Broker Sheet'!L105=\"\",\"\",TEXT('Broker Sheet'!L105,\"YYYYMMDD\"))","v":""},{"$f":"IF('Broker Sheet'!AC105=\"\",\"\",TEXT('Broker Sheet'!AC105,\"YYYYMMDD\"))","v":""},{"$f":"IF('Broker Sheet'!AD105=\"\",\"\",TEXT('Broker Sheet'!AD105,\"YYYYMMDD\"))","v":""},{"$f":"IF('Broker Sheet'!AE105=\"\",\"\",'Broker Sheet'!AE105)","v":""},{"$f":"IF('Broker Sheet'!AF105=\"\",\"\",TEXT('Broker Sheet'!AF105,\"YYYYMMDD\"))","v":""},{"$f":"IF('Broker Sheet'!AG105=\"\",\"\",TEXT('Broker Sheet'!AG105,\"YYYYMMDD\"))","v":""}]
[null,null,null,null,null,{"$f":"IF('Broker Sheet'!C106=\"\",\"\",'Broker Sheet'!C106)","v":""},{"$f":"IF('Broker Sheet'!D106=\"\",\"\",'Broker Sheet'!D106)","v":""},{"$f":"IF('Broker Sheet'!E106=\"\",\"\",'Broker Sheet'!E106)","v":""},{"$f":"IF('Broker Sheet'!F106=\"\",\"\",'Broker Sheet'!F106)","v":""},{"$f":"IF('Broker Sheet'!G106=\"\",\"\",TEXT('Broker Sheet'!G106,\"YYYYMMDD\"))","v":""},{"$f":"IF('Broker Sheet'!H106=\"\",\"\",'Broker Sheet'!H106)","v":""},{"$f":"IF('Broker Sheet'!I106=\"\",\"\",'Broker Sheet'!I106)","v":""},{"$f":"IF('Broker Sheet'!J106=\"\",\"\",VLOOKUP('Broker Sheet'!J106,(Reference!$E$4:$F$9),2,FALSE))","v":""},{"$f":"IF('Broker Sheet'!K106=\"\",\"\",'Broker Sheet'!K106)","v":""},{"$f":"IF('Broker Sheet'!R106=\"\",\"\",'Broker Sheet'!R106)","v":""},{"$f":"IF('Broker Sheet'!S106=\"\",\"\",'Broker Sheet'!S106)","v":""},{"$f":"IF('Broker Sheet'!T106=\"\",\"\",'Broker Sheet'!T106)","v":""},{"$f":"IF('Broker Sheet'!U106=\"\",\"\",'Broker Sheet'!U106)","v":""},{"$f":"IF('Broker Sheet'!V106=\"\",\"\",'Broker Sheet'!V106)","v":""},{"$f":"IF('Broker Sheet'!W106=\"\",\"\",'Broker Sheet'!W106)","v":""},{"$f":"IF('Broker Sheet'!Y106=\"\",\"\",'Broker Sheet'!Y106)","v":""},{"$f":"IF('Broker Sheet'!AA106=\"\",\"\",'Broker Sheet'!AA106)","v":""},{"$f":"IF('Broker Sheet'!Z106=\"\",\"\",'Broker Sheet'!Z106)","v":""},{"$f":"IF('Broker Sheet'!AB106=\"\",\"\",'Broker Sheet'!AB106)","v":""},null,null,{"$f":"IF('Broker Sheet'!L106=\"\",\"\",TEXT('Broker Sheet'!L106,\"YYYYMMDD\"))","v":""},{"$f":"IF('Broker Sheet'!AC106=\"\",\"\",TEXT('Broker Sheet'!AC106,\"YYYYMMDD\"))","v":""},{"$f":"IF('Broker Sheet'!AD106=\"\",\"\",TEXT('Broker Sheet'!AD106,\"YYYYMMDD\"))","v":""},{"$f":"IF('Broker Sheet'!AE106=\"\",\"\",'Broker Sheet'!AE106)","v":""},{"$f":"IF('Broker Sheet'!AF106=\"\",\"\",TEXT('Broker Sheet'!AF106,\"YYYYMMDD\"))","v":""},{"$f":"IF('Broker Sheet'!AG106=\"\",\"\",TEXT('Broker Sheet'!AG106,\"YYYYMMDD\"))","v":""}]
[null,null,null,null,null,{"$f":"IF('Broker Sheet'!C107=\"\",\"\",'Broker Sheet'!C107)","v":""},{"$f":"IF('Broker Sheet'!D107=\"\",\"\",'Broker Sheet'!D107)","v":""},{"$f":"IF('Broker Sheet'!E107=\"\",\"\",'Broker Sheet'!E107)","v":""},{"$f":"IF('Broker Sheet'!F107=\"\",\"\",'Broker Sheet'!F107)","v":""},{"$f":"IF('Broker Sheet'!G107=\"\",\"\",TEXT('Broker Sheet'!G107,\"YYYYMMDD\"))","v":""},{"$f":"IF('Broker Sheet'!H107=\"\",\"\",'Broker Sheet'!H107)","v":""},{"$f":"IF('Broker Sheet'!I107=\"\",\"\",'Broker Sheet'!I107)","v":""},{"$f":"IF('Broker Sheet'!J107=\"\",\"\",VLOOKUP('Broker Sheet'!J107,(Reference!$E$4:$F$9),2,FALSE))","v":""},{"$f":"IF('Broker Sheet'!K107=\"\",\"\",'Broker Sheet'!K107)","v":""},{"$f":"IF('Broker Sheet'!R107=\"\",\"\",'Broker Sheet'!R107)","v":""},{"$f":"IF('Broker Sheet'!S107=\"\",\"\",'Broker Sheet'!S107)","v":""},{"$f":"IF('Broker Sheet'!T107=\"\",\"\",'Broker Sheet'!T107)","v":""},{"$f":"IF('Broker Sheet'!U107=\"\",\"\",'Broker Sheet'!U107)","v":""},{"$f":"IF('Broker Sheet'!V107=\"\",\"\",'Broker Sheet'!V107)","v":""},{"$f":"IF('Broker Sheet'!W107=\"\",\"\",'Broker Sheet'!W107)","v":""},{"$f":"IF('Broker Sheet'!Y107=\"\",\"\",'Broker Sheet'!Y107)","v":""},{"$f":"IF('Broker Sheet'!AA107=\"\",\"\",'Broker Sheet'!AA107)","v":""},{"$f":"IF('Broker Sheet'!Z107=\"\",\"\",'Broker Sheet'!Z107)","v":""},{"$f":"IF('Broker Sheet'!AB107=\"\",\"\",'Broker Sheet'!AB107)","v":""},null,null,{"$f":"IF('Broker Sheet'!L107=\"\",\"\",TEXT('Broker Sheet'!L107,\"YYYYMMDD\"))","v":""},{"$f":"IF('Broker Sheet'!AC107=\"\",\"\",TEXT('Broker Sheet'!AC107,\"YYYYMMDD\"))","v":""},{"$f":"IF('Broker Sheet'!AD107=\"\",\"\",TEXT('Broker Sheet'!AD107,\"YYYYMMDD\"))","v":""},{"$f":"IF('Broker Sheet'!AE107=\"\",\"\",'Broker Sheet'!AE107)","v":""},{"$f":"IF('Broker Sheet'!AF107=\"\",\"\",TEXT('Broker Sheet'!AF107,\"YYYYMMDD\"))","v":""},{"$f":"IF('Broker Sheet'!AG107=\"\",\"\",TEXT('Broker Sheet'!AG107,\"YYYYMMDD\"))","v":""}]
[null,null,null,null,null,{"$f":"IF('Broker Sheet'!C108=\"\",\"\",'Broker Sheet'!C108)","v":""},{"$f":"IF('Broker Sheet'!D108=\"\",\"\",'Broker Sheet'!D108)","v":""},{"$f":"IF('Broker Sheet'!E108=\"\",\"\",'Broker Sheet'!E108)","v":""},{"$f":"IF('Broker Sheet'!F108=\"\",\"\",'Broker Sheet'!F108)","v":""},{"$f":"IF('Broker Sheet'!G108=\"\",\"\",TEXT('Broker Sheet'!G108,\"YYYYMMDD\"))","v":""},{"$f":"IF('Broker Sheet'!H108=\"\",\"\",'Broker Sheet'!H108)","v":""},{"$f":"IF('Broker Sheet'!I108=\"\",\"\",'Broker Sheet'!I108)","v":""},{"$f":"IF('Broker Sheet'!J108=\"\",\"\",VLOOKUP('Broker Sheet'!J108,(Reference!$E$4:$F$9),2,FALSE))","v":""},{"$f":"IF('Broker Sheet'!K108=\"\",\"\",'Broker Sheet'!K108)","v":""},{"$f":"IF('Broker Sheet'!R108=\"\",\"\",'Broker Sheet'!R108)","v":""},{"$f":"IF('Broker Sheet'!S108=\"\",\"\",'Broker Sheet'!S108)","v":""},{"$f":"IF('Broker Sheet'!T108=\"\",\"\",'Broker Sheet'!T108)","v":""},{"$f":"IF('Broker Sheet'!U108=\"\",\"\",'Broker Sheet'!U108)","v":""},{"$f":"IF('Broker Sheet'!V108=\"\",\"\",'Broker Sheet'!V108)","v":""},{"$f":"IF('Broker Sheet'!W108=\"\",\"\",'Broker Sheet'!W108)","v":""},{"$f":"IF('Broker Sheet'!Y108=\"\",\"\",'Broker Sheet'!Y108)","v":""},{"$f":"IF('Broker Sheet'!AA108=\"\",\"\",'Broker Sheet'!AA108)","v":""},{"$f":"IF('Broker Sheet'!Z108=\"\",\"\",'Broker Sheet'!Z108)","v":""},{"$f":"IF('Broker Sheet'!AB108=\"\",\"\",'Broker Sheet'!AB108)","v":""},null,null,{"$f":"IF('Broker Sheet'!L108=\"\",\"\",TEXT('Broker Sheet'!L108,\"YYYYMMDD\"))","v":""},{"$f":"IF('Broker Sheet'!AC108=\"\",\"\",TEXT('Broker Sheet'!AC108,\"YYYYMMDD\"))","v":""},{"$f":"IF('Broker Sheet'!AD108=\"\",\"\",TEXT('Broker Sheet'!AD108,\"YYYYMMDD\"))","v":""},{"$f":"IF('Broker Sheet'!AE108=\"\",\"\",'Broker Sheet'!AE108)","v":""},{"$f":"IF('Broker Sheet'!AF108=\"\",\"\",TEXT('Broker Sheet'!AF108,\"YYYYMMDD\"))","v":""},{"$f":"IF('Broker Sheet'!AG108=\"\",\"\",TEXT('Broker Sheet'!AG108,\"YYYYMMDD\"))","v":""}]
[null,null,null,null,null,{"$f":"IF('Broker Sheet'!C109=\"\",\"\",'Broker Sheet'!C109)","v":""},{"$f":"IF('Broker Sheet'!D109=\"\",\"\",'Broker Sheet'!D109)","v":""},{"$f":"IF('Broker Sheet'!E109=\"\",\"\",'Broker Sheet'!E109)","v":""},{"$f":"IF('Broker Sheet'!F109=\"\",\"\",'Broker Sheet'!F109)","v":""},{"$f":"IF('Broker Sheet'!G109=\"\",\"\",TEXT('Broker Sheet'!G109,\"YYYYMMDD\"))","v":""},{"$f":"IF('Broker Sheet'!H109=\"\",\"\",'Broker Sheet'!H109)","v":""},{"$f":"IF('Broker Sheet'!I109=\"\",\"\",'Broker Sheet'!I109)","v":""},{"$f":"IF('Broker Sheet'!J109=\"\",\"\",VLOOKUP('Broker Sheet'!J109,(Reference!$E$4:$F$9),2,FALSE))","v":""},{"$f":"IF('Broker Sheet'!K109=\"\",\"\",'Broker Sheet'!K109)","v":""},{"$f":"IF('Broker Sheet'!R109=\"\",\"\",'Broker Sheet'!R109)","v":""},{"$f":"IF('Broker Sheet'!S109=\"\",\"\",'Broker Sheet'!S109)","v":""},{"$f":"IF('Broker Sheet'!T109=\"\",\"\",'Broker Sheet'!T109)","v":""},{"$f":"IF('Broker Sheet'!U109=\"\",\"\",'Broker Sheet'!U109)","v":""},{"$f":"IF('Broker Sheet'!V109=\"\",\"\",'Broker Sheet'!V109)","v":""},{"$f":"IF('Broker Sheet'!W109=\"\",\"\",'Broker Sheet'!W109)","v":""},{"$f":"IF('Broker Sheet'!Y109=\"\",\"\",'Broker Sheet'!Y109)","v":""},{"$f":"IF('Broker Sheet'!AA109=\"\",\"\",'Broker Sheet'!AA109)","v":""},{"$f":"IF('Broker Sheet'!Z109=\"\",\"\",'Broker Sheet'!Z109)","v":""},{"$f":"IF('Broker Sheet'!AB109=\"\",\"\",'Broker Sheet'!AB109)","v":""},null,null,{"$f":"IF('Broker Sheet'!L109=\"\",\"\",TEXT('Broker Sheet'!L109,\"YYYYMMDD\"))","v":""},{"$f":"IF('Broker Sheet'!AC109=\"\",\"\",TEXT('Broker Sheet'!AC109,\"YYYYMMDD\"))","v":""},{"$f":"IF('Broker Sheet'!AD109=\"\",\"\",TEXT('Broker Sheet'!AD109,\"YYYYMMDD\"))","v":""},{"$f":"IF('Broker Sheet'!AE109=\"\",\"\",'Broker Sheet'!AE109)","v":""},{"$f":"IF('Broker Sheet'!AF109=\"\",\"\",TEXT('Broker Sheet'!AF109,\"YYYYMMDD\"))","v":""},{"$f":"IF('Broker Sheet'!AG109=\"\",\"\",TEXT('Broker Sheet'!AG109,\"YYYYMMDD\"))","v":""}]
[null,null,null,null,null,{"$f":"IF('Broker Sheet'!C110=\"\",\"\",'Broker Sheet'!C110)","v":""},{"$f":"IF('Broker Sheet'!D110=\"\",\"\",'Broker Sheet'!D110)","v":""},{"$f":"IF('Broker Sheet'!E110=\"\",\"\",'Broker Sheet'!E110)","v":""},{"$f":"IF('Broker Sheet'!F110=\"\",\"\",'Broker Sheet'!F110)","v":""},{"$f":"IF('Broker Sheet'!G110=\"\",\"\",TEXT('Broker Sheet'!G110,\"YYYYMMDD\"))","v":""},{"$f":"IF('Broker Sheet'!H110=\"\",\"\",'Broker Sheet'!H110)","v":""},{"$f":"IF('Broker Sheet'!I110=\"\",\"\",'Broker Sheet'!I110)","v":""},{"$f":"IF('Broker Sheet'!J110=\"\",\"\",VLOOKUP('Broker Sheet'!J110,(Reference!$E$4:$F$9),2,FALSE))","v":""},{"$f":"IF('Broker Sheet'!K110=\"\",\"\",'Broker Sheet'!K110)","v":""},{"$f":"IF('Broker Sheet'!R110=\"\",\"\",'Broker Sheet'!R110)","v":""},{"$f":"IF('Broker Sheet'!S110=\"\",\"\",'Broker Sheet'!S110)","v":""},{"$f":"IF('Broker Sheet'!T110=\"\",\"\",'Broker Sheet'!T110)","v":""},{"$f":"IF('Broker Sheet'!U110=\"\",\"\",'Broker Sheet'!U110)","v":""},{"$f":"IF('Broker Sheet'!V110=\"\",\"\",'Broker Sheet'!V110)","v":""},{"$f":"IF('Broker Sheet'!W110=\"\",\"\",'Broker Sheet'!W110)","v":""},{"$f":"IF('Broker Sheet'!Y110=\"\",\"\",'Broker Sheet'!Y110)","v":""},{"$f":"IF('Broker Sheet'!AA110=\"\",\"\",'Broker Sheet'!AA110)","v":""},{"$f":"IF('Broker Sheet'!Z110=\"\",\"\",'Broker Sheet'!Z110)","v":""},{"$f":"IF('Broker Sheet'!AB110=\"\",\"\",'Broker Sheet'!AB110)","v":""},null,null,{"$f":"IF('Broker Sheet'!L110=\"\",\"\",TEXT('Broker Sheet'!L110,\"YYYYMMDD\"))","v":""},{"$f":"IF('Broker Sheet'!AC110=\"\",\"\",TEXT('Broker Sheet'!AC110,\"YYYYMMDD\"))","v":""},{"$f":"IF('Broker Sheet'!AD110=\"\",\"\",TEXT('Broker Sheet'!AD110,\"YYYYMMDD\"))","v":""},{"$f":"IF('Broker Sheet'!AE110=\"\",\"\",'Broker Sheet'!AE110)","v":""},{"$f":"IF('Broker Sheet'!AF110=\"\",\"\",TEXT('Broker Sheet'!AF110,\"YYYYMMDD\"))","v":""},{"$f":"IF('Broker Sheet'!AG110=\"\",\"\",TEXT('Broker Sheet'!AG110,\"YYYYMMDD\"))","v":""}]
[null,null,null,null,null,{"$f":"IF('Broker Sheet'!C111=\"\",\"\",'Broker Sheet'!C111)","v":""},{"$f":"IF('Broker Sheet'!D111=\"\",\"\",'Broker Sheet'!D111)","v":""},{"$f":"IF('Broker Sheet'!E111=\"\",\"\",'Broker Sheet'!E111)","v":""},{"$f":"IF('Broker Sheet'!F111=\"\",\"\",'Broker Sheet'!F111)","v":""},{"$f":"IF('Broker Sheet'!G111=\"\",\"\",TEXT('Broker Sheet'!G111,\"YYYYMMDD\"))","v":""},{"$f":"IF('Broker Sheet'!H111=\"\",\"\",'Broker Sheet'!H111)","v":""},{"$f":"IF('Broker Sheet'!I111=\"\",\"\",'Broker Sheet'!I111)","v":""},{"$f":"IF('Broker Sheet'!J111=\"\",\"\",VLOOKUP('Broker Sheet'!J111,(Reference!$E$4:$F$9),2,FALSE))","v":""},{"$f":"IF('Broker Sheet'!K111=\"\",\"\",'Broker Sheet'!K111)","v":""},{"$f":"IF('Broker Sheet'!R111=\"\",\"\",'Broker Sheet'!R111)","v":""},{"$f":"IF('Broker Sheet'!S111=\"\",\"\",'Broker Sheet'!S111)","v":""},{"$f":"IF('Broker Sheet'!T111=\"\",\"\",'Broker Sheet'!T111)","v":""},{"$f":"IF('Broker Sheet'!U111=\"\",\"\",'Broker Sheet'!U111)","v":""},{"$f":"IF('Broker Sheet'!V111=\"\",\"\",'Broker Sheet'!V111)","v":""},{"$f":"IF('Broker Sheet'!W111=\"\",\"\",'Broker Sheet'!W111)","v":""},{"$f":"IF('Broker Sheet'!Y111=\"\",\"\",'Broker Sheet'!Y111)","v":""},{"$f":"IF('Broker Sheet'!AA111=\"\",\"\",'Broker Sheet'!AA111)","v":""},{"$f":"IF('Broker Sheet'!Z111=\"\",\"\",'Broker Sheet'!Z111)","v":""},{"$f":"IF('Broker Sheet'!AB111=\"\",\"\",'Broker Sheet'!AB111)","v":""},null,null,{"$f":"IF('Broker Sheet'!L111=\"\",\"\",TEXT('Broker Sheet'!L111,\"YYYYMMDD\"))","v":""},{"$f":"IF('Broker Sheet'!AC111=\"\",\"\",TEXT('Broker Sheet'!AC111,\"YYYYMMDD\"))","v":""},{"$f":"IF('Broker Sheet'!AD111=\"\",\"\",TEXT('Broker Sheet'!AD111,\"YYYYMMDD\"))","v":""},{"$f":"IF('Broker Sheet'!AE111=\"\",\"\",'Broker Sheet'!AE111)","v":""},{"$f":"IF('Broker Sheet'!AF111=\"\",\"\",TEXT('Broker Sheet'!AF111,\"YYYYMMDD\"))","v":""},{"$f":"IF('Broker Sheet'!AG111=\"\",\"\",TEXT('Broker Sheet'!AG111,\"YYYYMMDD\"))","v":""}]
[null,null,null,null,null,{"$f":"IF('Broker Sheet'!C112=\"\",\"\",'Broker Sheet'!C112)","v":""},{"$f":"IF('Broker Sheet'!D112=\"\",\"\",'Broker Sheet'!D112)","v":""},{"$f":"IF('Broker Sheet'!E112=\"\",\"\",'Broker Sheet'!E112)","v":""},{"$f":"IF('Broker Sheet'!F112=\"\",\"\",'Broker Sheet'!F112)","v":""},{"$f":"IF('Broker Sheet'!G112=\"\",\"\",TEXT('Broker Sheet'!G112,\"YYYYMMDD\"))","v":""},{"$f":"IF('Broker Sheet'!H112=\"\",\"\",'Broker Sheet'!H112)","v":""},{"$f":"IF('Broker Sheet'!I112=\"\",\"\",'Broker Sheet'!I112)","v":""},{"$f":"IF('Broker Sheet'!J112=\"\",\"\",VLOOKUP('Broker Sheet'!J112,(Reference!$E$4:$F$9),2,FALSE))","v":""},{"$f":"IF('Broker Sheet'!K112=\"\",\"\",'Broker Sheet'!K112)","v":""},{"$f":"IF('Broker Sheet'!R112=\"\",\"\",'Broker Sheet'!R112)","v":""},{"$f":"IF('Broker Sheet'!S112=\"\",\"\",'Broker Sheet'!S112)","v":""},{"$f":"IF('Broker Sheet'!T112=\"\",\"\",'Broker Sheet'!T112)","v":""},{"$f":"IF('Broker Sheet'!U112=\"\",\"\",'Broker Sheet'!U112)","v":""},{"$f":"IF('Broker Sheet'!V112=\"\",\"\",'Broker Sheet'!V112)","v":""},{"$f":"IF('Broker Sheet'!W112=\"\",\"\",'Broker Sheet'!W112)","v":""},{"$f":"IF('Broker Sheet'!Y112=\"\",\"\",'Broker Sheet'!Y112)","v":""},{"$f":"IF('Broker Sheet'!AA112=\"\",\"\",'Broker Sheet'!AA112)","v":""},{"$f":"IF('Broker Sheet'!Z112=\"\",\"\",'Broker Sheet'!Z112)","v":""},{"$f":"IF('Broker Sheet'!AB112=\"\",\"\",'Broker Sheet'!AB112)","v":""},null,null,{"$f":"IF('Broker Sheet'!L112=\"\",\"\",TEXT('Broker Sheet'!L112,\"YYYYMMDD\"))","v":""},{"$f":"IF('Broker Sheet'!AC112=\"\",\"\",TEXT('Broker Sheet'!AC112,\"YYYYMMDD\"))","v":""},{"$f":"IF('Broker Sheet'!AD112=\"\",\"\",TEXT('Broker Sheet'!AD112,\"YYYYMMDD\"))","v":""},{"$f":"IF('Broker Sheet'!AE112=\"\",\"\",'Broker Sheet'!AE112)","v":""},{"$f":"IF('Broker Sheet'!AF112=\"\",\"\",TEXT('Broker Sheet'!AF112,\"YYYYMMDD\"))","v":""},{"$f":"IF('Broker Sheet'!AG112=\"\",\"\",TEXT('Broker Sheet'!AG112,\"YYYYMMDD\"))","v":""}]
[null,null,null,null,null,{"$f":"IF('Broker Sheet'!C113=\"\",\"\",'Broker Sheet'!C113)","v":""},{"$f":"IF('Broker Sheet'!D113=\"\",\"\",'Broker Sheet'!D113)","v":""},{"$f":"IF('Broker Sheet'!E113=\"\",\"\",'Broker Sheet'!E113)","v":""},{"$f":"IF('Broker Sheet'!F113=\"\",\"\",'Broker Sheet'!F113)","v":""},{"$f":"IF('Broker Sheet'!G113=\"\",\"\",TEXT('Broker Sheet'!G113,\"YYYYMMDD\"))","v":""},{"$f":"IF('Broker Sheet'!H113=\"\",\"\",'Broker Sheet'!H113)","v":""},{"$f":"IF('Broker Sheet'!I113=\"\",\"\",'Broker Sheet'!I113)","v":""},{"$f":"IF('Broker Sheet'!J113=\"\",\"\",VLOOKUP('Broker Sheet'!J113,(Reference!$E$4:$F$9),2,FALSE))","v":""},{"$f":"IF('Broker Sheet'!K113=\"\",\"\",'Broker Sheet'!K113)","v":""},{"$f":"IF('Broker Sheet'!R113=\"\",\"\",'Broker Sheet'!R113)","v":""},{"$f":"IF('Broker Sheet'!S113=\"\",\"\",'Broker Sheet'!S113)","v":""},{"$f":"IF('Broker Sheet'!T113=\"\",\"\",'Broker Sheet'!T113)","v":""},{"$f":"IF('Broker Sheet'!U113=\"\",\"\",'Broker Sheet'!U113)","v":""},{"$f":"IF('Broker Sheet'!V113=\"\",\"\",'Broker Sheet'!V113)","v":""},{"$f":"IF('Broker Sheet'!W113=\"\",\"\",'Broker Sheet'!W113)","v":""},{"$f":"IF('Broker Sheet'!Y113=\"\",\"\",'Broker Sheet'!Y113)","v":""},{"$f":"IF('Broker Sheet'!AA113=\"\",\"\",'Broker Sheet'!AA113)","v":""},{"$f":"IF('Broker Sheet'!Z113=\"\",\"\",'Broker Sheet'!Z113)","v":""},{"$f":"IF('Broker Sheet'!AB113=\"\",\"\",'Broker Sheet'!AB113)","v":""},null,null,{"$f":"IF('Broker Sheet'!L113=\"\",\"\",TEXT('Broker Sheet'!L113,\"YYYYMMDD\"))","v":""},{"$f":"IF('Broker Sheet'!AC113=\"\",\"\",TEXT('Broker Sheet'!AC113,\"YYYYMMDD\"))","v":""},{"$f":"IF('Broker Sheet'!AD113=\"\",\"\",TEXT('Broker Sheet'!AD113,\"YYYYMMDD\"))","v":""},{"$f":"IF('Broker Sheet'!AE113=\"\",\"\",'Broker Sheet'!AE113)","v":""},{"$f":"IF('Broker Sheet'!AF113=\"\",\"\",TEXT('Broker Sheet'!AF113,\"YYYYMMDD\"))","v":""},{"$f":"IF('Broker Sheet'!AG113=\"\",\"\",TEXT('Broker Sheet'!AG113,\"YYYYMMDD\"))","v":""}]
[null,null,null,null,null,{"$f":"IF('Broker Sheet'!C114=\"\",\"\",'Broker Sheet'!C114)","v":""},{"$f":"IF('Broker Sheet'!D114=\"\",\"\",'Broker Sheet'!D114)","v":""},{"$f":"IF('Broker Sheet'!E114=\"\",\"\",'Broker Sheet'!E114)","v":""},{"$f":"IF('Broker Sheet'!F114=\"\",\"\",'Broker Sheet'!F114)","v":""},{"$f":"IF('Broker Sheet'!G114=\"\",\"\",TEXT('Broker Sheet'!G114,\"YYYYMMDD\"))","v":""},{"$f":"IF('Broker Sheet'!H114=\"\",\"\",'Broker Sheet'!H114)","v":""},{"$f":"IF('Broker Sheet'!I114=\"\",\"\",'Broker Sheet'!I114)","v":""},{"$f":"IF('Broker Sheet'!J114=\"\",\"\",VLOOKUP('Broker Sheet'!J114,(Reference!$E$4:$F$9),2,FALSE))","v":""},{"$f":"IF('Broker Sheet'!K114=\"\",\"\",'Broker Sheet'!K114)","v":""},{"$f":"IF('Broker Sheet'!R114=\"\",\"\",'Broker Sheet'!R114)","v":""},{"$f":"IF('Broker Sheet'!S114=\"\",\"\",'Broker Sheet'!S114)","v":""},{"$f":"IF('Broker Sheet'!T114=\"\",\"\",'Broker Sheet'!T114)","v":""},{"$f":"IF('Broker Sheet'!U114=\"\",\"\",'Broker Sheet'!U114)","v":""},{"$f":"IF('Broker Sheet'!V114=\"\",\"\",'Broker Sheet'!V114)","v":""},{"$f":"IF('Broker Sheet'!W114=\"\",\"\",'Broker Sheet'!W114)","v":""},{"$f":"IF('Broker Sheet'!Y114=\"\",\"\",'Broker Sheet'!Y114)","v":""},{"$f":"IF('Broker Sheet'!AA114=\"\",\"\",'Broker Sheet'!AA114)","v":""},{"$f":"IF('Broker Sheet'!Z114=\"\",\"\",'Broker Sheet'!Z114)","v":""},{"$f":"IF('Broker Sheet'!AB114=\"\",\"\",'Broker Sheet'!AB114)","v":""},null,null,{"$f":"IF('Broker Sheet'!L114=\"\",\"\",TEXT('Broker Sheet'!L114,\"YYYYMMDD\"))","v":""},{"$f":"IF('Broker Sheet'!AC114=\"\",\"\",TEXT('Broker Sheet'!AC114,\"YYYYMMDD\"))","v":""},{"$f":"IF('Broker Sheet'!AD114=\"\",\"\",TEXT('Broker Sheet'!AD114,\"YYYYMMDD\"))","v":""},{"$f":"IF('Broker Sheet'!AE114=\"\",\"\",'Broker Sheet'!AE114)","v":""},{"$f":"IF('Broker Sheet'!AF114=\"\",\"\",TEXT('Broker Sheet'!AF114,\"YYYYMMDD\"))","v":""},{"$f":"IF('Broker Sheet'!AG114=\"\",\"\",TEXT('Broker Sheet'!AG114,\"YYYYMMDD\"))","v":""}]
[null,null,null,null,null,{"$f":"IF('Broker Sheet'!C115=\"\",\"\",'Broker Sheet'!C115)","v":""},{"$f":"IF('Broker Sheet'!D115=\"\",\"\",'Broker Sheet'!D115)","v":""},{"$f":"IF('Broker Sheet'!E115=\"\",\"\",'Broker Sheet'!E115)","v":""},{"$f":"IF('Broker Sheet'!F115=\"\",\"\",'Broker Sheet'!F115)","v":""},{"$f":"IF('Broker Sheet'!G115=\"\",\"\",TEXT('Broker Sheet'!G115,\"YYYYMMDD\"))","v":""},{"$f":"IF('Broker Sheet'!H115=\"\",\"\",'Broker Sheet'!H115)","v":""},{"$f":"IF('Broker Sheet'!I115=\"\",\"\",'Broker Sheet'!I115)","v":""},{"$f":"IF('Broker Sheet'!J115=\"\",\"\",VLOOKUP('Broker Sheet'!J115,(Reference!$E$4:$F$9),2,FALSE))","v":""},{"$f":"IF('Broker Sheet'!K115=\"\",\"\",'Broker Sheet'!K115)","v":""},{"$f":"IF('Broker Sheet'!R115=\"\",\"\",'Broker Sheet'!R115)","v":""},{"$f":"IF('Broker Sheet'!S115=\"\",\"\",'Broker Sheet'!S115)","v":""},{"$f":"IF('Broker Sheet'!T115=\"\",\"\",'Broker Sheet'!T115)","v":""},{"$f":"IF('Broker Sheet'!U115=\"\",\"\",'Broker Sheet'!U115)","v":""},{"$f":"IF('Broker Sheet'!V115=\"\",\"\",'Broker Sheet'!V115)","v":""},{"$f":"IF('Broker Sheet'!W115=\"\",\"\",'Broker Sheet'!W115)","v":""},{"$f":"IF('Broker Sheet'!Y115=\"\",\"\",'Broker Sheet'!Y115)","v":""},{"$f":"IF('Broker Sheet'!AA115=\"\",\"\",'Broker Sheet'!AA115)","v":""},{"$f":"IF('Broker Sheet'!Z115=\"\",\"\",'Broker Sheet'!Z115)","v":""},{"$f":"IF('Broker Sheet'!AB115=\"\",\"\",'Broker Sheet'!AB115)","v":""},null,null,{"$f":"IF('Broker Sheet'!L115=\"\",\"\",TEXT('Broker Sheet'!L115,\"YYYYMMDD\"))","v":""},{"$f":"IF('Broker Sheet'!AC115=\"\",\"\",TEXT('Broker Sheet'!AC115,\"YYYYMMDD\"))","v":""},{"$f":"IF('Broker Sheet'!AD115=\"\",\"\",TEXT('Broker Sheet'!AD115,\"YYYYMMDD\"))","v":""},{"$f":"IF('Broker Sheet'!AE115=\"\",\"\",'Broker Sheet'!AE115)","v":""},{"$f":"IF('Broker Sheet'!AF115=\"\",\"\",TEXT('Broker Sheet'!AF115,\"YYYYMMDD\"))","v":""},{"$f":"IF('Broker Sheet'!AG115=\"\",\"\",TEXT('Broker Sheet'!AG115,\"YYYYMMDD\"))","v":""}]
[null,null,null,null,null,{"$f":"IF('Broker Sheet'!C116=\"\",\"\",'Broker Sheet'!C116)","v":""},{"$f":"IF('Broker Sheet'!D116=\"\",\"\",'Broker Sheet'!D116)","v":""},{"$f":"IF('Broker Sheet'!E116=\"\",\"\",'Broker Sheet'!E116)","v":""},{"$f":"IF('Broker Sheet'!F116=\"\",\"\",'Broker Sheet'!F116)","v":""},{"$f":"IF('Broker Sheet'!G116=\"\",\"\",TEXT('Broker Sheet'!G116,\"YYYYMMDD\"))","v":""},{"$f":"IF('Broker Sheet'!H116=\"\",\"\",'Broker Sheet'!H116)","v":""},{"$f":"IF('Broker Sheet'!I116=\"\",\"\",'Broker Sheet'!I116)","v":""},{"$f":"IF('Broker Sheet'!J116=\"\",\"\",VLOOKUP('Broker Sheet'!J116,(Reference!$E$4:$F$9),2,FALSE))","v":""},{"$f":"IF('Broker Sheet'!K116=\"\",\"\",'Broker Sheet'!K116)","v":""},{"$f":"IF('Broker Sheet'!R116=\"\",\"\",'Broker Sheet'!R116)","v":""},{"$f":"IF('Broker Sheet'!S116=\"\",\"\",'Broker Sheet'!S116)","v":""},{"$f":"IF('Broker Sheet'!T116=\"\",\"\",'Broker Sheet'!T116)","v":""},{"$f":"IF('Broker Sheet'!U116=\"\",\"\",'Broker Sheet'!U116)","v":""},{"$f":"IF('Broker Sheet'!V116=\"\",\"\",'Broker Sheet'!V116)","v":""},{"$f":"IF('Broker Sheet'!W116=\"\",\"\",'Broker Sheet'!W116)","v":""},{"$f":"IF('Broker Sheet'!Y116=\"\",\"\",'Broker Sheet'!Y116)","v":""},{"$f":"IF('Broker Sheet'!AA116=\"\",\"\",'Broker Sheet'!AA116)","v":""},{"$f":"IF('Broker Sheet'!Z116=\"\",\"\",'Broker Sheet'!Z116)","v":""},{"$f":"IF('Broker Sheet'!AB116=\"\",\"\",'Broker Sheet'!AB116)","v":""},null,null,{"$f":"IF('Broker Sheet'!L116=\"\",\"\",TEXT('Broker Sheet'!L116,\"YYYYMMDD\"))","v":""},{"$f":"IF('Broker Sheet'!AC116=\"\",\"\",TEXT('Broker Sheet'!AC116,\"YYYYMMDD\"))","v":""},{"$f":"IF('Broker Sheet'!AD116=\"\",\"\",TEXT('Broker Sheet'!AD116,\"YYYYMMDD\"))","v":""},{"$f":"IF('Broker Sheet'!AE116=\"\",\"\",'Broker Sheet'!AE116)","v":""},{"$f":"IF('Broker Sheet'!AF116=\"\",\"\",TEXT('Broker Sheet'!AF116,\"YYYYMMDD\"))","v":""},{"$f":"IF('Broker Sheet'!AG116=\"\",\"\",TEXT('Broker Sheet'!AG116,\"YYYYMMDD\"))","v":""}]
[null,null,null,null,null,{"$f":"IF('Broker Sheet'!C117=\"\",\"\",'Broker Sheet'!C117)","v":""},{"$f":"IF('Broker Sheet'!D117=\"\",\"\",'Broker Sheet'!D117)","v":""},{"$f":"IF('Broker Sheet'!E117=\"\",\"\",'Broker Sheet'!E117)","v":""},{"$f":"IF('Broker Sheet'!F117=\"\",\"\",'Broker Sheet'!F117)","v":""},{"$f":"IF('Broker Sheet'!G117=\"\",\"\",TEXT('Broker Sheet'!G117,\"YYYYMMDD\"))","v":""},{"$f":"IF('Broker Sheet'!H117=\"\",\"\",'Broker Sheet'!H117)","v":""},{"$f":"IF('Broker Sheet'!I117=\"\",\"\",'Broker Sheet'!I117)","v":""},{"$f":"IF('Broker Sheet'!J117=\"\",\"\",VLOOKUP('Broker Sheet'!J117,(Reference!$E$4:$F$9),2,FALSE))","v":""},{"$f":"IF('Broker Sheet'!K117=\"\",\"\",'Broker Sheet'!K117)","v":""},{"$f":"IF('Broker Sheet'!R117=\"\",\"\",'Broker Sheet'!R117)","v":""},{"$f":"IF('Broker Sheet'!S117=\"\",\"\",'Broker Sheet'!S117)","v":""},{"$f":"IF('Broker Sheet'!T117=\"\",\"\",'Broker Sheet'!T117)","v":""},{"$f":"IF('Broker Sheet'!U117=\"\",\"\",'Broker Sheet'!U117)","v":""},{"$f":"IF('Broker Sheet'!V117=\"\",\"\",'Broker Sheet'!V117)","v":""},{"$f":"IF('Broker Sheet'!W117=\"\",\"\",'Broker Sheet'!W117)","v":""},{"$f":"IF('Broker Sheet'!Y117=\"\",\"\",'Broker Sheet'!Y117)","v":""},{"$f":"IF('Broker Sheet'!AA117=\"\",\"\",'Broker Sheet'!AA117)","v":""},{"$f":"IF('Broker Sheet'!Z117=\"\",\"\",'Broker Sheet'!Z117)","v":""},{"$f":"IF('Broker Sheet'!AB117=\"\",\"\",'Broker Sheet'!AB117)","v":""},null,null,{"$f":"IF('Broker Sheet'!L117=\"\",\"\",TEXT('Broker Sheet'!L117,\"YYYYMMDD\"))","v":""},{"$f":"IF('Broker Sheet'!AC117=\"\",\"\",TEXT('Broker Sheet'!AC117,\"YYYYMMDD\"))","v":""},{"$f":"IF('Broker Sheet'!AD117=\"\",\"\",TEXT('Broker Sheet'!AD117,\"YYYYMMDD\"))","v":""},{"$f":"IF('Broker Sheet'!AE117=\"\",\"\",'Broker Sheet'!AE117)","v":""},{"$f":"IF('Broker Sheet'!AF117=\"\",\"\",TEXT('Broker Sheet'!AF117,\"YYYYMMDD\"))","v":""},{"$f":"IF('Broker Sheet'!AG117=\"\",\"\",TEXT('Broker Sheet'!AG117,\"YYYYMMDD\"))","v":""}]
[null,null,null,null,null,{"$f":"IF('Broker Sheet'!C118=\"\",\"\",'Broker Sheet'!C118)","v":""},{"$f":"IF('Broker Sheet'!D118=\"\",\"\",'Broker Sheet'!D118)","v":""},{"$f":"IF('Broker Sheet'!E118=\"\",\"\",'Broker Sheet'!E118)","v":""},{"$f":"IF('Broker Sheet'!F118=\"\",\"\",'Broker Sheet'!F118)","v":""},{"$f":"IF('Broker Sheet'!G118=\"\",\"\",TEXT('Broker Sheet'!G118,\"YYYYMMDD\"))","v":""},{"$f":"IF('Broker Sheet'!H118=\"\",\"\",'Broker Sheet'!H118)","v":""},{"$f":"IF('Broker Sheet'!I118=\"\",\"\",'Broker Sheet'!I118)","v":""},{"$f":"IF('Broker Sheet'!J118=\"\",\"\",VLOOKUP('Broker Sheet'!J118,(Reference!$E$4:$F$9),2,FALSE))","v":""},{"$f":"IF('Broker Sheet'!K118=\"\",\"\",'Broker Sheet'!K118)","v":""},{"$f":"IF('Broker Sheet'!R118=\"\",\"\",'Broker Sheet'!R118)","v":""},{"$f":"IF('Broker Sheet'!S118=\"\",\"\",'Broker Sheet'!S118)","v":""},{"$f":"IF('Broker Sheet'!T118=\"\",\"\",'Broker Sheet'!T118)","v":""},{"$f":"IF('Broker Sheet'!U118=\"\",\"\",'Broker Sheet'!U118)","v":""},{"$f":"IF('Broker Sheet'!V118=\"\",\"\",'Broker Sheet'!V118)","v":""},{"$f":"IF('Broker Sheet'!W118=\"\",\"\",'Broker Sheet'!W118)","v":""},{"$f":"IF('Broker Sheet'!Y118=\"\",\"\",'Broker Sheet'!Y118)","v":""},{"$f":"IF('Broker Sheet'!AA118=\"\",\"\",'Broker Sheet'!AA118)","v":""},{"$f":"IF('Broker Sheet'!Z118=\"\",\"\",'Broker Sheet'!Z118)","v":""},{"$f":"IF('Broker Sheet'!AB118=\"\",\"\",'Broker Sheet'!AB118)","v":""},null,null,{"$f":"IF('Broker Sheet'!L118=\"\",\"\",TEXT('Broker Sheet'!L118,\"YYYYMMDD\"))","v":""},{"$f":"IF('Broker Sheet'!AC118=\"\",\"\",TEXT('Broker Sheet'!AC118,\"YYYYMMDD\"))","v":""},{"$f":"IF('Broker Sheet'!AD118=\"\",\"\",TEXT('Broker Sheet'!AD118,\"YYYYMMDD\"))","v":""},{"$f":"IF('Broker Sheet'!AE118=\"\",\"\",'Broker Sheet'!AE118)","v":""},{"$f":"IF('Broker Sheet'!AF118=\"\",\"\",TEXT('Broker Sheet'!AF118,\"YYYYMMDD\"))","v":""},{"$f":"IF('Broker Sheet'!AG118=\"\",\"\",TEXT('Broker Sheet'!AG118,\"YYYYMMDD\"))","v":""}]
[null,null,null,null,null,{"$f":"IF('Broker Sheet'!C119=\"\",\"\",'Broker Sheet'!C119)","v":""},{"$f":"IF('Broker Sheet'!D119=\"\",\"\",'Broker Sheet'!D119)","v":""},{"$f":"IF('Broker Sheet'!E119=\"\",\"\",'Broker Sheet'!E119)","v":""},{"$f":"IF('Broker Sheet'!F119=\"\",\"\",'Broker Sheet'!F119)","v":""},{"$f":"IF('Broker Sheet'!G119=\"\",\"\",TEXT('Broker Sheet'!G119,\"YYYYMMDD\"))","v":""},{"$f":"IF('Broker Sheet'!H119=\"\",\"\",'Broker Sheet'!H119)","v":""},{"$f":"IF('Broker Sheet'!I119=\"\",\"\",'Broker Sheet'!I119)","v":""},{"$f":"IF('Broker Sheet'!J119=\"\",\"\",VLOOKUP('Broker Sheet'!J119,(Reference!$E$4:$F$9),2,FALSE))","v":""},{"$f":"IF('Broker Sheet'!K119=\"\",\"\",'Broker Sheet'!K119)","v":""},{"$f":"IF('Broker Sheet'!R119=\"\",\"\",'Broker Sheet'!R119)","v":""},{"$f":"IF('Broker Sheet'!S119=\"\",\"\",'Broker Sheet'!S119)","v":""},{"$f":"IF('Broker Sheet'!T119=\"\",\"\",'Broker Sheet'!T119)","v":""},{"$f":"IF('Broker Sheet'!U119=\"\",\"\",'Broker Sheet'!U119)","v":""},{"$f":"IF('Broker Sheet'!V119=\"\",\"\",'Broker Sheet'!V119)","v":""},{"$f":"IF('Broker Sheet'!W119=\"\",\"\",'Broker Sheet'!W119)","v":""},{"$f":"IF('Broker Sheet'!Y119=\"\",\"\",'Broker Sheet'!Y119)","v":""},{"$f":"IF('Broker Sheet'!AA119=\"\",\"\",'Broker Sheet'!AA119)","v":""},{"$f":"IF('Broker Sheet'!Z119=\"\",\"\",'Broker Sheet'!Z119)","v":""},{"$f":"IF('Broker Sheet'!AB119=\"\",\"\",'Broker Sheet'!AB119)","v":""},null,null,{"$f":"IF('Broker Sheet'!L119=\"\",\"\",TEXT('Broker Sheet'!L119,\"YYYYMMDD\"))","v":""},{"$f":"IF('Broker Sheet'!AC119=\"\",\"\",TEXT('Broker Sheet'!AC119,\"YYYYMMDD\"))","v":""},{"$f":"IF('Broker Sheet'!AD119=\"\",\"\",TEXT('Broker Sheet'!AD119,\"YYYYMMDD\"))","v":""},{"$f":"IF('Broker Sheet'!AE119=\"\",\"\",'Broker Sheet'!AE119)","v":""},{"$f":"IF('Broker Sheet'!AF119=\"\",\"\",TEXT('Broker Sheet'!AF119,\"YYYYMMDD\"))","v":""},{"$f":"IF('Broker Sheet'!AG119=\"\",\"\",TEXT('Broker Sheet'!AG119,\"YYYYMMDD\"))","v":""}]
[null,null,null,null,null,{"$f":"IF('Broker Sheet'!C120=\"\",\"\",'Broker Sheet'!C120)","v":""},{"$f":"IF('Broker Sheet'!D120=\"\",\"\",'Broker Sheet'!D120)","v":""},{"$f":"IF('Broker Sheet'!E120=\"\",\"\",'Broker Sheet'!E120)","v":""},{"$f":"IF('Broker Sheet'!F120=\"\",\"\",'Broker Sheet'!F120)","v":""},{"$f":"IF('Broker Sheet'!G120=\"\",\"\",TEXT('Broker Sheet'!G120,\"YYYYMMDD\"))","v":""},{"$f":"IF('Broker Sheet'!H120=\"\",\"\",'Broker Sheet'!H120)","v":""},{"$f":"IF('Broker Sheet'!I120=\"\",\"\",'Broker Sheet'!I120)","v":""},{"$f":"IF('Broker Sheet'!J120=\"\",\"\",VLOOKUP('Broker Sheet'!J120,(Reference!$E$4:$F$9),2,FALSE))","v":""},{"$f":"IF('Broker Sheet'!K120=\"\",\"\",'Broker Sheet'!K120)","v":""},{"$f":"IF('Broker Sheet'!R120=\"\",\"\",'Broker Sheet'!R120)","v":""},{"$f":"IF('Broker Sheet'!S120=\"\",\"\",'Broker Sheet'!S120)","v":""},{"$f":"IF('Broker Sheet'!T120=\"\",\"\",'Broker Sheet'!T120)","v":""},{"$f":"IF('Broker Sheet'!U120=\"\",\"\",'Broker Sheet'!U120)","v":""},{"$f":"IF('Broker Sheet'!V120=\"\",\"\",'Broker Sheet'!V120)","v":""},{"$f":"IF('Broker Sheet'!W120=\"\",\"\",'Broker Sheet'!W120)","v":""},{"$f":"IF('Broker Sheet'!Y120=\"\",\"\",'Broker Sheet'!Y120)","v":""},{"$f":"IF('Broker Sheet'!AA120=\"\",\"\",'Broker Sheet'!AA120)","v":""},{"$f":"IF('Broker Sheet'!Z120=\"\",\"\",'Broker Sheet'!Z120)","v":""},{"$f":"IF('Broker Sheet'!AB120=\"\",\"\",'Broker Sheet'!AB120)","v":""},null,null,{"$f":"IF('Broker Sheet'!L120=\"\",\"\",TEXT('Broker Sheet'!L120,\"YYYYMMDD\"))","v":""},{"$f":"IF('Broker Sheet'!AC120=\"\",\"\",TEXT('Broker Sheet'!AC120,\"YYYYMMDD\"))","v":""},{"$f":"IF('Broker Sheet'!AD120=\"\",\"\",TEXT('Broker Sheet'!AD120,\"YYYYMMDD\"))","v":""},{"$f":"IF('Broker Sheet'!AE120=\"\",\"\",'Broker Sheet'!AE120)","v":""},{"$f":"IF('Broker Sheet'!AF120=\"\",\"\",TEXT('Broker Sheet'!AF120,\"YYYYMMDD\"))","v":""},{"$f":"IF('Broker Sheet'!AG120=\"\",\"\",TEXT('Broker Sheet'!AG120,\"YYYYMMDD\"))","v":""}]
[null,null,null,null,null,{"$f":"IF('Broker Sheet'!C121=\"\",\"\",'Broker Sheet'!C121)","v":""},{"$f":"IF('Broker Sheet'!D121=\"\",\"\",'Broker Sheet'!D121)","v":""},{"$f":"IF('Broker Sheet'!E121=\"\",\"\",'Broker Sheet'!E121)","v":""},{"$f":"IF('Broker Sheet'!F121=\"\",\"\",'Broker Sheet'!F121)","v":""},{"$f":"IF('Broker Sheet'!G121=\"\",\"\",TEXT('Broker Sheet'!G121,\"YYYYMMDD\"))","v":""},{"$f":"IF('Broker Sheet'!H121=\"\",\"\",'Broker Sheet'!H121)","v":""},{"$f":"IF('Broker Sheet'!I121=\"\",\"\",'Broker Sheet'!I121)","v":""},{"$f":"IF('Broker Sheet'!J121=\"\",\"\",VLOOKUP('Broker Sheet'!J121,(Reference!$E$4:$F$9),2,FALSE))","v":""},{"$f":"IF('Broker Sheet'!K121=\"\",\"\",'Broker Sheet'!K121)","v":""},{"$f":"IF('Broker Sheet'!R121=\"\",\"\",'Broker Sheet'!R121)","v":""},{"$f":"IF('Broker Sheet'!S121=\"\",\"\",'Broker Sheet'!S121)","v":""},{"$f":"IF('Broker Sheet'!T121=\"\",\"\",'Broker Sheet'!T121)","v":""},{"$f":"IF('Broker Sheet'!U121=\"\",\"\",'Broker Sheet'!U121)","v":""},{"$f":"IF('Broker Sheet'!V121=\"\",\"\",'Broker Sheet'!V121)","v":""},{"$f":"IF('Broker Sheet'!W121=\"\",\"\",'Broker Sheet'!W121)","v":""},{"$f":"IF('Broker Sheet'!Y121=\"\",\"\",'Broker Sheet'!Y121)","v":""},{"$f":"IF('Broker Sheet'!AA121=\"\",\"\",'Broker Sheet'!AA121)","v":""},{"$f":"IF('Broker Sheet'!Z121=\"\",\"\",'Broker Sheet'!Z121)","v":""},{"$f":"IF('Broker Sheet'!AB121=\"\",\"\",'Broker Sheet'!AB121)","v":""},null,null,{"$f":"IF('Broker Sheet'!L121=\"\",\"\",TEXT('Broker Sheet'!L121,\"YYYYMMDD\"))","v":""},{"$f":"IF('Broker Sheet'!AC121=\"\",\"\",TEXT('Broker Sheet'!AC121,\"YYYYMMDD\"))","v":""},{"$f":"IF('Broker Sheet'!AD121=\"\",\"\",TEXT('Broker Sheet'!AD121,\"YYYYMMDD\"))","v":""},{"$f":"IF('Broker Sheet'!AE121=\"\",\"\",'Broker Sheet'!AE121)","v":""},{"$f":"IF('Broker Sheet'!AF121=\"\",\"\",TEXT('Broker Sheet'!AF121,\"YYYYMMDD\"))","v":""},{"$f":"IF('Broker Sheet'!AG121=\"\",\"\",TEXT('Broker Sheet'!AG121,\"YYYYMMDD\"))","v":""}]
[null,null,null,null,null,{"$f":"IF('Broker Sheet'!C122=\"\",\"\",'Broker Sheet'!C122)","v":""},{"$f":"IF('Broker Sheet'!D122=\"\",\"\",'Broker Sheet'!D122)","v":""},{"$f":"IF('Broker Sheet'!E122=\"\",\"\",'Broker Sheet'!E122)","v":""},{"$f":"IF('Broker Sheet'!F122=\"\",\"\",'Broker Sheet'!F122)","v":""},{"$f":"IF('Broker Sheet'!G122=\"\",\"\",TEXT('Broker Sheet'!G122,\"YYYYMMDD\"))","v":""},{"$f":"IF('Broker Sheet'!H122=\"\",\"\",'Broker Sheet'!H122)","v":""},{"$f":"IF('Broker Sheet'!I122=\"\",\"\",'Broker Sheet'!I122)","v":""},{"$f":"IF('Broker Sheet'!J122=\"\",\"\",VLOOKUP('Broker Sheet'!J122,(Reference!$E$4:$F$9),2,FALSE))","v":""},{"$f":"IF('Broker Sheet'!K122=\"\",\"\",'Broker Sheet'!K122)","v":""},{"$f":"IF('Broker Sheet'!R122=\"\",\"\",'Broker Sheet'!R122)","v":""},{"$f":"IF('Broker Sheet'!S122=\"\",\"\",'Broker Sheet'!S122)","v":""},{"$f":"IF('Broker Sheet'!T122=\"\",\"\",'Broker Sheet'!T122)","v":""},{"$f":"IF('Broker Sheet'!U122=\"\",\"\",'Broker Sheet'!U122)","v":""},{"$f":"IF('Broker Sheet'!V122=\"\",\"\",'Broker Sheet'!V122)","v":""},{"$f":"IF('Broker Sheet'!W122=\"\",\"\",'Broker Sheet'!W122)","v":""},{"$f":"IF('Broker Sheet'!Y122=\"\",\"\",'Broker Sheet'!Y122)","v":""},{"$f":"IF('Broker Sheet'!AA122=\"\",\"\",'Broker Sheet'!AA122)","v":""},{"$f":"IF('Broker Sheet'!Z122=\"\",\"\",'Broker Sheet'!Z122)","v":""},{"$f":"IF('Broker Sheet'!AB122=\"\",\"\",'Broker Sheet'!AB122)","v":""},null,null,{"$f":"IF('Broker Sheet'!L122=\"\",\"\",TEXT('Broker Sheet'!L122,\"YYYYMMDD\"))","v":""},{"$f":"IF('Broker Sheet'!AC122=\"\",\"\",TEXT('Broker Sheet'!AC122,\"YYYYMMDD\"))","v":""},{"$f":"IF('Broker Sheet'!AD122=\"\",\"\",TEXT('Broker Sheet'!AD122,\"YYYYMMDD\"))","v":""},{"$f":"IF('Broker Sheet'!AE122=\"\",\"\",'Broker Sheet'!AE122)","v":""},{"$f":"IF('Broker Sheet'!AF122=\"\",\"\",TEXT('Broker Sheet'!AF122,\"YYYYMMDD\"))","v":""},{"$f":"IF('Broker Sheet'!AG122=\"\",\"\",TEXT('Broker Sheet'!AG122,\"YYYYMMDD\"))","v":""}]
[null,null,null,null,null,{"$f":"IF('Broker Sheet'!C123=\"\",\"\",'Broker Sheet'!C123)","v":""},{"$f":"IF('Broker Sheet'!D123=\"\",\"\",'Broker Sheet'!D123)","v":""},{"$f":"IF('Broker Sheet'!E123=\"\",\"\",'Broker Sheet'!E123)","v":""},{"$f":"IF('Broker Sheet'!F123=\"\",\"\",'Broker Sheet'!F123)","v":""},{"$f":"IF('Broker Sheet'!G123=\"\",\"\",TEXT('Broker Sheet'!G123,\"YYYYMMDD\"))","v":""},{"$f":"IF('Broker Sheet'!H123=\"\",\"\",'Broker Sheet'!H123)","v":""},{"$f":"IF('Broker Sheet'!I123=\"\",\"\",'Broker Sheet'!I123)","v":""},{"$f":"IF('Broker Sheet'!J123=\"\",\"\",VLOOKUP('Broker Sheet'!J123,(Reference!$E$4:$F$9),2,FALSE))","v":""},{"$f":"IF('Broker Sheet'!K123=\"\",\"\",'Broker Sheet'!K123)","v":""},{"$f":"IF('Broker Sheet'!R123=\"\",\"\",'Broker Sheet'!R123)","v":""},{"$f":"IF('Broker Sheet'!S123=\"\",\"\",'Broker Sheet'!S123)","v":""},{"$f":"IF('Broker Sheet'!T123=\"\",\"\",'Broker Sheet'!T123)","v":""},{"$f":"IF('Broker Sheet'!U123=\"\",\"\",'Broker Sheet'!U123)","v":""},{"$f":"IF('Broker Sheet'!V123=\"\",\"\",'Broker Sheet'!V123)","v":""},{"$f":"IF('Broker Sheet'!W123=\"\",\"\",'Broker Sheet'!W123)","v":""},{"$f":"IF('Broker Sheet'!Y123=\"\",\"\",'Broker Sheet'!Y123)","v":""},{"$f":"IF('Broker Sheet'!AA123=\"\",\"\",'Broker Sheet'!AA123)","v":""},{"$f":"IF('Broker Sheet'!Z123=\"\",\"\",'Broker Sheet'!Z123)","v":""},{"$f":"IF('Broker Sheet'!AB123=\"\",\"\",'Broker Sheet'!AB123)","v":""},null,null,{"$f":"IF('Broker Sheet'!L123=\"\",\"\",TEXT('Broker Sheet'!L123,\"YYYYMMDD\"))","v":""},{"$f":"IF('Broker Sheet'!AC123=\"\",\"\",TEXT('Broker Sheet'!AC123,\"YYYYMMDD\"))","v":""},{"$f":"IF('Broker Sheet'!AD123=\"\",\"\",TEXT('Broker Sheet'!AD123,\"YYYYMMDD\"))","v":""},{"$f":"IF('Broker Sheet'!AE123=\"\",\"\",'Broker Sheet'!AE123)","v":""},{"$f":"IF('Broker Sheet'!AF123=\"\",\"\",TEXT('Broker Sheet'!AF123,\"YYYYMMDD\"))","v":""},{"$f":"IF('Broker Sheet'!AG123=\"\",\"\",TEXT('Broker Sheet'!AG123,\"YYYYMMDD\"))","v":""}]
[null,null,null,null,null,{"$f":"IF('Broker Sheet'!C124=\"\",\"\",'Broker Sheet'!C124)","v":""},{"$f":"IF('Broker Sheet'!D124=\"\",\"\",'Broker Sheet'!D124)","v":""},{"$f":"IF('Broker Sheet'!E124=\"\",\"\",'Broker Sheet'!E124)","v":""},{"$f":"IF('Broker Sheet'!F124=\"\",\"\",'Broker Sheet'!F124)","v":""},{"$f":"IF('Broker Sheet'!G124=\"\",\"\",TEXT('Broker Sheet'!G124,\"YYYYMMDD\"))","v":""},{"$f":"IF('Broker Sheet'!H124=\"\",\"\",'Broker Sheet'!H124)","v":""},{"$f":"IF('Broker Sheet'!I124=\"\",\"\",'Broker Sheet'!I124)","v":""},{"$f":"IF('Broker Sheet'!J124=\"\",\"\",VLOOKUP('Broker Sheet'!J124,(Reference!$E$4:$F$9),2,FALSE))","v":""},{"$f":"IF('Broker Sheet'!K124=\"\",\"\",'Broker Sheet'!K124)","v":""},{"$f":"IF('Broker Sheet'!R124=\"\",\"\",'Broker Sheet'!R124)","v":""},{"$f":"IF('Broker Sheet'!S124=\"\",\"\",'Broker Sheet'!S124)","v":""},{"$f":"IF('Broker Sheet'!T124=\"\",\"\",'Broker Sheet'!T124)","v":""},{"$f":"IF('Broker Sheet'!U124=\"\",\"\",'Broker Sheet'!U124)","v":""},{"$f":"IF('Broker Sheet'!V124=\"\",\"\",'Broker Sheet'!V124)","v":""},{"$f":"IF('Broker Sheet'!W124=\"\",\"\",'Broker Sheet'!W124)","v":""},{"$f":"IF('Broker Sheet'!Y124=\"\",\"\",'Broker Sheet'!Y124)","v":""},{"$f":"IF('Broker Sheet'!AA124=\"\",\"\",'Broker Sheet'!AA124)","v":""},{"$f":"IF('Broker Sheet'!Z124=\"\",\"\",'Broker Sheet'!Z124)","v":""},{"$f":"IF('Broker Sheet'!AB124=\"\",\"\",'Broker Sheet'!AB124)","v":""},null,null,{"$f":"IF('Broker Sheet'!L124=\"\",\"\",TEXT('Broker Sheet'!L124,\"YYYYMMDD\"))","v":""},{"$f":"IF('Broker Sheet'!AC124=\"\",\"\",TEXT('Broker Sheet'!AC124,\"YYYYMMDD\"))","v":""},{"$f":"IF('Broker Sheet'!AD124=\"\",\"\",TEXT('Broker Sheet'!AD124,\"YYYYMMDD\"))","v":""},{"$f":"IF('Broker Sheet'!AE124=\"\",\"\",'Broker Sheet'!AE124)","v":""},{"$f":"IF('Broker Sheet'!AF124=\"\",\"\",TEXT('Broker Sheet'!AF124,\"YYYYMMDD\"))","v":""},{"$f":"IF('Broker Sheet'!AG124=\"\",\"\",TEXT('Broker Sheet'!AG124,\"YYYYMMDD\"))","v":""}]
[null,null,null,null,null,{"$f":"IF('Broker Sheet'!C125=\"\",\"\",'Broker Sheet'!C125)","v":""},{"$f":"IF('Broker Sheet'!D125=\"\",\"\",'Broker Sheet'!D125)","v":""},{"$f":"IF('Broker Sheet'!E125=\"\",\"\",'Broker Sheet'!E125)","v":""},{"$f":"IF('Broker Sheet'!F125=\"\",\"\",'Broker Sheet'!F125)","v":""},{"$f":"IF('Broker Sheet'!G125=\"\",\"\",TEXT('Broker Sheet'!G125,\"YYYYMMDD\"))","v":""},{"$f":"IF('Broker Sheet'!H125=\"\",\"\",'Broker Sheet'!H125)","v":""},{"$f":"IF('Broker Sheet'!I125=\"\",\"\",'Broker Sheet'!I125)","v":""},{"$f":"IF('Broker Sheet'!J125=\"\",\"\",VLOOKUP('Broker Sheet'!J125,(Reference!$E$4:$F$9),2,FALSE))","v":""},{"$f":"IF('Broker Sheet'!K125=\"\",\"\",'Broker Sheet'!K125)","v":""},{"$f":"IF('Broker Sheet'!R125=\"\",\"\",'Broker Sheet'!R125)","v":""},{"$f":"IF('Broker Sheet'!S125=\"\",\"\",'Broker Sheet'!S125)","v":""},{"$f":"IF('Broker Sheet'!T125=\"\",\"\",'Broker Sheet'!T125)","v":""},{"$f":"IF('Broker Sheet'!U125=\"\",\"\",'Broker Sheet'!U125)","v":""},{"$f":"IF('Broker Sheet'!V125=\"\",\"\",'Broker Sheet'!V125)","v":""},{"$f":"IF('Broker Sheet'!W125=\"\",\"\",'Broker Sheet'!W125)","v":""},{"$f":"IF('Broker Sheet'!Y125=\"\",\"\",'Broker Sheet'!Y125)","v":""},{"$f":"IF('Broker Sheet'!AA125=\"\",\"\",'Broker Sheet'!AA125)","v":""},{"$f":"IF('Broker Sheet'!Z125=\"\",\"\",'Broker Sheet'!Z125)","v":""},{"$f":"IF('Broker Sheet'!AB125=\"\",\"\",'Broker Sheet'!AB125)","v":""},null,null,{"$f":"IF('Broker Sheet'!L125=\"\",\"\",TEXT('Broker Sheet'!L125,\"YYYYMMDD\"))","v":""},{"$f":"IF('Broker Sheet'!AC125=\"\",\"\",TEXT('Broker Sheet'!AC125,\"YYYYMMDD\"))","v":""},{"$f":"IF('Broker Sheet'!AD125=\"\",\"\",TEXT('Broker Sheet'!AD125,\"YYYYMMDD\"))","v":""},{"$f":"IF('Broker Sheet'!AE125=\"\",\"\",'Broker Sheet'!AE125)","v":""},{"$f":"IF('Broker Sheet'!AF125=\"\",\"\",TEXT('Broker Sheet'!AF125,\"YYYYMMDD\"))","v":""},{"$f":"IF('Broker Sheet'!AG125=\"\",\"\",TEXT('Broker Sheet'!AG125,\"YYYYMMDD\"))","v":""}]
[null,null,null,null,null,{"$f":"IF('Broker Sheet'!C126=\"\",\"\",'Broker Sheet'!C126)","v":""},{"$f":"IF('Broker Sheet'!D126=\"\",\"\",'Broker Sheet'!D126)","v":""},{"$f":"IF('Broker Sheet'!E126=\"\",\"\",'Broker Sheet'!E126)","v":""},{"$f":"IF('Broker Sheet'!F126=\"\",\"\",'Broker Sheet'!F126)","v":""},{"$f":"IF('Broker Sheet'!G126=\"\",\"\",TEXT('Broker Sheet'!G126,\"YYYYMMDD\"))","v":""},{"$f":"IF('Broker Sheet'!H126=\"\",\"\",'Broker Sheet'!H126)","v":""},{"$f":"IF('Broker Sheet'!I126=\"\",\"\",'Broker Sheet'!I126)","v":""},{"$f":"IF('Broker Sheet'!J126=\"\",\"\",VLOOKUP('Broker Sheet'!J126,(Reference!$E$4:$F$9),2,FALSE))","v":""},{"$f":"IF('Broker Sheet'!K126=\"\",\"\",'Broker Sheet'!K126)","v":""},{"$f":"IF('Broker Sheet'!R126=\"\",\"\",'Broker Sheet'!R126)","v":""},{"$f":"IF('Broker Sheet'!S126=\"\",\"\",'Broker Sheet'!S126)","v":""},{"$f":"IF('Broker Sheet'!T126=\"\",\"\",'Broker Sheet'!T126)","v":""},{"$f":"IF('Broker Sheet'!U126=\"\",\"\",'Broker Sheet'!U126)","v":""},{"$f":"IF('Broker Sheet'!V126=\"\",\"\",'Broker Sheet'!V126)","v":""},{"$f":"IF('Broker Sheet'!W126=\"\",\"\",'Broker Sheet'!W126)","v":""},{"$f":"IF('Broker Sheet'!Y126=\"\",\"\",'Broker Sheet'!Y126)","v":""},{"$f":"IF('Broker Sheet'!AA126=\"\",\"\",'Broker Sheet'!AA126)","v":""},{"$f":"IF('Broker Sheet'!Z126=\"\",\"\",'Broker Sheet'!Z126)","v":""},{"$f":"IF('Broker Sheet'!AB126=\"\",\"\",'Broker Sheet'!AB126)","v":""},null,null,{"$f":"IF('Broker Sheet'!L126=\"\",\"\",TEXT('Broker Sheet'!L126,\"YYYYMMDD\"))","v":""},{"$f":"IF('Broker Sheet'!AC126=\"\",\"\",TEXT('Broker Sheet'!AC126,\"YYYYMMDD\"))","v":""},{"$f":"IF('Broker Sheet'!AD126=\"\",\"\",TEXT('Broker Sheet'!AD126,\"YYYYMMDD\"))","v":""},{"$f":"IF('Broker Sheet'!AE126=\"\",\"\",'Broker Sheet'!AE126)","v":""},{"$f":"IF('Broker Sheet'!AF126=\"\",\"\",TEXT('Broker Sheet'!AF126,\"YYYYMMDD\"))","v":""},{"$f":"IF('Broker Sheet'!AG126=\"\",\"\",TEXT('Broker Sheet'!AG126,\"YYYYMMDD\"))","v":""}]
[null,null,null,null,null,{"$f":"IF('Broker Sheet'!C127=\"\",\"\",'Broker Sheet'!C127)","v":""},{"$f":"IF('Broker Sheet'!D127=\"\",\"\",'Broker Sheet'!D127)","v":""},{"$f":"IF('Broker Sheet'!E127=\"\",\"\",'Broker Sheet'!E127)","v":""},{"$f":"IF('Broker Sheet'!F127=\"\",\"\",'Broker Sheet'!F127)","v":""},{"$f":"IF('Broker Sheet'!G127=\"\",\"\",TEXT('Broker Sheet'!G127,\"YYYYMMDD\"))","v":""},{"$f":"IF('Broker Sheet'!H127=\"\",\"\",'Broker Sheet'!H127)","v":""},{"$f":"IF('Broker Sheet'!I127=\"\",\"\",'Broker Sheet'!I127)","v":""},{"$f":"IF('Broker Sheet'!J127=\"\",\"\",VLOOKUP('Broker Sheet'!J127,(Reference!$E$4:$F$9),2,FALSE))","v":""},{"$f":"IF('Broker Sheet'!K127=\"\",\"\",'Broker Sheet'!K127)","v":""},{"$f":"IF('Broker Sheet'!R127=\"\",\"\",'Broker Sheet'!R127)","v":""},{"$f":"IF('Broker Sheet'!S127=\"\",\"\",'Broker Sheet'!S127)","v":""},{"$f":"IF('Broker Sheet'!T127=\"\",\"\",'Broker Sheet'!T127)","v":""},{"$f":"IF('Broker Sheet'!U127=\"\",\"\",'Broker Sheet'!U127)","v":""},{"$f":"IF('Broker Sheet'!V127=\"\",\"\",'Broker Sheet'!V127)","v":""},{"$f":"IF('Broker Sheet'!W127=\"\",\"\",'Broker Sheet'!W127)","v":""},{"$f":"IF('Broker Sheet'!Y127=\"\",\"\",'Broker Sheet'!Y127)","v":""},{"$f":"IF('Broker Sheet'!AA127=\"\",\"\",'Broker Sheet'!AA127)","v":""},{"$f":"IF('Broker Sheet'!Z127=\"\",\"\",'Broker Sheet'!Z127)","v":""},{"$f":"IF('Broker Sheet'!AB127=\"\",\"\",'Broker Sheet'!AB127)","v":""},null,null,{"$f":"IF('Broker Sheet'!L127=\"\",\"\",TEXT('Broker Sheet'!L127,\"YYYYMMDD\"))","v":""},{"$f":"IF('Broker Sheet'!AC127=\"\",\"\",TEXT('Broker Sheet'!AC127,\"YYYYMMDD\"))","v":""},{"$f":"IF('Broker Sheet'!AD127=\"\",\"\",TEXT('Broker Sheet'!AD127,\"YYYYMMDD\"))","v":""},{"$f":"IF('Broker Sheet'!AE127=\"\",\"\",'Broker Sheet'!AE127)","v":""},{"$f":"IF('Broker Sheet'!AF127=\"\",\"\",TEXT('Broker Sheet'!AF127,\"YYYYMMDD\"))","v":""},{"$f":"IF('Broker Sheet'!AG127=\"\",\"\",TEXT('Broker Sheet'!AG127,\"YYYYMMDD\"))","v":""}]
[null,null,null,null,null,{"$f":"IF('Broker Sheet'!C128=\"\",\"\",'Broker Sheet'!C128)","v":""},{"$f":"IF('Broker Sheet'!D128=\"\",\"\",'Broker Sheet'!D128)","v":""},{"$f":"IF('Broker Sheet'!E128=\"\",\"\",'Broker Sheet'!E128)","v":""},{"$f":"IF('Broker Sheet'!F128=\"\",\"\",'Broker Sheet'!F128)","v":""},{"$f":"IF('Broker Sheet'!G128=\"\",\"\",TEXT('Broker Sheet'!G128,\"YYYYMMDD\"))","v":""},{"$f":"IF('Broker Sheet'!H128=\"\",\"\",'Broker Sheet'!H128)","v":""},{"$f":"IF('Broker Sheet'!I128=\"\",\"\",'Broker Sheet'!I128)","v":""},{"$f":"IF('Broker Sheet'!J128=\"\",\"\",VLOOKUP('Broker Sheet'!J128,(Reference!$E$4:$F$9),2,FALSE))","v":""},{"$f":"IF('Broker Sheet'!K128=\"\",\"\",'Broker Sheet'!K128)","v":""},{"$f":"IF('Broker Sheet'!R128=\"\",\"\",'Broker Sheet'!R128)","v":""},{"$f":"IF('Broker Sheet'!S128=\"\",\"\",'Broker Sheet'!S128)","v":""},{"$f":"IF('Broker Sheet'!T128=\"\",\"\",'Broker Sheet'!T128)","v":""},{"$f":"IF('Broker Sheet'!U128=\"\",\"\",'Broker Sheet'!U128)","v":""},{"$f":"IF('Broker Sheet'!V128=\"\",\"\",'Broker Sheet'!V128)","v":""},{"$f":"IF('Broker Sheet'!W128=\"\",\"\",'Broker Sheet'!W128)","v":""},{"$f":"IF('Broker Sheet'!Y128=\"\",\"\",'Broker Sheet'!Y128)","v":""},{"$f":"IF('Broker Sheet'!AA128=\"\",\"\",'Broker Sheet'!AA128)","v":""},{"$f":"IF('Broker Sheet'!Z128=\"\",\"\",'Broker Sheet'!Z128)","v":""},{"$f":"IF('Broker Sheet'!AB128=\"\",\"\",'Broker Sheet'!AB128)","v":""},null,null,{"$f":"IF('Broker Sheet'!L128=\"\",\"\",TEXT('Broker Sheet'!L128,\"YYYYMMDD\"))","v":""},{"$f":"IF('Broker Sheet'!AC128=\"\",\"\",TEXT('Broker Sheet'!AC128,\"YYYYMMDD\"))","v":""},{"$f":"IF('Broker Sheet'!AD128=\"\",\"\",TEXT('Broker Sheet'!AD128,\"YYYYMMDD\"))","v":""},{"$f":"IF('Broker Sheet'!AE128=\"\",\"\",'Broker Sheet'!AE128)","v":""},{"$f":"IF('Broker Sheet'!AF128=\"\",\"\",TEXT('Broker Sheet'!AF128,\"YYYYMMDD\"))","v":""},{"$f":"IF('Broker Sheet'!AG128=\"\",\"\",TEXT('Broker Sheet'!AG128,\"YYYYMMDD\"))","v":""}]
[null,null,null,null,null,{"$f":"IF('Broker Sheet'!C129=\"\",\"\",'Broker Sheet'!C129)","v":""},{"$f":"IF('Broker Sheet'!D129=\"\",\"\",'Broker Sheet'!D129)","v":""},{"$f":"IF('Broker Sheet'!E129=\"\",\"\",'Broker Sheet'!E129)","v":""},{"$f":"IF('Broker Sheet'!F129=\"\",\"\",'Broker Sheet'!F129)","v":""},{"$f":"IF('Broker Sheet'!G129=\"\",\"\",TEXT('Broker Sheet'!G129,\"YYYYMMDD\"))","v":""},{"$f":"IF('Broker Sheet'!H129=\"\",\"\",'Broker Sheet'!H129)","v":""},{"$f":"IF('Broker Sheet'!I129=\"\",\"\",'Broker Sheet'!I129)","v":""},{"$f":"IF('Broker Sheet'!J129=\"\",\"\",VLOOKUP('Broker Sheet'!J129,(Reference!$E$4:$F$9),2,FALSE))","v":""},{"$f":"IF('Broker Sheet'!K129=\"\",\"\",'Broker Sheet'!K129)","v":""},{"$f":"IF('Broker Sheet'!R129=\"\",\"\",'Broker Sheet'!R129)","v":""},{"$f":"IF('Broker Sheet'!S129=\"\",\"\",'Broker Sheet'!S129)","v":""},{"$f":"IF('Broker Sheet'!T129=\"\",\"\",'Broker Sheet'!T129)","v":""},{"$f":"IF('Broker Sheet'!U129=\"\",\"\",'Broker Sheet'!U129)","v":""},{"$f":"IF('Broker Sheet'!V129=\"\",\"\",'Broker Sheet'!V129)","v":""},{"$f":"IF('Broker Sheet'!W129=\"\",\"\",'Broker Sheet'!W129)","v":""},{"$f":"IF('Broker Sheet'!Y129=\"\",\"\",'Broker Sheet'!Y129)","v":""},{"$f":"IF('Broker Sheet'!AA129=\"\",\"\",'Broker Sheet'!AA129)","v":""},{"$f":"IF('Broker Sheet'!Z129=\"\",\"\",'Broker Sheet'!Z129)","v":""},{"$f":"IF('Broker Sheet'!AB129=\"\",\"\",'Broker Sheet'!AB129)","v":""},null,null,{"$f":"IF('Broker Sheet'!L129=\"\",\"\",TEXT('Broker Sheet'!L129,\"YYYYMMDD\"))","v":""},{"$f":"IF('Broker Sheet'!AC129=\"\",\"\",TEXT('Broker Sheet'!AC129,\"YYYYMMDD\"))","v":""},{"$f":"IF('Broker Sheet'!AD129=\"\",\"\",TEXT('Broker Sheet'!AD129,\"YYYYMMDD\"))","v":""},{"$f":"IF('Broker Sheet'!AE129=\"\",\"\",'Broker Sheet'!AE129)","v":""},{"$f":"IF('Broker Sheet'!AF129=\"\",\"\",TEXT('Broker Sheet'!AF129,\"YYYYMMDD\"))","v":""},{"$f":"IF('Broker Sheet'!AG129=\"\",\"\",TEXT('Broker Sheet'!AG129,\"YYYYMMDD\"))","v":""}]
[null,null,null,null,null,{"$f":"IF('Broker Sheet'!C130=\"\",\"\",'Broker Sheet'!C130)","v":""},{"$f":"IF('Broker Sheet'!D130=\"\",\"\",'Broker Sheet'!D130)","v":""},{"$f":"IF('Broker Sheet'!E130=\"\",\"\",'Broker Sheet'!E130)","v":""},{"$f":"IF('Broker Sheet'!F130=\"\",\"\",'Broker Sheet'!F130)","v":""},{"$f":"IF('Broker Sheet'!G130=\"\",\"\",TEXT('Broker Sheet'!G130,\"YYYYMMDD\"))","v":""},{"$f":"IF('Broker Sheet'!H130=\"\",\"\",'Broker Sheet'!H130)","v":""},{"$f":"IF('Broker Sheet'!I130=\"\",\"\",'Broker Sheet'!I130)","v":""},{"$f":"IF('Broker Sheet'!J130=\"\",\"\",VLOOKUP('Broker Sheet'!J130,(Reference!$E$4:$F$9),2,FALSE))","v":""},{"$f":"IF('Broker Sheet'!K130=\"\",\"\",'Broker Sheet'!K130)","v":""},{"$f":"IF('Broker Sheet'!R130=\"\",\"\",'Broker Sheet'!R130)","v":""},{"$f":"IF('Broker Sheet'!S130=\"\",\"\",'Broker Sheet'!S130)","v":""},{"$f":"IF('Broker Sheet'!T130=\"\",\"\",'Broker Sheet'!T130)","v":""},{"$f":"IF('Broker Sheet'!U130=\"\",\"\",'Broker Sheet'!U130)","v":""},{"$f":"IF('Broker Sheet'!V130=\"\",\"\",'Broker Sheet'!V130)","v":""},{"$f":"IF('Broker Sheet'!W130=\"\",\"\",'Broker Sheet'!W130)","v":""},{"$f":"IF('Broker Sheet'!Y130=\"\",\"\",'Broker Sheet'!Y130)","v":""},{"$f":"IF('Broker Sheet'!AA130=\"\",\"\",'Broker Sheet'!AA130)","v":""},{"$f":"IF('Broker Sheet'!Z130=\"\",\"\",'Broker Sheet'!Z130)","v":""},{"$f":"IF('Broker Sheet'!AB130=\"\",\"\",'Broker Sheet'!AB130)","v":""},null,null,{"$f":"IF('Broker Sheet'!L130=\"\",\"\",TEXT('Broker Sheet'!L130,\"YYYYMMDD\"))","v":""},{"$f":"IF('Broker Sheet'!AC130=\"\",\"\",TEXT('Broker Sheet'!AC130,\"YYYYMMDD\"))","v":""},{"$f":"IF('Broker Sheet'!AD130=\"\",\"\",TEXT('Broker Sheet'!AD130,\"YYYYMMDD\"))","v":""},{"$f":"IF('Broker Sheet'!AE130=\"\",\"\",'Broker Sheet'!AE130)","v":""},{"$f":"IF('Broker Sheet'!AF130=\"\",\"\",TEXT('Broker Sheet'!AF130,\"YYYYMMDD\"))","v":""},{"$f":"IF('Broker Sheet'!AG130=\"\",\"\",TEXT('Broker Sheet'!AG130,\"YYYYMMDD\"))","v":""}]
[null,null,null,null,null,{"$f":"IF('Broker Sheet'!C131=\"\",\"\",'Broker Sheet'!C131)","v":""},{"$f":"IF('Broker Sheet'!D131=\"\",\"\",'Broker Sheet'!D131)","v":""},{"$f":"IF('Broker Sheet'!E131=\"\",\"\",'Broker Sheet'!E131)","v":""},{"$f":"IF('Broker Sheet'!F131=\"\",\"\",'Broker Sheet'!F131)","v":""},{"$f":"IF('Broker Sheet'!G131=\"\",\"\",TEXT('Broker Sheet'!G131,\"YYYYMMDD\"))","v":""},{"$f":"IF('Broker Sheet'!H131=\"\",\"\",'Broker Sheet'!H131)","v":""},{"$f":"IF('Broker Sheet'!I131=\"\",\"\",'Broker Sheet'!I131)","v":""},{"$f":"IF('Broker Sheet'!J131=\"\",\"\",VLOOKUP('Broker Sheet'!J131,(Reference!$E$4:$F$9),2,FALSE))","v":""},{"$f":"IF('Broker Sheet'!K131=\"\",\"\",'Broker Sheet'!K131)","v":""},{"$f":"IF('Broker Sheet'!R131=\"\",\"\",'Broker Sheet'!R131)","v":""},{"$f":"IF('Broker Sheet'!S131=\"\",\"\",'Broker Sheet'!S131)","v":""},{"$f":"IF('Broker Sheet'!T131=\"\",\"\",'Broker Sheet'!T131)","v":""},{"$f":"IF('Broker Sheet'!U131=\"\",\"\",'Broker Sheet'!U131)","v":""},{"$f":"IF('Broker Sheet'!V131=\"\",\"\",'Broker Sheet'!V131)","v":""},{"$f":"IF('Broker Sheet'!W131=\"\",\"\",'Broker Sheet'!W131)","v":""},{"$f":"IF('Broker Sheet'!Y131=\"\",\"\",'Broker Sheet'!Y131)","v":""},{"$f":"IF('Broker Sheet'!AA131=\"\",\"\",'Broker Sheet'!AA131)","v":""},{"$f":"IF('Broker Sheet'!Z131=\"\",\"\",'Broker Sheet'!Z131)","v":""},{"$f":"IF('Broker Sheet'!AB131=\"\",\"\",'Broker Sheet'!AB131)","v":""},null,null,{"$f":"IF('Broker Sheet'!L131=\"\",\"\",TEXT('Broker Sheet'!L131,\"YYYYMMDD\"))","v":""},{"$f":"IF('Broker Sheet'!AC131=\"\",\"\",TEXT('Broker Sheet'!AC131,\"YYYYMMDD\"))","v":""},{"$f":"IF('Broker Sheet'!AD131=\"\",\"\",TEXT('Broker Sheet'!AD131,\"YYYYMMDD\"))","v":""},{"$f":"IF('Broker Sheet'!AE131=\"\",\"\",'Broker Sheet'!AE131)","v":""},{"$f":"IF('Broker Sheet'!AF131=\"\",\"\",TEXT('Broker Sheet'!AF131,\"YYYYMMDD\"))","v":""},{"$f":"IF('Broker Sheet'!AG131=\"\",\"\",TEXT('Broker Sheet'!AG131,\"YYYYMMDD\"))","v":""}]
[null,null,null,null,null,{"$f":"IF('Broker Sheet'!C132=\"\",\"\",'Broker Sheet'!C132)","v":""},{"$f":"IF('Broker Sheet'!D132=\"\",\"\",'Broker Sheet'!D132)","v":""},{"$f":"IF('Broker Sheet'!E132=\"\",\"\",'Broker Sheet'!E132)","v":""},{"$f":"IF('Broker Sheet'!F132=\"\",\"\",'Broker Sheet'!F132)","v":""},{"$f":"IF('Broker Sheet'!G132=\"\",\"\",TEXT('Broker Sheet'!G132,\"YYYYMMDD\"))","v":""},{"$f":"IF('Broker Sheet'!H132=\"\",\"\",'Broker Sheet'!H132)","v":""},{"$f":"IF('Broker Sheet'!I132=\"\",\"\",'Broker Sheet'!I132)","v":""},{"$f":"IF('Broker Sheet'!J132=\"\",\"\",VLOOKUP('Broker Sheet'!J132,(Reference!$E$4:$F$9),2,FALSE))","v":""},{"$f":"IF('Broker Sheet'!K132=\"\",\"\",'Broker Sheet'!K132)","v":""},{"$f":"IF('Broker Sheet'!R132=\"\",\"\",'Broker Sheet'!R132)","v":""},{"$f":"IF('Broker Sheet'!S132=\"\",\"\",'Broker Sheet'!S132)","v":""},{"$f":"IF('Broker Sheet'!T132=\"\",\"\",'Broker Sheet'!T132)","v":""},{"$f":"IF('Broker Sheet'!U132=\"\",\"\",'Broker Sheet'!U132)","v":""},{"$f":"IF('Broker Sheet'!V132=\"\",\"\",'Broker Sheet'!V132)","v":""},{"$f":"IF('Broker Sheet'!W132=\"\",\"\",'Broker Sheet'!W132)","v":""},{"$f":"IF('Broker Sheet'!Y132=\"\",\"\",'Broker Sheet'!Y132)","v":""},{"$f":"IF('Broker Sheet'!AA132=\"\",\"\",'Broker Sheet'!AA132)","v":""},{"$f":"IF('Broker Sheet'!Z132=\"\",\"\",'Broker Sheet'!Z132)","v":""},{"$f":"IF('Broker Sheet'!AB132=\"\",\"\",'Broker Sheet'!AB132)","v":""},null,null,{"$f":"IF('Broker Sheet'!L132=\"\",\"\",TEXT('Broker Sheet'!L132,\"YYYYMMDD\"))","v":""},{"$f":"IF('Broker Sheet'!AC132=\"\",\"\",TEXT('Broker Sheet'!AC132,\"YYYYMMDD\"))","v":""},{"$f":"IF('Broker Sheet'!AD132=\"\",\"\",TEXT('Broker Sheet'!AD132,\"YYYYMMDD\"))","v":""},{"$f":"IF('Broker Sheet'!AE132=\"\",\"\",'Broker Sheet'!AE132)","v":""},{"$f":"IF('Broker Sheet'!AF132=\"\",\"\",TEXT('Broker Sheet'!AF132,\"YYYYMMDD\"))","v":""},{"$f":"IF('Broker Sheet'!AG132=\"\",\"\",TEXT('Broker Sheet'!AG132,\"YYYYMMDD\"))","v":""}]
[null,null,null,null,null,{"$f":"IF('Broker Sheet'!C133=\"\",\"\",'Broker Sheet'!C133)","v":""},{"$f":"IF('Broker Sheet'!D133=\"\",\"\",'Broker Sheet'!D133)","v":""},{"$f":"IF('Broker Sheet'!E133=\"\",\"\",'Broker Sheet'!E133)","v":""},{"$f":"IF('Broker Sheet'!F133=\"\",\"\",'Broker Sheet'!F133)","v":""},{"$f":"IF('Broker Sheet'!G133=\"\",\"\",TEXT('Broker Sheet'!G133,\"YYYYMMDD\"))","v":""},{"$f":"IF('Broker Sheet'!H133=\"\",\"\",'Broker Sheet'!H133)","v":""},{"$f":"IF('Broker Sheet'!I133=\"\",\"\",'Broker Sheet'!I133)","v":""},{"$f":"IF('Broker Sheet'!J133=\"\",\"\",VLOOKUP('Broker Sheet'!J133,(Reference!$E$4:$F$9),2,FALSE))","v":""},{"$f":"IF('Broker Sheet'!K133=\"\",\"\",'Broker Sheet'!K133)","v":""},{"$f":"IF('Broker Sheet'!R133=\"\",\"\",'Broker Sheet'!R133)","v":""},{"$f":"IF('Broker Sheet'!S133=\"\",\"\",'Broker Sheet'!S133)","v":""},{"$f":"IF('Broker Sheet'!T133=\"\",\"\",'Broker Sheet'!T133)","v":""},{"$f":"IF('Broker Sheet'!U133=\"\",\"\",'Broker Sheet'!U133)","v":""},{"$f":"IF('Broker Sheet'!V133=\"\",\"\",'Broker Sheet'!V133)","v":""},{"$f":"IF('Broker Sheet'!W133=\"\",\"\",'Broker Sheet'!W133)","v":""},{"$f":"IF('Broker Sheet'!Y133=\"\",\"\",'Broker Sheet'!Y133)","v":""},{"$f":"IF('Broker Sheet'!AA133=\"\",\"\",'Broker Sheet'!AA133)","v":""},{"$f":"IF('Broker Sheet'!Z133=\"\",\"\",'Broker Sheet'!Z133)","v":""},{"$f":"IF('Broker Sheet'!AB133=\"\",\"\",'Broker Sheet'!AB133)","v":""},null,null,{"$f":"IF('Broker Sheet'!L133=\"\",\"\",TEXT('Broker Sheet'!L133,\"YYYYMMDD\"))","v":""},{"$f":"IF('Broker Sheet'!AC133=\"\",\"\",TEXT('Broker Sheet'!AC133,\"YYYYMMDD\"))","v":""},{"$f":"IF('Broker Sheet'!AD133=\"\",\"\",TEXT('Broker Sheet'!AD133,\"YYYYMMDD\"))","v":""},{"$f":"IF('Broker Sheet'!AE133=\"\",\"\",'Broker Sheet'!AE133)","v":""},{"$f":"IF('Broker Sheet'!AF133=\"\",\"\",TEXT('Broker Sheet'!AF133,\"YYYYMMDD\"))","v":""},{"$f":"IF('Broker Sheet'!AG133=\"\",\"\",TEXT('Broker Sheet'!AG133,\"YYYYMMDD\"))","v":""}]
[null,null,null,null,null,{"$f":"IF('Broker Sheet'!C134=\"\",\"\",'Broker Sheet'!C134)","v":""},{"$f":"IF('Broker Sheet'!D134=\"\",\"\",'Broker Sheet'!D134)","v":""},{"$f":"IF('Broker Sheet'!E134=\"\",\"\",'Broker Sheet'!E134)","v":""},{"$f":"IF('Broker Sheet'!F134=\"\",\"\",'Broker Sheet'!F134)","v":""},{"$f":"IF('Broker Sheet'!G134=\"\",\"\",TEXT('Broker Sheet'!G134,\"YYYYMMDD\"))","v":""},{"$f":"IF('Broker Sheet'!H134=\"\",\"\",'Broker Sheet'!H134)","v":""},{"$f":"IF('Broker Sheet'!I134=\"\",\"\",'Broker Sheet'!I134)","v":""},{"$f":"IF('Broker Sheet'!J134=\"\",\"\",VLOOKUP('Broker Sheet'!J134,(Reference!$E$4:$F$9),2,FALSE))","v":""},{"$f":"IF('Broker Sheet'!K134=\"\",\"\",'Broker Sheet'!K134)","v":""},{"$f":"IF('Broker Sheet'!R134=\"\",\"\",'Broker Sheet'!R134)","v":""},{"$f":"IF('Broker Sheet'!S134=\"\",\"\",'Broker Sheet'!S134)","v":""},{"$f":"IF('Broker Sheet'!T134=\"\",\"\",'Broker Sheet'!T134)","v":""},{"$f":"IF('Broker Sheet'!U134=\"\",\"\",'Broker Sheet'!U134)","v":""},{"$f":"IF('Broker Sheet'!V134=\"\",\"\",'Broker Sheet'!V134)","v":""},{"$f":"IF('Broker Sheet'!W134=\"\",\"\",'Broker Sheet'!W134)","v":""},{"$f":"IF('Broker Sheet'!Y134=\"\",\"\",'Broker Sheet'!Y134)","v":""},{"$f":"IF('Broker Sheet'!AA134=\"\",\"\",'Broker Sheet'!AA134)","v":""},{"$f":"IF('Broker Sheet'!Z134=\"\",\"\",'Broker Sheet'!Z134)","v":""},{"$f":"IF('Broker Sheet'!AB134=\"\",\"\",'Broker Sheet'!AB134)","v":""},null,null,{"$f":"IF('Broker Sheet'!L134=\"\",\"\",TEXT('Broker Sheet'!L134,\"YYYYMMDD\"))","v":""},{"$f":"IF('Broker Sheet'!AC134=\"\",\"\",TEXT('Broker Sheet'!AC134,\"YYYYMMDD\"))","v":""},{"$f":"IF('Broker Sheet'!AD134=\"\",\"\",TEXT('Broker Sheet'!AD134,\"YYYYMMDD\"))","v":""},{"$f":"IF('Broker Sheet'!AE134=\"\",\"\",'Broker Sheet'!AE134)","v":""},{"$f":"IF('Broker Sheet'!AF134=\"\",\"\",TEXT('Broker Sheet'!AF134,\"YYYYMMDD\"))","v":""},{"$f":"IF('Broker Sheet'!AG134=\"\",\"\",TEXT('Broker Sheet'!AG134,\"YYYYMMDD\"))","v":""}]
[null,null,null,null,null,{"$f":"IF('Broker Sheet'!C135=\"\",\"\",'Broker Sheet'!C135)","v":""},{"$f":"IF('Broker Sheet'!D135=\"\",\"\",'Broker Sheet'!D135)","v":""},{"$f":"IF('Broker Sheet'!E135=\"\",\"\",'Broker Sheet'!E135)","v":""},{"$f":"IF('Broker Sheet'!F135=\"\",\"\",'Broker Sheet'!F135)","v":""},{"$f":"IF('Broker Sheet'!G135=\"\",\"\",TEXT('Broker Sheet'!G135,\"YYYYMMDD\"))","v":""},{"$f":"IF('Broker Sheet'!H135=\"\",\"\",'Broker Sheet'!H135)","v":""},{"$f":"IF('Broker Sheet'!I135=\"\",\"\",'Broker Sheet'!I135)","v":""},{"$f":"IF('Broker Sheet'!J135=\"\",\"\",VLOOKUP('Broker Sheet'!J135,(Reference!$E$4:$F$9),2,FALSE))","v":""},{"$f":"IF('Broker Sheet'!K135=\"\",\"\",'Broker Sheet'!K135)","v":""},{"$f":"IF('Broker Sheet'!R135=\"\",\"\",'Broker Sheet'!R135)","v":""},{"$f":"IF('Broker Sheet'!S135=\"\",\"\",'Broker Sheet'!S135)","v":""},{"$f":"IF('Broker Sheet'!T135=\"\",\"\",'Broker Sheet'!T135)","v":""},{"$f":"IF('Broker Sheet'!U135=\"\",\"\",'Broker Sheet'!U135)","v":""},{"$f":"IF('Broker Sheet'!V135=\"\",\"\",'Broker Sheet'!V135)","v":""},{"$f":"IF('Broker Sheet'!W135=\"\",\"\",'Broker Sheet'!W135)","v":""},{"$f":"IF('Broker Sheet'!Y135=\"\",\"\",'Broker Sheet'!Y135)","v":""},{"$f":"IF('Broker Sheet'!AA135=\"\",\"\",'Broker Sheet'!AA135)","v":""},{"$f":"IF('Broker Sheet'!Z135=\"\",\"\",'Broker Sheet'!Z135)","v":""},{"$f":"IF('Broker Sheet'!AB135=\"\",\"\",'Broker Sheet'!AB135)","v":""},null,null,{"$f":"IF('Broker Sheet'!L135=\"\",\"\",TEXT('Broker Sheet'!L135,\"YYYYMMDD\"))","v":""},{"$f":"IF('Broker Sheet'!AC135=\"\",\"\",TEXT('Broker Sheet'!AC135,\"YYYYMMDD\"))","v":""},{"$f":"IF('Broker Sheet'!AD135=\"\",\"\",TEXT('Broker Sheet'!AD135,\"YYYYMMDD\"))","v":""},{"$f":"IF('Broker Sheet'!AE135=\"\",\"\",'Broker Sheet'!AE135)","v":""},{"$f":"IF('Broker Sheet'!AF135=\"\",\"\",TEXT('Broker Sheet'!AF135,\"YYYYMMDD\"))","v":""},{"$f":"IF('Broker Sheet'!AG135=\"\",\"\",TEXT('Broker Sheet'!AG135,\"YYYYMMDD\"))","v":""}]
[null,null,null,null,null,{"$f":"IF('Broker Sheet'!C136=\"\",\"\",'Broker Sheet'!C136)","v":""},{"$f":"IF('Broker Sheet'!D136=\"\",\"\",'Broker Sheet'!D136)","v":""},{"$f":"IF('Broker Sheet'!E136=\"\",\"\",'Broker Sheet'!E136)","v":""},{"$f":"IF('Broker Sheet'!F136=\"\",\"\",'Broker Sheet'!F136)","v":""},{"$f":"IF('Broker Sheet'!G136=\"\",\"\",TEXT('Broker Sheet'!G136,\"YYYYMMDD\"))","v":""},{"$f":"IF('Broker Sheet'!H136=\"\",\"\",'Broker Sheet'!H136)","v":""},{"$f":"IF('Broker Sheet'!I136=\"\",\"\",'Broker Sheet'!I136)","v":""},{"$f":"IF('Broker Sheet'!J136=\"\",\"\",VLOOKUP('Broker Sheet'!J136,(Reference!$E$4:$F$9),2,FALSE))","v":""},{"$f":"IF('Broker Sheet'!K136=\"\",\"\",'Broker Sheet'!K136)","v":""},{"$f":"IF('Broker Sheet'!R136=\"\",\"\",'Broker Sheet'!R136)","v":""},{"$f":"IF('Broker Sheet'!S136=\"\",\"\",'Broker Sheet'!S136)","v":""},{"$f":"IF('Broker Sheet'!T136=\"\",\"\",'Broker Sheet'!T136)","v":""},{"$f":"IF('Broker Sheet'!U136=\"\",\"\",'Broker Sheet'!U136)","v":""},{"$f":"IF('Broker Sheet'!V136=\"\",\"\",'Broker Sheet'!V136)","v":""},{"$f":"IF('Broker Sheet'!W136=\"\",\"\",'Broker Sheet'!W136)","v":""},{"$f":"IF('Broker Sheet'!Y136=\"\",\"\",'Broker Sheet'!Y136)","v":""},{"$f":"IF('Broker Sheet'!AA136=\"\",\"\",'Broker Sheet'!AA136)","v":""},{"$f":"IF('Broker Sheet'!Z136=\"\",\"\",'Broker Sheet'!Z136)","v":""},{"$f":"IF('Broker Sheet'!AB136=\"\",\"\",'Broker Sheet'!AB136)","v":""},null,null,{"$f":"IF('Broker Sheet'!L136=\"\",\"\",TEXT('Broker Sheet'!L136,\"YYYYMMDD\"))","v":""},{"$f":"IF('Broker Sheet'!AC136=\"\",\"\",TEXT('Broker Sheet'!AC136,\"YYYYMMDD\"))","v":""},{"$f":"IF('Broker Sheet'!AD136=\"\",\"\",TEXT('Broker Sheet'!AD136,\"YYYYMMDD\"))","v":""},{"$f":"IF('Broker Sheet'!AE136=\"\",\"\",'Broker Sheet'!AE136)","v":""},{"$f":"IF('Broker Sheet'!AF136=\"\",\"\",TEXT('Broker Sheet'!AF136,\"YYYYMMDD\"))","v":""},{"$f":"IF('Broker Sheet'!AG136=\"\",\"\",TEXT('Broker Sheet'!AG136,\"YYYYMMDD\"))","v":""}]
[null,null,null,null,null,{"$f":"IF('Broker Sheet'!C137=\"\",\"\",'Broker Sheet'!C137)","v":""},{"$f":"IF('Broker Sheet'!D137=\"\",\"\",'Broker Sheet'!D137)","v":""},{"$f":"IF('Broker Sheet'!E137=\"\",\"\",'Broker Sheet'!E137)","v":""},{"$f":"IF('Broker Sheet'!F137=\"\",\"\",'Broker Sheet'!F137)","v":""},{"$f":"IF('Broker Sheet'!G137=\"\",\"\",TEXT('Broker Sheet'!G137,\"YYYYMMDD\"))","v":""},{"$f":"IF('Broker Sheet'!H137=\"\",\"\",'Broker Sheet'!H137)","v":""},{"$f":"IF('Broker Sheet'!I137=\"\",\"\",'Broker Sheet'!I137)","v":""},{"$f":"IF('Broker Sheet'!J137=\"\",\"\",VLOOKUP('Broker Sheet'!J137,(Reference!$E$4:$F$9),2,FALSE))","v":""},{"$f":"IF('Broker Sheet'!K137=\"\",\"\",'Broker Sheet'!K137)","v":""},{"$f":"IF('Broker Sheet'!R137=\"\",\"\",'Broker Sheet'!R137)","v":""},{"$f":"IF('Broker Sheet'!S137=\"\",\"\",'Broker Sheet'!S137)","v":""},{"$f":"IF('Broker Sheet'!T137=\"\",\"\",'Broker Sheet'!T137)","v":""},{"$f":"IF('Broker Sheet'!U137=\"\",\"\",'Broker Sheet'!U137)","v":""},{"$f":"IF('Broker Sheet'!V137=\"\",\"\",'Broker Sheet'!V137)","v":""},{"$f":"IF('Broker Sheet'!W137=\"\",\"\",'Broker Sheet'!W137)","v":""},{"$f":"IF('Broker Sheet'!Y137=\"\",\"\",'Broker Sheet'!Y137)","v":""},{"$f":"IF('Broker Sheet'!AA137=\"\",\"\",'Broker Sheet'!AA137)","v":""},{"$f":"IF('Broker Sheet'!Z137=\"\",\"\",'Broker Sheet'!Z137)","v":""},{"$f":"IF('Broker Sheet'!AB137=\"\",\"\",'Broker Sheet'!AB137)","v":""},null,null,{"$f":"IF('Broker Sheet'!L137=\"\",\"\",TEXT('Broker Sheet'!L137,\"YYYYMMDD\"))","v":""},{"$f":"IF('Broker Sheet'!AC137=\"\",\"\",TEXT('Broker Sheet'!AC137,\"YYYYMMDD\"))","v":""},{"$f":"IF('Broker Sheet'!AD137=\"\",\"\",TEXT('Broker Sheet'!AD137,\"YYYYMMDD\"))","v":""},{"$f":"IF('Broker Sheet'!AE137=\"\",\"\",'Broker Sheet'!AE137)","v":""},{"$f":"IF('Broker Sheet'!AF137=\"\",\"\",TEXT('Broker Sheet'!AF137,\"YYYYMMDD\"))","v":""},{"$f":"IF('Broker Sheet'!AG137=\"\",\"\",TEXT('Broker Sheet'!AG137,\"YYYYMMDD\"))","v":""}]
[null,null,null,null,null,{"$f":"IF('Broker Sheet'!C138=\"\",\"\",'Broker Sheet'!C138)","v":""},{"$f":"IF('Broker Sheet'!D138=\"\",\"\",'Broker Sheet'!D138)","v":""},{"$f":"IF('Broker Sheet'!E138=\"\",\"\",'Broker Sheet'!E138)","v":""},{"$f":"IF('Broker Sheet'!F138=\"\",\"\",'Broker Sheet'!F138)","v":""},{"$f":"IF('Broker Sheet'!G138=\"\",\"\",TEXT('Broker Sheet'!G138,\"YYYYMMDD\"))","v":""},{"$f":"IF('Broker Sheet'!H138=\"\",\"\",'Broker Sheet'!H138)","v":""},{"$f":"IF('Broker Sheet'!I138=\"\",\"\",'Broker Sheet'!I138)","v":""},{"$f":"IF('Broker Sheet'!J138=\"\",\"\",VLOOKUP('Broker Sheet'!J138,(Reference!$E$4:$F$9),2,FALSE))","v":""},{"$f":"IF('Broker Sheet'!K138=\"\",\"\",'Broker Sheet'!K138)","v":""},{"$f":"IF('Broker Sheet'!R138=\"\",\"\",'Broker Sheet'!R138)","v":""},{"$f":"IF('Broker Sheet'!S138=\"\",\"\",'Broker Sheet'!S138)","v":""},{"$f":"IF('Broker Sheet'!T138=\"\",\"\",'Broker Sheet'!T138)","v":""},{"$f":"IF('Broker Sheet'!U138=\"\",\"\",'Broker Sheet'!U138)","v":""},{"$f":"IF('Broker Sheet'!V138=\"\",\"\",'Broker Sheet'!V138)","v":""},{"$f":"IF('Broker Sheet'!W138=\"\",\"\",'Broker Sheet'!W138)","v":""},{"$f":"IF('Broker Sheet'!Y138=\"\",\"\",'Broker Sheet'!Y138)","v":""},{"$f":"IF('Broker Sheet'!AA138=\"\",\"\",'Broker Sheet'!AA138)","v":""},{"$f":"IF('Broker Sheet'!Z138=\"\",\"\",'Broker Sheet'!Z138)","v":""},{"$f":"IF('Broker Sheet'!AB138=\"\",\"\",'Broker Sheet'!AB138)","v":""},null,null,{"$f":"IF('Broker Sheet'!L138=\"\",\"\",TEXT('Broker Sheet'!L138,\"YYYYMMDD\"))","v":""},{"$f":"IF('Broker Sheet'!AC138=\"\",\"\",TEXT('Broker Sheet'!AC138,\"YYYYMMDD\"))","v":""},{"$f":"IF('Broker Sheet'!AD138=\"\",\"\",TEXT('Broker Sheet'!AD138,\"YYYYMMDD\"))","v":""},{"$f":"IF('Broker Sheet'!AE138=\"\",\"\",'Broker Sheet'!AE138)","v":""},{"$f":"IF('Broker Sheet'!AF138=\"\",\"\",TEXT('Broker Sheet'!AF138,\"YYYYMMDD\"))","v":""},{"$f":"IF('Broker Sheet'!AG138=\"\",\"\",TEXT('Broker Sheet'!AG138,\"YYYYMMDD\"))","v":""}]
[null,null,null,null,null,{"$f":"IF('Broker Sheet'!C139=\"\",\"\",'Broker Sheet'!C139)","v":""},{"$f":"IF('Broker Sheet'!D139=\"\",\"\",'Broker Sheet'!D139)","v":""},{"$f":"IF('Broker Sheet'!E139=\"\",\"\",'Broker Sheet'!E139)","v":""},{"$f":"IF('Broker Sheet'!F139=\"\",\"\",'Broker Sheet'!F139)","v":""},{"$f":"IF('Broker Sheet'!G139=\"\",\"\",TEXT('Broker Sheet'!G139,\"YYYYMMDD\"))","v":""},{"$f":"IF('Broker Sheet'!H139=\"\",\"\",'Broker Sheet'!H139)","v":""},{"$f":"IF('Broker Sheet'!I139=\"\",\"\",'Broker Sheet'!I139)","v":""},{"$f":"IF('Broker Sheet'!J139=\"\",\"\",VLOOKUP('Broker Sheet'!J139,(Reference!$E$4:$F$9),2,FALSE))","v":""},{"$f":"IF('Broker Sheet'!K139=\"\",\"\",'Broker Sheet'!K139)","v":""},{"$f":"IF('Broker Sheet'!R139=\"\",\"\",'Broker Sheet'!R139)","v":""},{"$f":"IF('Broker Sheet'!S139=\"\",\"\",'Broker Sheet'!S139)","v":""},{"$f":"IF('Broker Sheet'!T139=\"\",\"\",'Broker Sheet'!T139)","v":""},{"$f":"IF('Broker Sheet'!U139=\"\",\"\",'Broker Sheet'!U139)","v":""},{"$f":"IF('Broker Sheet'!V139=\"\",\"\",'Broker Sheet'!V139)","v":""},{"$f":"IF('Broker Sheet'!W139=\"\",\"\",'Broker Sheet'!W139)","v":""},{"$f":"IF('Broker Sheet'!Y139=\"\",\"\",'Broker Sheet'!Y139)","v":""},{"$f":"IF('Broker Sheet'!AA139=\"\",\"\",'Broker Sheet'!AA139)","v":""},{"$f":"IF('Broker Sheet'!Z139=\"\",\"\",'Broker Sheet'!Z139)","v":""},{"$f":"IF('Broker Sheet'!AB139=\"\",\"\",'Broker Sheet'!AB139)","v":""},null,null,{"$f":"IF('Broker Sheet'!L139=\"\",\"\",TEXT('Broker Sheet'!L139,\"YYYYMMDD\"))","v":""},{"$f":"IF('Broker Sheet'!AC139=\"\",\"\",TEXT('Broker Sheet'!AC139,\"YYYYMMDD\"))","v":""},{"$f":"IF('Broker Sheet'!AD139=\"\",\"\",TEXT('Broker Sheet'!AD139,\"YYYYMMDD\"))","v":""},{"$f":"IF('Broker Sheet'!AE139=\"\",\"\",'Broker Sheet'!AE139)","v":""},{"$f":"IF('Broker Sheet'!AF139=\"\",\"\",TEXT('Broker Sheet'!AF139,\"YYYYMMDD\"))","v":""},{"$f":"IF('Broker Sheet'!AG139=\"\",\"\",TEXT('Broker Sheet'!AG139,\"YYYYMMDD\"))","v":""}]
[null,null,null,null,null,{"$f":"IF('Broker Sheet'!C140=\"\",\"\",'Broker Sheet'!C140)","v":""},{"$f":"IF('Broker Sheet'!D140=\"\",\"\",'Broker Sheet'!D140)","v":""},{"$f":"IF('Broker Sheet'!E140=\"\",\"\",'Broker Sheet'!E140)","v":""},{"$f":"IF('Broker Sheet'!F140=\"\",\"\",'Broker Sheet'!F140)","v":""},{"$f":"IF('Broker Sheet'!G140=\"\",\"\",TEXT('Broker Sheet'!G140,\"YYYYMMDD\"))","v":""},{"$f":"IF('Broker Sheet'!H140=\"\",\"\",'Broker Sheet'!H140)","v":""},{"$f":"IF('Broker Sheet'!I140=\"\",\"\",'Broker Sheet'!I140)","v":""},{"$f":"IF('Broker Sheet'!J140=\"\",\"\",VLOOKUP('Broker Sheet'!J140,(Reference!$E$4:$F$9),2,FALSE))","v":""},{"$f":"IF('Broker Sheet'!K140=\"\",\"\",'Broker Sheet'!K140)","v":""},{"$f":"IF('Broker Sheet'!R140=\"\",\"\",'Broker Sheet'!R140)","v":""},{"$f":"IF('Broker Sheet'!S140=\"\",\"\",'Broker Sheet'!S140)","v":""},{"$f":"IF('Broker Sheet'!T140=\"\",\"\",'Broker Sheet'!T140)","v":""},{"$f":"IF('Broker Sheet'!U140=\"\",\"\",'Broker Sheet'!U140)","v":""},{"$f":"IF('Broker Sheet'!V140=\"\",\"\",'Broker Sheet'!V140)","v":""},{"$f":"IF('Broker Sheet'!W140=\"\",\"\",'Broker Sheet'!W140)","v":""},{"$f":"IF('Broker Sheet'!Y140=\"\",\"\",'Broker Sheet'!Y140)","v":""},{"$f":"IF('Broker Sheet'!AA140=\"\",\"\",'Broker Sheet'!AA140)","v":""},{"$f":"IF('Broker Sheet'!Z140=\"\",\"\",'Broker Sheet'!Z140)","v":""},{"$f":"IF('Broker Sheet'!AB140=\"\",\"\",'Broker Sheet'!AB140)","v":""},null,null,{"$f":"IF('Broker Sheet'!L140=\"\",\"\",TEXT('Broker Sheet'!L140,\"YYYYMMDD\"))","v":""},{"$f":"IF('Broker Sheet'!AC140=\"\",\"\",TEXT('Broker Sheet'!AC140,\"YYYYMMDD\"))","v":""},{"$f":"IF('Broker Sheet'!AD140=\"\",\"\",TEXT('Broker Sheet'!AD140,\"YYYYMMDD\"))","v":""},{"$f":"IF('Broker Sheet'!AE140=\"\",\"\",'Broker Sheet'!AE140)","v":""},{"$f":"IF('Broker Sheet'!AF140=\"\",\"\",TEXT('Broker Sheet'!AF140,\"YYYYMMDD\"))","v":""},{"$f":"IF('Broker Sheet'!AG140=\"\",\"\",TEXT('Broker Sheet'!AG140,\"YYYYMMDD\"))","v":""}]
[null,null,null,null,null,{"$f":"IF('Broker Sheet'!C141=\"\",\"\",'Broker Sheet'!C141)","v":""},{"$f":"IF('Broker Sheet'!D141=\"\",\"\",'Broker Sheet'!D141)","v":""},{"$f":"IF('Broker Sheet'!E141=\"\",\"\",'Broker Sheet'!E141)","v":""},{"$f":"IF('Broker Sheet'!F141=\"\",\"\",'Broker Sheet'!F141)","v":""},{"$f":"IF('Broker Sheet'!G141=\"\",\"\",TEXT('Broker Sheet'!G141,\"YYYYMMDD\"))","v":""},{"$f":"IF('Broker Sheet'!H141=\"\",\"\",'Broker Sheet'!H141)","v":""},{"$f":"IF('Broker Sheet'!I141=\"\",\"\",'Broker Sheet'!I141)","v":""},{"$f":"IF('Broker Sheet'!J141=\"\",\"\",VLOOKUP('Broker Sheet'!J141,(Reference!$E$4:$F$9),2,FALSE))","v":""},{"$f":"IF('Broker Sheet'!K141=\"\",\"\",'Broker Sheet'!K141)","v":""},{"$f":"IF('Broker Sheet'!R141=\"\",\"\",'Broker Sheet'!R141)","v":""},{"$f":"IF('Broker Sheet'!S141=\"\",\"\",'Broker Sheet'!S141)","v":""},{"$f":"IF('Broker Sheet'!T141=\"\",\"\",'Broker Sheet'!T141)","v":""},{"$f":"IF('Broker Sheet'!U141=\"\",\"\",'Broker Sheet'!U141)","v":""},{"$f":"IF('Broker Sheet'!V141=\"\",\"\",'Broker Sheet'!V141)","v":""},{"$f":"IF('Broker Sheet'!W141=\"\",\"\",'Broker Sheet'!W141)","v":""},{"$f":"IF('Broker Sheet'!Y141=\"\",\"\",'Broker Sheet'!Y141)","v":""},{"$f":"IF('Broker Sheet'!AA141=\"\",\"\",'Broker Sheet'!AA141)","v":""},{"$f":"IF('Broker Sheet'!Z141=\"\",\"\",'Broker Sheet'!Z141)","v":""},{"$f":"IF('Broker Sheet'!AB141=\"\",\"\",'Broker Sheet'!AB141)","v":""},null,null,{"$f":"IF('Broker Sheet'!L141=\"\",\"\",TEXT('Broker Sheet'!L141,\"YYYYMMDD\"))","v":""},{"$f":"IF('Broker Sheet'!AC141=\"\",\"\",TEXT('Broker Sheet'!AC141,\"YYYYMMDD\"))","v":""},{"$f":"IF('Broker Sheet'!AD141=\"\",\"\",TEXT('Broker Sheet'!AD141,\"YYYYMMDD\"))","v":""},{"$f":"IF('Broker Sheet'!AE141=\"\",\"\",'Broker Sheet'!AE141)","v":""},{"$f":"IF('Broker Sheet'!AF141=\"\",\"\",TEXT('Broker Sheet'!AF141,\"YYYYMMDD\"))","v":""},{"$f":"IF('Broker Sheet'!AG141=\"\",\"\",TEXT('Broker Sheet'!AG141,\"YYYYMMDD\"))","v":""}]
[null,null,null,null,null,{"$f":"IF('Broker Sheet'!C142=\"\",\"\",'Broker Sheet'!C142)","v":""},{"$f":"IF('Broker Sheet'!D142=\"\",\"\",'Broker Sheet'!D142)","v":""},{"$f":"IF('Broker Sheet'!E142=\"\",\"\",'Broker Sheet'!E142)","v":""},{"$f":"IF('Broker Sheet'!F142=\"\",\"\",'Broker Sheet'!F142)","v":""},{"$f":"IF('Broker Sheet'!G142=\"\",\"\",TEXT('Broker Sheet'!G142,\"YYYYMMDD\"))","v":""},{"$f":"IF('Broker Sheet'!H142=\"\",\"\",'Broker Sheet'!H142)","v":""},{"$f":"IF('Broker Sheet'!I142=\"\",\"\",'Broker Sheet'!I142)","v":""},{"$f":"IF('Broker Sheet'!J142=\"\",\"\",VLOOKUP('Broker Sheet'!J142,(Reference!$E$4:$F$9),2,FALSE))","v":""},{"$f":"IF('Broker Sheet'!K142=\"\",\"\",'Broker Sheet'!K142)","v":""},{"$f":"IF('Broker Sheet'!R142=\"\",\"\",'Broker Sheet'!R142)","v":""},{"$f":"IF('Broker Sheet'!S142=\"\",\"\",'Broker Sheet'!S142)","v":""},{"$f":"IF('Broker Sheet'!T142=\"\",\"\",'Broker Sheet'!T142)","v":""},{"$f":"IF('Broker Sheet'!U142=\"\",\"\",'Broker Sheet'!U142)","v":""},{"$f":"IF('Broker Sheet'!V142=\"\",\"\",'Broker Sheet'!V142)","v":""},{"$f":"IF('Broker Sheet'!W142=\"\",\"\",'Broker Sheet'!W142)","v":""},{"$f":"IF('Broker Sheet'!Y142=\"\",\"\",'Broker Sheet'!Y142)","v":""},{"$f":"IF('Broker Sheet'!AA142=\"\",\"\",'Broker Sheet'!AA142)","v":""},{"$f":"IF('Broker Sheet'!Z142=\"\",\"\",'Broker Sheet'!Z142)","v":""},{"$f":"IF('Broker Sheet'!AB142=\"\",\"\",'Broker Sheet'!AB142)","v":""},null,null,{"$f":"IF('Broker Sheet'!L142=\"\",\"\",TEXT('Broker Sheet'!L142,\"YYYYMMDD\"))","v":""},{"$f":"IF('Broker Sheet'!AC142=\"\",\"\",TEXT('Broker Sheet'!AC142,\"YYYYMMDD\"))","v":""},{"$f":"IF('Broker Sheet'!AD142=\"\",\"\",TEXT('Broker Sheet'!AD142,\"YYYYMMDD\"))","v":""},{"$f":"IF('Broker Sheet'!AE142=\"\",\"\",'Broker Sheet'!AE142)","v":""},{"$f":"IF('Broker Sheet'!AF142=\"\",\"\",TEXT('Broker Sheet'!AF142,\"YYYYMMDD\"))","v":""},{"$f":"IF('Broker Sheet'!AG142=\"\",\"\",TEXT('Broker Sheet'!AG142,\"YYYYMMDD\"))","v":""}]
[null,null,null,null,null,{"$f":"IF('Broker Sheet'!C143=\"\",\"\",'Broker Sheet'!C143)","v":""},{"$f":"IF('Broker Sheet'!D143=\"\",\"\",'Broker Sheet'!D143)","v":""},{"$f":"IF('Broker Sheet'!E143=\"\",\"\",'Broker Sheet'!E143)","v":""},{"$f":"IF('Broker Sheet'!F143=\"\",\"\",'Broker Sheet'!F143)","v":""},{"$f":"IF('Broker Sheet'!G143=\"\",\"\",TEXT('Broker Sheet'!G143,\"YYYYMMDD\"))","v":""},{"$f":"IF('Broker Sheet'!H143=\"\",\"\",'Broker Sheet'!H143)","v":""},{"$f":"IF('Broker Sheet'!I143=\"\",\"\",'Broker Sheet'!I143)","v":""},{"$f":"IF('Broker Sheet'!J143=\"\",\"\",VLOOKUP('Broker Sheet'!J143,(Reference!$E$4:$F$9),2,FALSE))","v":""},{"$f":"IF('Broker Sheet'!K143=\"\",\"\",'Broker Sheet'!K143)","v":""},{"$f":"IF('Broker Sheet'!R143=\"\",\"\",'Broker Sheet'!R143)","v":""},{"$f":"IF('Broker Sheet'!S143=\"\",\"\",'Broker Sheet'!S143)","v":""},{"$f":"IF('Broker Sheet'!T143=\"\",\"\",'Broker Sheet'!T143)","v":""},{"$f":"IF('Broker Sheet'!U143=\"\",\"\",'Broker Sheet'!U143)","v":""},{"$f":"IF('Broker Sheet'!V143=\"\",\"\",'Broker Sheet'!V143)","v":""},{"$f":"IF('Broker Sheet'!W143=\"\",\"\",'Broker Sheet'!W143)","v":""},{"$f":"IF('Broker Sheet'!Y143=\"\",\"\",'Broker Sheet'!Y143)","v":""},{"$f":"IF('Broker Sheet'!AA143=\"\",\"\",'Broker Sheet'!AA143)","v":""},{"$f":"IF('Broker Sheet'!Z143=\"\",\"\",'Broker Sheet'!Z143)","v":""},{"$f":"IF('Broker Sheet'!AB143=\"\",\"\",'Broker Sheet'!AB143)","v":""},null,null,{"$f":"IF('Broker Sheet'!L143=\"\",\"\",TEXT('Broker Sheet'!L143,\"YYYYMMDD\"))","v":""},{"$f":"IF('Broker Sheet'!AC143=\"\",\"\",TEXT('Broker Sheet'!AC143,\"YYYYMMDD\"))","v":""},{"$f":"IF('Broker Sheet'!AD143=\"\",\"\",TEXT('Broker Sheet'!AD143,\"YYYYMMDD\"))","v":""},{"$f":"IF('Broker Sheet'!AE143=\"\",\"\",'Broker Sheet'!AE143)","v":""},{"$f":"IF('Broker Sheet'!AF143=\"\",\"\",TEXT('Broker Sheet'!AF143,\"YYYYMMDD\"))","v":""},{"$f":"IF('Broker Sheet'!AG143=\"\",\"\",TEXT('Broker Sheet'!AG143,\"YYYYMMDD\"))","v":""}]
[null,null,null,null,null,{"$f":"IF('Broker Sheet'!C144=\"\",\"\",'Broker Sheet'!C144)","v":""},{"$f":"IF('Broker Sheet'!D144=\"\",\"\",'Broker Sheet'!D144)","v":""},{"$f":"IF('Broker Sheet'!E144=\"\",\"\",'Broker Sheet'!E144)","v":""},{"$f":"IF('Broker Sheet'!F144=\"\",\"\",'Broker Sheet'!F144)","v":""},{"$f":"IF('Broker Sheet'!G144=\"\",\"\",TEXT('Broker Sheet'!G144,\"YYYYMMDD\"))","v":""},{"$f":"IF('Broker Sheet'!H144=\"\",\"\",'Broker Sheet'!H144)","v":""},{"$f":"IF('Broker Sheet'!I144=\"\",\"\",'Broker Sheet'!I144)","v":""},{"$f":"IF('Broker Sheet'!J144=\"\",\"\",VLOOKUP('Broker Sheet'!J144,(Reference!$E$4:$F$9),2,FALSE))","v":""},{"$f":"IF('Broker Sheet'!K144=\"\",\"\",'Broker Sheet'!K144)","v":""},{"$f":"IF('Broker Sheet'!R144=\"\",\"\",'Broker Sheet'!R144)","v":""},{"$f":"IF('Broker Sheet'!S144=\"\",\"\",'Broker Sheet'!S144)","v":""},{"$f":"IF('Broker Sheet'!T144=\"\",\"\",'Broker Sheet'!T144)","v":""},{"$f":"IF('Broker Sheet'!U144=\"\",\"\",'Broker Sheet'!U144)","v":""},{"$f":"IF('Broker Sheet'!V144=\"\",\"\",'Broker Sheet'!V144)","v":""},{"$f":"IF('Broker Sheet'!W144=\"\",\"\",'Broker Sheet'!W144)","v":""},{"$f":"IF('Broker Sheet'!Y144=\"\",\"\",'Broker Sheet'!Y144)","v":""},{"$f":"IF('Broker Sheet'!AA144=\"\",\"\",'Broker Sheet'!AA144)","v":""},{"$f":"IF('Broker Sheet'!Z144=\"\",\"\",'Broker Sheet'!Z144)","v":""},{"$f":"IF('Broker Sheet'!AB144=\"\",\"\",'Broker Sheet'!AB144)","v":""},null,null,{"$f":"IF('Broker Sheet'!L144=\"\",\"\",TEXT('Broker Sheet'!L144,\"YYYYMMDD\"))","v":""},{"$f":"IF('Broker Sheet'!AC144=\"\",\"\",TEXT('Broker Sheet'!AC144,\"YYYYMMDD\"))","v":""},{"$f":"IF('Broker Sheet'!AD144=\"\",\"\",TEXT('Broker Sheet'!AD144,\"YYYYMMDD\"))","v":""},{"$f":"IF('Broker Sheet'!AE144=\"\",\"\",'Broker Sheet'!AE144)","v":""},{"$f":"IF('Broker Sheet'!AF144=\"\",\"\",TEXT('Broker Sheet'!AF144,\"YYYYMMDD\"))","v":""},{"$f":"IF('Broker Sheet'!AG144=\"\",\"\",TEXT('Broker Sheet'!AG144,\"YYYYMMDD\"))","v":""}]
[null,null,null,null,null,{"$f":"IF('Broker Sheet'!C145=\"\",\"\",'Broker Sheet'!C145)","v":""},{"$f":"IF('Broker Sheet'!D145=\"\",\"\",'Broker Sheet'!D145)","v":""},{"$f":"IF('Broker Sheet'!E145=\"\",\"\",'Broker Sheet'!E145)","v":""},{"$f":"IF('Broker Sheet'!F145=\"\",\"\",'Broker Sheet'!F145)","v":""},{"$f":"IF('Broker Sheet'!G145=\"\",\"\",TEXT('Broker Sheet'!G145,\"YYYYMMDD\"))","v":""},{"$f":"IF('Broker Sheet'!H145=\"\",\"\",'Broker Sheet'!H145)","v":""},{"$f":"IF('Broker Sheet'!I145=\"\",\"\",'Broker Sheet'!I145)","v":""},{"$f":"IF('Broker Sheet'!J145=\"\",\"\",VLOOKUP('Broker Sheet'!J145,(Reference!$E$4:$F$9),2,FALSE))","v":""},{"$f":"IF('Broker Sheet'!K145=\"\",\"\",'Broker Sheet'!K145)","v":""},{"$f":"IF('Broker Sheet'!R145=\"\",\"\",'Broker Sheet'!R145)","v":""},{"$f":"IF('Broker Sheet'!S145=\"\",\"\",'Broker Sheet'!S145)","v":""},{"$f":"IF('Broker Sheet'!T145=\"\",\"\",'Broker Sheet'!T145)","v":""},{"$f":"IF('Broker Sheet'!U145=\"\",\"\",'Broker Sheet'!U145)","v":""},{"$f":"IF('Broker Sheet'!V145=\"\",\"\",'Broker Sheet'!V145)","v":""},{"$f":"IF('Broker Sheet'!W145=\"\",\"\",'Broker Sheet'!W145)","v":""},{"$f":"IF('Broker Sheet'!Y145=\"\",\"\",'Broker Sheet'!Y145)","v":""},{"$f":"IF('Broker Sheet'!AA145=\"\",\"\",'Broker Sheet'!AA145)","v":""},{"$f":"IF('Broker Sheet'!Z145=\"\",\"\",'Broker Sheet'!Z145)","v":""},{"$f":"IF('Broker Sheet'!AB145=\"\",\"\",'Broker Sheet'!AB145)","v":""},null,null,{"$f":"IF('Broker Sheet'!L145=\"\",\"\",TEXT('Broker Sheet'!L145,\"YYYYMMDD\"))","v":""},{"$f":"IF('Broker Sheet'!AC145=\"\",\"\",TEXT('Broker Sheet'!AC145,\"YYYYMMDD\"))","v":""},{"$f":"IF('Broker Sheet'!AD145=\"\",\"\",TEXT('Broker Sheet'!AD145,\"YYYYMMDD\"))","v":""},{"$f":"IF('Broker Sheet'!AE145=\"\",\"\",'Broker Sheet'!AE145)","v":""},{"$f":"IF('Broker Sheet'!AF145=\"\",\"\",TEXT('Broker Sheet'!AF145,\"YYYYMMDD\"))","v":""},{"$f":"IF('Broker Sheet'!AG145=\"\",\"\",TEXT('Broker Sheet'!AG145,\"YYYYMMDD\"))","v":""}]
[null,null,null,null,null,{"$f":"IF('Broker Sheet'!C146=\"\",\"\",'Broker Sheet'!C146)","v":""},{"$f":"IF('Broker Sheet'!D146=\"\",\"\",'Broker Sheet'!D146)","v":""},{"$f":"IF('Broker Sheet'!E146=\"\",\"\",'Broker Sheet'!E146)","v":""},{"$f":"IF('Broker Sheet'!F146=\"\",\"\",'Broker Sheet'!F146)","v":""},{"$f":"IF('Broker Sheet'!G146=\"\",\"\",TEXT('Broker Sheet'!G146,\"YYYYMMDD\"))","v":""},{"$f":"IF('Broker Sheet'!H146=\"\",\"\",'Broker Sheet'!H146)","v":""},{"$f":"IF('Broker Sheet'!I146=\"\",\"\",'Broker Sheet'!I146)","v":""},{"$f":"IF('Broker Sheet'!J146=\"\",\"\",VLOOKUP('Broker Sheet'!J146,(Reference!$E$4:$F$9),2,FALSE))","v":""},{"$f":"IF('Broker Sheet'!K146=\"\",\"\",'Broker Sheet'!K146)","v":""},{"$f":"IF('Broker Sheet'!R146=\"\",\"\",'Broker Sheet'!R146)","v":""},{"$f":"IF('Broker Sheet'!S146=\"\",\"\",'Broker Sheet'!S146)","v":""},{"$f":"IF('Broker Sheet'!T146=\"\",\"\",'Broker Sheet'!T146)","v":""},{"$f":"IF('Broker Sheet'!U146=\"\",\"\",'Broker Sheet'!U146)","v":""},{"$f":"IF('Broker Sheet'!V146=\"\",\"\",'Broker Sheet'!V146)","v":""},{"$f":"IF('Broker Sheet'!W146=\"\",\"\",'Broker Sheet'!W146)","v":""},{"$f":"IF('Broker Sheet'!Y146=\"\",\"\",'Broker Sheet'!Y146)","v":""},{"$f":"IF('Broker Sheet'!AA146=\"\",\"\",'Broker Sheet'!AA146)","v":""},{"$f":"IF('Broker Sheet'!Z146=\"\",\"\",'Broker Sheet'!Z146)","v":""},{"$f":"IF('Broker Sheet'!AB146=\"\",\"\",'Broker Sheet'!AB146)","v":""},null,null,{"$f":"IF('Broker Sheet'!L146=\"\",\"\",TEXT('Broker Sheet'!L146,\"YYYYMMDD\"))","v":""},{"$f":"IF('Broker Sheet'!AC146=\"\",\"\",TEXT('Broker Sheet'!AC146,\"YYYYMMDD\"))","v":""},{"$f":"IF('Broker Sheet'!AD146=\"\",\"\",TEXT('Broker Sheet'!AD146,\"YYYYMMDD\"))","v":""},{"$f":"IF('Broker Sheet'!AE146=\"\",\"\",'Broker Sheet'!AE146)","v":""},{"$f":"IF('Broker Sheet'!AF146=\"\",\"\",TEXT('Broker Sheet'!AF146,\"YYYYMMDD\"))","v":""},{"$f":"IF('Broker Sheet'!AG146=\"\",\"\",TEXT('Broker Sheet'!AG146,\"YYYYMMDD\"))","v":""}]
[null,null,null,null,null,{"$f":"IF('Broker Sheet'!C147=\"\",\"\",'Broker Sheet'!C147)","v":""},{"$f":"IF('Broker Sheet'!D147=\"\",\"\",'Broker Sheet'!D147)","v":""},{"$f":"IF('Broker Sheet'!E147=\"\",\"\",'Broker Sheet'!E147)","v":""},{"$f":"IF('Broker Sheet'!F147=\"\",\"\",'Broker Sheet'!F147)","v":""},{"$f":"IF('Broker Sheet'!G147=\"\",\"\",TEXT('Broker Sheet'!G147,\"YYYYMMDD\"))","v":""},{"$f":"IF('Broker Sheet'!H147=\"\",\"\",'Broker Sheet'!H147)","v":""},{"$f":"IF('Broker Sheet'!I147=\"\",\"\",'Broker Sheet'!I147)","v":""},{"$f":"IF('Broker Sheet'!J147=\"\",\"\",VLOOKUP('Broker Sheet'!J147,(Reference!$E$4:$F$9),2,FALSE))","v":""},{"$f":"IF('Broker Sheet'!K147=\"\",\"\",'Broker Sheet'!K147)","v":""},{"$f":"IF('Broker Sheet'!R147=\"\",\"\",'Broker Sheet'!R147)","v":""},{"$f":"IF('Broker Sheet'!S147=\"\",\"\",'Broker Sheet'!S147)","v":""},{"$f":"IF('Broker Sheet'!T147=\"\",\"\",'Broker Sheet'!T147)","v":""},{"$f":"IF('Broker Sheet'!U147=\"\",\"\",'Broker Sheet'!U147)","v":""},{"$f":"IF('Broker Sheet'!V147=\"\",\"\",'Broker Sheet'!V147)","v":""},{"$f":"IF('Broker Sheet'!W147=\"\",\"\",'Broker Sheet'!W147)","v":""},{"$f":"IF('Broker Sheet'!Y147=\"\",\"\",'Broker Sheet'!Y147)","v":""},{"$f":"IF('Broker Sheet'!AA147=\"\",\"\",'Broker Sheet'!AA147)","v":""},{"$f":"IF('Broker Sheet'!Z147=\"\",\"\",'Broker Sheet'!Z147)","v":""},{"$f":"IF('Broker Sheet'!AB147=\"\",\"\",'Broker Sheet'!AB147)","v":""},null,null,{"$f":"IF('Broker Sheet'!L147=\"\",\"\",TEXT('Broker Sheet'!L147,\"YYYYMMDD\"))","v":""},{"$f":"IF('Broker Sheet'!AC147=\"\",\"\",TEXT('Broker Sheet'!AC147,\"YYYYMMDD\"))","v":""},{"$f":"IF('Broker Sheet'!AD147=\"\",\"\",TEXT('Broker Sheet'!AD147,\"YYYYMMDD\"))","v":""},{"$f":"IF('Broker Sheet'!AE147=\"\",\"\",'Broker Sheet'!AE147)","v":""},{"$f":"IF('Broker Sheet'!AF147=\"\",\"\",TEXT('Broker Sheet'!AF147,\"YYYYMMDD\"))","v":""},{"$f":"IF('Broker Sheet'!AG147=\"\",\"\",TEXT('Broker Sheet'!AG147,\"YYYYMMDD\"))","v":""}]
[null,null,null,null,null,{"$f":"IF('Broker Sheet'!C148=\"\",\"\",'Broker Sheet'!C148)","v":""},{"$f":"IF('Broker Sheet'!D148=\"\",\"\",'Broker Sheet'!D148)","v":""},{"$f":"IF('Broker Sheet'!E148=\"\",\"\",'Broker Sheet'!E148)","v":""},{"$f":"IF('Broker Sheet'!F148=\"\",\"\",'Broker Sheet'!F148)","v":""},{"$f":"IF('Broker Sheet'!G148=\"\",\"\",TEXT('Broker Sheet'!G148,\"YYYYMMDD\"))","v":""},{"$f":"IF('Broker Sheet'!H148=\"\",\"\",'Broker Sheet'!H148)","v":""},{"$f":"IF('Broker Sheet'!I148=\"\",\"\",'Broker Sheet'!I148)","v":""},{"$f":"IF('Broker Sheet'!J148=\"\",\"\",VLOOKUP('Broker Sheet'!J148,(Reference!$E$4:$F$9),2,FALSE))","v":""},{"$f":"IF('Broker Sheet'!K148=\"\",\"\",'Broker Sheet'!K148)","v":""},{"$f":"IF('Broker Sheet'!R148=\"\",\"\",'Broker Sheet'!R148)","v":""},{"$f":"IF('Broker Sheet'!S148=\"\",\"\",'Broker Sheet'!S148)","v":""},{"$f":"IF('Broker Sheet'!T148=\"\",\"\",'Broker Sheet'!T148)","v":""},{"$f":"IF('Broker Sheet'!U148=\"\",\"\",'Broker Sheet'!U148)","v":""},{"$f":"IF('Broker Sheet'!V148=\"\",\"\",'Broker Sheet'!V148)","v":""},{"$f":"IF('Broker Sheet'!W148=\"\",\"\",'Broker Sheet'!W148)","v":""},{"$f":"IF('Broker Sheet'!Y148=\"\",\"\",'Broker Sheet'!Y148)","v":""},{"$f":"IF('Broker Sheet'!AA148=\"\",\"\",'Broker Sheet'!AA148)","v":""},{"$f":"IF('Broker Sheet'!Z148=\"\",\"\",'Broker Sheet'!Z148)","v":""},{"$f":"IF('Broker Sheet'!AB148=\"\",\"\",'Broker Sheet'!AB148)","v":""},null,null,{"$f":"IF('Broker Sheet'!L148=\"\",\"\",TEXT('Broker Sheet'!L148,\"YYYYMMDD\"))","v":""},{"$f":"IF('Broker Sheet'!AC148=\"\",\"\",TEXT('Broker Sheet'!AC148,\"YYYYMMDD\"))","v":""},{"$f":"IF('Broker Sheet'!AD148=\"\",\"\",TEXT('Broker Sheet'!AD148,\"YYYYMMDD\"))","v":""},{"$f":"IF('Broker Sheet'!AE148=\"\",\"\",'Broker Sheet'!AE148)","v":""},{"$f":"IF('Broker Sheet'!AF148=\"\",\"\",TEXT('Broker Sheet'!AF148,\"YYYYMMDD\"))","v":""},{"$f":"IF('Broker Sheet'!AG148=\"\",\"\",TEXT('Broker Sheet'!AG148,\"YYYYMMDD\"))","v":""}]
[null,null,null,null,null,{"$f":"IF('Broker Sheet'!C149=\"\",\"\",'Broker Sheet'!C149)","v":""},{"$f":"IF('Broker Sheet'!D149=\"\",\"\",'Broker Sheet'!D149)","v":""},{"$f":"IF('Broker Sheet'!E149=\"\",\"\",'Broker Sheet'!E149)","v":""},{"$f":"IF('Broker Sheet'!F149=\"\",\"\",'Broker Sheet'!F149)","v":""},{"$f":"IF('Broker Sheet'!G149=\"\",\"\",TEXT('Broker Sheet'!G149,\"YYYYMMDD\"))","v":""},{"$f":"IF('Broker Sheet'!H149=\"\",\"\",'Broker Sheet'!H149)","v":""},{"$f":"IF('Broker Sheet'!I149=\"\",\"\",'Broker Sheet'!I149)","v":""},{"$f":"IF('Broker Sheet'!J149=\"\",\"\",VLOOKUP('Broker Sheet'!J149,(Reference!$E$4:$F$9),2,FALSE))","v":""},{"$f":"IF('Broker Sheet'!K149=\"\",\"\",'Broker Sheet'!K149)","v":""},{"$f":"IF('Broker Sheet'!R149=\"\",\"\",'Broker Sheet'!R149)","v":""},{"$f":"IF('Broker Sheet'!S149=\"\",\"\",'Broker Sheet'!S149)","v":""},{"$f":"IF('Broker Sheet'!T149=\"\",\"\",'Broker Sheet'!T149)","v":""},{"$f":"IF('Broker Sheet'!U149=\"\",\"\",'Broker Sheet'!U149)","v":""},{"$f":"IF('Broker Sheet'!V149=\"\",\"\",'Broker Sheet'!V149)","v":""},{"$f":"IF('Broker Sheet'!W149=\"\",\"\",'Broker Sheet'!W149)","v":""},{"$f":"IF('Broker Sheet'!Y149=\"\",\"\",'Broker Sheet'!Y149)","v":""},{"$f":"IF('Broker Sheet'!AA149=\"\",\"\",'Broker Sheet'!AA149)","v":""},{"$f":"IF('Broker Sheet'!Z149=\"\",\"\",'Broker Sheet'!Z149)","v":""},{"$f":"IF('Broker Sheet'!AB149=\"\",\"\",'Broker Sheet'!AB149)","v":""},null,null,{"$f":"IF('Broker Sheet'!L149=\"\",\"\",TEXT('Broker Sheet'!L149,\"YYYYMMDD\"))","v":""},{"$f":"IF('Broker Sheet'!AC149=\"\",\"\",TEXT('Broker Sheet'!AC149,\"YYYYMMDD\"))","v":""},{"$f":"IF('Broker Sheet'!AD149=\"\",\"\",TEXT('Broker Sheet'!AD149,\"YYYYMMDD\"))","v":""},{"$f":"IF('Broker Sheet'!AE149=\"\",\"\",'Broker Sheet'!AE149)","v":""},{"$f":"IF('Broker Sheet'!AF149=\"\",\"\",TEXT('Broker Sheet'!AF149,\"YYYYMMDD\"))","v":""},{"$f":"IF('Broker Sheet'!AG149=\"\",\"\",TEXT('Broker Sheet'!AG149,\"YYYYMMDD\"))","v":""}]
[null,null,null,null,null,{"$f":"IF('Broker Sheet'!C150=\"\",\"\",'Broker Sheet'!C150)","v":""},{"$f":"IF('Broker Sheet'!D150=\"\",\"\",'Broker Sheet'!D150)","v":""},{"$f":"IF('Broker Sheet'!E150=\"\",\"\",'Broker Sheet'!E150)","v":""},{"$f":"IF('Broker Sheet'!F150=\"\",\"\",'Broker Sheet'!F150)","v":""},{"$f":"IF('Broker Sheet'!G150=\"\",\"\",TEXT('Broker Sheet'!G150,\"YYYYMMDD\"))","v":""},{"$f":"IF('Broker Sheet'!H150=\"\",\"\",'Broker Sheet'!H150)","v":""},{"$f":"IF('Broker Sheet'!I150=\"\",\"\",'Broker Sheet'!I150)","v":""},{"$f":"IF('Broker Sheet'!J150=\"\",\"\",VLOOKUP('Broker Sheet'!J150,(Reference!$E$4:$F$9),2,FALSE))","v":""},{"$f":"IF('Broker Sheet'!K150=\"\",\"\",'Broker Sheet'!K150)","v":""},{"$f":"IF('Broker Sheet'!R150=\"\",\"\",'Broker Sheet'!R150)","v":""},{"$f":"IF('Broker Sheet'!S150=\"\",\"\",'Broker Sheet'!S150)","v":""},{"$f":"IF('Broker Sheet'!T150=\"\",\"\",'Broker Sheet'!T150)","v":""},{"$f":"IF('Broker Sheet'!U150=\"\",\"\",'Broker Sheet'!U150)","v":""},{"$f":"IF('Broker Sheet'!V150=\"\",\"\",'Broker Sheet'!V150)","v":""},{"$f":"IF('Broker Sheet'!W150=\"\",\"\",'Broker Sheet'!W150)","v":""},{"$f":"IF('Broker Sheet'!Y150=\"\",\"\",'Broker Sheet'!Y150)","v":""},{"$f":"IF('Broker Sheet'!AA150=\"\",\"\",'Broker Sheet'!AA150)","v":""},{"$f":"IF('Broker Sheet'!Z150=\"\",\"\",'Broker Sheet'!Z150)","v":""},{"$f":"IF('Broker Sheet'!AB150=\"\",\"\",'Broker Sheet'!AB150)","v":""},null,null,{"$f":"IF('Broker Sheet'!L150=\"\",\"\",TEXT('Broker Sheet'!L150,\"YYYYMMDD\"))","v":""},{"$f":"IF('Broker Sheet'!AC150=\"\",\"\",TEXT('Broker Sheet'!AC150,\"YYYYMMDD\"))","v":""},{"$f":"IF('Broker Sheet'!AD150=\"\",\"\",TEXT('Broker Sheet'!AD150,\"YYYYMMDD\"))","v":""},{"$f":"IF('Broker Sheet'!AE150=\"\",\"\",'Broker Sheet'!AE150)","v":""},{"$f":"IF('Broker Sheet'!AF150=\"\",\"\",TEXT('Broker Sheet'!AF150,\"YYYYMMDD\"))","v":""},{"$f":"IF('Broker Sheet'!AG150=\"\",\"\",TEXT('Broker Sheet'!AG150,\"YYYYMMDD\"))","v":""}]
[null,null,null,null,null,{"$f":"IF('Broker Sheet'!C151=\"\",\"\",'Broker Sheet'!C151)","v":""},{"$f":"IF('Broker Sheet'!D151=\"\",\"\",'Broker Sheet'!D151)","v":""},{"$f":"IF('Broker Sheet'!E151=\"\",\"\",'Broker Sheet'!E151)","v":""},{"$f":"IF('Broker Sheet'!F151=\"\",\"\",'Broker Sheet'!F151)","v":""},{"$f":"IF('Broker Sheet'!G151=\"\",\"\",TEXT('Broker Sheet'!G151,\"YYYYMMDD\"))","v":""},{"$f":"IF('Broker Sheet'!H151=\"\",\"\",'Broker Sheet'!H151)","v":""},{"$f":"IF('Broker Sheet'!I151=\"\",\"\",'Broker Sheet'!I151)","v":""},{"$f":"IF('Broker Sheet'!J151=\"\",\"\",VLOOKUP('Broker Sheet'!J151,(Reference!$E$4:$F$9),2,FALSE))","v":""},{"$f":"IF('Broker Sheet'!K151=\"\",\"\",'Broker Sheet'!K151)","v":""},{"$f":"IF('Broker Sheet'!R151=\"\",\"\",'Broker Sheet'!R151)","v":""},{"$f":"IF('Broker Sheet'!S151=\"\",\"\",'Broker Sheet'!S151)","v":""},{"$f":"IF('Broker Sheet'!T151=\"\",\"\",'Broker Sheet'!T151)","v":""},{"$f":"IF('Broker Sheet'!U151=\"\",\"\",'Broker Sheet'!U151)","v":""},{"$f":"IF('Broker Sheet'!V151=\"\",\"\",'Broker Sheet'!V151)","v":""},{"$f":"IF('Broker Sheet'!W151=\"\",\"\",'Broker Sheet'!W151)","v":""},{"$f":"IF('Broker Sheet'!Y151=\"\",\"\",'Broker Sheet'!Y151)","v":""},{"$f":"IF('Broker Sheet'!AA151=\"\",\"\",'Broker Sheet'!AA151)","v":""},{"$f":"IF('Broker Sheet'!Z151=\"\",\"\",'Broker Sheet'!Z151)","v":""},{"$f":"IF('Broker Sheet'!AB151=\"\",\"\",'Broker Sheet'!AB151)","v":""},null,null,{"$f":"IF('Broker Sheet'!L151=\"\",\"\",TEXT('Broker Sheet'!L151,\"YYYYMMDD\"))","v":""},{"$f":"IF('Broker Sheet'!AC151=\"\",\"\",TEXT('Broker Sheet'!AC151,\"YYYYMMDD\"))","v":""},{"$f":"IF('Broker Sheet'!AD151=\"\",\"\",TEXT('Broker Sheet'!AD151,\"YYYYMMDD\"))","v":""},{"$f":"IF('Broker Sheet'!AE151=\"\",\"\",'Broker Sheet'!AE151)","v":""},{"$f":"IF('Broker Sheet'!AF151=\"\",\"\",TEXT('Broker Sheet'!AF151,\"YYYYMMDD\"))","v":""},{"$f":"IF('Broker Sheet'!AG151=\"\",\"\",TEXT('Broker Sheet'!AG151,\"YYYYMMDD\"))","v":""}]
[null,null,null,null,null,{"$f":"IF('Broker Sheet'!C152=\"\",\"\",'Broker Sheet'!C152)","v":""},{"$f":"IF('Broker Sheet'!D152=\"\",\"\",'Broker Sheet'!D152)","v":""},{"$f":"IF('Broker Sheet'!E152=\"\",\"\",'Broker Sheet'!E152)","v":""},{"$f":"IF('Broker Sheet'!F152=\"\",\"\",'Broker Sheet'!F152)","v":""},{"$f":"IF('Broker Sheet'!G152=\"\",\"\",TEXT('Broker Sheet'!G152,\"YYYYMMDD\"))","v":""},{"$f":"IF('Broker Sheet'!H152=\"\",\"\",'Broker Sheet'!H152)","v":""},{"$f":"IF('Broker Sheet'!I152=\"\",\"\",'Broker Sheet'!I152)","v":""},{"$f":"IF('Broker Sheet'!J152=\"\",\"\",VLOOKUP('Broker Sheet'!J152,(Reference!$E$4:$F$9),2,FALSE))","v":""},{"$f":"IF('Broker Sheet'!K152=\"\",\"\",'Broker Sheet'!K152)","v":""},{"$f":"IF('Broker Sheet'!R152=\"\",\"\",'Broker Sheet'!R152)","v":""},{"$f":"IF('Broker Sheet'!S152=\"\",\"\",'Broker Sheet'!S152)","v":""},{"$f":"IF('Broker Sheet'!T152=\"\",\"\",'Broker Sheet'!T152)","v":""},{"$f":"IF('Broker Sheet'!U152=\"\",\"\",'Broker Sheet'!U152)","v":""},{"$f":"IF('Broker Sheet'!V152=\"\",\"\",'Broker Sheet'!V152)","v":""},{"$f":"IF('Broker Sheet'!W152=\"\",\"\",'Broker Sheet'!W152)","v":""},{"$f":"IF('Broker Sheet'!Y152=\"\",\"\",'Broker Sheet'!Y152)","v":""},{"$f":"IF('Broker Sheet'!AA152=\"\",\"\",'Broker Sheet'!AA152)","v":""},{"$f":"IF('Broker Sheet'!Z152=\"\",\"\",'Broker Sheet'!Z152)","v":""},{"$f":"IF('Broker Sheet'!AB152=\"\",\"\",'Broker Sheet'!AB152)","v":""},null,null,{"$f":"IF('Broker Sheet'!L152=\"\",\"\",TEXT('Broker Sheet'!L152,\"YYYYMMDD\"))","v":""},{"$f":"IF('Broker Sheet'!AC152=\"\",\"\",TEXT('Broker Sheet'!AC152,\"YYYYMMDD\"))","v":""},{"$f":"IF('Broker Sheet'!AD152=\"\",\"\",TEXT('Broker Sheet'!AD152,\"YYYYMMDD\"))","v":""},{"$f":"IF('Broker Sheet'!AE152=\"\",\"\",'Broker Sheet'!AE152)","v":""},{"$f":"IF('Broker Sheet'!AF152=\"\",\"\",TEXT('Broker Sheet'!AF152,\"YYYYMMDD\"))","v":""},{"$f":"IF('Broker Sheet'!AG152=\"\",\"\",TEXT('Broker Sheet'!AG152,\"YYYYMMDD\"))","v":""}]
[null,null,null,null,null,{"$f":"IF('Broker Sheet'!C153=\"\",\"\",'Broker Sheet'!C153)","v":""},{"$f":"IF('Broker Sheet'!D153=\"\",\"\",'Broker Sheet'!D153)","v":""},{"$f":"IF('Broker Sheet'!E153=\"\",\"\",'Broker Sheet'!E153)","v":""},{"$f":"IF('Broker Sheet'!F153=\"\",\"\",'Broker Sheet'!F153)","v":""},{"$f":"IF('Broker Sheet'!G153=\"\",\"\",TEXT('Broker Sheet'!G153,\"YYYYMMDD\"))","v":""},{"$f":"IF('Broker Sheet'!H153=\"\",\"\",'Broker Sheet'!H153)","v":""},{"$f":"IF('Broker Sheet'!I153=\"\",\"\",'Broker Sheet'!I153)","v":""},{"$f":"IF('Broker Sheet'!J153=\"\",\"\",VLOOKUP('Broker Sheet'!J153,(Reference!$E$4:$F$9),2,FALSE))","v":""},{"$f":"IF('Broker Sheet'!K153=\"\",\"\",'Broker Sheet'!K153)","v":""},{"$f":"IF('Broker Sheet'!R153=\"\",\"\",'Broker Sheet'!R153)","v":""},{"$f":"IF('Broker Sheet'!S153=\"\",\"\",'Broker Sheet'!S153)","v":""},{"$f":"IF('Broker Sheet'!T153=\"\",\"\",'Broker Sheet'!T153)","v":""},{"$f":"IF('Broker Sheet'!U153=\"\",\"\",'Broker Sheet'!U153)","v":""},{"$f":"IF('Broker Sheet'!V153=\"\",\"\",'Broker Sheet'!V153)","v":""},{"$f":"IF('Broker Sheet'!W153=\"\",\"\",'Broker Sheet'!W153)","v":""},{"$f":"IF('Broker Sheet'!Y153=\"\",\"\",'Broker Sheet'!Y153)","v":""},{"$f":"IF('Broker Sheet'!AA153=\"\",\"\",'Broker Sheet'!AA153)","v":""},{"$f":"IF('Broker Sheet'!Z153=\"\",\"\",'Broker Sheet'!Z153)","v":""},{"$f":"IF('Broker Sheet'!AB153=\"\",\"\",'Broker Sheet'!AB153)","v":""},null,null,{"$f":"IF('Broker Sheet'!L153=\"\",\"\",TEXT('Broker Sheet'!L153,\"YYYYMMDD\"))","v":""},{"$f":"IF('Broker Sheet'!AC153=\"\",\"\",TEXT('Broker Sheet'!AC153,\"YYYYMMDD\"))","v":""},{"$f":"IF('Broker Sheet'!AD153=\"\",\"\",TEXT('Broker Sheet'!AD153,\"YYYYMMDD\"))","v":""},{"$f":"IF('Broker Sheet'!AE153=\"\",\"\",'Broker Sheet'!AE153)","v":""},{"$f":"IF('Broker Sheet'!AF153=\"\",\"\",TEXT('Broker Sheet'!AF153,\"YYYYMMDD\"))","v":""},{"$f":"IF('Broker Sheet'!AG153=\"\",\"\",TEXT('Broker Sheet'!AG153,\"YYYYMMDD\"))","v":""}]
[null,null,null,null,null,{"$f":"IF('Broker Sheet'!C154=\"\",\"\",'Broker Sheet'!C154)","v":""},{"$f":"IF('Broker Sheet'!D154=\"\",\"\",'Broker Sheet'!D154)","v":""},{"$f":"IF('Broker Sheet'!E154=\"\",\"\",'Broker Sheet'!E154)","v":""},{"$f":"IF('Broker Sheet'!F154=\"\",\"\",'Broker Sheet'!F154)","v":""},{"$f":"IF('Broker Sheet'!G154=\"\",\"\",TEXT('Broker Sheet'!G154,\"YYYYMMDD\"))","v":""},{"$f":"IF('Broker Sheet'!H154=\"\",\"\",'Broker Sheet'!H154)","v":""},{"$f":"IF('Broker Sheet'!I154=\"\",\"\",'Broker Sheet'!I154)","v":""},{"$f":"IF('Broker Sheet'!J154=\"\",\"\",VLOOKUP('Broker Sheet'!J154,(Reference!$E$4:$F$9),2,FALSE))","v":""},{"$f":"IF('Broker Sheet'!K154=\"\",\"\",'Broker Sheet'!K154)","v":""},{"$f":"IF('Broker Sheet'!R154=\"\",\"\",'Broker Sheet'!R154)","v":""},{"$f":"IF('Broker Sheet'!S154=\"\",\"\",'Broker Sheet'!S154)","v":""},{"$f":"IF('Broker Sheet'!T154=\"\",\"\",'Broker Sheet'!T154)","v":""},{"$f":"IF('Broker Sheet'!U154=\"\",\"\",'Broker Sheet'!U154)","v":""},{"$f":"IF('Broker Sheet'!V154=\"\",\"\",'Broker Sheet'!V154)","v":""},{"$f":"IF('Broker Sheet'!W154=\"\",\"\",'Broker Sheet'!W154)","v":""},{"$f":"IF('Broker Sheet'!Y154=\"\",\"\",'Broker Sheet'!Y154)","v":""},{"$f":"IF('Broker Sheet'!AA154=\"\",\"\",'Broker Sheet'!AA154)","v":""},{"$f":"IF('Broker Sheet'!Z154=\"\",\"\",'Broker Sheet'!Z154)","v":""},{"$f":"IF('Broker Sheet'!AB154=\"\",\"\",'Broker Sheet'!AB154)","v":""},null,null,{"$f":"IF('Broker Sheet'!L154=\"\",\"\",TEXT('Broker Sheet'!L154,\"YYYYMMDD\"))","v":""},{"$f":"IF('Broker Sheet'!AC154=\"\",\"\",TEXT('Broker Sheet'!AC154,\"YYYYMMDD\"))","v":""},{"$f":"IF('Broker Sheet'!AD154=\"\",\"\",TEXT('Broker Sheet'!AD154,\"YYYYMMDD\"))","v":""},{"$f":"IF('Broker Sheet'!AE154=\"\",\"\",'Broker Sheet'!AE154)","v":""},{"$f":"IF('Broker Sheet'!AF154=\"\",\"\",TEXT('Broker Sheet'!AF154,\"YYYYMMDD\"))","v":""},{"$f":"IF('Broker Sheet'!AG154=\"\",\"\",TEXT('Broker Sheet'!AG154,\"YYYYMMDD\"))","v":""}]
[null,null,null,null,null,{"$f":"IF('Broker Sheet'!C155=\"\",\"\",'Broker Sheet'!C155)","v":""},{"$f":"IF('Broker Sheet'!D155=\"\",\"\",'Broker Sheet'!D155)","v":""},{"$f":"IF('Broker Sheet'!E155=\"\",\"\",'Broker Sheet'!E155)","v":""},{"$f":"IF('Broker Sheet'!F155=\"\",\"\",'Broker Sheet'!F155)","v":""},{"$f":"IF('Broker Sheet'!G155=\"\",\"\",TEXT('Broker Sheet'!G155,\"YYYYMMDD\"))","v":""},{"$f":"IF('Broker Sheet'!H155=\"\",\"\",'Broker Sheet'!H155)","v":""},{"$f":"IF('Broker Sheet'!I155=\"\",\"\",'Broker Sheet'!I155)","v":""},{"$f":"IF('Broker Sheet'!J155=\"\",\"\",VLOOKUP('Broker Sheet'!J155,(Reference!$E$4:$F$9),2,FALSE))","v":""},{"$f":"IF('Broker Sheet'!K155=\"\",\"\",'Broker Sheet'!K155)","v":""},{"$f":"IF('Broker Sheet'!R155=\"\",\"\",'Broker Sheet'!R155)","v":""},{"$f":"IF('Broker Sheet'!S155=\"\",\"\",'Broker Sheet'!S155)","v":""},{"$f":"IF('Broker Sheet'!T155=\"\",\"\",'Broker Sheet'!T155)","v":""},{"$f":"IF('Broker Sheet'!U155=\"\",\"\",'Broker Sheet'!U155)","v":""},{"$f":"IF('Broker Sheet'!V155=\"\",\"\",'Broker Sheet'!V155)","v":""},{"$f":"IF('Broker Sheet'!W155=\"\",\"\",'Broker Sheet'!W155)","v":""},{"$f":"IF('Broker Sheet'!Y155=\"\",\"\",'Broker Sheet'!Y155)","v":""},{"$f":"IF('Broker Sheet'!AA155=\"\",\"\",'Broker Sheet'!AA155)","v":""},{"$f":"IF('Broker Sheet'!Z155=\"\",\"\",'Broker Sheet'!Z155)","v":""},{"$f":"IF('Broker Sheet'!AB155=\"\",\"\",'Broker Sheet'!AB155)","v":""},null,null,{"$f":"IF('Broker Sheet'!L155=\"\",\"\",TEXT('Broker Sheet'!L155,\"YYYYMMDD\"))","v":""},{"$f":"IF('Broker Sheet'!AC155=\"\",\"\",TEXT('Broker Sheet'!AC155,\"YYYYMMDD\"))","v":""},{"$f":"IF('Broker Sheet'!AD155=\"\",\"\",TEXT('Broker Sheet'!AD155,\"YYYYMMDD\"))","v":""},{"$f":"IF('Broker Sheet'!AE155=\"\",\"\",'Broker Sheet'!AE155)","v":""},{"$f":"IF('Broker Sheet'!AF155=\"\",\"\",TEXT('Broker Sheet'!AF155,\"YYYYMMDD\"))","v":""},{"$f":"IF('Broker Sheet'!AG155=\"\",\"\",TEXT('Broker Sheet'!AG155,\"YYYYMMDD\"))","v":""}]
[null,null,null,null,null,{"$f":"IF('Broker Sheet'!C156=\"\",\"\",'Broker Sheet'!C156)","v":""},{"$f":"IF('Broker Sheet'!D156=\"\",\"\",'Broker Sheet'!D156)","v":""},{"$f":"IF('Broker Sheet'!E156=\"\",\"\",'Broker Sheet'!E156)","v":""},{"$f":"IF('Broker Sheet'!F156=\"\",\"\",'Broker Sheet'!F156)","v":""},{"$f":"IF('Broker Sheet'!G156=\"\",\"\",TEXT('Broker Sheet'!G156,\"YYYYMMDD\"))","v":""},{"$f":"IF('Broker Sheet'!H156=\"\",\"\",'Broker Sheet'!H156)","v":""},{"$f":"IF('Broker Sheet'!I156=\"\",\"\",'Broker Sheet'!I156)","v":""},{"$f":"IF('Broker Sheet'!J156=\"\",\"\",VLOOKUP('Broker Sheet'!J156,(Reference!$E$4:$F$9),2,FALSE))","v":""},{"$f":"IF('Broker Sheet'!K156=\"\",\"\",'Broker Sheet'!K156)","v":""},{"$f":"IF('Broker Sheet'!R156=\"\",\"\",'Broker Sheet'!R156)","v":""},{"$f":"IF('Broker Sheet'!S156=\"\",\"\",'Broker Sheet'!S156)","v":""},{"$f":"IF('Broker Sheet'!T156=\"\",\"\",'Broker Sheet'!T156)","v":""},{"$f":"IF('Broker Sheet'!U156=\"\",\"\",'Broker Sheet'!U156)","v":""},{"$f":"IF('Broker Sheet'!V156=\"\",\"\",'Broker Sheet'!V156)","v":""},{"$f":"IF('Broker Sheet'!W156=\"\",\"\",'Broker Sheet'!W156)","v":""},{"$f":"IF('Broker Sheet'!Y156=\"\",\"\",'Broker Sheet'!Y156)","v":""},{"$f":"IF('Broker Sheet'!AA156=\"\",\"\",'Broker Sheet'!AA156)","v":""},{"$f":"IF('Broker Sheet'!Z156=\"\",\"\",'Broker Sheet'!Z156)","v":""},{"$f":"IF('Broker Sheet'!AB156=\"\",\"\",'Broker Sheet'!AB156)","v":""},null,null,{"$f":"IF('Broker Sheet'!L156=\"\",\"\",TEXT('Broker Sheet'!L156,\"YYYYMMDD\"))","v":""},{"$f":"IF('Broker Sheet'!AC156=\"\",\"\",TEXT('Broker Sheet'!AC156,\"YYYYMMDD\"))","v":""},{"$f":"IF('Broker Sheet'!AD156=\"\",\"\",TEXT('Broker Sheet'!AD156,\"YYYYMMDD\"))","v":""},{"$f":"IF('Broker Sheet'!AE156=\"\",\"\",'Broker Sheet'!AE156)","v":""},{"$f":"IF('Broker Sheet'!AF156=\"\",\"\",TEXT('Broker Sheet'!AF156,\"YYYYMMDD\"))","v":""},{"$f":"IF('Broker Sheet'!AG156=\"\",\"\",TEXT('Broker Sheet'!AG156,\"YYYYMMDD\"))","v":""}]
[null,null,null,null,null,{"$f":"IF('Broker Sheet'!C157=\"\",\"\",'Broker Sheet'!C157)","v":""},{"$f":"IF('Broker Sheet'!D157=\"\",\"\",'Broker Sheet'!D157)","v":""},{"$f":"IF('Broker Sheet'!E157=\"\",\"\",'Broker Sheet'!E157)","v":""},{"$f":"IF('Broker Sheet'!F157=\"\",\"\",'Broker Sheet'!F157)","v":""},{"$f":"IF('Broker Sheet'!G157=\"\",\"\",TEXT('Broker Sheet'!G157,\"YYYYMMDD\"))","v":""},{"$f":"IF('Broker Sheet'!H157=\"\",\"\",'Broker Sheet'!H157)","v":""},{"$f":"IF('Broker Sheet'!I157=\"\",\"\",'Broker Sheet'!I157)","v":""},{"$f":"IF('Broker Sheet'!J157=\"\",\"\",VLOOKUP('Broker Sheet'!J157,(Reference!$E$4:$F$9),2,FALSE))","v":""},{"$f":"IF('Broker Sheet'!K157=\"\",\"\",'Broker Sheet'!K157)","v":""},{"$f":"IF('Broker Sheet'!R157=\"\",\"\",'Broker Sheet'!R157)","v":""},{"$f":"IF('Broker Sheet'!S157=\"\",\"\",'Broker Sheet'!S157)","v":""},{"$f":"IF('Broker Sheet'!T157=\"\",\"\",'Broker Sheet'!T157)","v":""},{"$f":"IF('Broker Sheet'!U157=\"\",\"\",'Broker Sheet'!U157)","v":""},{"$f":"IF('Broker Sheet'!V157=\"\",\"\",'Broker Sheet'!V157)","v":""},{"$f":"IF('Broker Sheet'!W157=\"\",\"\",'Broker Sheet'!W157)","v":""},{"$f":"IF('Broker Sheet'!Y157=\"\",\"\",'Broker Sheet'!Y157)","v":""},{"$f":"IF('Broker Sheet'!AA157=\"\",\"\",'Broker Sheet'!AA157)","v":""},{"$f":"IF('Broker Sheet'!Z157=\"\",\"\",'Broker Sheet'!Z157)","v":""},{"$f":"IF('Broker Sheet'!AB157=\"\",\"\",'Broker Sheet'!AB157)","v":""},null,null,{"$f":"IF('Broker Sheet'!L157=\"\",\"\",TEXT('Broker Sheet'!L157,\"YYYYMMDD\"))","v":""},{"$f":"IF('Broker Sheet'!AC157=\"\",\"\",TEXT('Broker Sheet'!AC157,\"YYYYMMDD\"))","v":""},{"$f":"IF('Broker Sheet'!AD157=\"\",\"\",TEXT('Broker Sheet'!AD157,\"YYYYMMDD\"))","v":""},{"$f":"IF('Broker Sheet'!AE157=\"\",\"\",'Broker Sheet'!AE157)","v":""},{"$f":"IF('Broker Sheet'!AF157=\"\",\"\",TEXT('Broker Sheet'!AF157,\"YYYYMMDD\"))","v":""},{"$f":"IF('Broker Sheet'!AG157=\"\",\"\",TEXT('Broker Sheet'!AG157,\"YYYYMMDD\"))","v":""}]
[null,null,null,null,null,{"$f":"IF('Broker Sheet'!C158=\"\",\"\",'Broker Sheet'!C158)","v":""},{"$f":"IF('Broker Sheet'!D158=\"\",\"\",'Broker Sheet'!D158)","v":""},{"$f":"IF('Broker Sheet'!E158=\"\",\"\",'Broker Sheet'!E158)","v":""},{"$f":"IF('Broker Sheet'!F158=\"\",\"\",'Broker Sheet'!F158)","v":""},{"$f":"IF('Broker Sheet'!G158=\"\",\"\",TEXT('Broker Sheet'!G158,\"YYYYMMDD\"))","v":""},{"$f":"IF('Broker Sheet'!H158=\"\",\"\",'Broker Sheet'!H158)","v":""},{"$f":"IF('Broker Sheet'!I158=\"\",\"\",'Broker Sheet'!I158)","v":""},{"$f":"IF('Broker Sheet'!J158=\"\",\"\",VLOOKUP('Broker Sheet'!J158,(Reference!$E$4:$F$9),2,FALSE))","v":""},{"$f":"IF('Broker Sheet'!K158=\"\",\"\",'Broker Sheet'!K158)","v":""},{"$f":"IF('Broker Sheet'!R158=\"\",\"\",'Broker Sheet'!R158)","v":""},{"$f":"IF('Broker Sheet'!S158=\"\",\"\",'Broker Sheet'!S158)","v":""},{"$f":"IF('Broker Sheet'!T158=\"\",\"\",'Broker Sheet'!T158)","v":""},{"$f":"IF('Broker Sheet'!U158=\"\",\"\",'Broker Sheet'!U158)","v":""},{"$f":"IF('Broker Sheet'!V158=\"\",\"\",'Broker Sheet'!V158)","v":""},{"$f":"IF('Broker Sheet'!W158=\"\",\"\",'Broker Sheet'!W158)","v":""},{"$f":"IF('Broker Sheet'!Y158=\"\",\"\",'Broker Sheet'!Y158)","v":""},{"$f":"IF('Broker Sheet'!AA158=\"\",\"\",'Broker Sheet'!AA158)","v":""},{"$f":"IF('Broker Sheet'!Z158=\"\",\"\",'Broker Sheet'!Z158)","v":""},{"$f":"IF('Broker Sheet'!AB158=\"\",\"\",'Broker Sheet'!AB158)","v":""},null,null,{"$f":"IF('Broker Sheet'!L158=\"\",\"\",TEXT('Broker Sheet'!L158,\"YYYYMMDD\"))","v":""},{"$f":"IF('Broker Sheet'!AC158=\"\",\"\",TEXT('Broker Sheet'!AC158,\"YYYYMMDD\"))","v":""},{"$f":"IF('Broker Sheet'!AD158=\"\",\"\",TEXT('Broker Sheet'!AD158,\"YYYYMMDD\"))","v":""},{"$f":"IF('Broker Sheet'!AE158=\"\",\"\",'Broker Sheet'!AE158)","v":""},{"$f":"IF('Broker Sheet'!AF158=\"\",\"\",TEXT('Broker Sheet'!AF158,\"YYYYMMDD\"))","v":""},{"$f":"IF('Broker Sheet'!AG158=\"\",\"\",TEXT('Broker Sheet'!AG158,\"YYYYMMDD\"))","v":""}]
[null,null,null,null,null,{"$f":"IF('Broker Sheet'!C159=\"\",\"\",'Broker Sheet'!C159)","v":""},{"$f":"IF('Broker Sheet'!D159=\"\",\"\",'Broker Sheet'!D159)","v":""},{"$f":"IF('Broker Sheet'!E159=\"\",\"\",'Broker Sheet'!E159)","v":""},{"$f":"IF('Broker Sheet'!F159=\"\",\"\",'Broker Sheet'!F159)","v":""},{"$f":"IF('Broker Sheet'!G159=\"\",\"\",TEXT('Broker Sheet'!G159,\"YYYYMMDD\"))","v":""},{"$f":"IF('Broker Sheet'!H159=\"\",\"\",'Broker Sheet'!H159)","v":""},{"$f":"IF('Broker Sheet'!I159=\"\",\"\",'Broker Sheet'!I159)","v":""},{"$f":"IF('Broker Sheet'!J159=\"\",\"\",VLOOKUP('Broker Sheet'!J159,(Reference!$E$4:$F$9),2,FALSE))","v":""},{"$f":"IF('Broker Sheet'!K159=\"\",\"\",'Broker Sheet'!K159)","v":""},{"$f":"IF('Broker Sheet'!R159=\"\",\"\",'Broker Sheet'!R159)","v":""},{"$f":"IF('Broker Sheet'!S159=\"\",\"\",'Broker Sheet'!S159)","v":""},{"$f":"IF('Broker Sheet'!T159=\"\",\"\",'Broker Sheet'!T159)","v":""},{"$f":"IF('Broker Sheet'!U159=\"\",\"\",'Broker Sheet'!U159)","v":""},{"$f":"IF('Broker Sheet'!V159=\"\",\"\",'Broker Sheet'!V159)","v":""},{"$f":"IF('Broker Sheet'!W159=\"\",\"\",'Broker Sheet'!W159)","v":""},{"$f":"IF('Broker Sheet'!Y159=\"\",\"\",'Broker Sheet'!Y159)","v":""},{"$f":"IF('Broker Sheet'!AA159=\"\",\"\",'Broker Sheet'!AA159)","v":""},{"$f":"IF('Broker Sheet'!Z159=\"\",\"\",'Broker Sheet'!Z159)","v":""},{"$f":"IF('Broker Sheet'!AB159=\"\",\"\",'Broker Sheet'!AB159)","v":""},null,null,{"$f":"IF('Broker Sheet'!L159=\"\",\"\",TEXT('Broker Sheet'!L159,\"YYYYMMDD\"))","v":""},{"$f":"IF('Broker Sheet'!AC159=\"\",\"\",TEXT('Broker Sheet'!AC159,\"YYYYMMDD\"))","v":""},{"$f":"IF('Broker Sheet'!AD159=\"\",\"\",TEXT('Broker Sheet'!AD159,\"YYYYMMDD\"))","v":""},{"$f":"IF('Broker Sheet'!AE159=\"\",\"\",'Broker Sheet'!AE159)","v":""},{"$f":"IF('Broker Sheet'!AF159=\"\",\"\",TEXT('Broker Sheet'!AF159,\"YYYYMMDD\"))","v":""},{"$f":"IF('Broker Sheet'!AG159=\"\",\"\",TEXT('Broker Sheet'!AG159,\"YYYYMMDD\"))","v":""}]
[null,null,null,null,null,{"$f":"IF('Broker Sheet'!C160=\"\",\"\",'Broker Sheet'!C160)","v":""},{"$f":"IF('Broker Sheet'!D160=\"\",\"\",'Broker Sheet'!D160)","v":""},{"$f":"IF('Broker Sheet'!E160=\"\",\"\",'Broker Sheet'!E160)","v":""},{"$f":"IF('Broker Sheet'!F160=\"\",\"\",'Broker Sheet'!F160)","v":""},{"$f":"IF('Broker Sheet'!G160=\"\",\"\",TEXT('Broker Sheet'!G160,\"YYYYMMDD\"))","v":""},{"$f":"IF('Broker Sheet'!H160=\"\",\"\",'Broker Sheet'!H160)","v":""},{"$f":"IF('Broker Sheet'!I160=\"\",\"\",'Broker Sheet'!I160)","v":""},{"$f":"IF('Broker Sheet'!J160=\"\",\"\",VLOOKUP('Broker Sheet'!J160,(Reference!$E$4:$F$9),2,FALSE))","v":""},{"$f":"IF('Broker Sheet'!K160=\"\",\"\",'Broker Sheet'!K160)","v":""},{"$f":"IF('Broker Sheet'!R160=\"\",\"\",'Broker Sheet'!R160)","v":""},{"$f":"IF('Broker Sheet'!S160=\"\",\"\",'Broker Sheet'!S160)","v":""},{"$f":"IF('Broker Sheet'!T160=\"\",\"\",'Broker Sheet'!T160)","v":""},{"$f":"IF('Broker Sheet'!U160=\"\",\"\",'Broker Sheet'!U160)","v":""},{"$f":"IF('Broker Sheet'!V160=\"\",\"\",'Broker Sheet'!V160)","v":""},{"$f":"IF('Broker Sheet'!W160=\"\",\"\",'Broker Sheet'!W160)","v":""},{"$f":"IF('Broker Sheet'!Y160=\"\",\"\",'Broker Sheet'!Y160)","v":""},{"$f":"IF('Broker Sheet'!AA160=\"\",\"\",'Broker Sheet'!AA160)","v":""},{"$f":"IF('Broker Sheet'!Z160=\"\",\"\",'Broker Sheet'!Z160)","v":""},{"$f":"IF('Broker Sheet'!AB160=\"\",\"\",'Broker Sheet'!AB160)","v":""},null,null,{"$f":"IF('Broker Sheet'!L160=\"\",\"\",TEXT('Broker Sheet'!L160,\"YYYYMMDD\"))","v":""},{"$f":"IF('Broker Sheet'!AC160=\"\",\"\",TEXT('Broker Sheet'!AC160,\"YYYYMMDD\"))","v":""},{"$f":"IF('Broker Sheet'!AD160=\"\",\"\",TEXT('Broker Sheet'!AD160,\"YYYYMMDD\"))","v":""},{"$f":"IF('Broker Sheet'!AE160=\"\",\"\",'Broker Sheet'!AE160)","v":""},{"$f":"IF('Broker Sheet'!AF160=\"\",\"\",TEXT('Broker Sheet'!AF160,\"YYYYMMDD\"))","v":""},{"$f":"IF('Broker Sheet'!AG160=\"\",\"\",TEXT('Broker Sheet'!AG160,\"YYYYMMDD\"))","v":""}]
[null,null,null,null,null,{"$f":"IF('Broker Sheet'!C161=\"\",\"\",'Broker Sheet'!C161)","v":""},{"$f":"IF('Broker Sheet'!D161=\"\",\"\",'Broker Sheet'!D161)","v":""},{"$f":"IF('Broker Sheet'!E161=\"\",\"\",'Broker Sheet'!E161)","v":""},{"$f":"IF('Broker Sheet'!F161=\"\",\"\",'Broker Sheet'!F161)","v":""},{"$f":"IF('Broker Sheet'!G161=\"\",\"\",TEXT('Broker Sheet'!G161,\"YYYYMMDD\"))","v":""},{"$f":"IF('Broker Sheet'!H161=\"\",\"\",'Broker Sheet'!H161)","v":""},{"$f":"IF('Broker Sheet'!I161=\"\",\"\",'Broker Sheet'!I161)","v":""},{"$f":"IF('Broker Sheet'!J161=\"\",\"\",VLOOKUP('Broker Sheet'!J161,(Reference!$E$4:$F$9),2,FALSE))","v":""},{"$f":"IF('Broker Sheet'!K161=\"\",\"\",'Broker Sheet'!K161)","v":""},{"$f":"IF('Broker Sheet'!R161=\"\",\"\",'Broker Sheet'!R161)","v":""},{"$f":"IF('Broker Sheet'!S161=\"\",\"\",'Broker Sheet'!S161)","v":""},{"$f":"IF('Broker Sheet'!T161=\"\",\"\",'Broker Sheet'!T161)","v":""},{"$f":"IF('Broker Sheet'!U161=\"\",\"\",'Broker Sheet'!U161)","v":""},{"$f":"IF('Broker Sheet'!V161=\"\",\"\",'Broker Sheet'!V161)","v":""},{"$f":"IF('Broker Sheet'!W161=\"\",\"\",'Broker Sheet'!W161)","v":""},{"$f":"IF('Broker Sheet'!Y161=\"\",\"\",'Broker Sheet'!Y161)","v":""},{"$f":"IF('Broker Sheet'!AA161=\"\",\"\",'Broker Sheet'!AA161)","v":""},{"$f":"IF('Broker Sheet'!Z161=\"\",\"\",'Broker Sheet'!Z161)","v":""},{"$f":"IF('Broker Sheet'!AB161=\"\",\"\",'Broker Sheet'!AB161)","v":""},null,null,{"$f":"IF('Broker Sheet'!L161=\"\",\"\",TEXT('Broker Sheet'!L161,\"YYYYMMDD\"))","v":""},{"$f":"IF('Broker Sheet'!AC161=\"\",\"\",TEXT('Broker Sheet'!AC161,\"YYYYMMDD\"))","v":""},{"$f":"IF('Broker Sheet'!AD161=\"\",\"\",TEXT('Broker Sheet'!AD161,\"YYYYMMDD\"))","v":""},{"$f":"IF('Broker Sheet'!AE161=\"\",\"\",'Broker Sheet'!AE161)","v":""},{"$f":"IF('Broker Sheet'!AF161=\"\",\"\",TEXT('Broker Sheet'!AF161,\"YYYYMMDD\"))","v":""},{"$f":"IF('Broker Sheet'!AG161=\"\",\"\",TEXT('Broker Sheet'!AG161,\"YYYYMMDD\"))","v":""}]
[null,null,null,null,null,{"$f":"IF('Broker Sheet'!C162=\"\",\"\",'Broker Sheet'!C162)","v":""},{"$f":"IF('Broker Sheet'!D162=\"\",\"\",'Broker Sheet'!D162)","v":""},{"$f":"IF('Broker Sheet'!E162=\"\",\"\",'Broker Sheet'!E162)","v":""},{"$f":"IF('Broker Sheet'!F162=\"\",\"\",'Broker Sheet'!F162)","v":""},{"$f":"IF('Broker Sheet'!G162=\"\",\"\",TEXT('Broker Sheet'!G162,\"YYYYMMDD\"))","v":""},{"$f":"IF('Broker Sheet'!H162=\"\",\"\",'Broker Sheet'!H162)","v":""},{"$f":"IF('Broker Sheet'!I162=\"\",\"\",'Broker Sheet'!I162)","v":""},{"$f":"IF('Broker Sheet'!J162=\"\",\"\",VLOOKUP('Broker Sheet'!J162,(Reference!$E$4:$F$9),2,FALSE))","v":""},{"$f":"IF('Broker Sheet'!K162=\"\",\"\",'Broker Sheet'!K162)","v":""},{"$f":"IF('Broker Sheet'!R162=\"\",\"\",'Broker Sheet'!R162)","v":""},{"$f":"IF('Broker Sheet'!S162=\"\",\"\",'Broker Sheet'!S162)","v":""},{"$f":"IF('Broker Sheet'!T162=\"\",\"\",'Broker Sheet'!T162)","v":""},{"$f":"IF('Broker Sheet'!U162=\"\",\"\",'Broker Sheet'!U162)","v":""},{"$f":"IF('Broker Sheet'!V162=\"\",\"\",'Broker Sheet'!V162)","v":""},{"$f":"IF('Broker Sheet'!W162=\"\",\"\",'Broker Sheet'!W162)","v":""},{"$f":"IF('Broker Sheet'!Y162=\"\",\"\",'Broker Sheet'!Y162)","v":""},{"$f":"IF('Broker Sheet'!AA162=\"\",\"\",'Broker Sheet'!AA162)","v":""},{"$f":"IF('Broker Sheet'!Z162=\"\",\"\",'Broker Sheet'!Z162)","v":""},{"$f":"IF('Broker Sheet'!AB162=\"\",\"\",'Broker Sheet'!AB162)","v":""},null,null,{"$f":"IF('Broker Sheet'!L162=\"\",\"\",TEXT('Broker Sheet'!L162,\"YYYYMMDD\"))","v":""},{"$f":"IF('Broker Sheet'!AC162=\"\",\"\",TEXT('Broker Sheet'!AC162,\"YYYYMMDD\"))","v":""},{"$f":"IF('Broker Sheet'!AD162=\"\",\"\",TEXT('Broker Sheet'!AD162,\"YYYYMMDD\"))","v":""},{"$f":"IF('Broker Sheet'!AE162=\"\",\"\",'Broker Sheet'!AE162)","v":""},{"$f":"IF('Broker Sheet'!AF162=\"\",\"\",TEXT('Broker Sheet'!AF162,\"YYYYMMDD\"))","v":""},{"$f":"IF('Broker Sheet'!AG162=\"\",\"\",TEXT('Broker Sheet'!AG162,\"YYYYMMDD\"))","v":""}]
[null,null,null,null,null,{"$f":"IF('Broker Sheet'!C163=\"\",\"\",'Broker Sheet'!C163)","v":""},{"$f":"IF('Broker Sheet'!D163=\"\",\"\",'Broker Sheet'!D163)","v":""},{"$f":"IF('Broker Sheet'!E163=\"\",\"\",'Broker Sheet'!E163)","v":""},{"$f":"IF('Broker Sheet'!F163=\"\",\"\",'Broker Sheet'!F163)","v":""},{"$f":"IF('Broker Sheet'!G163=\"\",\"\",TEXT('Broker Sheet'!G163,\"YYYYMMDD\"))","v":""},{"$f":"IF('Broker Sheet'!H163=\"\",\"\",'Broker Sheet'!H163)","v":""},{"$f":"IF('Broker Sheet'!I163=\"\",\"\",'Broker Sheet'!I163)","v":""},{"$f":"IF('Broker Sheet'!J163=\"\",\"\",VLOOKUP('Broker Sheet'!J163,(Reference!$E$4:$F$9),2,FALSE))","v":""},{"$f":"IF('Broker Sheet'!K163=\"\",\"\",'Broker Sheet'!K163)","v":""},{"$f":"IF('Broker Sheet'!R163=\"\",\"\",'Broker Sheet'!R163)","v":""},{"$f":"IF('Broker Sheet'!S163=\"\",\"\",'Broker Sheet'!S163)","v":""},{"$f":"IF('Broker Sheet'!T163=\"\",\"\",'Broker Sheet'!T163)","v":""},{"$f":"IF('Broker Sheet'!U163=\"\",\"\",'Broker Sheet'!U163)","v":""},{"$f":"IF('Broker Sheet'!V163=\"\",\"\",'Broker Sheet'!V163)","v":""},{"$f":"IF('Broker Sheet'!W163=\"\",\"\",'Broker Sheet'!W163)","v":""},{"$f":"IF('Broker Sheet'!Y163=\"\",\"\",'Broker Sheet'!Y163)","v":""},{"$f":"IF('Broker Sheet'!AA163=\"\",\"\",'Broker Sheet'!AA163)","v":""},{"$f":"IF('Broker Sheet'!Z163=\"\",\"\",'Broker Sheet'!Z163)","v":""},{"$f":"IF('Broker Sheet'!AB163=\"\",\"\",'Broker Sheet'!AB163)","v":""},null,null,{"$f":"IF('Broker Sheet'!L163=\"\",\"\",TEXT('Broker Sheet'!L163,\"YYYYMMDD\"))","v":""},{"$f":"IF('Broker Sheet'!AC163=\"\",\"\",TEXT('Broker Sheet'!AC163,\"YYYYMMDD\"))","v":""},{"$f":"IF('Broker Sheet'!AD163=\"\",\"\",TEXT('Broker Sheet'!AD163,\"YYYYMMDD\"))","v":""},{"$f":"IF('Broker Sheet'!AE163=\"\",\"\",'Broker Sheet'!AE163)","v":""},{"$f":"IF('Broker Sheet'!AF163=\"\",\"\",TEXT('Broker Sheet'!AF163,\"YYYYMMDD\"))","v":""},{"$f":"IF('Broker Sheet'!AG163=\"\",\"\",TEXT('Broker Sheet'!AG163,\"YYYYMMDD\"))","v":""}]
[null,null,null,null,null,{"$f":"IF('Broker Sheet'!C164=\"\",\"\",'Broker Sheet'!C164)","v":""},{"$f":"IF('Broker Sheet'!D164=\"\",\"\",'Broker Sheet'!D164)","v":""},{"$f":"IF('Broker Sheet'!E164=\"\",\"\",'Broker Sheet'!E164)","v":""},{"$f":"IF('Broker Sheet'!F164=\"\",\"\",'Broker Sheet'!F164)","v":""},{"$f":"IF('Broker Sheet'!G164=\"\",\"\",TEXT('Broker Sheet'!G164,\"YYYYMMDD\"))","v":""},{"$f":"IF('Broker Sheet'!H164=\"\",\"\",'Broker Sheet'!H164)","v":""},{"$f":"IF('Broker Sheet'!I164=\"\",\"\",'Broker Sheet'!I164)","v":""},{"$f":"IF('Broker Sheet'!J164=\"\",\"\",VLOOKUP('Broker Sheet'!J164,(Reference!$E$4:$F$9),2,FALSE))","v":""},{"$f":"IF('Broker Sheet'!K164=\"\",\"\",'Broker Sheet'!K164)","v":""},{"$f":"IF('Broker Sheet'!R164=\"\",\"\",'Broker Sheet'!R164)","v":""},{"$f":"IF('Broker Sheet'!S164=\"\",\"\",'Broker Sheet'!S164)","v":""},{"$f":"IF('Broker Sheet'!T164=\"\",\"\",'Broker Sheet'!T164)","v":""},{"$f":"IF('Broker Sheet'!U164=\"\",\"\",'Broker Sheet'!U164)","v":""},{"$f":"IF('Broker Sheet'!V164=\"\",\"\",'Broker Sheet'!V164)","v":""},{"$f":"IF('Broker Sheet'!W164=\"\",\"\",'Broker Sheet'!W164)","v":""},{"$f":"IF('Broker Sheet'!Y164=\"\",\"\",'Broker Sheet'!Y164)","v":""},{"$f":"IF('Broker Sheet'!AA164=\"\",\"\",'Broker Sheet'!AA164)","v":""},{"$f":"IF('Broker Sheet'!Z164=\"\",\"\",'Broker Sheet'!Z164)","v":""},{"$f":"IF('Broker Sheet'!AB164=\"\",\"\",'Broker Sheet'!AB164)","v":""},null,null,{"$f":"IF('Broker Sheet'!L164=\"\",\"\",TEXT('Broker Sheet'!L164,\"YYYYMMDD\"))","v":""},{"$f":"IF('Broker Sheet'!AC164=\"\",\"\",TEXT('Broker Sheet'!AC164,\"YYYYMMDD\"))","v":""},{"$f":"IF('Broker Sheet'!AD164=\"\",\"\",TEXT('Broker Sheet'!AD164,\"YYYYMMDD\"))","v":""},{"$f":"IF('Broker Sheet'!AE164=\"\",\"\",'Broker Sheet'!AE164)","v":""},{"$f":"IF('Broker Sheet'!AF164=\"\",\"\",TEXT('Broker Sheet'!AF164,\"YYYYMMDD\"))","v":""},{"$f":"IF('Broker Sheet'!AG164=\"\",\"\",TEXT('Broker Sheet'!AG164,\"YYYYMMDD\"))","v":""}]
[null,null,null,null,null,{"$f":"IF('Broker Sheet'!C165=\"\",\"\",'Broker Sheet'!C165)","v":""},{"$f":"IF('Broker Sheet'!D165=\"\",\"\",'Broker Sheet'!D165)","v":""},{"$f":"IF('Broker Sheet'!E165=\"\",\"\",'Broker Sheet'!E165)","v":""},{"$f":"IF('Broker Sheet'!F165=\"\",\"\",'Broker Sheet'!F165)","v":""},{"$f":"IF('Broker Sheet'!G165=\"\",\"\",TEXT('Broker Sheet'!G165,\"YYYYMMDD\"))","v":""},{"$f":"IF('Broker Sheet'!H165=\"\",\"\",'Broker Sheet'!H165)","v":""},{"$f":"IF('Broker Sheet'!I165=\"\",\"\",'Broker Sheet'!I165)","v":""},{"$f":"IF('Broker Sheet'!J165=\"\",\"\",VLOOKUP('Broker Sheet'!J165,(Reference!$E$4:$F$9),2,FALSE))","v":""},{"$f":"IF('Broker Sheet'!K165=\"\",\"\",'Broker Sheet'!K165)","v":""},{"$f":"IF('Broker Sheet'!R165=\"\",\"\",'Broker Sheet'!R165)","v":""},{"$f":"IF('Broker Sheet'!S165=\"\",\"\",'Broker Sheet'!S165)","v":""},{"$f":"IF('Broker Sheet'!T165=\"\",\"\",'Broker Sheet'!T165)","v":""},{"$f":"IF('Broker Sheet'!U165=\"\",\"\",'Broker Sheet'!U165)","v":""},{"$f":"IF('Broker Sheet'!V165=\"\",\"\",'Broker Sheet'!V165)","v":""},{"$f":"IF('Broker Sheet'!W165=\"\",\"\",'Broker Sheet'!W165)","v":""},{"$f":"IF('Broker Sheet'!Y165=\"\",\"\",'Broker Sheet'!Y165)","v":""},{"$f":"IF('Broker Sheet'!AA165=\"\",\"\",'Broker Sheet'!AA165)","v":""},{"$f":"IF('Broker Sheet'!Z165=\"\",\"\",'Broker Sheet'!Z165)","v":""},{"$f":"IF('Broker Sheet'!AB165=\"\",\"\",'Broker Sheet'!AB165)","v":""},null,null,{"$f":"IF('Broker Sheet'!L165=\"\",\"\",TEXT('Broker Sheet'!L165,\"YYYYMMDD\"))","v":""},{"$f":"IF('Broker Sheet'!AC165=\"\",\"\",TEXT('Broker Sheet'!AC165,\"YYYYMMDD\"))","v":""},{"$f":"IF('Broker Sheet'!AD165=\"\",\"\",TEXT('Broker Sheet'!AD165,\"YYYYMMDD\"))","v":""},{"$f":"IF('Broker Sheet'!AE165=\"\",\"\",'Broker Sheet'!AE165)","v":""},{"$f":"IF('Broker Sheet'!AF165=\"\",\"\",TEXT('Broker Sheet'!AF165,\"YYYYMMDD\"))","v":""},{"$f":"IF('Broker Sheet'!AG165=\"\",\"\",TEXT('Broker Sheet'!AG165,\"YYYYMMDD\"))","v":""}]
[null,null,null,null,null,{"$f":"IF('Broker Sheet'!C166=\"\",\"\",'Broker Sheet'!C166)","v":""},{"$f":"IF('Broker Sheet'!D166=\"\",\"\",'Broker Sheet'!D166)","v":""},{"$f":"IF('Broker Sheet'!E166=\"\",\"\",'Broker Sheet'!E166)","v":""},{"$f":"IF('Broker Sheet'!F166=\"\",\"\",'Broker Sheet'!F166)","v":""},{"$f":"IF('Broker Sheet'!G166=\"\",\"\",TEXT('Broker Sheet'!G166,\"YYYYMMDD\"))","v":""},{"$f":"IF('Broker Sheet'!H166=\"\",\"\",'Broker Sheet'!H166)","v":""},{"$f":"IF('Broker Sheet'!I166=\"\",\"\",'Broker Sheet'!I166)","v":""},{"$f":"IF('Broker Sheet'!J166=\"\",\"\",VLOOKUP('Broker Sheet'!J166,(Reference!$E$4:$F$9),2,FALSE))","v":""},{"$f":"IF('Broker Sheet'!K166=\"\",\"\",'Broker Sheet'!K166)","v":""},{"$f":"IF('Broker Sheet'!R166=\"\",\"\",'Broker Sheet'!R166)","v":""},{"$f":"IF('Broker Sheet'!S166=\"\",\"\",'Broker Sheet'!S166)","v":""},{"$f":"IF('Broker Sheet'!T166=\"\",\"\",'Broker Sheet'!T166)","v":""},{"$f":"IF('Broker Sheet'!U166=\"\",\"\",'Broker Sheet'!U166)","v":""},{"$f":"IF('Broker Sheet'!V166=\"\",\"\",'Broker Sheet'!V166)","v":""},{"$f":"IF('Broker Sheet'!W166=\"\",\"\",'Broker Sheet'!W166)","v":""},{"$f":"IF('Broker Sheet'!Y166=\"\",\"\",'Broker Sheet'!Y166)","v":""},{"$f":"IF('Broker Sheet'!AA166=\"\",\"\",'Broker Sheet'!AA166)","v":""},{"$f":"IF('Broker Sheet'!Z166=\"\",\"\",'Broker Sheet'!Z166)","v":""},{"$f":"IF('Broker Sheet'!AB166=\"\",\"\",'Broker Sheet'!AB166)","v":""},null,null,{"$f":"IF('Broker Sheet'!L166=\"\",\"\",TEXT('Broker Sheet'!L166,\"YYYYMMDD\"))","v":""},{"$f":"IF('Broker Sheet'!AC166=\"\",\"\",TEXT('Broker Sheet'!AC166,\"YYYYMMDD\"))","v":""},{"$f":"IF('Broker Sheet'!AD166=\"\",\"\",TEXT('Broker Sheet'!AD166,\"YYYYMMDD\"))","v":""},{"$f":"IF('Broker Sheet'!AE166=\"\",\"\",'Broker Sheet'!AE166)","v":""},{"$f":"IF('Broker Sheet'!AF166=\"\",\"\",TEXT('Broker Sheet'!AF166,\"YYYYMMDD\"))","v":""},{"$f":"IF('Broker Sheet'!AG166=\"\",\"\",TEXT('Broker Sheet'!AG166,\"YYYYMMDD\"))","v":""}]
[null,null,null,null,null,{"$f":"IF('Broker Sheet'!C167=\"\",\"\",'Broker Sheet'!C167)","v":""},{"$f":"IF('Broker Sheet'!D167=\"\",\"\",'Broker Sheet'!D167)","v":""},{"$f":"IF('Broker Sheet'!E167=\"\",\"\",'Broker Sheet'!E167)","v":""},{"$f":"IF('Broker Sheet'!F167=\"\",\"\",'Broker Sheet'!F167)","v":""},{"$f":"IF('Broker Sheet'!G167=\"\",\"\",TEXT('Broker Sheet'!G167,\"YYYYMMDD\"))","v":""},{"$f":"IF('Broker Sheet'!H167=\"\",\"\",'Broker Sheet'!H167)","v":""},{"$f":"IF('Broker Sheet'!I167=\"\",\"\",'Broker Sheet'!I167)","v":""},{"$f":"IF('Broker Sheet'!J167=\"\",\"\",VLOOKUP('Broker Sheet'!J167,(Reference!$E$4:$F$9),2,FALSE))","v":""},{"$f":"IF('Broker Sheet'!K167=\"\",\"\",'Broker Sheet'!K167)","v":""},{"$f":"IF('Broker Sheet'!R167=\"\",\"\",'Broker Sheet'!R167)","v":""},{"$f":"IF('Broker Sheet'!S167=\"\",\"\",'Broker Sheet'!S167)","v":""},{"$f":"IF('Broker Sheet'!T167=\"\",\"\",'Broker Sheet'!T167)","v":""},{"$f":"IF('Broker Sheet'!U167=\"\",\"\",'Broker Sheet'!U167)","v":""},{"$f":"IF('Broker Sheet'!V167=\"\",\"\",'Broker Sheet'!V167)","v":""},{"$f":"IF('Broker Sheet'!W167=\"\",\"\",'Broker Sheet'!W167)","v":""},{"$f":"IF('Broker Sheet'!Y167=\"\",\"\",'Broker Sheet'!Y167)","v":""},{"$f":"IF('Broker Sheet'!AA167=\"\",\"\",'Broker Sheet'!AA167)","v":""},{"$f":"IF('Broker Sheet'!Z167=\"\",\"\",'Broker Sheet'!Z167)","v":""},{"$f":"IF('Broker Sheet'!AB167=\"\",\"\",'Broker Sheet'!AB167)","v":""},null,null,{"$f":"IF('Broker Sheet'!L167=\"\",\"\",TEXT('Broker Sheet'!L167,\"YYYYMMDD\"))","v":""},{"$f":"IF('Broker Sheet'!AC167=\"\",\"\",TEXT('Broker Sheet'!AC167,\"YYYYMMDD\"))","v":""},{"$f":"IF('Broker Sheet'!AD167=\"\",\"\",TEXT('Broker Sheet'!AD167,\"YYYYMMDD\"))","v":""},{"$f":"IF('Broker Sheet'!AE167=\"\",\"\",'Broker Sheet'!AE167)","v":""},{"$f":"IF('Broker Sheet'!AF167=\"\",\"\",TEXT('Broker Sheet'!AF167,\"YYYYMMDD\"))","v":""},{"$f":"IF('Broker Sheet'!AG167=\"\",\"\",TEXT('Broker Sheet'!AG167,\"YYYYMMDD\"))","v":""}]
[null,null,null,null,null,{"$f":"IF('Broker Sheet'!C168=\"\",\"\",'Broker Sheet'!C168)","v":""},{"$f":"IF('Broker Sheet'!D168=\"\",\"\",'Broker Sheet'!D168)","v":""},{"$f":"IF('Broker Sheet'!E168=\"\",\"\",'Broker Sheet'!E168)","v":""},{"$f":"IF('Broker Sheet'!F168=\"\",\"\",'Broker Sheet'!F168)","v":""},{"$f":"IF('Broker Sheet'!G168=\"\",\"\",TEXT('Broker Sheet'!G168,\"YYYYMMDD\"))","v":""},{"$f":"IF('Broker Sheet'!H168=\"\",\"\",'Broker Sheet'!H168)","v":""},{"$f":"IF('Broker Sheet'!I168=\"\",\"\",'Broker Sheet'!I168)","v":""},{"$f":"IF('Broker Sheet'!J168=\"\",\"\",VLOOKUP('Broker Sheet'!J168,(Reference!$E$4:$F$9),2,FALSE))","v":""},{"$f":"IF('Broker Sheet'!K168=\"\",\"\",'Broker Sheet'!K168)","v":""},{"$f":"IF('Broker Sheet'!R168=\"\",\"\",'Broker Sheet'!R168)","v":""},{"$f":"IF('Broker Sheet'!S168=\"\",\"\",'Broker Sheet'!S168)","v":""},{"$f":"IF('Broker Sheet'!T168=\"\",\"\",'Broker Sheet'!T168)","v":""},{"$f":"IF('Broker Sheet'!U168=\"\",\"\",'Broker Sheet'!U168)","v":""},{"$f":"IF('Broker Sheet'!V168=\"\",\"\",'Broker Sheet'!V168)","v":""},{"$f":"IF('Broker Sheet'!W168=\"\",\"\",'Broker Sheet'!W168)","v":""},{"$f":"IF('Broker Sheet'!Y168=\"\",\"\",'Broker Sheet'!Y168)","v":""},{"$f":"IF('Broker Sheet'!AA168=\"\",\"\",'Broker Sheet'!AA168)","v":""},{"$f":"IF('Broker Sheet'!Z168=\"\",\"\",'Broker Sheet'!Z168)","v":""},{"$f":"IF('Broker Sheet'!AB168=\"\",\"\",'Broker Sheet'!AB168)","v":""},null,null,{"$f":"IF('Broker Sheet'!L168=\"\",\"\",TEXT('Broker Sheet'!L168,\"YYYYMMDD\"))","v":""},{"$f":"IF('Broker Sheet'!AC168=\"\",\"\",TEXT('Broker Sheet'!AC168,\"YYYYMMDD\"))","v":""},{"$f":"IF('Broker Sheet'!AD168=\"\",\"\",TEXT('Broker Sheet'!AD168,\"YYYYMMDD\"))","v":""},{"$f":"IF('Broker Sheet'!AE168=\"\",\"\",'Broker Sheet'!AE168)","v":""},{"$f":"IF('Broker Sheet'!AF168=\"\",\"\",TEXT('Broker Sheet'!AF168,\"YYYYMMDD\"))","v":""},{"$f":"IF('Broker Sheet'!AG168=\"\",\"\",TEXT('Broker Sheet'!AG168,\"YYYYMMDD\"))","v":""}]
[null,null,null,null,null,{"$f":"IF('Broker Sheet'!C169=\"\",\"\",'Broker Sheet'!C169)","v":""},{"$f":"IF('Broker Sheet'!D169=\"\",\"\",'Broker Sheet'!D169)","v":""},{"$f":"IF('Broker Sheet'!E169=\"\",\"\",'Broker Sheet'!E169)","v":""},{"$f":"IF('Broker Sheet'!F169=\"\",\"\",'Broker Sheet'!F169)","v":""},{"$f":"IF('Broker Sheet'!G169=\"\",\"\",TEXT('Broker Sheet'!G169,\"YYYYMMDD\"))","v":""},{"$f":"IF('Broker Sheet'!H169=\"\",\"\",'Broker Sheet'!H169)","v":""},{"$f":"IF('Broker Sheet'!I169=\"\",\"\",'Broker Sheet'!I169)","v":""},{"$f":"IF('Broker Sheet'!J169=\"\",\"\",VLOOKUP('Broker Sheet'!J169,(Reference!$E$4:$F$9),2,FALSE))","v":""},{"$f":"IF('Broker Sheet'!K169=\"\",\"\",'Broker Sheet'!K169)","v":""},{"$f":"IF('Broker Sheet'!R169=\"\",\"\",'Broker Sheet'!R169)","v":""},{"$f":"IF('Broker Sheet'!S169=\"\",\"\",'Broker Sheet'!S169)","v":""},{"$f":"IF('Broker Sheet'!T169=\"\",\"\",'Broker Sheet'!T169)","v":""},{"$f":"IF('Broker Sheet'!U169=\"\",\"\",'Broker Sheet'!U169)","v":""},{"$f":"IF('Broker Sheet'!V169=\"\",\"\",'Broker Sheet'!V169)","v":""},{"$f":"IF('Broker Sheet'!W169=\"\",\"\",'Broker Sheet'!W169)","v":""},{"$f":"IF('Broker Sheet'!Y169=\"\",\"\",'Broker Sheet'!Y169)","v":""},{"$f":"IF('Broker Sheet'!AA169=\"\",\"\",'Broker Sheet'!AA169)","v":""},{"$f":"IF('Broker Sheet'!Z169=\"\",\"\",'Broker Sheet'!Z169)","v":""},{"$f":"IF('Broker Sheet'!AB169=\"\",\"\",'Broker Sheet'!AB169)","v":""},null,null,{"$f":"IF('Broker Sheet'!L169=\"\",\"\",TEXT('Broker Sheet'!L169,\"YYYYMMDD\"))","v":""},{"$f":"IF('Broker Sheet'!AC169=\"\",\"\",TEXT('Broker Sheet'!AC169,\"YYYYMMDD\"))","v":""},{"$f":"IF('Broker Sheet'!AD169=\"\",\"\",TEXT('Broker Sheet'!AD169,\"YYYYMMDD\"))","v":""},{"$f":"IF('Broker Sheet'!AE169=\"\",\"\",'Broker Sheet'!AE169)","v":""},{"$f":"IF('Broker Sheet'!AF169=\"\",\"\",TEXT('Broker Sheet'!AF169,\"YYYYMMDD\"))","v":""},{"$f":"IF('Broker Sheet'!AG169=\"\",\"\",TEXT('Broker Sheet'!AG169,\"YYYYMMDD\"))","v":""}]
[null,null,null,null,null,{"$f":"IF('Broker Sheet'!C170=\"\",\"\",'Broker Sheet'!C170)","v":""},{"$f":"IF('Broker Sheet'!D170=\"\",\"\",'Broker Sheet'!D170)","v":""},{"$f":"IF('Broker Sheet'!E170=\"\",\"\",'Broker Sheet'!E170)","v":""},{"$f":"IF('Broker Sheet'!F170=\"\",\"\",'Broker Sheet'!F170)","v":""},{"$f":"IF('Broker Sheet'!G170=\"\",\"\",TEXT('Broker Sheet'!G170,\"YYYYMMDD\"))","v":""},{"$f":"IF('Broker Sheet'!H170=\"\",\"\",'Broker Sheet'!H170)","v":""},{"$f":"IF('Broker Sheet'!I170=\"\",\"\",'Broker Sheet'!I170)","v":""},{"$f":"IF('Broker Sheet'!J170=\"\",\"\",VLOOKUP('Broker Sheet'!J170,(Reference!$E$4:$F$9),2,FALSE))","v":""},{"$f":"IF('Broker Sheet'!K170=\"\",\"\",'Broker Sheet'!K170)","v":""},{"$f":"IF('Broker Sheet'!R170=\"\",\"\",'Broker Sheet'!R170)","v":""},{"$f":"IF('Broker Sheet'!S170=\"\",\"\",'Broker Sheet'!S170)","v":""},{"$f":"IF('Broker Sheet'!T170=\"\",\"\",'Broker Sheet'!T170)","v":""},{"$f":"IF('Broker Sheet'!U170=\"\",\"\",'Broker Sheet'!U170)","v":""},{"$f":"IF('Broker Sheet'!V170=\"\",\"\",'Broker Sheet'!V170)","v":""},{"$f":"IF('Broker Sheet'!W170=\"\",\"\",'Broker Sheet'!W170)","v":""},{"$f":"IF('Broker Sheet'!Y170=\"\",\"\",'Broker Sheet'!Y170)","v":""},{"$f":"IF('Broker Sheet'!AA170=\"\",\"\",'Broker Sheet'!AA170)","v":""},{"$f":"IF('Broker Sheet'!Z170=\"\",\"\",'Broker Sheet'!Z170)","v":""},{"$f":"IF('Broker Sheet'!AB170=\"\",\"\",'Broker Sheet'!AB170)","v":""},null,null,{"$f":"IF('Broker Sheet'!L170=\"\",\"\",TEXT('Broker Sheet'!L170,\"YYYYMMDD\"))","v":""},{"$f":"IF('Broker Sheet'!AC170=\"\",\"\",TEXT('Broker Sheet'!AC170,\"YYYYMMDD\"))","v":""},{"$f":"IF('Broker Sheet'!AD170=\"\",\"\",TEXT('Broker Sheet'!AD170,\"YYYYMMDD\"))","v":""},{"$f":"IF('Broker Sheet'!AE170=\"\",\"\",'Broker Sheet'!AE170)","v":""},{"$f":"IF('Broker Sheet'!AF170=\"\",\"\",TEXT('Broker Sheet'!AF170,\"YYYYMMDD\"))","v":""},{"$f":"IF('Broker Sheet'!AG170=\"\",\"\",TEXT('Broker Sheet'!AG170,\"YYYYMMDD\"))","v":""}]
[null,null,null,null,null,{"$f":"IF('Broker Sheet'!C171=\"\",\"\",'Broker Sheet'!C171)","v":""},{"$f":"IF('Broker Sheet'!D171=\"\",\"\",'Broker Sheet'!D171)","v":""},{"$f":"IF('Broker Sheet'!E171=\"\",\"\",'Broker Sheet'!E171)","v":""},{"$f":"IF('Broker Sheet'!F171=\"\",\"\",'Broker Sheet'!F171)","v":""},{"$f":"IF('Broker Sheet'!G171=\"\",\"\",TEXT('Broker Sheet'!G171,\"YYYYMMDD\"))","v":""},{"$f":"IF('Broker Sheet'!H171=\"\",\"\",'Broker Sheet'!H171)","v":""},{"$f":"IF('Broker Sheet'!I171=\"\",\"\",'Broker Sheet'!I171)","v":""},{"$f":"IF('Broker Sheet'!J171=\"\",\"\",VLOOKUP('Broker Sheet'!J171,(Reference!$E$4:$F$9),2,FALSE))","v":""},{"$f":"IF('Broker Sheet'!K171=\"\",\"\",'Broker Sheet'!K171)","v":""},{"$f":"IF('Broker Sheet'!R171=\"\",\"\",'Broker Sheet'!R171)","v":""},{"$f":"IF('Broker Sheet'!S171=\"\",\"\",'Broker Sheet'!S171)","v":""},{"$f":"IF('Broker Sheet'!T171=\"\",\"\",'Broker Sheet'!T171)","v":""},{"$f":"IF('Broker Sheet'!U171=\"\",\"\",'Broker Sheet'!U171)","v":""},{"$f":"IF('Broker Sheet'!V171=\"\",\"\",'Broker Sheet'!V171)","v":""},{"$f":"IF('Broker Sheet'!W171=\"\",\"\",'Broker Sheet'!W171)","v":""},{"$f":"IF('Broker Sheet'!Y171=\"\",\"\",'Broker Sheet'!Y171)","v":""},{"$f":"IF('Broker Sheet'!AA171=\"\",\"\",'Broker Sheet'!AA171)","v":""},{"$f":"IF('Broker Sheet'!Z171=\"\",\"\",'Broker Sheet'!Z171)","v":""},{"$f":"IF('Broker Sheet'!AB171=\"\",\"\",'Broker Sheet'!AB171)","v":""},null,null,{"$f":"IF('Broker Sheet'!L171=\"\",\"\",TEXT('Broker Sheet'!L171,\"YYYYMMDD\"))","v":""},{"$f":"IF('Broker Sheet'!AC171=\"\",\"\",TEXT('Broker Sheet'!AC171,\"YYYYMMDD\"))","v":""},{"$f":"IF('Broker Sheet'!AD171=\"\",\"\",TEXT('Broker Sheet'!AD171,\"YYYYMMDD\"))","v":""},{"$f":"IF('Broker Sheet'!AE171=\"\",\"\",'Broker Sheet'!AE171)","v":""},{"$f":"IF('Broker Sheet'!AF171=\"\",\"\",TEXT('Broker Sheet'!AF171,\"YYYYMMDD\"))","v":""},{"$f":"IF('Broker Sheet'!AG171=\"\",\"\",TEXT('Broker Sheet'!AG171,\"YYYYMMDD\"))","v":""}]
[null,null,null,null,null,{"$f":"IF('Broker Sheet'!C172=\"\",\"\",'Broker Sheet'!C172)","v":""},{"$f":"IF('Broker Sheet'!D172=\"\",\"\",'Broker Sheet'!D172)","v":""},{"$f":"IF('Broker Sheet'!E172=\"\",\"\",'Broker Sheet'!E172)","v":""},{"$f":"IF('Broker Sheet'!F172=\"\",\"\",'Broker Sheet'!F172)","v":""},{"$f":"IF('Broker Sheet'!G172=\"\",\"\",TEXT('Broker Sheet'!G172,\"YYYYMMDD\"))","v":""},{"$f":"IF('Broker Sheet'!H172=\"\",\"\",'Broker Sheet'!H172)","v":""},{"$f":"IF('Broker Sheet'!I172=\"\",\"\",'Broker Sheet'!I172)","v":""},{"$f":"IF('Broker Sheet'!J172=\"\",\"\",VLOOKUP('Broker Sheet'!J172,(Reference!$E$4:$F$9),2,FALSE))","v":""},{"$f":"IF('Broker Sheet'!K172=\"\",\"\",'Broker Sheet'!K172)","v":""},{"$f":"IF('Broker Sheet'!R172=\"\",\"\",'Broker Sheet'!R172)","v":""},{"$f":"IF('Broker Sheet'!S172=\"\",\"\",'Broker Sheet'!S172)","v":""},{"$f":"IF('Broker Sheet'!T172=\"\",\"\",'Broker Sheet'!T172)","v":""},{"$f":"IF('Broker Sheet'!U172=\"\",\"\",'Broker Sheet'!U172)","v":""},{"$f":"IF('Broker Sheet'!V172=\"\",\"\",'Broker Sheet'!V172)","v":""},{"$f":"IF('Broker Sheet'!W172=\"\",\"\",'Broker Sheet'!W172)","v":""},{"$f":"IF('Broker Sheet'!Y172=\"\",\"\",'Broker Sheet'!Y172)","v":""},{"$f":"IF('Broker Sheet'!AA172=\"\",\"\",'Broker Sheet'!AA172)","v":""},{"$f":"IF('Broker Sheet'!Z172=\"\",\"\",'Broker Sheet'!Z172)","v":""},{"$f":"IF('Broker Sheet'!AB172=\"\",\"\",'Broker Sheet'!AB172)","v":""},null,null,{"$f":"IF('Broker Sheet'!L172=\"\",\"\",TEXT('Broker Sheet'!L172,\"YYYYMMDD\"))","v":""},{"$f":"IF('Broker Sheet'!AC172=\"\",\"\",TEXT('Broker Sheet'!AC172,\"YYYYMMDD\"))","v":""},{"$f":"IF('Broker Sheet'!AD172=\"\",\"\",TEXT('Broker Sheet'!AD172,\"YYYYMMDD\"))","v":""},{"$f":"IF('Broker Sheet'!AE172=\"\",\"\",'Broker Sheet'!AE172)","v":""},{"$f":"IF('Broker Sheet'!AF172=\"\",\"\",TEXT('Broker Sheet'!AF172,\"YYYYMMDD\"))","v":""},{"$f":"IF('Broker Sheet'!AG172=\"\",\"\",TEXT('Broker Sheet'!AG172,\"YYYYMMDD\"))","v":""}]
[null,null,null,null,null,{"$f":"IF('Broker Sheet'!C173=\"\",\"\",'Broker Sheet'!C173)","v":""},{"$f":"IF('Broker Sheet'!D173=\"\",\"\",'Broker Sheet'!D173)","v":""},{"$f":"IF('Broker Sheet'!E173=\"\",\"\",'Broker Sheet'!E173)","v":""},{"$f":"IF('Broker Sheet'!F173=\"\",\"\",'Broker Sheet'!F173)","v":""},{"$f":"IF('Broker Sheet'!G173=\"\",\"\",TEXT('Broker Sheet'!G173,\"YYYYMMDD\"))","v":""},{"$f":"IF('Broker Sheet'!H173=\"\",\"\",'Broker Sheet'!H173)","v":""},{"$f":"IF('Broker Sheet'!I173=\"\",\"\",'Broker Sheet'!I173)","v":""},{"$f":"IF('Broker Sheet'!J173=\"\",\"\",VLOOKUP('Broker Sheet'!J173,(Reference!$E$4:$F$9),2,FALSE))","v":""},{"$f":"IF('Broker Sheet'!K173=\"\",\"\",'Broker Sheet'!K173)","v":""},{"$f":"IF('Broker Sheet'!R173=\"\",\"\",'Broker Sheet'!R173)","v":""},{"$f":"IF('Broker Sheet'!S173=\"\",\"\",'Broker Sheet'!S173)","v":""},{"$f":"IF('Broker Sheet'!T173=\"\",\"\",'Broker Sheet'!T173)","v":""},{"$f":"IF('Broker Sheet'!U173=\"\",\"\",'Broker Sheet'!U173)","v":""},{"$f":"IF('Broker Sheet'!V173=\"\",\"\",'Broker Sheet'!V173)","v":""},{"$f":"IF('Broker Sheet'!W173=\"\",\"\",'Broker Sheet'!W173)","v":""},{"$f":"IF('Broker Sheet'!Y173=\"\",\"\",'Broker Sheet'!Y173)","v":""},{"$f":"IF('Broker Sheet'!AA173=\"\",\"\",'Broker Sheet'!AA173)","v":""},{"$f":"IF('Broker Sheet'!Z173=\"\",\"\",'Broker Sheet'!Z173)","v":""},{"$f":"IF('Broker Sheet'!AB173=\"\",\"\",'Broker Sheet'!AB173)","v":""},null,null,{"$f":"IF('Broker Sheet'!L173=\"\",\"\",TEXT('Broker Sheet'!L173,\"YYYYMMDD\"))","v":""},{"$f":"IF('Broker Sheet'!AC173=\"\",\"\",TEXT('Broker Sheet'!AC173,\"YYYYMMDD\"))","v":""},{"$f":"IF('Broker Sheet'!AD173=\"\",\"\",TEXT('Broker Sheet'!AD173,\"YYYYMMDD\"))","v":""},{"$f":"IF('Broker Sheet'!AE173=\"\",\"\",'Broker Sheet'!AE173)","v":""},{"$f":"IF('Broker Sheet'!AF173=\"\",\"\",TEXT('Broker Sheet'!AF173,\"YYYYMMDD\"))","v":""},{"$f":"IF('Broker Sheet'!AG173=\"\",\"\",TEXT('Broker Sheet'!AG173,\"YYYYMMDD\"))","v":""}]
[null,null,null,null,null,{"$f":"IF('Broker Sheet'!C174=\"\",\"\",'Broker Sheet'!C174)","v":""},{"$f":"IF('Broker Sheet'!D174=\"\",\"\",'Broker Sheet'!D174)","v":""},{"$f":"IF('Broker Sheet'!E174=\"\",\"\",'Broker Sheet'!E174)","v":""},{"$f":"IF('Broker Sheet'!F174=\"\",\"\",'Broker Sheet'!F174)","v":""},{"$f":"IF('Broker Sheet'!G174=\"\",\"\",TEXT('Broker Sheet'!G174,\"YYYYMMDD\"))","v":""},{"$f":"IF('Broker Sheet'!H174=\"\",\"\",'Broker Sheet'!H174)","v":""},{"$f":"IF('Broker Sheet'!I174=\"\",\"\",'Broker Sheet'!I174)","v":""},{"$f":"IF('Broker Sheet'!J174=\"\",\"\",VLOOKUP('Broker Sheet'!J174,(Reference!$E$4:$F$9),2,FALSE))","v":""},{"$f":"IF('Broker Sheet'!K174=\"\",\"\",'Broker Sheet'!K174)","v":""},{"$f":"IF('Broker Sheet'!R174=\"\",\"\",'Broker Sheet'!R174)","v":""},{"$f":"IF('Broker Sheet'!S174=\"\",\"\",'Broker Sheet'!S174)","v":""},{"$f":"IF('Broker Sheet'!T174=\"\",\"\",'Broker Sheet'!T174)","v":""},{"$f":"IF('Broker Sheet'!U174=\"\",\"\",'Broker Sheet'!U174)","v":""},{"$f":"IF('Broker Sheet'!V174=\"\",\"\",'Broker Sheet'!V174)","v":""},{"$f":"IF('Broker Sheet'!W174=\"\",\"\",'Broker Sheet'!W174)","v":""},{"$f":"IF('Broker Sheet'!Y174=\"\",\"\",'Broker Sheet'!Y174)","v":""},{"$f":"IF('Broker Sheet'!AA174=\"\",\"\",'Broker Sheet'!AA174)","v":""},{"$f":"IF('Broker Sheet'!Z174=\"\",\"\",'Broker Sheet'!Z174)","v":""},{"$f":"IF('Broker Sheet'!AB174=\"\",\"\",'Broker Sheet'!AB174)","v":""},null,null,{"$f":"IF('Broker Sheet'!L174=\"\",\"\",TEXT('Broker Sheet'!L174,\"YYYYMMDD\"))","v":""},{"$f":"IF('Broker Sheet'!AC174=\"\",\"\",TEXT('Broker Sheet'!AC174,\"YYYYMMDD\"))","v":""},{"$f":"IF('Broker Sheet'!AD174=\"\",\"\",TEXT('Broker Sheet'!AD174,\"YYYYMMDD\"))","v":""},{"$f":"IF('Broker Sheet'!AE174=\"\",\"\",'Broker Sheet'!AE174)","v":""},{"$f":"IF('Broker Sheet'!AF174=\"\",\"\",TEXT('Broker Sheet'!AF174,\"YYYYMMDD\"))","v":""},{"$f":"IF('Broker Sheet'!AG174=\"\",\"\",TEXT('Broker Sheet'!AG174,\"YYYYMMDD\"))","v":""}]
[null,null,null,null,null,{"$f":"IF('Broker Sheet'!C175=\"\",\"\",'Broker Sheet'!C175)","v":""},{"$f":"IF('Broker Sheet'!D175=\"\",\"\",'Broker Sheet'!D175)","v":""},{"$f":"IF('Broker Sheet'!E175=\"\",\"\",'Broker Sheet'!E175)","v":""},{"$f":"IF('Broker Sheet'!F175=\"\",\"\",'Broker Sheet'!F175)","v":""},{"$f":"IF('Broker Sheet'!G175=\"\",\"\",TEXT('Broker Sheet'!G175,\"YYYYMMDD\"))","v":""},{"$f":"IF('Broker Sheet'!H175=\"\",\"\",'Broker Sheet'!H175)","v":""},{"$f":"IF('Broker Sheet'!I175=\"\",\"\",'Broker Sheet'!I175)","v":""},{"$f":"IF('Broker Sheet'!J175=\"\",\"\",VLOOKUP('Broker Sheet'!J175,(Reference!$E$4:$F$9),2,FALSE))","v":""},{"$f":"IF('Broker Sheet'!K175=\"\",\"\",'Broker Sheet'!K175)","v":""},{"$f":"IF('Broker Sheet'!R175=\"\",\"\",'Broker Sheet'!R175)","v":""},{"$f":"IF('Broker Sheet'!S175=\"\",\"\",'Broker Sheet'!S175)","v":""},{"$f":"IF('Broker Sheet'!T175=\"\",\"\",'Broker Sheet'!T175)","v":""},{"$f":"IF('Broker Sheet'!U175=\"\",\"\",'Broker Sheet'!U175)","v":""},{"$f":"IF('Broker Sheet'!V175=\"\",\"\",'Broker Sheet'!V175)","v":""},{"$f":"IF('Broker Sheet'!W175=\"\",\"\",'Broker Sheet'!W175)","v":""},{"$f":"IF('Broker Sheet'!Y175=\"\",\"\",'Broker Sheet'!Y175)","v":""},{"$f":"IF('Broker Sheet'!AA175=\"\",\"\",'Broker Sheet'!AA175)","v":""},{"$f":"IF('Broker Sheet'!Z175=\"\",\"\",'Broker Sheet'!Z175)","v":""},{"$f":"IF('Broker Sheet'!AB175=\"\",\"\",'Broker Sheet'!AB175)","v":""},null,null,{"$f":"IF('Broker Sheet'!L175=\"\",\"\",TEXT('Broker Sheet'!L175,\"YYYYMMDD\"))","v":""},{"$f":"IF('Broker Sheet'!AC175=\"\",\"\",TEXT('Broker Sheet'!AC175,\"YYYYMMDD\"))","v":""},{"$f":"IF('Broker Sheet'!AD175=\"\",\"\",TEXT('Broker Sheet'!AD175,\"YYYYMMDD\"))","v":""},{"$f":"IF('Broker Sheet'!AE175=\"\",\"\",'Broker Sheet'!AE175)","v":""},{"$f":"IF('Broker Sheet'!AF175=\"\",\"\",TEXT('Broker Sheet'!AF175,\"YYYYMMDD\"))","v":""},{"$f":"IF('Broker Sheet'!AG175=\"\",\"\",TEXT('Broker Sheet'!AG175,\"YYYYMMDD\"))","v":""}]
[null,null,null,null,null,{"$f":"IF('Broker Sheet'!C176=\"\",\"\",'Broker Sheet'!C176)","v":""},{"$f":"IF('Broker Sheet'!D176=\"\",\"\",'Broker Sheet'!D176)","v":""},{"$f":"IF('Broker Sheet'!E176=\"\",\"\",'Broker Sheet'!E176)","v":""},{"$f":"IF('Broker Sheet'!F176=\"\",\"\",'Broker Sheet'!F176)","v":""},{"$f":"IF('Broker Sheet'!G176=\"\",\"\",TEXT('Broker Sheet'!G176,\"YYYYMMDD\"))","v":""},{"$f":"IF('Broker Sheet'!H176=\"\",\"\",'Broker Sheet'!H176)","v":""},{"$f":"IF('Broker Sheet'!I176=\"\",\"\",'Broker Sheet'!I176)","v":""},{"$f":"IF('Broker Sheet'!J176=\"\",\"\",VLOOKUP('Broker Sheet'!J176,(Reference!$E$4:$F$9),2,FALSE))","v":""},{"$f":"IF('Broker Sheet'!K176=\"\",\"\",'Broker Sheet'!K176)","v":""},{"$f":"IF('Broker Sheet'!R176=\"\",\"\",'Broker Sheet'!R176)","v":""},{"$f":"IF('Broker Sheet'!S176=\"\",\"\",'Broker Sheet'!S176)","v":""},{"$f":"IF('Broker Sheet'!T176=\"\",\"\",'Broker Sheet'!T176)","v":""},{"$f":"IF('Broker Sheet'!U176=\"\",\"\",'Broker Sheet'!U176)","v":""},{"$f":"IF('Broker Sheet'!V176=\"\",\"\",'Broker Sheet'!V176)","v":""},{"$f":"IF('Broker Sheet'!W176=\"\",\"\",'Broker Sheet'!W176)","v":""},{"$f":"IF('Broker Sheet'!Y176=\"\",\"\",'Broker Sheet'!Y176)","v":""},{"$f":"IF('Broker Sheet'!AA176=\"\",\"\",'Broker Sheet'!AA176)","v":""},{"$f":"IF('Broker Sheet'!Z176=\"\",\"\",'Broker Sheet'!Z176)","v":""},{"$f":"IF('Broker Sheet'!AB176=\"\",\"\",'Broker Sheet'!AB176)","v":""},null,null,{"$f":"IF('Broker Sheet'!L176=\"\",\"\",TEXT('Broker Sheet'!L176,\"YYYYMMDD\"))","v":""},{"$f":"IF('Broker Sheet'!AC176=\"\",\"\",TEXT('Broker Sheet'!AC176,\"YYYYMMDD\"))","v":""},{"$f":"IF('Broker Sheet'!AD176=\"\",\"\",TEXT('Broker Sheet'!AD176,\"YYYYMMDD\"))","v":""},{"$f":"IF('Broker Sheet'!AE176=\"\",\"\",'Broker Sheet'!AE176)","v":""},{"$f":"IF('Broker Sheet'!AF176=\"\",\"\",TEXT('Broker Sheet'!AF176,\"YYYYMMDD\"))","v":""},{"$f":"IF('Broker Sheet'!AG176=\"\",\"\",TEXT('Broker Sheet'!AG176,\"YYYYMMDD\"))","v":""}]
[null,null,null,null,null,{"$f":"IF('Broker Sheet'!C177=\"\",\"\",'Broker Sheet'!C177)","v":""},{"$f":"IF('Broker Sheet'!D177=\"\",\"\",'Broker Sheet'!D177)","v":""},{"$f":"IF('Broker Sheet'!E177=\"\",\"\",'Broker Sheet'!E177)","v":""},{"$f":"IF('Broker Sheet'!F177=\"\",\"\",'Broker Sheet'!F177)","v":""},{"$f":"IF('Broker Sheet'!G177=\"\",\"\",TEXT('Broker Sheet'!G177,\"YYYYMMDD\"))","v":""},{"$f":"IF('Broker Sheet'!H177=\"\",\"\",'Broker Sheet'!H177)","v":""},{"$f":"IF('Broker Sheet'!I177=\"\",\"\",'Broker Sheet'!I177)","v":""},{"$f":"IF('Broker Sheet'!J177=\"\",\"\",VLOOKUP('Broker Sheet'!J177,(Reference!$E$4:$F$9),2,FALSE))","v":""},{"$f":"IF('Broker Sheet'!K177=\"\",\"\",'Broker Sheet'!K177)","v":""},{"$f":"IF('Broker Sheet'!R177=\"\",\"\",'Broker Sheet'!R177)","v":""},{"$f":"IF('Broker Sheet'!S177=\"\",\"\",'Broker Sheet'!S177)","v":""},{"$f":"IF('Broker Sheet'!T177=\"\",\"\",'Broker Sheet'!T177)","v":""},{"$f":"IF('Broker Sheet'!U177=\"\",\"\",'Broker Sheet'!U177)","v":""},{"$f":"IF('Broker Sheet'!V177=\"\",\"\",'Broker Sheet'!V177)","v":""},{"$f":"IF('Broker Sheet'!W177=\"\",\"\",'Broker Sheet'!W177)","v":""},{"$f":"IF('Broker Sheet'!Y177=\"\",\"\",'Broker Sheet'!Y177)","v":""},{"$f":"IF('Broker Sheet'!AA177=\"\",\"\",'Broker Sheet'!AA177)","v":""},{"$f":"IF('Broker Sheet'!Z177=\"\",\"\",'Broker Sheet'!Z177)","v":""},{"$f":"IF('Broker Sheet'!AB177=\"\",\"\",'Broker Sheet'!AB177)","v":""},null,null,{"$f":"IF('Broker Sheet'!L177=\"\",\"\",TEXT('Broker Sheet'!L177,\"YYYYMMDD\"))","v":""},{"$f":"IF('Broker Sheet'!AC177=\"\",\"\",TEXT('Broker Sheet'!AC177,\"YYYYMMDD\"))","v":""},{"$f":"IF('Broker Sheet'!AD177=\"\",\"\",TEXT('Broker Sheet'!AD177,\"YYYYMMDD\"))","v":""},{"$f":"IF('Broker Sheet'!AE177=\"\",\"\",'Broker Sheet'!AE177)","v":""},{"$f":"IF('Broker Sheet'!AF177=\"\",\"\",TEXT('Broker Sheet'!AF177,\"YYYYMMDD\"))","v":""},{"$f":"IF('Broker Sheet'!AG177=\"\",\"\",TEXT('Broker Sheet'!AG177,\"YYYYMMDD\"))","v":""}]
[null,null,null,null,null,{"$f":"IF('Broker Sheet'!C178=\"\",\"\",'Broker Sheet'!C178)","v":""},{"$f":"IF('Broker Sheet'!D178=\"\",\"\",'Broker Sheet'!D178)","v":""},{"$f":"IF('Broker Sheet'!E178=\"\",\"\",'Broker Sheet'!E178)","v":""},{"$f":"IF('Broker Sheet'!F178=\"\",\"\",'Broker Sheet'!F178)","v":""},{"$f":"IF('Broker Sheet'!G178=\"\",\"\",TEXT('Broker Sheet'!G178,\"YYYYMMDD\"))","v":""},{"$f":"IF('Broker Sheet'!H178=\"\",\"\",'Broker Sheet'!H178)","v":""},{"$f":"IF('Broker Sheet'!I178=\"\",\"\",'Broker Sheet'!I178)","v":""},{"$f":"IF('Broker Sheet'!J178=\"\",\"\",VLOOKUP('Broker Sheet'!J178,(Reference!$E$4:$F$9),2,FALSE))","v":""},{"$f":"IF('Broker Sheet'!K178=\"\",\"\",'Broker Sheet'!K178)","v":""},{"$f":"IF('Broker Sheet'!R178=\"\",\"\",'Broker Sheet'!R178)","v":""},{"$f":"IF('Broker Sheet'!S178=\"\",\"\",'Broker Sheet'!S178)","v":""},{"$f":"IF('Broker Sheet'!T178=\"\",\"\",'Broker Sheet'!T178)","v":""},{"$f":"IF('Broker Sheet'!U178=\"\",\"\",'Broker Sheet'!U178)","v":""},{"$f":"IF('Broker Sheet'!V178=\"\",\"\",'Broker Sheet'!V178)","v":""},{"$f":"IF('Broker Sheet'!W178=\"\",\"\",'Broker Sheet'!W178)","v":""},{"$f":"IF('Broker Sheet'!Y178=\"\",\"\",'Broker Sheet'!Y178)","v":""},{"$f":"IF('Broker Sheet'!AA178=\"\",\"\",'Broker Sheet'!AA178)","v":""},{"$f":"IF('Broker Sheet'!Z178=\"\",\"\",'Broker Sheet'!Z178)","v":""},{"$f":"IF('Broker Sheet'!AB178=\"\",\"\",'Broker Sheet'!AB178)","v":""},null,null,{"$f":"IF('Broker Sheet'!L178=\"\",\"\",TEXT('Broker Sheet'!L178,\"YYYYMMDD\"))","v":""},{"$f":"IF('Broker Sheet'!AC178=\"\",\"\",TEXT('Broker Sheet'!AC178,\"YYYYMMDD\"))","v":""},{"$f":"IF('Broker Sheet'!AD178=\"\",\"\",TEXT('Broker Sheet'!AD178,\"YYYYMMDD\"))","v":""},{"$f":"IF('Broker Sheet'!AE178=\"\",\"\",'Broker Sheet'!AE178)","v":""},{"$f":"IF('Broker Sheet'!AF178=\"\",\"\",TEXT('Broker Sheet'!AF178,\"YYYYMMDD\"))","v":""},{"$f":"IF('Broker Sheet'!AG178=\"\",\"\",TEXT('Broker Sheet'!AG178,\"YYYYMMDD\"))","v":""}]
[null,null,null,null,null,{"$f":"IF('Broker Sheet'!C179=\"\",\"\",'Broker Sheet'!C179)","v":""},{"$f":"IF('Broker Sheet'!D179=\"\",\"\",'Broker Sheet'!D179)","v":""},{"$f":"IF('Broker Sheet'!E179=\"\",\"\",'Broker Sheet'!E179)","v":""},{"$f":"IF('Broker Sheet'!F179=\"\",\"\",'Broker Sheet'!F179)","v":""},{"$f":"IF('Broker Sheet'!G179=\"\",\"\",TEXT('Broker Sheet'!G179,\"YYYYMMDD\"))","v":""},{"$f":"IF('Broker Sheet'!H179=\"\",\"\",'Broker Sheet'!H179)","v":""},{"$f":"IF('Broker Sheet'!I179=\"\",\"\",'Broker Sheet'!I179)","v":""},{"$f":"IF('Broker Sheet'!J179=\"\",\"\",VLOOKUP('Broker Sheet'!J179,(Reference!$E$4:$F$9),2,FALSE))","v":""},{"$f":"IF('Broker Sheet'!K179=\"\",\"\",'Broker Sheet'!K179)","v":""},{"$f":"IF('Broker Sheet'!R179=\"\",\"\",'Broker Sheet'!R179)","v":""},{"$f":"IF('Broker Sheet'!S179=\"\",\"\",'Broker Sheet'!S179)","v":""},{"$f":"IF('Broker Sheet'!T179=\"\",\"\",'Broker Sheet'!T179)","v":""},{"$f":"IF('Broker Sheet'!U179=\"\",\"\",'Broker Sheet'!U179)","v":""},{"$f":"IF('Broker Sheet'!V179=\"\",\"\",'Broker Sheet'!V179)","v":""},{"$f":"IF('Broker Sheet'!W179=\"\",\"\",'Broker Sheet'!W179)","v":""},{"$f":"IF('Broker Sheet'!Y179=\"\",\"\",'Broker Sheet'!Y179)","v":""},{"$f":"IF('Broker Sheet'!AA179=\"\",\"\",'Broker Sheet'!AA179)","v":""},{"$f":"IF('Broker Sheet'!Z179=\"\",\"\",'Broker Sheet'!Z179)","v":""},{"$f":"IF('Broker Sheet'!AB179=\"\",\"\",'Broker Sheet'!AB179)","v":""},null,null,{"$f":"IF('Broker Sheet'!L179=\"\",\"\",TEXT('Broker Sheet'!L179,\"YYYYMMDD\"))","v":""},{"$f":"IF('Broker Sheet'!AC179=\"\",\"\",TEXT('Broker Sheet'!AC179,\"YYYYMMDD\"))","v":""},{"$f":"IF('Broker Sheet'!AD179=\"\",\"\",TEXT('Broker Sheet'!AD179,\"YYYYMMDD\"))","v":""},{"$f":"IF('Broker Sheet'!AE179=\"\",\"\",'Broker Sheet'!AE179)","v":""},{"$f":"IF('Broker Sheet'!AF179=\"\",\"\",TEXT('Broker Sheet'!AF179,\"YYYYMMDD\"))","v":""},{"$f":"IF('Broker Sheet'!AG179=\"\",\"\",TEXT('Broker Sheet'!AG179,\"YYYYMMDD\"))","v":""}]
[null,null,null,null,null,{"$f":"IF('Broker Sheet'!C180=\"\",\"\",'Broker Sheet'!C180)","v":""},{"$f":"IF('Broker Sheet'!D180=\"\",\"\",'Broker Sheet'!D180)","v":""},{"$f":"IF('Broker Sheet'!E180=\"\",\"\",'Broker Sheet'!E180)","v":""},{"$f":"IF('Broker Sheet'!F180=\"\",\"\",'Broker Sheet'!F180)","v":""},{"$f":"IF('Broker Sheet'!G180=\"\",\"\",TEXT('Broker Sheet'!G180,\"YYYYMMDD\"))","v":""},{"$f":"IF('Broker Sheet'!H180=\"\",\"\",'Broker Sheet'!H180)","v":""},{"$f":"IF('Broker Sheet'!I180=\"\",\"\",'Broker Sheet'!I180)","v":""},{"$f":"IF('Broker Sheet'!J180=\"\",\"\",VLOOKUP('Broker Sheet'!J180,(Reference!$E$4:$F$9),2,FALSE))","v":""},{"$f":"IF('Broker Sheet'!K180=\"\",\"\",'Broker Sheet'!K180)","v":""},{"$f":"IF('Broker Sheet'!R180=\"\",\"\",'Broker Sheet'!R180)","v":""},{"$f":"IF('Broker Sheet'!S180=\"\",\"\",'Broker Sheet'!S180)","v":""},{"$f":"IF('Broker Sheet'!T180=\"\",\"\",'Broker Sheet'!T180)","v":""},{"$f":"IF('Broker Sheet'!U180=\"\",\"\",'Broker Sheet'!U180)","v":""},{"$f":"IF('Broker Sheet'!V180=\"\",\"\",'Broker Sheet'!V180)","v":""},{"$f":"IF('Broker Sheet'!W180=\"\",\"\",'Broker Sheet'!W180)","v":""},{"$f":"IF('Broker Sheet'!Y180=\"\",\"\",'Broker Sheet'!Y180)","v":""},{"$f":"IF('Broker Sheet'!AA180=\"\",\"\",'Broker Sheet'!AA180)","v":""},{"$f":"IF('Broker Sheet'!Z180=\"\",\"\",'Broker Sheet'!Z180)","v":""},{"$f":"IF('Broker Sheet'!AB180=\"\",\"\",'Broker Sheet'!AB180)","v":""},null,null,{"$f":"IF('Broker Sheet'!L180=\"\",\"\",TEXT('Broker Sheet'!L180,\"YYYYMMDD\"))","v":""},{"$f":"IF('Broker Sheet'!AC180=\"\",\"\",TEXT('Broker Sheet'!AC180,\"YYYYMMDD\"))","v":""},{"$f":"IF('Broker Sheet'!AD180=\"\",\"\",TEXT('Broker Sheet'!AD180,\"YYYYMMDD\"))","v":""},{"$f":"IF('Broker Sheet'!AE180=\"\",\"\",'Broker Sheet'!AE180)","v":""},{"$f":"IF('Broker Sheet'!AF180=\"\",\"\",TEXT('Broker Sheet'!AF180,\"YYYYMMDD\"))","v":""},{"$f":"IF('Broker Sheet'!AG180=\"\",\"\",TEXT('Broker Sheet'!AG180,\"YYYYMMDD\"))","v":""}]
[null,null,null,null,null,{"$f":"IF('Broker Sheet'!C181=\"\",\"\",'Broker Sheet'!C181)","v":""},{"$f":"IF('Broker Sheet'!D181=\"\",\"\",'Broker Sheet'!D181)","v":""},{"$f":"IF('Broker Sheet'!E181=\"\",\"\",'Broker Sheet'!E181)","v":""},{"$f":"IF('Broker Sheet'!F181=\"\",\"\",'Broker Sheet'!F181)","v":""},{"$f":"IF('Broker Sheet'!G181=\"\",\"\",TEXT('Broker Sheet'!G181,\"YYYYMMDD\"))","v":""},{"$f":"IF('Broker Sheet'!H181=\"\",\"\",'Broker Sheet'!H181)","v":""},{"$f":"IF('Broker Sheet'!I181=\"\",\"\",'Broker Sheet'!I181)","v":""},{"$f":"IF('Broker Sheet'!J181=\"\",\"\",VLOOKUP('Broker Sheet'!J181,(Reference!$E$4:$F$9),2,FALSE))","v":""},{"$f":"IF('Broker Sheet'!K181=\"\",\"\",'Broker Sheet'!K181)","v":""},{"$f":"IF('Broker Sheet'!R181=\"\",\"\",'Broker Sheet'!R181)","v":""},{"$f":"IF('Broker Sheet'!S181=\"\",\"\",'Broker Sheet'!S181)","v":""},{"$f":"IF('Broker Sheet'!T181=\"\",\"\",'Broker Sheet'!T181)","v":""},{"$f":"IF('Broker Sheet'!U181=\"\",\"\",'Broker Sheet'!U181)","v":""},{"$f":"IF('Broker Sheet'!V181=\"\",\"\",'Broker Sheet'!V181)","v":""},{"$f":"IF('Broker Sheet'!W181=\"\",\"\",'Broker Sheet'!W181)","v":""},{"$f":"IF('Broker Sheet'!Y181=\"\",\"\",'Broker Sheet'!Y181)","v":""},{"$f":"IF('Broker Sheet'!AA181=\"\",\"\",'Broker Sheet'!AA181)","v":""},{"$f":"IF('Broker Sheet'!Z181=\"\",\"\",'Broker Sheet'!Z181)","v":""},{"$f":"IF('Broker Sheet'!AB181=\"\",\"\",'Broker Sheet'!AB181)","v":""},null,null,{"$f":"IF('Broker Sheet'!L181=\"\",\"\",TEXT('Broker Sheet'!L181,\"YYYYMMDD\"))","v":""},{"$f":"IF('Broker Sheet'!AC181=\"\",\"\",TEXT('Broker Sheet'!AC181,\"YYYYMMDD\"))","v":""},{"$f":"IF('Broker Sheet'!AD181=\"\",\"\",TEXT('Broker Sheet'!AD181,\"YYYYMMDD\"))","v":""},{"$f":"IF('Broker Sheet'!AE181=\"\",\"\",'Broker Sheet'!AE181)","v":""},{"$f":"IF('Broker Sheet'!AF181=\"\",\"\",TEXT('Broker Sheet'!AF181,\"YYYYMMDD\"))","v":""},{"$f":"IF('Broker Sheet'!AG181=\"\",\"\",TEXT('Broker Sheet'!AG181,\"YYYYMMDD\"))","v":""}]
[null,null,null,null,null,{"$f":"IF('Broker Sheet'!C182=\"\",\"\",'Broker Sheet'!C182)","v":""},{"$f":"IF('Broker Sheet'!D182=\"\",\"\",'Broker Sheet'!D182)","v":""},{"$f":"IF('Broker Sheet'!E182=\"\",\"\",'Broker Sheet'!E182)","v":""},{"$f":"IF('Broker Sheet'!F182=\"\",\"\",'Broker Sheet'!F182)","v":""},{"$f":"IF('Broker Sheet'!G182=\"\",\"\",TEXT('Broker Sheet'!G182,\"YYYYMMDD\"))","v":""},{"$f":"IF('Broker Sheet'!H182=\"\",\"\",'Broker Sheet'!H182)","v":""},{"$f":"IF('Broker Sheet'!I182=\"\",\"\",'Broker Sheet'!I182)","v":""},{"$f":"IF('Broker Sheet'!J182=\"\",\"\",VLOOKUP('Broker Sheet'!J182,(Reference!$E$4:$F$9),2,FALSE))","v":""},{"$f":"IF('Broker Sheet'!K182=\"\",\"\",'Broker Sheet'!K182)","v":""},{"$f":"IF('Broker Sheet'!R182=\"\",\"\",'Broker Sheet'!R182)","v":""},{"$f":"IF('Broker Sheet'!S182=\"\",\"\",'Broker Sheet'!S182)","v":""},{"$f":"IF('Broker Sheet'!T182=\"\",\"\",'Broker Sheet'!T182)","v":""},{"$f":"IF('Broker Sheet'!U182=\"\",\"\",'Broker Sheet'!U182)","v":""},{"$f":"IF('Broker Sheet'!V182=\"\",\"\",'Broker Sheet'!V182)","v":""},{"$f":"IF('Broker Sheet'!W182=\"\",\"\",'Broker Sheet'!W182)","v":""},{"$f":"IF('Broker Sheet'!Y182=\"\",\"\",'Broker Sheet'!Y182)","v":""},{"$f":"IF('Broker Sheet'!AA182=\"\",\"\",'Broker Sheet'!AA182)","v":""},{"$f":"IF('Broker Sheet'!Z182=\"\",\"\",'Broker Sheet'!Z182)","v":""},{"$f":"IF('Broker Sheet'!AB182=\"\",\"\",'Broker Sheet'!AB182)","v":""},null,null,{"$f":"IF('Broker Sheet'!L182=\"\",\"\",TEXT('Broker Sheet'!L182,\"YYYYMMDD\"))","v":""},{"$f":"IF('Broker Sheet'!AC182=\"\",\"\",TEXT('Broker Sheet'!AC182,\"YYYYMMDD\"))","v":""},{"$f":"IF('Broker Sheet'!AD182=\"\",\"\",TEXT('Broker Sheet'!AD182,\"YYYYMMDD\"))","v":""},{"$f":"IF('Broker Sheet'!AE182=\"\",\"\",'Broker Sheet'!AE182)","v":""},{"$f":"IF('Broker Sheet'!AF182=\"\",\"\",TEXT('Broker Sheet'!AF182,\"YYYYMMDD\"))","v":""},{"$f":"IF('Broker Sheet'!AG182=\"\",\"\",TEXT('Broker Sheet'!AG182,\"YYYYMMDD\"))","v":""}]
[null,null,null,null,null,{"$f":"IF('Broker Sheet'!C183=\"\",\"\",'Broker Sheet'!C183)","v":""},{"$f":"IF('Broker Sheet'!D183=\"\",\"\",'Broker Sheet'!D183)","v":""},{"$f":"IF('Broker Sheet'!E183=\"\",\"\",'Broker Sheet'!E183)","v":""},{"$f":"IF('Broker Sheet'!F183=\"\",\"\",'Broker Sheet'!F183)","v":""},{"$f":"IF('Broker Sheet'!G183=\"\",\"\",TEXT('Broker Sheet'!G183,\"YYYYMMDD\"))","v":""},{"$f":"IF('Broker Sheet'!H183=\"\",\"\",'Broker Sheet'!H183)","v":""},{"$f":"IF('Broker Sheet'!I183=\"\",\"\",'Broker Sheet'!I183)","v":""},{"$f":"IF('Broker Sheet'!J183=\"\",\"\",VLOOKUP('Broker Sheet'!J183,(Reference!$E$4:$F$9),2,FALSE))","v":""},{"$f":"IF('Broker Sheet'!K183=\"\",\"\",'Broker Sheet'!K183)","v":""},{"$f":"IF('Broker Sheet'!R183=\"\",\"\",'Broker Sheet'!R183)","v":""},{"$f":"IF('Broker Sheet'!S183=\"\",\"\",'Broker Sheet'!S183)","v":""},{"$f":"IF('Broker Sheet'!T183=\"\",\"\",'Broker Sheet'!T183)","v":""},{"$f":"IF('Broker Sheet'!U183=\"\",\"\",'Broker Sheet'!U183)","v":""},{"$f":"IF('Broker Sheet'!V183=\"\",\"\",'Broker Sheet'!V183)","v":""},{"$f":"IF('Broker Sheet'!W183=\"\",\"\",'Broker Sheet'!W183)","v":""},{"$f":"IF('Broker Sheet'!Y183=\"\",\"\",'Broker Sheet'!Y183)","v":""},{"$f":"IF('Broker Sheet'!AA183=\"\",\"\",'Broker Sheet'!AA183)","v":""},{"$f":"IF('Broker Sheet'!Z183=\"\",\"\",'Broker Sheet'!Z183)","v":""},{"$f":"IF('Broker Sheet'!AB183=\"\",\"\",'Broker Sheet'!AB183)","v":""},null,null,{"$f":"IF('Broker Sheet'!L183=\"\",\"\",TEXT('Broker Sheet'!L183,\"YYYYMMDD\"))","v":""},{"$f":"IF('Broker Sheet'!AC183=\"\",\"\",TEXT('Broker Sheet'!AC183,\"YYYYMMDD\"))","v":""},{"$f":"IF('Broker Sheet'!AD183=\"\",\"\",TEXT('Broker Sheet'!AD183,\"YYYYMMDD\"))","v":""},{"$f":"IF('Broker Sheet'!AE183=\"\",\"\",'Broker Sheet'!AE183)","v":""},{"$f":"IF('Broker Sheet'!AF183=\"\",\"\",TEXT('Broker Sheet'!AF183,\"YYYYMMDD\"))","v":""},{"$f":"IF('Broker Sheet'!AG183=\"\",\"\",TEXT('Broker Sheet'!AG183,\"YYYYMMDD\"))","v":""}]
[null,null,null,null,null,{"$f":"IF('Broker Sheet'!C184=\"\",\"\",'Broker Sheet'!C184)","v":""},{"$f":"IF('Broker Sheet'!D184=\"\",\"\",'Broker Sheet'!D184)","v":""},{"$f":"IF('Broker Sheet'!E184=\"\",\"\",'Broker Sheet'!E184)","v":""},{"$f":"IF('Broker Sheet'!F184=\"\",\"\",'Broker Sheet'!F184)","v":""},{"$f":"IF('Broker Sheet'!G184=\"\",\"\",TEXT('Broker Sheet'!G184,\"YYYYMMDD\"))","v":""},{"$f":"IF('Broker Sheet'!H184=\"\",\"\",'Broker Sheet'!H184)","v":""},{"$f":"IF('Broker Sheet'!I184=\"\",\"\",'Broker Sheet'!I184)","v":""},{"$f":"IF('Broker Sheet'!J184=\"\",\"\",VLOOKUP('Broker Sheet'!J184,(Reference!$E$4:$F$9),2,FALSE))","v":""},{"$f":"IF('Broker Sheet'!K184=\"\",\"\",'Broker Sheet'!K184)","v":""},{"$f":"IF('Broker Sheet'!R184=\"\",\"\",'Broker Sheet'!R184)","v":""},{"$f":"IF('Broker Sheet'!S184=\"\",\"\",'Broker Sheet'!S184)","v":""},{"$f":"IF('Broker Sheet'!T184=\"\",\"\",'Broker Sheet'!T184)","v":""},{"$f":"IF('Broker Sheet'!U184=\"\",\"\",'Broker Sheet'!U184)","v":""},{"$f":"IF('Broker Sheet'!V184=\"\",\"\",'Broker Sheet'!V184)","v":""},{"$f":"IF('Broker Sheet'!W184=\"\",\"\",'Broker Sheet'!W184)","v":""},{"$f":"IF('Broker Sheet'!Y184=\"\",\"\",'Broker Sheet'!Y184)","v":""},{"$f":"IF('Broker Sheet'!AA184=\"\",\"\",'Broker Sheet'!AA184)","v":""},{"$f":"IF('Broker Sheet'!Z184=\"\",\"\",'Broker Sheet'!Z184)","v":""},{"$f":"IF('Broker Sheet'!AB184=\"\",\"\",'Broker Sheet'!AB184)","v":""},null,null,{"$f":"IF('Broker Sheet'!L184=\"\",\"\",TEXT('Broker Sheet'!L184,\"YYYYMMDD\"))","v":""},{"$f":"IF('Broker Sheet'!AC184=\"\",\"\",TEXT('Broker Sheet'!AC184,\"YYYYMMDD\"))","v":""},{"$f":"IF('Broker Sheet'!AD184=\"\",\"\",TEXT('Broker Sheet'!AD184,\"YYYYMMDD\"))","v":""},{"$f":"IF('Broker Sheet'!AE184=\"\",\"\",'Broker Sheet'!AE184)","v":""},{"$f":"IF('Broker Sheet'!AF184=\"\",\"\",TEXT('Broker Sheet'!AF184,\"YYYYMMDD\"))","v":""},{"$f":"IF('Broker Sheet'!AG184=\"\",\"\",TEXT('Broker Sheet'!AG184,\"YYYYMMDD\"))","v":""}]
[null,null,null,null,null,{"$f":"IF('Broker Sheet'!C185=\"\",\"\",'Broker Sheet'!C185)","v":""},{"$f":"IF('Broker Sheet'!D185=\"\",\"\",'Broker Sheet'!D185)","v":""},{"$f":"IF('Broker Sheet'!E185=\"\",\"\",'Broker Sheet'!E185)","v":""},{"$f":"IF('Broker Sheet'!F185=\"\",\"\",'Broker Sheet'!F185)","v":""},{"$f":"IF('Broker Sheet'!G185=\"\",\"\",TEXT('Broker Sheet'!G185,\"YYYYMMDD\"))","v":""},{"$f":"IF('Broker Sheet'!H185=\"\",\"\",'Broker Sheet'!H185)","v":""},{"$f":"IF('Broker Sheet'!I185=\"\",\"\",'Broker Sheet'!I185)","v":""},{"$f":"IF('Broker Sheet'!J185=\"\",\"\",VLOOKUP('Broker Sheet'!J185,(Reference!$E$4:$F$9),2,FALSE))","v":""},{"$f":"IF('Broker Sheet'!K185=\"\",\"\",'Broker Sheet'!K185)","v":""},{"$f":"IF('Broker Sheet'!R185=\"\",\"\",'Broker Sheet'!R185)","v":""},{"$f":"IF('Broker Sheet'!S185=\"\",\"\",'Broker Sheet'!S185)","v":""},{"$f":"IF('Broker Sheet'!T185=\"\",\"\",'Broker Sheet'!T185)","v":""},{"$f":"IF('Broker Sheet'!U185=\"\",\"\",'Broker Sheet'!U185)","v":""},{"$f":"IF('Broker Sheet'!V185=\"\",\"\",'Broker Sheet'!V185)","v":""},{"$f":"IF('Broker Sheet'!W185=\"\",\"\",'Broker Sheet'!W185)","v":""},{"$f":"IF('Broker Sheet'!Y185=\"\",\"\",'Broker Sheet'!Y185)","v":""},{"$f":"IF('Broker Sheet'!AA185=\"\",\"\",'Broker Sheet'!AA185)","v":""},{"$f":"IF('Broker Sheet'!Z185=\"\",\"\",'Broker Sheet'!Z185)","v":""},{"$f":"IF('Broker Sheet'!AB185=\"\",\"\",'Broker Sheet'!AB185)","v":""},null,null,{"$f":"IF('Broker Sheet'!L185=\"\",\"\",TEXT('Broker Sheet'!L185,\"YYYYMMDD\"))","v":""},{"$f":"IF('Broker Sheet'!AC185=\"\",\"\",TEXT('Broker Sheet'!AC185,\"YYYYMMDD\"))","v":""},{"$f":"IF('Broker Sheet'!AD185=\"\",\"\",TEXT('Broker Sheet'!AD185,\"YYYYMMDD\"))","v":""},{"$f":"IF('Broker Sheet'!AE185=\"\",\"\",'Broker Sheet'!AE185)","v":""},{"$f":"IF('Broker Sheet'!AF185=\"\",\"\",TEXT('Broker Sheet'!AF185,\"YYYYMMDD\"))","v":""},{"$f":"IF('Broker Sheet'!AG185=\"\",\"\",TEXT('Broker Sheet'!AG185,\"YYYYMMDD\"))","v":""}]
[null,null,null,null,null,{"$f":"IF('Broker Sheet'!C186=\"\",\"\",'Broker Sheet'!C186)","v":""},{"$f":"IF('Broker Sheet'!D186=\"\",\"\",'Broker Sheet'!D186)","v":""},{"$f":"IF('Broker Sheet'!E186=\"\",\"\",'Broker Sheet'!E186)","v":""},{"$f":"IF('Broker Sheet'!F186=\"\",\"\",'Broker Sheet'!F186)","v":""},{"$f":"IF('Broker Sheet'!G186=\"\",\"\",TEXT('Broker Sheet'!G186,\"YYYYMMDD\"))","v":""},{"$f":"IF('Broker Sheet'!H186=\"\",\"\",'Broker Sheet'!H186)","v":""},{"$f":"IF('Broker Sheet'!I186=\"\",\"\",'Broker Sheet'!I186)","v":""},{"$f":"IF('Broker Sheet'!J186=\"\",\"\",VLOOKUP('Broker Sheet'!J186,(Reference!$E$4:$F$9),2,FALSE))","v":""},{"$f":"IF('Broker Sheet'!K186=\"\",\"\",'Broker Sheet'!K186)","v":""},{"$f":"IF('Broker Sheet'!R186=\"\",\"\",'Broker Sheet'!R186)","v":""},{"$f":"IF('Broker Sheet'!S186=\"\",\"\",'Broker Sheet'!S186)","v":""},{"$f":"IF('Broker Sheet'!T186=\"\",\"\",'Broker Sheet'!T186)","v":""},{"$f":"IF('Broker Sheet'!U186=\"\",\"\",'Broker Sheet'!U186)","v":""},{"$f":"IF('Broker Sheet'!V186=\"\",\"\",'Broker Sheet'!V186)","v":""},{"$f":"IF('Broker Sheet'!W186=\"\",\"\",'Broker Sheet'!W186)","v":""},{"$f":"IF('Broker Sheet'!Y186=\"\",\"\",'Broker Sheet'!Y186)","v":""},{"$f":"IF('Broker Sheet'!AA186=\"\",\"\",'Broker Sheet'!AA186)","v":""},{"$f":"IF('Broker Sheet'!Z186=\"\",\"\",'Broker Sheet'!Z186)","v":""},{"$f":"IF('Broker Sheet'!AB186=\"\",\"\",'Broker Sheet'!AB186)","v":""},null,null,{"$f":"IF('Broker Sheet'!L186=\"\",\"\",TEXT('Broker Sheet'!L186,\"YYYYMMDD\"))","v":""},{"$f":"IF('Broker Sheet'!AC186=\"\",\"\",TEXT('Broker Sheet'!AC186,\"YYYYMMDD\"))","v":""},{"$f":"IF('Broker Sheet'!AD186=\"\",\"\",TEXT('Broker Sheet'!AD186,\"YYYYMMDD\"))","v":""},{"$f":"IF('Broker Sheet'!AE186=\"\",\"\",'Broker Sheet'!AE186)","v":""},{"$f":"IF('Broker Sheet'!AF186=\"\",\"\",TEXT('Broker Sheet'!AF186,\"YYYYMMDD\"))","v":""},{"$f":"IF('Broker Sheet'!AG186=\"\",\"\",TEXT('Broker Sheet'!AG186,\"YYYYMMDD\"))","v":""}]
[null,null,null,null,null,{"$f":"IF('Broker Sheet'!C187=\"\",\"\",'Broker Sheet'!C187)","v":""},{"$f":"IF('Broker Sheet'!D187=\"\",\"\",'Broker Sheet'!D187)","v":""},{"$f":"IF('Broker Sheet'!E187=\"\",\"\",'Broker Sheet'!E187)","v":""},{"$f":"IF('Broker Sheet'!F187=\"\",\"\",'Broker Sheet'!F187)","v":""},{"$f":"IF('Broker Sheet'!G187=\"\",\"\",TEXT('Broker Sheet'!G187,\"YYYYMMDD\"))","v":""},{"$f":"IF('Broker Sheet'!H187=\"\",\"\",'Broker Sheet'!H187)","v":""},{"$f":"IF('Broker Sheet'!I187=\"\",\"\",'Broker Sheet'!I187)","v":""},{"$f":"IF('Broker Sheet'!J187=\"\",\"\",VLOOKUP('Broker Sheet'!J187,(Reference!$E$4:$F$9),2,FALSE))","v":""},{"$f":"IF('Broker Sheet'!K187=\"\",\"\",'Broker Sheet'!K187)","v":""},{"$f":"IF('Broker Sheet'!R187=\"\",\"\",'Broker Sheet'!R187)","v":""},{"$f":"IF('Broker Sheet'!S187=\"\",\"\",'Broker Sheet'!S187)","v":""},{"$f":"IF('Broker Sheet'!T187=\"\",\"\",'Broker Sheet'!T187)","v":""},{"$f":"IF('Broker Sheet'!U187=\"\",\"\",'Broker Sheet'!U187)","v":""},{"$f":"IF('Broker Sheet'!V187=\"\",\"\",'Broker Sheet'!V187)","v":""},{"$f":"IF('Broker Sheet'!W187=\"\",\"\",'Broker Sheet'!W187)","v":""},{"$f":"IF('Broker Sheet'!Y187=\"\",\"\",'Broker Sheet'!Y187)","v":""},{"$f":"IF('Broker Sheet'!AA187=\"\",\"\",'Broker Sheet'!AA187)","v":""},{"$f":"IF('Broker Sheet'!Z187=\"\",\"\",'Broker Sheet'!Z187)","v":""},{"$f":"IF('Broker Sheet'!AB187=\"\",\"\",'Broker Sheet'!AB187)","v":""},null,null,{"$f":"IF('Broker Sheet'!L187=\"\",\"\",TEXT('Broker Sheet'!L187,\"YYYYMMDD\"))","v":""},{"$f":"IF('Broker Sheet'!AC187=\"\",\"\",TEXT('Broker Sheet'!AC187,\"YYYYMMDD\"))","v":""},{"$f":"IF('Broker Sheet'!AD187=\"\",\"\",TEXT('Broker Sheet'!AD187,\"YYYYMMDD\"))","v":""},{"$f":"IF('Broker Sheet'!AE187=\"\",\"\",'Broker Sheet'!AE187)","v":""},{"$f":"IF('Broker Sheet'!AF187=\"\",\"\",TEXT('Broker Sheet'!AF187,\"YYYYMMDD\"))","v":""},{"$f":"IF('Broker Sheet'!AG187=\"\",\"\",TEXT('Broker Sheet'!AG187,\"YYYYMMDD\"))","v":""}]
[null,null,null,null,null,{"$f":"IF('Broker Sheet'!C188=\"\",\"\",'Broker Sheet'!C188)","v":""},{"$f":"IF('Broker Sheet'!D188=\"\",\"\",'Broker Sheet'!D188)","v":""},{"$f":"IF('Broker Sheet'!E188=\"\",\"\",'Broker Sheet'!E188)","v":""},{"$f":"IF('Broker Sheet'!F188=\"\",\"\",'Broker Sheet'!F188)","v":""},{"$f":"IF('Broker Sheet'!G188=\"\",\"\",TEXT('Broker Sheet'!G188,\"YYYYMMDD\"))","v":""},{"$f":"IF('Broker Sheet'!H188=\"\",\"\",'Broker Sheet'!H188)","v":""},{"$f":"IF('Broker Sheet'!I188=\"\",\"\",'Broker Sheet'!I188)","v":""},{"$f":"IF('Broker Sheet'!J188=\"\",\"\",VLOOKUP('Broker Sheet'!J188,(Reference!$E$4:$F$9),2,FALSE))","v":""},{"$f":"IF('Broker Sheet'!K188=\"\",\"\",'Broker Sheet'!K188)","v":""},{"$f":"IF('Broker Sheet'!R188=\"\",\"\",'Broker Sheet'!R188)","v":""},{"$f":"IF('Broker Sheet'!S188=\"\",\"\",'Broker Sheet'!S188)","v":""},{"$f":"IF('Broker Sheet'!T188=\"\",\"\",'Broker Sheet'!T188)","v":""},{"$f":"IF('Broker Sheet'!U188=\"\",\"\",'Broker Sheet'!U188)","v":""},{"$f":"IF('Broker Sheet'!V188=\"\",\"\",'Broker Sheet'!V188)","v":""},{"$f":"IF('Broker Sheet'!W188=\"\",\"\",'Broker Sheet'!W188)","v":""},{"$f":"IF('Broker Sheet'!Y188=\"\",\"\",'Broker Sheet'!Y188)","v":""},{"$f":"IF('Broker Sheet'!AA188=\"\",\"\",'Broker Sheet'!AA188)","v":""},{"$f":"IF('Broker Sheet'!Z188=\"\",\"\",'Broker Sheet'!Z188)","v":""},{"$f":"IF('Broker Sheet'!AB188=\"\",\"\",'Broker Sheet'!AB188)","v":""},null,null,{"$f":"IF('Broker Sheet'!L188=\"\",\"\",TEXT('Broker Sheet'!L188,\"YYYYMMDD\"))","v":""},{"$f":"IF('Broker Sheet'!AC188=\"\",\"\",TEXT('Broker Sheet'!AC188,\"YYYYMMDD\"))","v":""},{"$f":"IF('Broker Sheet'!AD188=\"\",\"\",TEXT('Broker Sheet'!AD188,\"YYYYMMDD\"))","v":""},{"$f":"IF('Broker Sheet'!AE188=\"\",\"\",'Broker Sheet'!AE188)","v":""},{"$f":"IF('Broker Sheet'!AF188=\"\",\"\",TEXT('Broker Sheet'!AF188,\"YYYYMMDD\"))","v":""},{"$f":"IF('Broker Sheet'!AG188=\"\",\"\",TEXT('Broker Sheet'!AG188,\"YYYYMMDD\"))","v":""}]
[null,null,null,null,null,{"$f":"IF('Broker Sheet'!C189=\"\",\"\",'Broker Sheet'!C189)","v":""},{"$f":"IF('Broker Sheet'!D189=\"\",\"\",'Broker Sheet'!D189)","v":""},{"$f":"IF('Broker Sheet'!E189=\"\",\"\",'Broker Sheet'!E189)","v":""},{"$f":"IF('Broker Sheet'!F189=\"\",\"\",'Broker Sheet'!F189)","v":""},{"$f":"IF('Broker Sheet'!G189=\"\",\"\",TEXT('Broker Sheet'!G189,\"YYYYMMDD\"))","v":""},{"$f":"IF('Broker Sheet'!H189=\"\",\"\",'Broker Sheet'!H189)","v":""},{"$f":"IF('Broker Sheet'!I189=\"\",\"\",'Broker Sheet'!I189)","v":""},{"$f":"IF('Broker Sheet'!J189=\"\",\"\",VLOOKUP('Broker Sheet'!J189,(Reference!$E$4:$F$9),2,FALSE))","v":""},{"$f":"IF('Broker Sheet'!K189=\"\",\"\",'Broker Sheet'!K189)","v":""},{"$f":"IF('Broker Sheet'!R189=\"\",\"\",'Broker Sheet'!R189)","v":""},{"$f":"IF('Broker Sheet'!S189=\"\",\"\",'Broker Sheet'!S189)","v":""},{"$f":"IF('Broker Sheet'!T189=\"\",\"\",'Broker Sheet'!T189)","v":""},{"$f":"IF('Broker Sheet'!U189=\"\",\"\",'Broker Sheet'!U189)","v":""},{"$f":"IF('Broker Sheet'!V189=\"\",\"\",'Broker Sheet'!V189)","v":""},{"$f":"IF('Broker Sheet'!W189=\"\",\"\",'Broker Sheet'!W189)","v":""},{"$f":"IF('Broker Sheet'!Y189=\"\",\"\",'Broker Sheet'!Y189)","v":""},{"$f":"IF('Broker Sheet'!AA189=\"\",\"\",'Broker Sheet'!AA189)","v":""},{"$f":"IF('Broker Sheet'!Z189=\"\",\"\",'Broker Sheet'!Z189)","v":""},{"$f":"IF('Broker Sheet'!AB189=\"\",\"\",'Broker Sheet'!AB189)","v":""},null,null,{"$f":"IF('Broker Sheet'!L189=\"\",\"\",TEXT('Broker Sheet'!L189,\"YYYYMMDD\"))","v":""},{"$f":"IF('Broker Sheet'!AC189=\"\",\"\",TEXT('Broker Sheet'!AC189,\"YYYYMMDD\"))","v":""},{"$f":"IF('Broker Sheet'!AD189=\"\",\"\",TEXT('Broker Sheet'!AD189,\"YYYYMMDD\"))","v":""},{"$f":"IF('Broker Sheet'!AE189=\"\",\"\",'Broker Sheet'!AE189)","v":""},{"$f":"IF('Broker Sheet'!AF189=\"\",\"\",TEXT('Broker Sheet'!AF189,\"YYYYMMDD\"))","v":""},{"$f":"IF('Broker Sheet'!AG189=\"\",\"\",TEXT('Broker Sheet'!AG189,\"YYYYMMDD\"))","v":""}]
[null,null,null,null,null,{"$f":"IF('Broker Sheet'!C190=\"\",\"\",'Broker Sheet'!C190)","v":""},{"$f":"IF('Broker Sheet'!D190=\"\",\"\",'Broker Sheet'!D190)","v":""},{"$f":"IF('Broker Sheet'!E190=\"\",\"\",'Broker Sheet'!E190)","v":""},{"$f":"IF('Broker Sheet'!F190=\"\",\"\",'Broker Sheet'!F190)","v":""},{"$f":"IF('Broker Sheet'!G190=\"\",\"\",TEXT('Broker Sheet'!G190,\"YYYYMMDD\"))","v":""},{"$f":"IF('Broker Sheet'!H190=\"\",\"\",'Broker Sheet'!H190)","v":""},{"$f":"IF('Broker Sheet'!I190=\"\",\"\",'Broker Sheet'!I190)","v":""},{"$f":"IF('Broker Sheet'!J190=\"\",\"\",VLOOKUP('Broker Sheet'!J190,(Reference!$E$4:$F$9),2,FALSE))","v":""},{"$f":"IF('Broker Sheet'!K190=\"\",\"\",'Broker Sheet'!K190)","v":""},{"$f":"IF('Broker Sheet'!R190=\"\",\"\",'Broker Sheet'!R190)","v":""},{"$f":"IF('Broker Sheet'!S190=\"\",\"\",'Broker Sheet'!S190)","v":""},{"$f":"IF('Broker Sheet'!T190=\"\",\"\",'Broker Sheet'!T190)","v":""},{"$f":"IF('Broker Sheet'!U190=\"\",\"\",'Broker Sheet'!U190)","v":""},{"$f":"IF('Broker Sheet'!V190=\"\",\"\",'Broker Sheet'!V190)","v":""},{"$f":"IF('Broker Sheet'!W190=\"\",\"\",'Broker Sheet'!W190)","v":""},{"$f":"IF('Broker Sheet'!Y190=\"\",\"\",'Broker Sheet'!Y190)","v":""},{"$f":"IF('Broker Sheet'!AA190=\"\",\"\",'Broker Sheet'!AA190)","v":""},{"$f":"IF('Broker Sheet'!Z190=\"\",\"\",'Broker Sheet'!Z190)","v":""},{"$f":"IF('Broker Sheet'!AB190=\"\",\"\",'Broker Sheet'!AB190)","v":""},null,null,{"$f":"IF('Broker Sheet'!L190=\"\",\"\",TEXT('Broker Sheet'!L190,\"YYYYMMDD\"))","v":""},{"$f":"IF('Broker Sheet'!AC190=\"\",\"\",TEXT('Broker Sheet'!AC190,\"YYYYMMDD\"))","v":""},{"$f":"IF('Broker Sheet'!AD190=\"\",\"\",TEXT('Broker Sheet'!AD190,\"YYYYMMDD\"))","v":""},{"$f":"IF('Broker Sheet'!AE190=\"\",\"\",'Broker Sheet'!AE190)","v":""},{"$f":"IF('Broker Sheet'!AF190=\"\",\"\",TEXT('Broker Sheet'!AF190,\"YYYYMMDD\"))","v":""},{"$f":"IF('Broker Sheet'!AG190=\"\",\"\",TEXT('Broker Sheet'!AG190,\"YYYYMMDD\"))","v":""}]
[null,null,null,null,null,{"$f":"IF('Broker Sheet'!C191=\"\",\"\",'Broker Sheet'!C191)","v":""},{"$f":"IF('Broker Sheet'!D191=\"\",\"\",'Broker Sheet'!D191)","v":""},{"$f":"IF('Broker Sheet'!E191=\"\",\"\",'Broker Sheet'!E191)","v":""},{"$f":"IF('Broker Sheet'!F191=\"\",\"\",'Broker Sheet'!F191)","v":""},{"$f":"IF('Broker Sheet'!G191=\"\",\"\",TEXT('Broker Sheet'!G191,\"YYYYMMDD\"))","v":""},{"$f":"IF('Broker Sheet'!H191=\"\",\"\",'Broker Sheet'!H191)","v":""},{"$f":"IF('Broker Sheet'!I191=\"\",\"\",'Broker Sheet'!I191)","v":""},{"$f":"IF('Broker Sheet'!J191=\"\",\"\",VLOOKUP('Broker Sheet'!J191,(Reference!$E$4:$F$9),2,FALSE))","v":""},{"$f":"IF('Broker Sheet'!K191=\"\",\"\",'Broker Sheet'!K191)","v":""},{"$f":"IF('Broker Sheet'!R191=\"\",\"\",'Broker Sheet'!R191)","v":""},{"$f":"IF('Broker Sheet'!S191=\"\",\"\",'Broker Sheet'!S191)","v":""},{"$f":"IF('Broker Sheet'!T191=\"\",\"\",'Broker Sheet'!T191)","v":""},{"$f":"IF('Broker Sheet'!U191=\"\",\"\",'Broker Sheet'!U191)","v":""},{"$f":"IF('Broker Sheet'!V191=\"\",\"\",'Broker Sheet'!V191)","v":""},{"$f":"IF('Broker Sheet'!W191=\"\",\"\",'Broker Sheet'!W191)","v":""},{"$f":"IF('Broker Sheet'!Y191=\"\",\"\",'Broker Sheet'!Y191)","v":""},{"$f":"IF('Broker Sheet'!AA191=\"\",\"\",'Broker Sheet'!AA191)","v":""},{"$f":"IF('Broker Sheet'!Z191=\"\",\"\",'Broker Sheet'!Z191)","v":""},{"$f":"IF('Broker Sheet'!AB191=\"\",\"\",'Broker Sheet'!AB191)","v":""},null,null,{"$f":"IF('Broker Sheet'!L191=\"\",\"\",TEXT('Broker Sheet'!L191,\"YYYYMMDD\"))","v":""},{"$f":"IF('Broker Sheet'!AC191=\"\",\"\",TEXT('Broker Sheet'!AC191,\"YYYYMMDD\"))","v":""},{"$f":"IF('Broker Sheet'!AD191=\"\",\"\",TEXT('Broker Sheet'!AD191,\"YYYYMMDD\"))","v":""},{"$f":"IF('Broker Sheet'!AE191=\"\",\"\",'Broker Sheet'!AE191)","v":""},{"$f":"IF('Broker Sheet'!AF191=\"\",\"\",TEXT('Broker Sheet'!AF191,\"YYYYMMDD\"))","v":""},{"$f":"IF('Broker Sheet'!AG191=\"\",\"\",TEXT('Broker Sheet'!AG191,\"YYYYMMDD\"))","v":""}]
[null,null,null,null,null,{"$f":"IF('Broker Sheet'!C192=\"\",\"\",'Broker Sheet'!C192)","v":""},{"$f":"IF('Broker Sheet'!D192=\"\",\"\",'Broker Sheet'!D192)","v":""},{"$f":"IF('Broker Sheet'!E192=\"\",\"\",'Broker Sheet'!E192)","v":""},{"$f":"IF('Broker Sheet'!F192=\"\",\"\",'Broker Sheet'!F192)","v":""},{"$f":"IF('Broker Sheet'!G192=\"\",\"\",TEXT('Broker Sheet'!G192,\"YYYYMMDD\"))","v":""},{"$f":"IF('Broker Sheet'!H192=\"\",\"\",'Broker Sheet'!H192)","v":""},{"$f":"IF('Broker Sheet'!I192=\"\",\"\",'Broker Sheet'!I192)","v":""},{"$f":"IF('Broker Sheet'!J192=\"\",\"\",VLOOKUP('Broker Sheet'!J192,(Reference!$E$4:$F$9),2,FALSE))","v":""},{"$f":"IF('Broker Sheet'!K192=\"\",\"\",'Broker Sheet'!K192)","v":""},{"$f":"IF('Broker Sheet'!R192=\"\",\"\",'Broker Sheet'!R192)","v":""},{"$f":"IF('Broker Sheet'!S192=\"\",\"\",'Broker Sheet'!S192)","v":""},{"$f":"IF('Broker Sheet'!T192=\"\",\"\",'Broker Sheet'!T192)","v":""},{"$f":"IF('Broker Sheet'!U192=\"\",\"\",'Broker Sheet'!U192)","v":""},{"$f":"IF('Broker Sheet'!V192=\"\",\"\",'Broker Sheet'!V192)","v":""},{"$f":"IF('Broker Sheet'!W192=\"\",\"\",'Broker Sheet'!W192)","v":""},{"$f":"IF('Broker Sheet'!Y192=\"\",\"\",'Broker Sheet'!Y192)","v":""},{"$f":"IF('Broker Sheet'!AA192=\"\",\"\",'Broker Sheet'!AA192)","v":""},{"$f":"IF('Broker Sheet'!Z192=\"\",\"\",'Broker Sheet'!Z192)","v":""},{"$f":"IF('Broker Sheet'!AB192=\"\",\"\",'Broker Sheet'!AB192)","v":""},null,null,{"$f":"IF('Broker Sheet'!L192=\"\",\"\",TEXT('Broker Sheet'!L192,\"YYYYMMDD\"))","v":""},{"$f":"IF('Broker Sheet'!AC192=\"\",\"\",TEXT('Broker Sheet'!AC192,\"YYYYMMDD\"))","v":""},{"$f":"IF('Broker Sheet'!AD192=\"\",\"\",TEXT('Broker Sheet'!AD192,\"YYYYMMDD\"))","v":""},{"$f":"IF('Broker Sheet'!AE192=\"\",\"\",'Broker Sheet'!AE192)","v":""},{"$f":"IF('Broker Sheet'!AF192=\"\",\"\",TEXT('Broker Sheet'!AF192,\"YYYYMMDD\"))","v":""},{"$f":"IF('Broker Sheet'!AG192=\"\",\"\",TEXT('Broker Sheet'!AG192,\"YYYYMMDD\"))","v":""}]
[null,null,null,null,null,{"$f":"IF('Broker Sheet'!C193=\"\",\"\",'Broker Sheet'!C193)","v":""},{"$f":"IF('Broker Sheet'!D193=\"\",\"\",'Broker Sheet'!D193)","v":""},{"$f":"IF('Broker Sheet'!E193=\"\",\"\",'Broker Sheet'!E193)","v":""},{"$f":"IF('Broker Sheet'!F193=\"\",\"\",'Broker Sheet'!F193)","v":""},{"$f":"IF('Broker Sheet'!G193=\"\",\"\",TEXT('Broker Sheet'!G193,\"YYYYMMDD\"))","v":""},{"$f":"IF('Broker Sheet'!H193=\"\",\"\",'Broker Sheet'!H193)","v":""},{"$f":"IF('Broker Sheet'!I193=\"\",\"\",'Broker Sheet'!I193)","v":""},{"$f":"IF('Broker Sheet'!J193=\"\",\"\",VLOOKUP('Broker Sheet'!J193,(Reference!$E$4:$F$9),2,FALSE))","v":""},{"$f":"IF('Broker Sheet'!K193=\"\",\"\",'Broker Sheet'!K193)","v":""},{"$f":"IF('Broker Sheet'!R193=\"\",\"\",'Broker Sheet'!R193)","v":""},{"$f":"IF('Broker Sheet'!S193=\"\",\"\",'Broker Sheet'!S193)","v":""},{"$f":"IF('Broker Sheet'!T193=\"\",\"\",'Broker Sheet'!T193)","v":""},{"$f":"IF('Broker Sheet'!U193=\"\",\"\",'Broker Sheet'!U193)","v":""},{"$f":"IF('Broker Sheet'!V193=\"\",\"\",'Broker Sheet'!V193)","v":""},{"$f":"IF('Broker Sheet'!W193=\"\",\"\",'Broker Sheet'!W193)","v":""},{"$f":"IF('Broker Sheet'!Y193=\"\",\"\",'Broker Sheet'!Y193)","v":""},{"$f":"IF('Broker Sheet'!AA193=\"\",\"\",'Broker Sheet'!AA193)","v":""},{"$f":"IF('Broker Sheet'!Z193=\"\",\"\",'Broker Sheet'!Z193)","v":""},{"$f":"IF('Broker Sheet'!AB193=\"\",\"\",'Broker Sheet'!AB193)","v":""},null,null,{"$f":"IF('Broker Sheet'!L193=\"\",\"\",TEXT('Broker Sheet'!L193,\"YYYYMMDD\"))","v":""},{"$f":"IF('Broker Sheet'!AC193=\"\",\"\",TEXT('Broker Sheet'!AC193,\"YYYYMMDD\"))","v":""},{"$f":"IF('Broker Sheet'!AD193=\"\",\"\",TEXT('Broker Sheet'!AD193,\"YYYYMMDD\"))","v":""},{"$f":"IF('Broker Sheet'!AE193=\"\",\"\",'Broker Sheet'!AE193)","v":""},{"$f":"IF('Broker Sheet'!AF193=\"\",\"\",TEXT('Broker Sheet'!AF193,\"YYYYMMDD\"))","v":""},{"$f":"IF('Broker Sheet'!AG193=\"\",\"\",TEXT('Broker Sheet'!AG193,\"YYYYMMDD\"))","v":""}]
[null,null,null,null,null,{"$f":"IF('Broker Sheet'!C194=\"\",\"\",'Broker Sheet'!C194)","v":""},{"$f":"IF('Broker Sheet'!D194=\"\",\"\",'Broker Sheet'!D194)","v":""},{"$f":"IF('Broker Sheet'!E194=\"\",\"\",'Broker Sheet'!E194)","v":""},{"$f":"IF('Broker Sheet'!F194=\"\",\"\",'Broker Sheet'!F194)","v":""},{"$f":"IF('Broker Sheet'!G194=\"\",\"\",TEXT('Broker Sheet'!G194,\"YYYYMMDD\"))","v":""},{"$f":"IF('Broker Sheet'!H194=\"\",\"\",'Broker Sheet'!H194)","v":""},{"$f":"IF('Broker Sheet'!I194=\"\",\"\",'Broker Sheet'!I194)","v":""},{"$f":"IF('Broker Sheet'!J194=\"\",\"\",VLOOKUP('Broker Sheet'!J194,(Reference!$E$4:$F$9),2,FALSE))","v":""},{"$f":"IF('Broker Sheet'!K194=\"\",\"\",'Broker Sheet'!K194)","v":""},{"$f":"IF('Broker Sheet'!R194=\"\",\"\",'Broker Sheet'!R194)","v":""},{"$f":"IF('Broker Sheet'!S194=\"\",\"\",'Broker Sheet'!S194)","v":""},{"$f":"IF('Broker Sheet'!T194=\"\",\"\",'Broker Sheet'!T194)","v":""},{"$f":"IF('Broker Sheet'!U194=\"\",\"\",'Broker Sheet'!U194)","v":""},{"$f":"IF('Broker Sheet'!V194=\"\",\"\",'Broker Sheet'!V194)","v":""},{"$f":"IF('Broker Sheet'!W194=\"\",\"\",'Broker Sheet'!W194)","v":""},{"$f":"IF('Broker Sheet'!Y194=\"\",\"\",'Broker Sheet'!Y194)","v":""},{"$f":"IF('Broker Sheet'!AA194=\"\",\"\",'Broker Sheet'!AA194)","v":""},{"$f":"IF('Broker Sheet'!Z194=\"\",\"\",'Broker Sheet'!Z194)","v":""},{"$f":"IF('Broker Sheet'!AB194=\"\",\"\",'Broker Sheet'!AB194)","v":""},null,null,{"$f":"IF('Broker Sheet'!L194=\"\",\"\",TEXT('Broker Sheet'!L194,\"YYYYMMDD\"))","v":""},{"$f":"IF('Broker Sheet'!AC194=\"\",\"\",TEXT('Broker Sheet'!AC194,\"YYYYMMDD\"))","v":""},{"$f":"IF('Broker Sheet'!AD194=\"\",\"\",TEXT('Broker Sheet'!AD194,\"YYYYMMDD\"))","v":""},{"$f":"IF('Broker Sheet'!AE194=\"\",\"\",'Broker Sheet'!AE194)","v":""},{"$f":"IF('Broker Sheet'!AF194=\"\",\"\",TEXT('Broker Sheet'!AF194,\"YYYYMMDD\"))","v":""},{"$f":"IF('Broker Sheet'!AG194=\"\",\"\",TEXT('Broker Sheet'!AG194,\"YYYYMMDD\"))","v":""}]
[null,null,null,null,null,{"$f":"IF('Broker Sheet'!C195=\"\",\"\",'Broker Sheet'!C195)","v":""},{"$f":"IF('Broker Sheet'!D195=\"\",\"\",'Broker Sheet'!D195)","v":""},{"$f":"IF('Broker Sheet'!E195=\"\",\"\",'Broker Sheet'!E195)","v":""},{"$f":"IF('Broker Sheet'!F195=\"\",\"\",'Broker Sheet'!F195)","v":""},{"$f":"IF('Broker Sheet'!G195=\"\",\"\",TEXT('Broker Sheet'!G195,\"YYYYMMDD\"))","v":""},{"$f":"IF('Broker Sheet'!H195=\"\",\"\",'Broker Sheet'!H195)","v":""},{"$f":"IF('Broker Sheet'!I195=\"\",\"\",'Broker Sheet'!I195)","v":""},{"$f":"IF('Broker Sheet'!J195=\"\",\"\",VLOOKUP('Broker Sheet'!J195,(Reference!$E$4:$F$9),2,FALSE))","v":""},{"$f":"IF('Broker Sheet'!K195=\"\",\"\",'Broker Sheet'!K195)","v":""},{"$f":"IF('Broker Sheet'!R195=\"\",\"\",'Broker Sheet'!R195)","v":""},{"$f":"IF('Broker Sheet'!S195=\"\",\"\",'Broker Sheet'!S195)","v":""},{"$f":"IF('Broker Sheet'!T195=\"\",\"\",'Broker Sheet'!T195)","v":""},{"$f":"IF('Broker Sheet'!U195=\"\",\"\",'Broker Sheet'!U195)","v":""},{"$f":"IF('Broker Sheet'!V195=\"\",\"\",'Broker Sheet'!V195)","v":""},{"$f":"IF('Broker Sheet'!W195=\"\",\"\",'Broker Sheet'!W195)","v":""},{"$f":"IF('Broker Sheet'!Y195=\"\",\"\",'Broker Sheet'!Y195)","v":""},{"$f":"IF('Broker Sheet'!AA195=\"\",\"\",'Broker Sheet'!AA195)","v":""},{"$f":"IF('Broker Sheet'!Z195=\"\",\"\",'Broker Sheet'!Z195)","v":""},{"$f":"IF('Broker Sheet'!AB195=\"\",\"\",'Broker Sheet'!AB195)","v":""},null,null,{"$f":"IF('Broker Sheet'!L195=\"\",\"\",TEXT('Broker Sheet'!L195,\"YYYYMMDD\"))","v":""},{"$f":"IF('Broker Sheet'!AC195=\"\",\"\",TEXT('Broker Sheet'!AC195,\"YYYYMMDD\"))","v":""},{"$f":"IF('Broker Sheet'!AD195=\"\",\"\",TEXT('Broker Sheet'!AD195,\"YYYYMMDD\"))","v":""},{"$f":"IF('Broker Sheet'!AE195=\"\",\"\",'Broker Sheet'!AE195)","v":""},{"$f":"IF('Broker Sheet'!AF195=\"\",\"\",TEXT('Broker Sheet'!AF195,\"YYYYMMDD\"))","v":""},{"$f":"IF('Broker Sheet'!AG195=\"\",\"\",TEXT('Broker Sheet'!AG195,\"YYYYMMDD\"))","v":""}]
[null,null,null,null,null,{"$f":"IF('Broker Sheet'!C196=\"\",\"\",'Broker Sheet'!C196)","v":""},{"$f":"IF('Broker Sheet'!D196=\"\",\"\",'Broker Sheet'!D196)","v":""},{"$f":"IF('Broker Sheet'!E196=\"\",\"\",'Broker Sheet'!E196)","v":""},{"$f":"IF('Broker Sheet'!F196=\"\",\"\",'Broker Sheet'!F196)","v":""},{"$f":"IF('Broker Sheet'!G196=\"\",\"\",TEXT('Broker Sheet'!G196,\"YYYYMMDD\"))","v":""},{"$f":"IF('Broker Sheet'!H196=\"\",\"\",'Broker Sheet'!H196)","v":""},{"$f":"IF('Broker Sheet'!I196=\"\",\"\",'Broker Sheet'!I196)","v":""},{"$f":"IF('Broker Sheet'!J196=\"\",\"\",VLOOKUP('Broker Sheet'!J196,(Reference!$E$4:$F$9),2,FALSE))","v":""},{"$f":"IF('Broker Sheet'!K196=\"\",\"\",'Broker Sheet'!K196)","v":""},{"$f":"IF('Broker Sheet'!R196=\"\",\"\",'Broker Sheet'!R196)","v":""},{"$f":"IF('Broker Sheet'!S196=\"\",\"\",'Broker Sheet'!S196)","v":""},{"$f":"IF('Broker Sheet'!T196=\"\",\"\",'Broker Sheet'!T196)","v":""},{"$f":"IF('Broker Sheet'!U196=\"\",\"\",'Broker Sheet'!U196)","v":""},{"$f":"IF('Broker Sheet'!V196=\"\",\"\",'Broker Sheet'!V196)","v":""},{"$f":"IF('Broker Sheet'!W196=\"\",\"\",'Broker Sheet'!W196)","v":""},{"$f":"IF('Broker Sheet'!Y196=\"\",\"\",'Broker Sheet'!Y196)","v":""},{"$f":"IF('Broker Sheet'!AA196=\"\",\"\",'Broker Sheet'!AA196)","v":""},{"$f":"IF('Broker Sheet'!Z196=\"\",\"\",'Broker Sheet'!Z196)","v":""},{"$f":"IF('Broker Sheet'!AB196=\"\",\"\",'Broker Sheet'!AB196)","v":""},null,null,{"$f":"IF('Broker Sheet'!L196=\"\",\"\",TEXT('Broker Sheet'!L196,\"YYYYMMDD\"))","v":""},{"$f":"IF('Broker Sheet'!AC196=\"\",\"\",TEXT('Broker Sheet'!AC196,\"YYYYMMDD\"))","v":""},{"$f":"IF('Broker Sheet'!AD196=\"\",\"\",TEXT('Broker Sheet'!AD196,\"YYYYMMDD\"))","v":""},{"$f":"IF('Broker Sheet'!AE196=\"\",\"\",'Broker Sheet'!AE196)","v":""},{"$f":"IF('Broker Sheet'!AF196=\"\",\"\",TEXT('Broker Sheet'!AF196,\"YYYYMMDD\"))","v":""},{"$f":"IF('Broker Sheet'!AG196=\"\",\"\",TEXT('Broker Sheet'!AG196,\"YYYYMMDD\"))","v":""}]
[null,null,null,null,null,{"$f":"IF('Broker Sheet'!C197=\"\",\"\",'Broker Sheet'!C197)","v":""},{"$f":"IF('Broker Sheet'!D197=\"\",\"\",'Broker Sheet'!D197)","v":""},{"$f":"IF('Broker Sheet'!E197=\"\",\"\",'Broker Sheet'!E197)","v":""},{"$f":"IF('Broker Sheet'!F197=\"\",\"\",'Broker Sheet'!F197)","v":""},{"$f":"IF('Broker Sheet'!G197=\"\",\"\",TEXT('Broker Sheet'!G197,\"YYYYMMDD\"))","v":""},{"$f":"IF('Broker Sheet'!H197=\"\",\"\",'Broker Sheet'!H197)","v":""},{"$f":"IF('Broker Sheet'!I197=\"\",\"\",'Broker Sheet'!I197)","v":""},{"$f":"IF('Broker Sheet'!J197=\"\",\"\",VLOOKUP('Broker Sheet'!J197,(Reference!$E$4:$F$9),2,FALSE))","v":""},{"$f":"IF('Broker Sheet'!K197=\"\",\"\",'Broker Sheet'!K197)","v":""},{"$f":"IF('Broker Sheet'!R197=\"\",\"\",'Broker Sheet'!R197)","v":""},{"$f":"IF('Broker Sheet'!S197=\"\",\"\",'Broker Sheet'!S197)","v":""},{"$f":"IF('Broker Sheet'!T197=\"\",\"\",'Broker Sheet'!T197)","v":""},{"$f":"IF('Broker Sheet'!U197=\"\",\"\",'Broker Sheet'!U197)","v":""},{"$f":"IF('Broker Sheet'!V197=\"\",\"\",'Broker Sheet'!V197)","v":""},{"$f":"IF('Broker Sheet'!W197=\"\",\"\",'Broker Sheet'!W197)","v":""},{"$f":"IF('Broker Sheet'!Y197=\"\",\"\",'Broker Sheet'!Y197)","v":""},{"$f":"IF('Broker Sheet'!AA197=\"\",\"\",'Broker Sheet'!AA197)","v":""},{"$f":"IF('Broker Sheet'!Z197=\"\",\"\",'Broker Sheet'!Z197)","v":""},{"$f":"IF('Broker Sheet'!AB197=\"\",\"\",'Broker Sheet'!AB197)","v":""},null,null,{"$f":"IF('Broker Sheet'!L197=\"\",\"\",TEXT('Broker Sheet'!L197,\"YYYYMMDD\"))","v":""},{"$f":"IF('Broker Sheet'!AC197=\"\",\"\",TEXT('Broker Sheet'!AC197,\"YYYYMMDD\"))","v":""},{"$f":"IF('Broker Sheet'!AD197=\"\",\"\",TEXT('Broker Sheet'!AD197,\"YYYYMMDD\"))","v":""},{"$f":"IF('Broker Sheet'!AE197=\"\",\"\",'Broker Sheet'!AE197)","v":""},{"$f":"IF('Broker Sheet'!AF197=\"\",\"\",TEXT('Broker Sheet'!AF197,\"YYYYMMDD\"))","v":""},{"$f":"IF('Broker Sheet'!AG197=\"\",\"\",TEXT('Broker Sheet'!AG197,\"YYYYMMDD\"))","v":""}]
[null,null,null,null,null,{"$f":"IF('Broker Sheet'!C198=\"\",\"\",'Broker Sheet'!C198)","v":""},{"$f":"IF('Broker Sheet'!D198=\"\",\"\",'Broker Sheet'!D198)","v":""},{"$f":"IF('Broker Sheet'!E198=\"\",\"\",'Broker Sheet'!E198)","v":""},{"$f":"IF('Broker Sheet'!F198=\"\",\"\",'Broker Sheet'!F198)","v":""},{"$f":"IF('Broker Sheet'!G198=\"\",\"\",TEXT('Broker Sheet'!G198,\"YYYYMMDD\"))","v":""},{"$f":"IF('Broker Sheet'!H198=\"\",\"\",'Broker Sheet'!H198)","v":""},{"$f":"IF('Broker Sheet'!I198=\"\",\"\",'Broker Sheet'!I198)","v":""},{"$f":"IF('Broker Sheet'!J198=\"\",\"\",VLOOKUP('Broker Sheet'!J198,(Reference!$E$4:$F$9),2,FALSE))","v":""},{"$f":"IF('Broker Sheet'!K198=\"\",\"\",'Broker Sheet'!K198)","v":""},{"$f":"IF('Broker Sheet'!R198=\"\",\"\",'Broker Sheet'!R198)","v":""},{"$f":"IF('Broker Sheet'!S198=\"\",\"\",'Broker Sheet'!S198)","v":""},{"$f":"IF('Broker Sheet'!T198=\"\",\"\",'Broker Sheet'!T198)","v":""},{"$f":"IF('Broker Sheet'!U198=\"\",\"\",'Broker Sheet'!U198)","v":""},{"$f":"IF('Broker Sheet'!V198=\"\",\"\",'Broker Sheet'!V198)","v":""},{"$f":"IF('Broker Sheet'!W198=\"\",\"\",'Broker Sheet'!W198)","v":""},{"$f":"IF('Broker Sheet'!Y198=\"\",\"\",'Broker Sheet'!Y198)","v":""},{"$f":"IF('Broker Sheet'!AA198=\"\",\"\",'Broker Sheet'!AA198)","v":""},{"$f":"IF('Broker Sheet'!Z198=\"\",\"\",'Broker Sheet'!Z198)","v":""},{"$f":"IF('Broker Sheet'!AB198=\"\",\"\",'Broker Sheet'!AB198)","v":""},null,null,{"$f":"IF('Broker Sheet'!L198=\"\",\"\",TEXT('Broker Sheet'!L198,\"YYYYMMDD\"))","v":""},{"$f":"IF('Broker Sheet'!AC198=\"\",\"\",TEXT('Broker Sheet'!AC198,\"YYYYMMDD\"))","v":""},{"$f":"IF('Broker Sheet'!AD198=\"\",\"\",TEXT('Broker Sheet'!AD198,\"YYYYMMDD\"))","v":""},{"$f":"IF('Broker Sheet'!AE198=\"\",\"\",'Broker Sheet'!AE198)","v":""},{"$f":"IF('Broker Sheet'!AF198=\"\",\"\",TEXT('Broker Sheet'!AF198,\"YYYYMMDD\"))","v":""},{"$f":"IF('Broker Sheet'!AG198=\"\",\"\",TEXT('Broker Sheet'!AG198,\"YYYYMMDD\"))","v":""}]
[null,null,null,null,null,{"$f":"IF('Broker Sheet'!C199=\"\",\"\",'Broker Sheet'!C199)","v":""},{"$f":"IF('Broker Sheet'!D199=\"\",\"\",'Broker Sheet'!D199)","v":""},{"$f":"IF('Broker Sheet'!E199=\"\",\"\",'Broker Sheet'!E199)","v":""},{"$f":"IF('Broker Sheet'!F199=\"\",\"\",'Broker Sheet'!F199)","v":""},{"$f":"IF('Broker Sheet'!G199=\"\",\"\",TEXT('Broker Sheet'!G199,\"YYYYMMDD\"))","v":""},{"$f":"IF('Broker Sheet'!H199=\"\",\"\",'Broker Sheet'!H199)","v":""},{"$f":"IF('Broker Sheet'!I199=\"\",\"\",'Broker Sheet'!I199)","v":""},{"$f":"IF('Broker Sheet'!J199=\"\",\"\",VLOOKUP('Broker Sheet'!J199,(Reference!$E$4:$F$9),2,FALSE))","v":""},{"$f":"IF('Broker Sheet'!K199=\"\",\"\",'Broker Sheet'!K199)","v":""},{"$f":"IF('Broker Sheet'!R199=\"\",\"\",'Broker Sheet'!R199)","v":""},{"$f":"IF('Broker Sheet'!S199=\"\",\"\",'Broker Sheet'!S199)","v":""},{"$f":"IF('Broker Sheet'!T199=\"\",\"\",'Broker Sheet'!T199)","v":""},{"$f":"IF('Broker Sheet'!U199=\"\",\"\",'Broker Sheet'!U199)","v":""},{"$f":"IF('Broker Sheet'!V199=\"\",\"\",'Broker Sheet'!V199)","v":""},{"$f":"IF('Broker Sheet'!W199=\"\",\"\",'Broker Sheet'!W199)","v":""},{"$f":"IF('Broker Sheet'!Y199=\"\",\"\",'Broker Sheet'!Y199)","v":""},{"$f":"IF('Broker Sheet'!AA199=\"\",\"\",'Broker Sheet'!AA199)","v":""},{"$f":"IF('Broker Sheet'!Z199=\"\",\"\",'Broker Sheet'!Z199)","v":""},{"$f":"IF('Broker Sheet'!AB199=\"\",\"\",'Broker Sheet'!AB199)","v":""},null,null,{"$f":"IF('Broker Sheet'!L199=\"\",\"\",TEXT('Broker Sheet'!L199,\"YYYYMMDD\"))","v":""},{"$f":"IF('Broker Sheet'!AC199=\"\",\"\",TEXT('Broker Sheet'!AC199,\"YYYYMMDD\"))","v":""},{"$f":"IF('Broker Sheet'!AD199=\"\",\"\",TEXT('Broker Sheet'!AD199,\"YYYYMMDD\"))","v":""},{"$f":"IF('Broker Sheet'!AE199=\"\",\"\",'Broker Sheet'!AE199)","v":""},{"$f":"IF('Broker Sheet'!AF199=\"\",\"\",TEXT('Broker Sheet'!AF199,\"YYYYMMDD\"))","v":""},{"$f":"IF('Broker Sheet'!AG199=\"\",\"\",TEXT('Broker Sheet'!AG199,\"YYYYMMDD\"))","v":""}]
[null,null,null,null,null,{"$f":"IF('Broker Sheet'!C200=\"\",\"\",'Broker Sheet'!C200)","v":""},{"$f":"IF('Broker Sheet'!D200=\"\",\"\",'Broker Sheet'!D200)","v":""},{"$f":"IF('Broker Sheet'!E200=\"\",\"\",'Broker Sheet'!E200)","v":""},{"$f":"IF('Broker Sheet'!F200=\"\",\"\",'Broker Sheet'!F200)","v":""},{"$f":"IF('Broker Sheet'!G200=\"\",\"\",TEXT('Broker Sheet'!G200,\"YYYYMMDD\"))","v":""},{"$f":"IF('Broker Sheet'!H200=\"\",\"\",'Broker Sheet'!H200)","v":""},{"$f":"IF('Broker Sheet'!I200=\"\",\"\",'Broker Sheet'!I200)","v":""},{"$f":"IF('Broker Sheet'!J200=\"\",\"\",VLOOKUP('Broker Sheet'!J200,(Reference!$E$4:$F$9),2,FALSE))","v":""},{"$f":"IF('Broker Sheet'!K200=\"\",\"\",'Broker Sheet'!K200)","v":""},{"$f":"IF('Broker Sheet'!R200=\"\",\"\",'Broker Sheet'!R200)","v":""},{"$f":"IF('Broker Sheet'!S200=\"\",\"\",'Broker Sheet'!S200)","v":""},{"$f":"IF('Broker Sheet'!T200=\"\",\"\",'Broker Sheet'!T200)","v":""},{"$f":"IF('Broker Sheet'!U200=\"\",\"\",'Broker Sheet'!U200)","v":""},{"$f":"IF('Broker Sheet'!V200=\"\",\"\",'Broker Sheet'!V200)","v":""},{"$f":"IF('Broker Sheet'!W200=\"\",\"\",'Broker Sheet'!W200)","v":""},{"$f":"IF('Broker Sheet'!Y200=\"\",\"\",'Broker Sheet'!Y200)","v":""},{"$f":"IF('Broker Sheet'!AA200=\"\",\"\",'Broker Sheet'!AA200)","v":""},{"$f":"IF('Broker Sheet'!Z200=\"\",\"\",'Broker Sheet'!Z200)","v":""},{"$f":"IF('Broker Sheet'!AB200=\"\",\"\",'Broker Sheet'!AB200)","v":""},null,null,{"$f":"IF('Broker Sheet'!L200=\"\",\"\",TEXT('Broker Sheet'!L200,\"YYYYMMDD\"))","v":""},{"$f":"IF('Broker Sheet'!AC200=\"\",\"\",TEXT('Broker Sheet'!AC200,\"YYYYMMDD\"))","v":""},{"$f":"IF('Broker Sheet'!AD200=\"\",\"\",TEXT('Broker Sheet'!AD200,\"YYYYMMDD\"))","v":""},{"$f":"IF('Broker Sheet'!AE200=\"\",\"\",'Broker Sheet'!AE200)","v":""},{"$f":"IF('Broker Sheet'!AF200=\"\",\"\",TEXT('Broker Sheet'!AF200,\"YYYYMMDD\"))","v":""},{"$f":"IF('Broker Sheet'!AG200=\"\",\"\",TEXT('Broker Sheet'!AG200,\"YYYYMMDD\"))","v":""}]
[null,null,null,null,null,{"$f":"IF('Broker Sheet'!C201=\"\",\"\",'Broker Sheet'!C201)","v":""},{"$f":"IF('Broker Sheet'!D201=\"\",\"\",'Broker Sheet'!D201)","v":""},{"$f":"IF('Broker Sheet'!E201=\"\",\"\",'Broker Sheet'!E201)","v":""},{"$f":"IF('Broker Sheet'!F201=\"\",\"\",'Broker Sheet'!F201)","v":""},{"$f":"IF('Broker Sheet'!G201=\"\",\"\",TEXT('Broker Sheet'!G201,\"YYYYMMDD\"))","v":""},{"$f":"IF('Broker Sheet'!H201=\"\",\"\",'Broker Sheet'!H201)","v":""},{"$f":"IF('Broker Sheet'!I201=\"\",\"\",'Broker Sheet'!I201)","v":""},{"$f":"IF('Broker Sheet'!J201=\"\",\"\",VLOOKUP('Broker Sheet'!J201,(Reference!$E$4:$F$9),2,FALSE))","v":""},{"$f":"IF('Broker Sheet'!K201=\"\",\"\",'Broker Sheet'!K201)","v":""},{"$f":"IF('Broker Sheet'!R201=\"\",\"\",'Broker Sheet'!R201)","v":""},{"$f":"IF('Broker Sheet'!S201=\"\",\"\",'Broker Sheet'!S201)","v":""},{"$f":"IF('Broker Sheet'!T201=\"\",\"\",'Broker Sheet'!T201)","v":""},{"$f":"IF('Broker Sheet'!U201=\"\",\"\",'Broker Sheet'!U201)","v":""},{"$f":"IF('Broker Sheet'!V201=\"\",\"\",'Broker Sheet'!V201)","v":""},{"$f":"IF('Broker Sheet'!W201=\"\",\"\",'Broker Sheet'!W201)","v":""},{"$f":"IF('Broker Sheet'!Y201=\"\",\"\",'Broker Sheet'!Y201)","v":""},{"$f":"IF('Broker Sheet'!AA201=\"\",\"\",'Broker Sheet'!AA201)","v":""},{"$f":"IF('Broker Sheet'!Z201=\"\",\"\",'Broker Sheet'!Z201)","v":""},{"$f":"IF('Broker Sheet'!AB201=\"\",\"\",'Broker Sheet'!AB201)","v":""},null,null,{"$f":"IF('Broker Sheet'!L201=\"\",\"\",TEXT('Broker Sheet'!L201,\"YYYYMMDD\"))","v":""},{"$f":"IF('Broker Sheet'!AC201=\"\",\"\",TEXT('Broker Sheet'!AC201,\"YYYYMMDD\"))","v":""},{"$f":"IF('Broker Sheet'!AD201=\"\",\"\",TEXT('Broker Sheet'!AD201,\"YYYYMMDD\"))","v":""},{"$f":"IF('Broker Sheet'!AE201=\"\",\"\",'Broker Sheet'!AE201)","v":""},{"$f":"IF('Broker Sheet'!AF201=\"\",\"\",TEXT('Broker Sheet'!AF201,\"YYYYMMDD\"))","v":""},{"$f":"IF('Broker Sheet'!AG201=\"\",\"\",TEXT('Broker Sheet'!AG201,\"YYYYMMDD\"))","v":""}]
[null,null,null,null,null,{"$f":"IF('Broker Sheet'!C202=\"\",\"\",'Broker Sheet'!C202)","v":""},{"$f":"IF('Broker Sheet'!D202=\"\",\"\",'Broker Sheet'!D202)","v":""},{"$f":"IF('Broker Sheet'!E202=\"\",\"\",'Broker Sheet'!E202)","v":""},{"$f":"IF('Broker Sheet'!F202=\"\",\"\",'Broker Sheet'!F202)","v":""},{"$f":"IF('Broker Sheet'!G202=\"\",\"\",TEXT('Broker Sheet'!G202,\"YYYYMMDD\"))","v":""},{"$f":"IF('Broker Sheet'!H202=\"\",\"\",'Broker Sheet'!H202)","v":""},{"$f":"IF('Broker Sheet'!I202=\"\",\"\",'Broker Sheet'!I202)","v":""},{"$f":"IF('Broker Sheet'!J202=\"\",\"\",VLOOKUP('Broker Sheet'!J202,(Reference!$E$4:$F$9),2,FALSE))","v":""},{"$f":"IF('Broker Sheet'!K202=\"\",\"\",'Broker Sheet'!K202)","v":""},{"$f":"IF('Broker Sheet'!R202=\"\",\"\",'Broker Sheet'!R202)","v":""},{"$f":"IF('Broker Sheet'!S202=\"\",\"\",'Broker Sheet'!S202)","v":""},{"$f":"IF('Broker Sheet'!T202=\"\",\"\",'Broker Sheet'!T202)","v":""},{"$f":"IF('Broker Sheet'!U202=\"\",\"\",'Broker Sheet'!U202)","v":""},{"$f":"IF('Broker Sheet'!V202=\"\",\"\",'Broker Sheet'!V202)","v":""},{"$f":"IF('Broker Sheet'!W202=\"\",\"\",'Broker Sheet'!W202)","v":""},{"$f":"IF('Broker Sheet'!Y202=\"\",\"\",'Broker Sheet'!Y202)","v":""},{"$f":"IF('Broker Sheet'!AA202=\"\",\"\",'Broker Sheet'!AA202)","v":""},{"$f":"IF('Broker Sheet'!Z202=\"\",\"\",'Broker Sheet'!Z202)","v":""},{"$f":"IF('Broker Sheet'!AB202=\"\",\"\",'Broker Sheet'!AB202)","v":""},null,null,{"$f":"IF('Broker Sheet'!L202=\"\",\"\",TEXT('Broker Sheet'!L202,\"YYYYMMDD\"))","v":""},{"$f":"IF('Broker Sheet'!AC202=\"\",\"\",TEXT('Broker Sheet'!AC202,\"YYYYMMDD\"))","v":""},{"$f":"IF('Broker Sheet'!AD202=\"\",\"\",TEXT('Broker Sheet'!AD202,\"YYYYMMDD\"))","v":""},{"$f":"IF('Broker Sheet'!AE202=\"\",\"\",'Broker Sheet'!AE202)","v":""},{"$f":"IF('Broker Sheet'!AF202=\"\",\"\",TEXT('Broker Sheet'!AF202,\"YYYYMMDD\"))","v":""},{"$f":"IF('Broker Sheet'!AG202=\"\",\"\",TEXT('Broker Sheet'!AG202,\"YYYYMMDD\"))","v":""}]
[null,null,null,null,null,{"$f":"IF('Broker Sheet'!C203=\"\",\"\",'Broker Sheet'!C203)","v":""},{"$f":"IF('Broker Sheet'!D203=\"\",\"\",'Broker Sheet'!D203)","v":""},{"$f":"IF('Broker Sheet'!E203=\"\",\"\",'Broker Sheet'!E203)","v":""},{"$f":"IF('Broker Sheet'!F203=\"\",\"\",'Broker Sheet'!F203)","v":""},{"$f":"IF('Broker Sheet'!G203=\"\",\"\",TEXT('Broker Sheet'!G203,\"YYYYMMDD\"))","v":""},{"$f":"IF('Broker Sheet'!H203=\"\",\"\",'Broker Sheet'!H203)","v":""},{"$f":"IF('Broker Sheet'!I203=\"\",\"\",'Broker Sheet'!I203)","v":""},{"$f":"IF('Broker Sheet'!J203=\"\",\"\",VLOOKUP('Broker Sheet'!J203,(Reference!$E$4:$F$9),2,FALSE))","v":""},{"$f":"IF('Broker Sheet'!K203=\"\",\"\",'Broker Sheet'!K203)","v":""},{"$f":"IF('Broker Sheet'!R203=\"\",\"\",'Broker Sheet'!R203)","v":""},{"$f":"IF('Broker Sheet'!S203=\"\",\"\",'Broker Sheet'!S203)","v":""},{"$f":"IF('Broker Sheet'!T203=\"\",\"\",'Broker Sheet'!T203)","v":""},{"$f":"IF('Broker Sheet'!U203=\"\",\"\",'Broker Sheet'!U203)","v":""},{"$f":"IF('Broker Sheet'!V203=\"\",\"\",'Broker Sheet'!V203)","v":""},{"$f":"IF('Broker Sheet'!W203=\"\",\"\",'Broker Sheet'!W203)","v":""},{"$f":"IF('Broker Sheet'!Y203=\"\",\"\",'Broker Sheet'!Y203)","v":""},{"$f":"IF('Broker Sheet'!AA203=\"\",\"\",'Broker Sheet'!AA203)","v":""},{"$f":"IF('Broker Sheet'!Z203=\"\",\"\",'Broker Sheet'!Z203)","v":""},{"$f":"IF('Broker Sheet'!AB203=\"\",\"\",'Broker Sheet'!AB203)","v":""},null,null,{"$f":"IF('Broker Sheet'!L203=\"\",\"\",TEXT('Broker Sheet'!L203,\"YYYYMMDD\"))","v":""},{"$f":"IF('Broker Sheet'!AC203=\"\",\"\",TEXT('Broker Sheet'!AC203,\"YYYYMMDD\"))","v":""},{"$f":"IF('Broker Sheet'!AD203=\"\",\"\",TEXT('Broker Sheet'!AD203,\"YYYYMMDD\"))","v":""},{"$f":"IF('Broker Sheet'!AE203=\"\",\"\",'Broker Sheet'!AE203)","v":""},{"$f":"IF('Broker Sheet'!AF203=\"\",\"\",TEXT('Broker Sheet'!AF203,\"YYYYMMDD\"))","v":""},{"$f":"IF('Broker Sheet'!AG203=\"\",\"\",TEXT('Broker Sheet'!AG203,\"YYYYMMDD\"))","v":""}]
[null,null,null,null,null,{"$f":"IF('Broker Sheet'!C204=\"\",\"\",'Broker Sheet'!C204)","v":""},{"$f":"IF('Broker Sheet'!D204=\"\",\"\",'Broker Sheet'!D204)","v":""},{"$f":"IF('Broker Sheet'!E204=\"\",\"\",'Broker Sheet'!E204)","v":""},{"$f":"IF('Broker Sheet'!F204=\"\",\"\",'Broker Sheet'!F204)","v":""},{"$f":"IF('Broker Sheet'!G204=\"\",\"\",TEXT('Broker Sheet'!G204,\"YYYYMMDD\"))","v":""},{"$f":"IF('Broker Sheet'!H204=\"\",\"\",'Broker Sheet'!H204)","v":""},{"$f":"IF('Broker Sheet'!I204=\"\",\"\",'Broker Sheet'!I204)","v":""},{"$f":"IF('Broker Sheet'!J204=\"\",\"\",VLOOKUP('Broker Sheet'!J204,(Reference!$E$4:$F$9),2,FALSE))","v":""},{"$f":"IF('Broker Sheet'!K204=\"\",\"\",'Broker Sheet'!K204)","v":""},{"$f":"IF('Broker Sheet'!R204=\"\",\"\",'Broker Sheet'!R204)","v":""},{"$f":"IF('Broker Sheet'!S204=\"\",\"\",'Broker Sheet'!S204)","v":""},{"$f":"IF('Broker Sheet'!T204=\"\",\"\",'Broker Sheet'!T204)","v":""},{"$f":"IF('Broker Sheet'!U204=\"\",\"\",'Broker Sheet'!U204)","v":""},{"$f":"IF('Broker Sheet'!V204=\"\",\"\",'Broker Sheet'!V204)","v":""},{"$f":"IF('Broker Sheet'!W204=\"\",\"\",'Broker Sheet'!W204)","v":""},{"$f":"IF('Broker Sheet'!Y204=\"\",\"\",'Broker Sheet'!Y204)","v":""},{"$f":"IF('Broker Sheet'!AA204=\"\",\"\",'Broker Sheet'!AA204)","v":""},{"$f":"IF('Broker Sheet'!Z204=\"\",\"\",'Broker Sheet'!Z204)","v":""},{"$f":"IF('Broker Sheet'!AB204=\"\",\"\",'Broker Sheet'!AB204)","v":""},null,null,{"$f":"IF('Broker Sheet'!L204=\"\",\"\",TEXT('Broker Sheet'!L204,\"YYYYMMDD\"))","v":""},{"$f":"IF('Broker Sheet'!AC204=\"\",\"\",TEXT('Broker Sheet'!AC204,\"YYYYMMDD\"))","v":""},{"$f":"IF('Broker Sheet'!AD204=\"\",\"\",TEXT('Broker Sheet'!AD204,\"YYYYMMDD\"))","v":""},{"$f":"IF('Broker Sheet'!AE204=\"\",\"\",'Broker Sheet'!AE204)","v":""},{"$f":"IF('Broker Sheet'!AF204=\"\",\"\",TEXT('Broker Sheet'!AF204,\"YYYYMMDD\"))","v":""},{"$f":"IF('Broker Sheet'!AG204=\"\",\"\",TEXT('Broker Sheet'!AG204,\"YYYYMMDD\"))","v":""}]
[null,null,null,null,null,{"$f":"IF('Broker Sheet'!C205=\"\",\"\",'Broker Sheet'!C205)","v":""},{"$f":"IF('Broker Sheet'!D205=\"\",\"\",'Broker Sheet'!D205)","v":""},{"$f":"IF('Broker Sheet'!E205=\"\",\"\",'Broker Sheet'!E205)","v":""},{"$f":"IF('Broker Sheet'!F205=\"\",\"\",'Broker Sheet'!F205)","v":""},{"$f":"IF('Broker Sheet'!G205=\"\",\"\",TEXT('Broker Sheet'!G205,\"YYYYMMDD\"))","v":""},{"$f":"IF('Broker Sheet'!H205=\"\",\"\",'Broker Sheet'!H205)","v":""},{"$f":"IF('Broker Sheet'!I205=\"\",\"\",'Broker Sheet'!I205)","v":""},{"$f":"IF('Broker Sheet'!J205=\"\",\"\",VLOOKUP('Broker Sheet'!J205,(Reference!$E$4:$F$9),2,FALSE))","v":""},{"$f":"IF('Broker Sheet'!K205=\"\",\"\",'Broker Sheet'!K205)","v":""},{"$f":"IF('Broker Sheet'!R205=\"\",\"\",'Broker Sheet'!R205)","v":""},{"$f":"IF('Broker Sheet'!S205=\"\",\"\",'Broker Sheet'!S205)","v":""},{"$f":"IF('Broker Sheet'!T205=\"\",\"\",'Broker Sheet'!T205)","v":""},{"$f":"IF('Broker Sheet'!U205=\"\",\"\",'Broker Sheet'!U205)","v":""},{"$f":"IF('Broker Sheet'!V205=\"\",\"\",'Broker Sheet'!V205)","v":""},{"$f":"IF('Broker Sheet'!W205=\"\",\"\",'Broker Sheet'!W205)","v":""},{"$f":"IF('Broker Sheet'!Y205=\"\",\"\",'Broker Sheet'!Y205)","v":""},{"$f":"IF('Broker Sheet'!AA205=\"\",\"\",'Broker Sheet'!AA205)","v":""},{"$f":"IF('Broker Sheet'!Z205=\"\",\"\",'Broker Sheet'!Z205)","v":""},{"$f":"IF('Broker Sheet'!AB205=\"\",\"\",'Broker Sheet'!AB205)","v":""},null,null,{"$f":"IF('Broker Sheet'!L205=\"\",\"\",TEXT('Broker Sheet'!L205,\"YYYYMMDD\"))","v":""},{"$f":"IF('Broker Sheet'!AC205=\"\",\"\",TEXT('Broker Sheet'!AC205,\"YYYYMMDD\"))","v":""},{"$f":"IF('Broker Sheet'!AD205=\"\",\"\",TEXT('Broker Sheet'!AD205,\"YYYYMMDD\"))","v":""},{"$f":"IF('Broker Sheet'!AE205=\"\",\"\",'Broker Sheet'!AE205)","v":""},{"$f":"IF('Broker Sheet'!AF205=\"\",\"\",TEXT('Broker Sheet'!AF205,\"YYYYMMDD\"))","v":""},{"$f":"IF('Broker Sheet'!AG205=\"\",\"\",TEXT('Broker Sheet'!AG205,\"YYYYMMDD\"))","v":""}]
[null,null,null,null,null,{"$f":"IF('Broker Sheet'!C206=\"\",\"\",'Broker Sheet'!C206)","v":""},{"$f":"IF('Broker Sheet'!D206=\"\",\"\",'Broker Sheet'!D206)","v":""},{"$f":"IF('Broker Sheet'!E206=\"\",\"\",'Broker Sheet'!E206)","v":""},{"$f":"IF('Broker Sheet'!F206=\"\",\"\",'Broker Sheet'!F206)","v":""},{"$f":"IF('Broker Sheet'!G206=\"\",\"\",TEXT('Broker Sheet'!G206,\"YYYYMMDD\"))","v":""},{"$f":"IF('Broker Sheet'!H206=\"\",\"\",'Broker Sheet'!H206)","v":""},{"$f":"IF('Broker Sheet'!I206=\"\",\"\",'Broker Sheet'!I206)","v":""},{"$f":"IF('Broker Sheet'!J206=\"\",\"\",VLOOKUP('Broker Sheet'!J206,(Reference!$E$4:$F$9),2,FALSE))","v":""},{"$f":"IF('Broker Sheet'!K206=\"\",\"\",'Broker Sheet'!K206)","v":""},{"$f":"IF('Broker Sheet'!R206=\"\",\"\",'Broker Sheet'!R206)","v":""},{"$f":"IF('Broker Sheet'!S206=\"\",\"\",'Broker Sheet'!S206)","v":""},{"$f":"IF('Broker Sheet'!T206=\"\",\"\",'Broker Sheet'!T206)","v":""},{"$f":"IF('Broker Sheet'!U206=\"\",\"\",'Broker Sheet'!U206)","v":""},{"$f":"IF('Broker Sheet'!V206=\"\",\"\",'Broker Sheet'!V206)","v":""},{"$f":"IF('Broker Sheet'!W206=\"\",\"\",'Broker Sheet'!W206)","v":""},{"$f":"IF('Broker Sheet'!Y206=\"\",\"\",'Broker Sheet'!Y206)","v":""},{"$f":"IF('Broker Sheet'!AA206=\"\",\"\",'Broker Sheet'!AA206)","v":""},{"$f":"IF('Broker Sheet'!Z206=\"\",\"\",'Broker Sheet'!Z206)","v":""},{"$f":"IF('Broker Sheet'!AB206=\"\",\"\",'Broker Sheet'!AB206)","v":""},null,null,{"$f":"IF('Broker Sheet'!L206=\"\",\"\",TEXT('Broker Sheet'!L206,\"YYYYMMDD\"))","v":""},{"$f":"IF('Broker Sheet'!AC206=\"\",\"\",TEXT('Broker Sheet'!AC206,\"YYYYMMDD\"))","v":""},{"$f":"IF('Broker Sheet'!AD206=\"\",\"\",TEXT('Broker Sheet'!AD206,\"YYYYMMDD\"))","v":""},{"$f":"IF('Broker Sheet'!AE206=\"\",\"\",'Broker Sheet'!AE206)","v":""},{"$f":"IF('Broker Sheet'!AF206=\"\",\"\",TEXT('Broker Sheet'!AF206,\"YYYYMMDD\"))","v":""},{"$f":"IF('Broker Sheet'!AG206=\"\",\"\",TEXT('Broker Sheet'!AG206,\"YYYYMMDD\"))","v":""}]
[null,null,null,null,null,{"$f":"IF('Broker Sheet'!C207=\"\",\"\",'Broker Sheet'!C207)","v":""},{"$f":"IF('Broker Sheet'!D207=\"\",\"\",'Broker Sheet'!D207)","v":""},{"$f":"IF('Broker Sheet'!E207=\"\",\"\",'Broker Sheet'!E207)","v":""},{"$f":"IF('Broker Sheet'!F207=\"\",\"\",'Broker Sheet'!F207)","v":""},{"$f":"IF('Broker Sheet'!G207=\"\",\"\",TEXT('Broker Sheet'!G207,\"YYYYMMDD\"))","v":""},{"$f":"IF('Broker Sheet'!H207=\"\",\"\",'Broker Sheet'!H207)","v":""},{"$f":"IF('Broker Sheet'!I207=\"\",\"\",'Broker Sheet'!I207)","v":""},{"$f":"IF('Broker Sheet'!J207=\"\",\"\",VLOOKUP('Broker Sheet'!J207,(Reference!$E$4:$F$9),2,FALSE))","v":""},{"$f":"IF('Broker Sheet'!K207=\"\",\"\",'Broker Sheet'!K207)","v":""},{"$f":"IF('Broker Sheet'!R207=\"\",\"\",'Broker Sheet'!R207)","v":""},{"$f":"IF('Broker Sheet'!S207=\"\",\"\",'Broker Sheet'!S207)","v":""},{"$f":"IF('Broker Sheet'!T207=\"\",\"\",'Broker Sheet'!T207)","v":""},{"$f":"IF('Broker Sheet'!U207=\"\",\"\",'Broker Sheet'!U207)","v":""},{"$f":"IF('Broker Sheet'!V207=\"\",\"\",'Broker Sheet'!V207)","v":""},{"$f":"IF('Broker Sheet'!W207=\"\",\"\",'Broker Sheet'!W207)","v":""},{"$f":"IF('Broker Sheet'!Y207=\"\",\"\",'Broker Sheet'!Y207)","v":""},{"$f":"IF('Broker Sheet'!AA207=\"\",\"\",'Broker Sheet'!AA207)","v":""},{"$f":"IF('Broker Sheet'!Z207=\"\",\"\",'Broker Sheet'!Z207)","v":""},{"$f":"IF('Broker Sheet'!AB207=\"\",\"\",'Broker Sheet'!AB207)","v":""},null,null,{"$f":"IF('Broker Sheet'!L207=\"\",\"\",TEXT('Broker Sheet'!L207,\"YYYYMMDD\"))","v":""},{"$f":"IF('Broker Sheet'!AC207=\"\",\"\",TEXT('Broker Sheet'!AC207,\"YYYYMMDD\"))","v":""},{"$f":"IF('Broker Sheet'!AD207=\"\",\"\",TEXT('Broker Sheet'!AD207,\"YYYYMMDD\"))","v":""},{"$f":"IF('Broker Sheet'!AE207=\"\",\"\",'Broker Sheet'!AE207)","v":""},{"$f":"IF('Broker Sheet'!AF207=\"\",\"\",TEXT('Broker Sheet'!AF207,\"YYYYMMDD\"))","v":""},{"$f":"IF('Broker Sheet'!AG207=\"\",\"\",TEXT('Broker Sheet'!AG207,\"YYYYMMDD\"))","v":""}]
[null,null,null,null,null,{"$f":"IF('Broker Sheet'!C208=\"\",\"\",'Broker Sheet'!C208)","v":""},{"$f":"IF('Broker Sheet'!D208=\"\",\"\",'Broker Sheet'!D208)","v":""},{"$f":"IF('Broker Sheet'!E208=\"\",\"\",'Broker Sheet'!E208)","v":""},{"$f":"IF('Broker Sheet'!F208=\"\",\"\",'Broker Sheet'!F208)","v":""},{"$f":"IF('Broker Sheet'!G208=\"\",\"\",TEXT('Broker Sheet'!G208,\"YYYYMMDD\"))","v":""},{"$f":"IF('Broker Sheet'!H208=\"\",\"\",'Broker Sheet'!H208)","v":""},{"$f":"IF('Broker Sheet'!I208=\"\",\"\",'Broker Sheet'!I208)","v":""},{"$f":"IF('Broker Sheet'!J208=\"\",\"\",VLOOKUP('Broker Sheet'!J208,(Reference!$E$4:$F$9),2,FALSE))","v":""},{"$f":"IF('Broker Sheet'!K208=\"\",\"\",'Broker Sheet'!K208)","v":""},{"$f":"IF('Broker Sheet'!R208=\"\",\"\",'Broker Sheet'!R208)","v":""},{"$f":"IF('Broker Sheet'!S208=\"\",\"\",'Broker Sheet'!S208)","v":""},{"$f":"IF('Broker Sheet'!T208=\"\",\"\",'Broker Sheet'!T208)","v":""},{"$f":"IF('Broker Sheet'!U208=\"\",\"\",'Broker Sheet'!U208)","v":""},{"$f":"IF('Broker Sheet'!V208=\"\",\"\",'Broker Sheet'!V208)","v":""},{"$f":"IF('Broker Sheet'!W208=\"\",\"\",'Broker Sheet'!W208)","v":""},{"$f":"IF('Broker Sheet'!Y208=\"\",\"\",'Broker Sheet'!Y208)","v":""},{"$f":"IF('Broker Sheet'!AA208=\"\",\"\",'Broker Sheet'!AA208)","v":""},{"$f":"IF('Broker Sheet'!Z208=\"\",\"\",'Broker Sheet'!Z208)","v":""},{"$f":"IF('Broker Sheet'!AB208=\"\",\"\",'Broker Sheet'!AB208)","v":""},null,null,{"$f":"IF('Broker Sheet'!L208=\"\",\"\",TEXT('Broker Sheet'!L208,\"YYYYMMDD\"))","v":""},{"$f":"IF('Broker Sheet'!AC208=\"\",\"\",TEXT('Broker Sheet'!AC208,\"YYYYMMDD\"))","v":""},{"$f":"IF('Broker Sheet'!AD208=\"\",\"\",TEXT('Broker Sheet'!AD208,\"YYYYMMDD\"))","v":""},{"$f":"IF('Broker Sheet'!AE208=\"\",\"\",'Broker Sheet'!AE208)","v":""},{"$f":"IF('Broker Sheet'!AF208=\"\",\"\",TEXT('Broker Sheet'!AF208,\"YYYYMMDD\"))","v":""},{"$f":"IF('Broker Sheet'!AG208=\"\",\"\",TEXT('Broker Sheet'!AG208,\"YYYYMMDD\"))","v":""}]
[null,null,null,null,null,{"$f":"IF('Broker Sheet'!C209=\"\",\"\",'Broker Sheet'!C209)","v":""},{"$f":"IF('Broker Sheet'!D209=\"\",\"\",'Broker Sheet'!D209)","v":""},{"$f":"IF('Broker Sheet'!E209=\"\",\"\",'Broker Sheet'!E209)","v":""},{"$f":"IF('Broker Sheet'!F209=\"\",\"\",'Broker Sheet'!F209)","v":""},{"$f":"IF('Broker Sheet'!G209=\"\",\"\",TEXT('Broker Sheet'!G209,\"YYYYMMDD\"))","v":""},{"$f":"IF('Broker Sheet'!H209=\"\",\"\",'Broker Sheet'!H209)","v":""},{"$f":"IF('Broker Sheet'!I209=\"\",\"\",'Broker Sheet'!I209)","v":""},{"$f":"IF('Broker Sheet'!J209=\"\",\"\",VLOOKUP('Broker Sheet'!J209,(Reference!$E$4:$F$9),2,FALSE))","v":""},{"$f":"IF('Broker Sheet'!K209=\"\",\"\",'Broker Sheet'!K209)","v":""},{"$f":"IF('Broker Sheet'!R209=\"\",\"\",'Broker Sheet'!R209)","v":""},{"$f":"IF('Broker Sheet'!S209=\"\",\"\",'Broker Sheet'!S209)","v":""},{"$f":"IF('Broker Sheet'!T209=\"\",\"\",'Broker Sheet'!T209)","v":""},{"$f":"IF('Broker Sheet'!U209=\"\",\"\",'Broker Sheet'!U209)","v":""},{"$f":"IF('Broker Sheet'!V209=\"\",\"\",'Broker Sheet'!V209)","v":""},{"$f":"IF('Broker Sheet'!W209=\"\",\"\",'Broker Sheet'!W209)","v":""},{"$f":"IF('Broker Sheet'!Y209=\"\",\"\",'Broker Sheet'!Y209)","v":""},{"$f":"IF('Broker Sheet'!AA209=\"\",\"\",'Broker Sheet'!AA209)","v":""},{"$f":"IF('Broker Sheet'!Z209=\"\",\"\",'Broker Sheet'!Z209)","v":""},{"$f":"IF('Broker Sheet'!AB209=\"\",\"\",'Broker Sheet'!AB209)","v":""},null,null,{"$f":"IF('Broker Sheet'!L209=\"\",\"\",TEXT('Broker Sheet'!L209,\"YYYYMMDD\"))","v":""},{"$f":"IF('Broker Sheet'!AC209=\"\",\"\",TEXT('Broker Sheet'!AC209,\"YYYYMMDD\"))","v":""},{"$f":"IF('Broker Sheet'!AD209=\"\",\"\",TEXT('Broker Sheet'!AD209,\"YYYYMMDD\"))","v":""},{"$f":"IF('Broker Sheet'!AE209=\"\",\"\",'Broker Sheet'!AE209)","v":""},{"$f":"IF('Broker Sheet'!AF209=\"\",\"\",TEXT('Broker Sheet'!AF209,\"YYYYMMDD\"))","v":""},{"$f":"IF('Broker Sheet'!AG209=\"\",\"\",TEXT('Broker Sheet'!AG209,\"YYYYMMDD\"))","v":""}]
[null,null,null,null,null,{"$f":"IF('Broker Sheet'!C210=\"\",\"\",'Broker Sheet'!C210)","v":""},{"$f":"IF('Broker Sheet'!D210=\"\",\"\",'Broker Sheet'!D210)","v":""},{"$f":"IF('Broker Sheet'!E210=\"\",\"\",'Broker Sheet'!E210)","v":""},{"$f":"IF('Broker Sheet'!F210=\"\",\"\",'Broker Sheet'!F210)","v":""},{"$f":"IF('Broker Sheet'!G210=\"\",\"\",TEXT('Broker Sheet'!G210,\"YYYYMMDD\"))","v":""},{"$f":"IF('Broker Sheet'!H210=\"\",\"\",'Broker Sheet'!H210)","v":""},{"$f":"IF('Broker Sheet'!I210=\"\",\"\",'Broker Sheet'!I210)","v":""},{"$f":"IF('Broker Sheet'!J210=\"\",\"\",VLOOKUP('Broker Sheet'!J210,(Reference!$E$4:$F$9),2,FALSE))","v":""},{"$f":"IF('Broker Sheet'!K210=\"\",\"\",'Broker Sheet'!K210)","v":""},{"$f":"IF('Broker Sheet'!R210=\"\",\"\",'Broker Sheet'!R210)","v":""},{"$f":"IF('Broker Sheet'!S210=\"\",\"\",'Broker Sheet'!S210)","v":""},{"$f":"IF('Broker Sheet'!T210=\"\",\"\",'Broker Sheet'!T210)","v":""},{"$f":"IF('Broker Sheet'!U210=\"\",\"\",'Broker Sheet'!U210)","v":""},{"$f":"IF('Broker Sheet'!V210=\"\",\"\",'Broker Sheet'!V210)","v":""},{"$f":"IF('Broker Sheet'!W210=\"\",\"\",'Broker Sheet'!W210)","v":""},{"$f":"IF('Broker Sheet'!Y210=\"\",\"\",'Broker Sheet'!Y210)","v":""},{"$f":"IF('Broker Sheet'!AA210=\"\",\"\",'Broker Sheet'!AA210)","v":""},{"$f":"IF('Broker Sheet'!Z210=\"\",\"\",'Broker Sheet'!Z210)","v":""},{"$f":"IF('Broker Sheet'!AB210=\"\",\"\",'Broker Sheet'!AB210)","v":""},null,null,{"$f":"IF('Broker Sheet'!L210=\"\",\"\",TEXT('Broker Sheet'!L210,\"YYYYMMDD\"))","v":""},{"$f":"IF('Broker Sheet'!AC210=\"\",\"\",TEXT('Broker Sheet'!AC210,\"YYYYMMDD\"))","v":""},{"$f":"IF('Broker Sheet'!AD210=\"\",\"\",TEXT('Broker Sheet'!AD210,\"YYYYMMDD\"))","v":""},{"$f":"IF('Broker Sheet'!AE210=\"\",\"\",'Broker Sheet'!AE210)","v":""},{"$f":"IF('Broker Sheet'!AF210=\"\",\"\",TEXT('Broker Sheet'!AF210,\"YYYYMMDD\"))","v":""},{"$f":"IF('Broker Sheet'!AG210=\"\",\"\",TEXT('Broker Sheet'!AG210,\"YYYYMMDD\"))","v":""}]
[null,null,null,null,null,{"$f":"IF('Broker Sheet'!C211=\"\",\"\",'Broker Sheet'!C211)","v":""},{"$f":"IF('Broker Sheet'!D211=\"\",\"\",'Broker Sheet'!D211)","v":""},{"$f":"IF('Broker Sheet'!E211=\"\",\"\",'Broker Sheet'!E211)","v":""},{"$f":"IF('Broker Sheet'!F211=\"\",\"\",'Broker Sheet'!F211)","v":""},{"$f":"IF('Broker Sheet'!G211=\"\",\"\",TEXT('Broker Sheet'!G211,\"YYYYMMDD\"))","v":""},{"$f":"IF('Broker Sheet'!H211=\"\",\"\",'Broker Sheet'!H211)","v":""},{"$f":"IF('Broker Sheet'!I211=\"\",\"\",'Broker Sheet'!I211)","v":""},{"$f":"IF('Broker Sheet'!J211=\"\",\"\",VLOOKUP('Broker Sheet'!J211,(Reference!$E$4:$F$9),2,FALSE))","v":""},{"$f":"IF('Broker Sheet'!K211=\"\",\"\",'Broker Sheet'!K211)","v":""},{"$f":"IF('Broker Sheet'!R211=\"\",\"\",'Broker Sheet'!R211)","v":""},{"$f":"IF('Broker Sheet'!S211=\"\",\"\",'Broker Sheet'!S211)","v":""},{"$f":"IF('Broker Sheet'!T211=\"\",\"\",'Broker Sheet'!T211)","v":""},{"$f":"IF('Broker Sheet'!U211=\"\",\"\",'Broker Sheet'!U211)","v":""},{"$f":"IF('Broker Sheet'!V211=\"\",\"\",'Broker Sheet'!V211)","v":""},{"$f":"IF('Broker Sheet'!W211=\"\",\"\",'Broker Sheet'!W211)","v":""},{"$f":"IF('Broker Sheet'!Y211=\"\",\"\",'Broker Sheet'!Y211)","v":""},{"$f":"IF('Broker Sheet'!AA211=\"\",\"\",'Broker Sheet'!AA211)","v":""},{"$f":"IF('Broker Sheet'!Z211=\"\",\"\",'Broker Sheet'!Z211)","v":""},{"$f":"IF('Broker Sheet'!AB211=\"\",\"\",'Broker Sheet'!AB211)","v":""},null,null,{"$f":"IF('Broker Sheet'!L211=\"\",\"\",TEXT('Broker Sheet'!L211,\"YYYYMMDD\"))","v":""},{"$f":"IF('Broker Sheet'!AC211=\"\",\"\",TEXT('Broker Sheet'!AC211,\"YYYYMMDD\"))","v":""},{"$f":"IF('Broker Sheet'!AD211=\"\",\"\",TEXT('Broker Sheet'!AD211,\"YYYYMMDD\"))","v":""},{"$f":"IF('Broker Sheet'!AE211=\"\",\"\",'Broker Sheet'!AE211)","v":""},{"$f":"IF('Broker Sheet'!AF211=\"\",\"\",TEXT('Broker Sheet'!AF211,\"YYYYMMDD\"))","v":""},{"$f":"IF('Broker Sheet'!AG211=\"\",\"\",TEXT('Broker Sheet'!AG211,\"YYYYMMDD\"))","v":""}]
[null,null,null,null,null,{"$f":"IF('Broker Sheet'!C212=\"\",\"\",'Broker Sheet'!C212)","v":""},{"$f":"IF('Broker Sheet'!D212=\"\",\"\",'Broker Sheet'!D212)","v":""},{"$f":"IF('Broker Sheet'!E212=\"\",\"\",'Broker Sheet'!E212)","v":""},{"$f":"IF('Broker Sheet'!F212=\"\",\"\",'Broker Sheet'!F212)","v":""},{"$f":"IF('Broker Sheet'!G212=\"\",\"\",TEXT('Broker Sheet'!G212,\"YYYYMMDD\"))","v":""},{"$f":"IF('Broker Sheet'!H212=\"\",\"\",'Broker Sheet'!H212)","v":""},{"$f":"IF('Broker Sheet'!I212=\"\",\"\",'Broker Sheet'!I212)","v":""},{"$f":"IF('Broker Sheet'!J212=\"\",\"\",VLOOKUP('Broker Sheet'!J212,(Reference!$E$4:$F$9),2,FALSE))","v":""},{"$f":"IF('Broker Sheet'!K212=\"\",\"\",'Broker Sheet'!K212)","v":""},{"$f":"IF('Broker Sheet'!R212=\"\",\"\",'Broker Sheet'!R212)","v":""},{"$f":"IF('Broker Sheet'!S212=\"\",\"\",'Broker Sheet'!S212)","v":""},{"$f":"IF('Broker Sheet'!T212=\"\",\"\",'Broker Sheet'!T212)","v":""},{"$f":"IF('Broker Sheet'!U212=\"\",\"\",'Broker Sheet'!U212)","v":""},{"$f":"IF('Broker Sheet'!V212=\"\",\"\",'Broker Sheet'!V212)","v":""},{"$f":"IF('Broker Sheet'!W212=\"\",\"\",'Broker Sheet'!W212)","v":""},{"$f":"IF('Broker Sheet'!Y212=\"\",\"\",'Broker Sheet'!Y212)","v":""},{"$f":"IF('Broker Sheet'!AA212=\"\",\"\",'Broker Sheet'!AA212)","v":""},{"$f":"IF('Broker Sheet'!Z212=\"\",\"\",'Broker Sheet'!Z212)","v":""},{"$f":"IF('Broker Sheet'!AB212=\"\",\"\",'Broker Sheet'!AB212)","v":""},null,null,{"$f":"IF('Broker Sheet'!L212=\"\",\"\",TEXT('Broker Sheet'!L212,\"YYYYMMDD\"))","v":""},{"$f":"IF('Broker Sheet'!AC212=\"\",\"\",TEXT('Broker Sheet'!AC212,\"YYYYMMDD\"))","v":""},{"$f":"IF('Broker Sheet'!AD212=\"\",\"\",TEXT('Broker Sheet'!AD212,\"YYYYMMDD\"))","v":""},{"$f":"IF('Broker Sheet'!AE212=\"\",\"\",'Broker Sheet'!AE212)","v":""},{"$f":"IF('Broker Sheet'!AF212=\"\",\"\",TEXT('Broker Sheet'!AF212,\"YYYYMMDD\"))","v":""},{"$f":"IF('Broker Sheet'!AG212=\"\",\"\",TEXT('Broker Sheet'!AG212,\"YYYYMMDD\"))","v":""}]
[null,null,null,null,null,{"$f":"IF('Broker Sheet'!C213=\"\",\"\",'Broker Sheet'!C213)","v":""},{"$f":"IF('Broker Sheet'!D213=\"\",\"\",'Broker Sheet'!D213)","v":""},{"$f":"IF('Broker Sheet'!E213=\"\",\"\",'Broker Sheet'!E213)","v":""},{"$f":"IF('Broker Sheet'!F213=\"\",\"\",'Broker Sheet'!F213)","v":""},{"$f":"IF('Broker Sheet'!G213=\"\",\"\",TEXT('Broker Sheet'!G213,\"YYYYMMDD\"))","v":""},{"$f":"IF('Broker Sheet'!H213=\"\",\"\",'Broker Sheet'!H213)","v":""},{"$f":"IF('Broker Sheet'!I213=\"\",\"\",'Broker Sheet'!I213)","v":""},{"$f":"IF('Broker Sheet'!J213=\"\",\"\",VLOOKUP('Broker Sheet'!J213,(Reference!$E$4:$F$9),2,FALSE))","v":""},{"$f":"IF('Broker Sheet'!K213=\"\",\"\",'Broker Sheet'!K213)","v":""},{"$f":"IF('Broker Sheet'!R213=\"\",\"\",'Broker Sheet'!R213)","v":""},{"$f":"IF('Broker Sheet'!S213=\"\",\"\",'Broker Sheet'!S213)","v":""},{"$f":"IF('Broker Sheet'!T213=\"\",\"\",'Broker Sheet'!T213)","v":""},{"$f":"IF('Broker Sheet'!U213=\"\",\"\",'Broker Sheet'!U213)","v":""},{"$f":"IF('Broker Sheet'!V213=\"\",\"\",'Broker Sheet'!V213)","v":""},{"$f":"IF('Broker Sheet'!W213=\"\",\"\",'Broker Sheet'!W213)","v":""},{"$f":"IF('Broker Sheet'!Y213=\"\",\"\",'Broker Sheet'!Y213)","v":""},{"$f":"IF('Broker Sheet'!AA213=\"\",\"\",'Broker Sheet'!AA213)","v":""},{"$f":"IF('Broker Sheet'!Z213=\"\",\"\",'Broker Sheet'!Z213)","v":""},{"$f":"IF('Broker Sheet'!AB213=\"\",\"\",'Broker Sheet'!AB213)","v":""},null,null,{"$f":"IF('Broker Sheet'!L213=\"\",\"\",TEXT('Broker Sheet'!L213,\"YYYYMMDD\"))","v":""},{"$f":"IF('Broker Sheet'!AC213=\"\",\"\",TEXT('Broker Sheet'!AC213,\"YYYYMMDD\"))","v":""},{"$f":"IF('Broker Sheet'!AD213=\"\",\"\",TEXT('Broker Sheet'!AD213,\"YYYYMMDD\"))","v":""},{"$f":"IF('Broker Sheet'!AE213=\"\",\"\",'Broker Sheet'!AE213)","v":""},{"$f":"IF('Broker Sheet'!AF213=\"\",\"\",TEXT('Broker Sheet'!AF213,\"YYYYMMDD\"))","v":""},{"$f":"IF('Broker Sheet'!AG213=\"\",\"\",TEXT('Broker Sheet'!AG213,\"YYYYMMDD\"))","v":""}]
[null,null,null,null,null,{"$f":"IF('Broker Sheet'!C214=\"\",\"\",'Broker Sheet'!C214)","v":""},{"$f":"IF('Broker Sheet'!D214=\"\",\"\",'Broker Sheet'!D214)","v":""},{"$f":"IF('Broker Sheet'!E214=\"\",\"\",'Broker Sheet'!E214)","v":""},{"$f":"IF('Broker Sheet'!F214=\"\",\"\",'Broker Sheet'!F214)","v":""},{"$f":"IF('Broker Sheet'!G214=\"\",\"\",TEXT('Broker Sheet'!G214,\"YYYYMMDD\"))","v":""},{"$f":"IF('Broker Sheet'!H214=\"\",\"\",'Broker Sheet'!H214)","v":""},{"$f":"IF('Broker Sheet'!I214=\"\",\"\",'Broker Sheet'!I214)","v":""},{"$f":"IF('Broker Sheet'!J214=\"\",\"\",VLOOKUP('Broker Sheet'!J214,(Reference!$E$4:$F$9),2,FALSE))","v":""},{"$f":"IF('Broker Sheet'!K214=\"\",\"\",'Broker Sheet'!K214)","v":""},{"$f":"IF('Broker Sheet'!R214=\"\",\"\",'Broker Sheet'!R214)","v":""},{"$f":"IF('Broker Sheet'!S214=\"\",\"\",'Broker Sheet'!S214)","v":""},{"$f":"IF('Broker Sheet'!T214=\"\",\"\",'Broker Sheet'!T214)","v":""},{"$f":"IF('Broker Sheet'!U214=\"\",\"\",'Broker Sheet'!U214)","v":""},{"$f":"IF('Broker Sheet'!V214=\"\",\"\",'Broker Sheet'!V214)","v":""},{"$f":"IF('Broker Sheet'!W214=\"\",\"\",'Broker Sheet'!W214)","v":""},{"$f":"IF('Broker Sheet'!Y214=\"\",\"\",'Broker Sheet'!Y214)","v":""},{"$f":"IF('Broker Sheet'!AA214=\"\",\"\",'Broker Sheet'!AA214)","v":""},{"$f":"IF('Broker Sheet'!Z214=\"\",\"\",'Broker Sheet'!Z214)","v":""},{"$f":"IF('Broker Sheet'!AB214=\"\",\"\",'Broker Sheet'!AB214)","v":""},null,null,{"$f":"IF('Broker Sheet'!L214=\"\",\"\",TEXT('Broker Sheet'!L214,\"YYYYMMDD\"))","v":""},{"$f":"IF('Broker Sheet'!AC214=\"\",\"\",TEXT('Broker Sheet'!AC214,\"YYYYMMDD\"))","v":""},{"$f":"IF('Broker Sheet'!AD214=\"\",\"\",TEXT('Broker Sheet'!AD214,\"YYYYMMDD\"))","v":""},{"$f":"IF('Broker Sheet'!AE214=\"\",\"\",'Broker Sheet'!AE214)","v":""},{"$f":"IF('Broker Sheet'!AF214=\"\",\"\",TEXT('Broker Sheet'!AF214,\"YYYYMMDD\"))","v":""},{"$f":"IF('Broker Sheet'!AG214=\"\",\"\",TEXT('Broker Sheet'!AG214,\"YYYYMMDD\"))","v":""}]
[null,null,null,null,null,{"$f":"IF('Broker Sheet'!C215=\"\",\"\",'Broker Sheet'!C215)","v":""},{"$f":"IF('Broker Sheet'!D215=\"\",\"\",'Broker Sheet'!D215)","v":""},{"$f":"IF('Broker Sheet'!E215=\"\",\"\",'Broker Sheet'!E215)","v":""},{"$f":"IF('Broker Sheet'!F215=\"\",\"\",'Broker Sheet'!F215)","v":""},{"$f":"IF('Broker Sheet'!G215=\"\",\"\",TEXT('Broker Sheet'!G215,\"YYYYMMDD\"))","v":""},{"$f":"IF('Broker Sheet'!H215=\"\",\"\",'Broker Sheet'!H215)","v":""},{"$f":"IF('Broker Sheet'!I215=\"\",\"\",'Broker Sheet'!I215)","v":""},{"$f":"IF('Broker Sheet'!J215=\"\",\"\",VLOOKUP('Broker Sheet'!J215,(Reference!$E$4:$F$9),2,FALSE))","v":""},{"$f":"IF('Broker Sheet'!K215=\"\",\"\",'Broker Sheet'!K215)","v":""},{"$f":"IF('Broker Sheet'!R215=\"\",\"\",'Broker Sheet'!R215)","v":""},{"$f":"IF('Broker Sheet'!S215=\"\",\"\",'Broker Sheet'!S215)","v":""},{"$f":"IF('Broker Sheet'!T215=\"\",\"\",'Broker Sheet'!T215)","v":""},{"$f":"IF('Broker Sheet'!U215=\"\",\"\",'Broker Sheet'!U215)","v":""},{"$f":"IF('Broker Sheet'!V215=\"\",\"\",'Broker Sheet'!V215)","v":""},{"$f":"IF('Broker Sheet'!W215=\"\",\"\",'Broker Sheet'!W215)","v":""},{"$f":"IF('Broker Sheet'!Y215=\"\",\"\",'Broker Sheet'!Y215)","v":""},{"$f":"IF('Broker Sheet'!AA215=\"\",\"\",'Broker Sheet'!AA215)","v":""},{"$f":"IF('Broker Sheet'!Z215=\"\",\"\",'Broker Sheet'!Z215)","v":""},{"$f":"IF('Broker Sheet'!AB215=\"\",\"\",'Broker Sheet'!AB215)","v":""},null,null,{"$f":"IF('Broker Sheet'!L215=\"\",\"\",TEXT('Broker Sheet'!L215,\"YYYYMMDD\"))","v":""},{"$f":"IF('Broker Sheet'!AC215=\"\",\"\",TEXT('Broker Sheet'!AC215,\"YYYYMMDD\"))","v":""},{"$f":"IF('Broker Sheet'!AD215=\"\",\"\",TEXT('Broker Sheet'!AD215,\"YYYYMMDD\"))","v":""},{"$f":"IF('Broker Sheet'!AE215=\"\",\"\",'Broker Sheet'!AE215)","v":""},{"$f":"IF('Broker Sheet'!AF215=\"\",\"\",TEXT('Broker Sheet'!AF215,\"YYYYMMDD\"))","v":""},{"$f":"IF('Broker Sheet'!AG215=\"\",\"\",TEXT('Broker Sheet'!AG215,\"YYYYMMDD\"))","v":""}]
[null,null,null,null,null,{"$f":"IF('Broker Sheet'!C216=\"\",\"\",'Broker Sheet'!C216)","v":""},{"$f":"IF('Broker Sheet'!D216=\"\",\"\",'Broker Sheet'!D216)","v":""},{"$f":"IF('Broker Sheet'!E216=\"\",\"\",'Broker Sheet'!E216)","v":""},{"$f":"IF('Broker Sheet'!F216=\"\",\"\",'Broker Sheet'!F216)","v":""},{"$f":"IF('Broker Sheet'!G216=\"\",\"\",TEXT('Broker Sheet'!G216,\"YYYYMMDD\"))","v":""},{"$f":"IF('Broker Sheet'!H216=\"\",\"\",'Broker Sheet'!H216)","v":""},{"$f":"IF('Broker Sheet'!I216=\"\",\"\",'Broker Sheet'!I216)","v":""},{"$f":"IF('Broker Sheet'!J216=\"\",\"\",VLOOKUP('Broker Sheet'!J216,(Reference!$E$4:$F$9),2,FALSE))","v":""},{"$f":"IF('Broker Sheet'!K216=\"\",\"\",'Broker Sheet'!K216)","v":""},{"$f":"IF('Broker Sheet'!R216=\"\",\"\",'Broker Sheet'!R216)","v":""},{"$f":"IF('Broker Sheet'!S216=\"\",\"\",'Broker Sheet'!S216)","v":""},{"$f":"IF('Broker Sheet'!T216=\"\",\"\",'Broker Sheet'!T216)","v":""},{"$f":"IF('Broker Sheet'!U216=\"\",\"\",'Broker Sheet'!U216)","v":""},{"$f":"IF('Broker Sheet'!V216=\"\",\"\",'Broker Sheet'!V216)","v":""},{"$f":"IF('Broker Sheet'!W216=\"\",\"\",'Broker Sheet'!W216)","v":""},{"$f":"IF('Broker Sheet'!Y216=\"\",\"\",'Broker Sheet'!Y216)","v":""},{"$f":"IF('Broker Sheet'!AA216=\"\",\"\",'Broker Sheet'!AA216)","v":""},{"$f":"IF('Broker Sheet'!Z216=\"\",\"\",'Broker Sheet'!Z216)","v":""},{"$f":"IF('Broker Sheet'!AB216=\"\",\"\",'Broker Sheet'!AB216)","v":""},null,null,{"$f":"IF('Broker Sheet'!L216=\"\",\"\",TEXT('Broker Sheet'!L216,\"YYYYMMDD\"))","v":""},{"$f":"IF('Broker Sheet'!AC216=\"\",\"\",TEXT('Broker Sheet'!AC216,\"YYYYMMDD\"))","v":""},{"$f":"IF('Broker Sheet'!AD216=\"\",\"\",TEXT('Broker Sheet'!AD216,\"YYYYMMDD\"))","v":""},{"$f":"IF('Broker Sheet'!AE216=\"\",\"\",'Broker Sheet'!AE216)","v":""},{"$f":"IF('Broker Sheet'!AF216=\"\",\"\",TEXT('Broker Sheet'!AF216,\"YYYYMMDD\"))","v":""},{"$f":"IF('Broker Sheet'!AG216=\"\",\"\",TEXT('Broker Sheet'!AG216,\"YYYYMMDD\"))","v":""}]
[null,null,null,null,null,{"$f":"IF('Broker Sheet'!C217=\"\",\"\",'Broker Sheet'!C217)","v":""},{"$f":"IF('Broker Sheet'!D217=\"\",\"\",'Broker Sheet'!D217)","v":""},{"$f":"IF('Broker Sheet'!E217=\"\",\"\",'Broker Sheet'!E217)","v":""},{"$f":"IF('Broker Sheet'!F217=\"\",\"\",'Broker Sheet'!F217)","v":""},{"$f":"IF('Broker Sheet'!G217=\"\",\"\",TEXT('Broker Sheet'!G217,\"YYYYMMDD\"))","v":""},{"$f":"IF('Broker Sheet'!H217=\"\",\"\",'Broker Sheet'!H217)","v":""},{"$f":"IF('Broker Sheet'!I217=\"\",\"\",'Broker Sheet'!I217)","v":""},{"$f":"IF('Broker Sheet'!J217=\"\",\"\",VLOOKUP('Broker Sheet'!J217,(Reference!$E$4:$F$9),2,FALSE))","v":""},{"$f":"IF('Broker Sheet'!K217=\"\",\"\",'Broker Sheet'!K217)","v":""},{"$f":"IF('Broker Sheet'!R217=\"\",\"\",'Broker Sheet'!R217)","v":""},{"$f":"IF('Broker Sheet'!S217=\"\",\"\",'Broker Sheet'!S217)","v":""},{"$f":"IF('Broker Sheet'!T217=\"\",\"\",'Broker Sheet'!T217)","v":""},{"$f":"IF('Broker Sheet'!U217=\"\",\"\",'Broker Sheet'!U217)","v":""},{"$f":"IF('Broker Sheet'!V217=\"\",\"\",'Broker Sheet'!V217)","v":""},{"$f":"IF('Broker Sheet'!W217=\"\",\"\",'Broker Sheet'!W217)","v":""},{"$f":"IF('Broker Sheet'!Y217=\"\",\"\",'Broker Sheet'!Y217)","v":""},{"$f":"IF('Broker Sheet'!AA217=\"\",\"\",'Broker Sheet'!AA217)","v":""},{"$f":"IF('Broker Sheet'!Z217=\"\",\"\",'Broker Sheet'!Z217)","v":""},{"$f":"IF('Broker Sheet'!AB217=\"\",\"\",'Broker Sheet'!AB217)","v":""},null,null,{"$f":"IF('Broker Sheet'!L217=\"\",\"\",TEXT('Broker Sheet'!L217,\"YYYYMMDD\"))","v":""},{"$f":"IF('Broker Sheet'!AC217=\"\",\"\",TEXT('Broker Sheet'!AC217,\"YYYYMMDD\"))","v":""},{"$f":"IF('Broker Sheet'!AD217=\"\",\"\",TEXT('Broker Sheet'!AD217,\"YYYYMMDD\"))","v":""},{"$f":"IF('Broker Sheet'!AE217=\"\",\"\",'Broker Sheet'!AE217)","v":""},{"$f":"IF('Broker Sheet'!AF217=\"\",\"\",TEXT('Broker Sheet'!AF217,\"YYYYMMDD\"))","v":""},{"$f":"IF('Broker Sheet'!AG217=\"\",\"\",TEXT('Broker Sheet'!AG217,\"YYYYMMDD\"))","v":""}]
[null,null,null,null,null,{"$f":"IF('Broker Sheet'!C218=\"\",\"\",'Broker Sheet'!C218)","v":""},{"$f":"IF('Broker Sheet'!D218=\"\",\"\",'Broker Sheet'!D218)","v":""},{"$f":"IF('Broker Sheet'!E218=\"\",\"\",'Broker Sheet'!E218)","v":""},{"$f":"IF('Broker Sheet'!F218=\"\",\"\",'Broker Sheet'!F218)","v":""},{"$f":"IF('Broker Sheet'!G218=\"\",\"\",TEXT('Broker Sheet'!G218,\"YYYYMMDD\"))","v":""},{"$f":"IF('Broker Sheet'!H218=\"\",\"\",'Broker Sheet'!H218)","v":""},{"$f":"IF('Broker Sheet'!I218=\"\",\"\",'Broker Sheet'!I218)","v":""},{"$f":"IF('Broker Sheet'!J218=\"\",\"\",VLOOKUP('Broker Sheet'!J218,(Reference!$E$4:$F$9),2,FALSE))","v":""},{"$f":"IF('Broker Sheet'!K218=\"\",\"\",'Broker Sheet'!K218)","v":""},{"$f":"IF('Broker Sheet'!R218=\"\",\"\",'Broker Sheet'!R218)","v":""},{"$f":"IF('Broker Sheet'!S218=\"\",\"\",'Broker Sheet'!S218)","v":""},{"$f":"IF('Broker Sheet'!T218=\"\",\"\",'Broker Sheet'!T218)","v":""},{"$f":"IF('Broker Sheet'!U218=\"\",\"\",'Broker Sheet'!U218)","v":""},{"$f":"IF('Broker Sheet'!V218=\"\",\"\",'Broker Sheet'!V218)","v":""},{"$f":"IF('Broker Sheet'!W218=\"\",\"\",'Broker Sheet'!W218)","v":""},{"$f":"IF('Broker Sheet'!Y218=\"\",\"\",'Broker Sheet'!Y218)","v":""},{"$f":"IF('Broker Sheet'!AA218=\"\",\"\",'Broker Sheet'!AA218)","v":""},{"$f":"IF('Broker Sheet'!Z218=\"\",\"\",'Broker Sheet'!Z218)","v":""},{"$f":"IF('Broker Sheet'!AB218=\"\",\"\",'Broker Sheet'!AB218)","v":""},null,null,{"$f":"IF('Broker Sheet'!L218=\"\",\"\",TEXT('Broker Sheet'!L218,\"YYYYMMDD\"))","v":""},{"$f":"IF('Broker Sheet'!AC218=\"\",\"\",TEXT('Broker Sheet'!AC218,\"YYYYMMDD\"))","v":""},{"$f":"IF('Broker Sheet'!AD218=\"\",\"\",TEXT('Broker Sheet'!AD218,\"YYYYMMDD\"))","v":""},{"$f":"IF('Broker Sheet'!AE218=\"\",\"\",'Broker Sheet'!AE218)","v":""},{"$f":"IF('Broker Sheet'!AF218=\"\",\"\",TEXT('Broker Sheet'!AF218,\"YYYYMMDD\"))","v":""},{"$f":"IF('Broker Sheet'!AG218=\"\",\"\",TEXT('Broker Sheet'!AG218,\"YYYYMMDD\"))","v":""}]
[null,null,null,null,null,{"$f":"IF('Broker Sheet'!C219=\"\",\"\",'Broker Sheet'!C219)","v":""},{"$f":"IF('Broker Sheet'!D219=\"\",\"\",'Broker Sheet'!D219)","v":""},{"$f":"IF('Broker Sheet'!E219=\"\",\"\",'Broker Sheet'!E219)","v":""},{"$f":"IF('Broker Sheet'!F219=\"\",\"\",'Broker Sheet'!F219)","v":""},{"$f":"IF('Broker Sheet'!G219=\"\",\"\",TEXT('Broker Sheet'!G219,\"YYYYMMDD\"))","v":""},{"$f":"IF('Broker Sheet'!H219=\"\",\"\",'Broker Sheet'!H219)","v":""},{"$f":"IF('Broker Sheet'!I219=\"\",\"\",'Broker Sheet'!I219)","v":""},{"$f":"IF('Broker Sheet'!J219=\"\",\"\",VLOOKUP('Broker Sheet'!J219,(Reference!$E$4:$F$9),2,FALSE))","v":""},{"$f":"IF('Broker Sheet'!K219=\"\",\"\",'Broker Sheet'!K219)","v":""},{"$f":"IF('Broker Sheet'!R219=\"\",\"\",'Broker Sheet'!R219)","v":""},{"$f":"IF('Broker Sheet'!S219=\"\",\"\",'Broker Sheet'!S219)","v":""},{"$f":"IF('Broker Sheet'!T219=\"\",\"\",'Broker Sheet'!T219)","v":""},{"$f":"IF('Broker Sheet'!U219=\"\",\"\",'Broker Sheet'!U219)","v":""},{"$f":"IF('Broker Sheet'!V219=\"\",\"\",'Broker Sheet'!V219)","v":""},{"$f":"IF('Broker Sheet'!W219=\"\",\"\",'Broker Sheet'!W219)","v":""},{"$f":"IF('Broker Sheet'!Y219=\"\",\"\",'Broker Sheet'!Y219)","v":""},{"$f":"IF('Broker Sheet'!AA219=\"\",\"\",'Broker Sheet'!AA219)","v":""},{"$f":"IF('Broker Sheet'!Z219=\"\",\"\",'Broker Sheet'!Z219)","v":""},{"$f":"IF('Broker Sheet'!AB219=\"\",\"\",'Broker Sheet'!AB219)","v":""},null,null,{"$f":"IF('Broker Sheet'!L219=\"\",\"\",TEXT('Broker Sheet'!L219,\"YYYYMMDD\"))","v":""},{"$f":"IF('Broker Sheet'!AC219=\"\",\"\",TEXT('Broker Sheet'!AC219,\"YYYYMMDD\"))","v":""},{"$f":"IF('Broker Sheet'!AD219=\"\",\"\",TEXT('Broker Sheet'!AD219,\"YYYYMMDD\"))","v":""},{"$f":"IF('Broker Sheet'!AE219=\"\",\"\",'Broker Sheet'!AE219)","v":""},{"$f":"IF('Broker Sheet'!AF219=\"\",\"\",TEXT('Broker Sheet'!AF219,\"YYYYMMDD\"))","v":""},{"$f":"IF('Broker Sheet'!AG219=\"\",\"\",TEXT('Broker Sheet'!AG219,\"YYYYMMDD\"))","v":""}]
[null,null,null,null,null,{"$f":"IF('Broker Sheet'!C220=\"\",\"\",'Broker Sheet'!C220)","v":""},{"$f":"IF('Broker Sheet'!D220=\"\",\"\",'Broker Sheet'!D220)","v":""},{"$f":"IF('Broker Sheet'!E220=\"\",\"\",'Broker Sheet'!E220)","v":""},{"$f":"IF('Broker Sheet'!F220=\"\",\"\",'Broker Sheet'!F220)","v":""},{"$f":"IF('Broker Sheet'!G220=\"\",\"\",TEXT('Broker Sheet'!G220,\"YYYYMMDD\"))","v":""},{"$f":"IF('Broker Sheet'!H220=\"\",\"\",'Broker Sheet'!H220)","v":""},{"$f":"IF('Broker Sheet'!I220=\"\",\"\",'Broker Sheet'!I220)","v":""},{"$f":"IF('Broker Sheet'!J220=\"\",\"\",VLOOKUP('Broker Sheet'!J220,(Reference!$E$4:$F$9),2,FALSE))","v":""},{"$f":"IF('Broker Sheet'!K220=\"\",\"\",'Broker Sheet'!K220)","v":""},{"$f":"IF('Broker Sheet'!R220=\"\",\"\",'Broker Sheet'!R220)","v":""},{"$f":"IF('Broker Sheet'!S220=\"\",\"\",'Broker Sheet'!S220)","v":""},{"$f":"IF('Broker Sheet'!T220=\"\",\"\",'Broker Sheet'!T220)","v":""},{"$f":"IF('Broker Sheet'!U220=\"\",\"\",'Broker Sheet'!U220)","v":""},{"$f":"IF('Broker Sheet'!V220=\"\",\"\",'Broker Sheet'!V220)","v":""},{"$f":"IF('Broker Sheet'!W220=\"\",\"\",'Broker Sheet'!W220)","v":""},{"$f":"IF('Broker Sheet'!Y220=\"\",\"\",'Broker Sheet'!Y220)","v":""},{"$f":"IF('Broker Sheet'!AA220=\"\",\"\",'Broker Sheet'!AA220)","v":""},{"$f":"IF('Broker Sheet'!Z220=\"\",\"\",'Broker Sheet'!Z220)","v":""},{"$f":"IF('Broker Sheet'!AB220=\"\",\"\",'Broker Sheet'!AB220)","v":""},null,null,{"$f":"IF('Broker Sheet'!L220=\"\",\"\",TEXT('Broker Sheet'!L220,\"YYYYMMDD\"))","v":""},{"$f":"IF('Broker Sheet'!AC220=\"\",\"\",TEXT('Broker Sheet'!AC220,\"YYYYMMDD\"))","v":""},{"$f":"IF('Broker Sheet'!AD220=\"\",\"\",TEXT('Broker Sheet'!AD220,\"YYYYMMDD\"))","v":""},{"$f":"IF('Broker Sheet'!AE220=\"\",\"\",'Broker Sheet'!AE220)","v":""},{"$f":"IF('Broker Sheet'!AF220=\"\",\"\",TEXT('Broker Sheet'!AF220,\"YYYYMMDD\"))","v":""},{"$f":"IF('Broker Sheet'!AG220=\"\",\"\",TEXT('Broker Sheet'!AG220,\"YYYYMMDD\"))","v":""}]
[null,null,null,null,null,{"$f":"IF('Broker Sheet'!C221=\"\",\"\",'Broker Sheet'!C221)","v":""},{"$f":"IF('Broker Sheet'!D221=\"\",\"\",'Broker Sheet'!D221)","v":""},{"$f":"IF('Broker Sheet'!E221=\"\",\"\",'Broker Sheet'!E221)","v":""},{"$f":"IF('Broker Sheet'!F221=\"\",\"\",'Broker Sheet'!F221)","v":""},{"$f":"IF('Broker Sheet'!G221=\"\",\"\",TEXT('Broker Sheet'!G221,\"YYYYMMDD\"))","v":""},{"$f":"IF('Broker Sheet'!H221=\"\",\"\",'Broker Sheet'!H221)","v":""},{"$f":"IF('Broker Sheet'!I221=\"\",\"\",'Broker Sheet'!I221)","v":""},{"$f":"IF('Broker Sheet'!J221=\"\",\"\",VLOOKUP('Broker Sheet'!J221,(Reference!$E$4:$F$9),2,FALSE))","v":""},{"$f":"IF('Broker Sheet'!K221=\"\",\"\",'Broker Sheet'!K221)","v":""},{"$f":"IF('Broker Sheet'!R221=\"\",\"\",'Broker Sheet'!R221)","v":""},{"$f":"IF('Broker Sheet'!S221=\"\",\"\",'Broker Sheet'!S221)","v":""},{"$f":"IF('Broker Sheet'!T221=\"\",\"\",'Broker Sheet'!T221)","v":""},{"$f":"IF('Broker Sheet'!U221=\"\",\"\",'Broker Sheet'!U221)","v":""},{"$f":"IF('Broker Sheet'!V221=\"\",\"\",'Broker Sheet'!V221)","v":""},{"$f":"IF('Broker Sheet'!W221=\"\",\"\",'Broker Sheet'!W221)","v":""},{"$f":"IF('Broker Sheet'!Y221=\"\",\"\",'Broker Sheet'!Y221)","v":""},{"$f":"IF('Broker Sheet'!AA221=\"\",\"\",'Broker Sheet'!AA221)","v":""},{"$f":"IF('Broker Sheet'!Z221=\"\",\"\",'Broker Sheet'!Z221)","v":""},{"$f":"IF('Broker Sheet'!AB221=\"\",\"\",'Broker Sheet'!AB221)","v":""},null,null,{"$f":"IF('Broker Sheet'!L221=\"\",\"\",TEXT('Broker Sheet'!L221,\"YYYYMMDD\"))","v":""},{"$f":"IF('Broker Sheet'!AC221=\"\",\"\",TEXT('Broker Sheet'!AC221,\"YYYYMMDD\"))","v":""},{"$f":"IF('Broker Sheet'!AD221=\"\",\"\",TEXT('Broker Sheet'!AD221,\"YYYYMMDD\"))","v":""},{"$f":"IF('Broker Sheet'!AE221=\"\",\"\",'Broker Sheet'!AE221)","v":""},{"$f":"IF('Broker Sheet'!AF221=\"\",\"\",TEXT('Broker Sheet'!AF221,\"YYYYMMDD\"))","v":""},{"$f":"IF('Broker Sheet'!AG221=\"\",\"\",TEXT('Broker Sheet'!AG221,\"YYYYMMDD\"))","v":""}]
[null,null,null,null,null,{"$f":"IF('Broker Sheet'!C222=\"\",\"\",'Broker Sheet'!C222)","v":""},{"$f":"IF('Broker Sheet'!D222=\"\",\"\",'Broker Sheet'!D222)","v":""},{"$f":"IF('Broker Sheet'!E222=\"\",\"\",'Broker Sheet'!E222)","v":""},{"$f":"IF('Broker Sheet'!F222=\"\",\"\",'Broker Sheet'!F222)","v":""},{"$f":"IF('Broker Sheet'!G222=\"\",\"\",TEXT('Broker Sheet'!G222,\"YYYYMMDD\"))","v":""},{"$f":"IF('Broker Sheet'!H222=\"\",\"\",'Broker Sheet'!H222)","v":""},{"$f":"IF('Broker Sheet'!I222=\"\",\"\",'Broker Sheet'!I222)","v":""},{"$f":"IF('Broker Sheet'!J222=\"\",\"\",VLOOKUP('Broker Sheet'!J222,(Reference!$E$4:$F$9),2,FALSE))","v":""},{"$f":"IF('Broker Sheet'!K222=\"\",\"\",'Broker Sheet'!K222)","v":""},{"$f":"IF('Broker Sheet'!R222=\"\",\"\",'Broker Sheet'!R222)","v":""},{"$f":"IF('Broker Sheet'!S222=\"\",\"\",'Broker Sheet'!S222)","v":""},{"$f":"IF('Broker Sheet'!T222=\"\",\"\",'Broker Sheet'!T222)","v":""},{"$f":"IF('Broker Sheet'!U222=\"\",\"\",'Broker Sheet'!U222)","v":""},{"$f":"IF('Broker Sheet'!V222=\"\",\"\",'Broker Sheet'!V222)","v":""},{"$f":"IF('Broker Sheet'!W222=\"\",\"\",'Broker Sheet'!W222)","v":""},{"$f":"IF('Broker Sheet'!Y222=\"\",\"\",'Broker Sheet'!Y222)","v":""},{"$f":"IF('Broker Sheet'!AA222=\"\",\"\",'Broker Sheet'!AA222)","v":""},{"$f":"IF('Broker Sheet'!Z222=\"\",\"\",'Broker Sheet'!Z222)","v":""},{"$f":"IF('Broker Sheet'!AB222=\"\",\"\",'Broker Sheet'!AB222)","v":""},null,null,{"$f":"IF('Broker Sheet'!L222=\"\",\"\",TEXT('Broker Sheet'!L222,\"YYYYMMDD\"))","v":""},{"$f":"IF('Broker Sheet'!AC222=\"\",\"\",TEXT('Broker Sheet'!AC222,\"YYYYMMDD\"))","v":""},{"$f":"IF('Broker Sheet'!AD222=\"\",\"\",TEXT('Broker Sheet'!AD222,\"YYYYMMDD\"))","v":""},{"$f":"IF('Broker Sheet'!AE222=\"\",\"\",'Broker Sheet'!AE222)","v":""},{"$f":"IF('Broker Sheet'!AF222=\"\",\"\",TEXT('Broker Sheet'!AF222,\"YYYYMMDD\"))","v":""},{"$f":"IF('Broker Sheet'!AG222=\"\",\"\",TEXT('Broker Sheet'!AG222,\"YYYYMMDD\"))","v":""}]
[null,null,null,null,null,{"$f":"IF('Broker Sheet'!C223=\"\",\"\",'Broker Sheet'!C223)","v":""},{"$f":"IF('Broker Sheet'!D223=\"\",\"\",'Broker Sheet'!D223)","v":""},{"$f":"IF('Broker Sheet'!E223=\"\",\"\",'Broker Sheet'!E223)","v":""},{"$f":"IF('Broker Sheet'!F223=\"\",\"\",'Broker Sheet'!F223)","v":""},{"$f":"IF('Broker Sheet'!G223=\"\",\"\",TEXT('Broker Sheet'!G223,\"YYYYMMDD\"))","v":""},{"$f":"IF('Broker Sheet'!H223=\"\",\"\",'Broker Sheet'!H223)","v":""},{"$f":"IF('Broker Sheet'!I223=\"\",\"\",'Broker Sheet'!I223)","v":""},{"$f":"IF('Broker Sheet'!J223=\"\",\"\",VLOOKUP('Broker Sheet'!J223,(Reference!$E$4:$F$9),2,FALSE))","v":""},{"$f":"IF('Broker Sheet'!K223=\"\",\"\",'Broker Sheet'!K223)","v":""},{"$f":"IF('Broker Sheet'!R223=\"\",\"\",'Broker Sheet'!R223)","v":""},{"$f":"IF('Broker Sheet'!S223=\"\",\"\",'Broker Sheet'!S223)","v":""},{"$f":"IF('Broker Sheet'!T223=\"\",\"\",'Broker Sheet'!T223)","v":""},{"$f":"IF('Broker Sheet'!U223=\"\",\"\",'Broker Sheet'!U223)","v":""},{"$f":"IF('Broker Sheet'!V223=\"\",\"\",'Broker Sheet'!V223)","v":""},{"$f":"IF('Broker Sheet'!W223=\"\",\"\",'Broker Sheet'!W223)","v":""},{"$f":"IF('Broker Sheet'!Y223=\"\",\"\",'Broker Sheet'!Y223)","v":""},{"$f":"IF('Broker Sheet'!AA223=\"\",\"\",'Broker Sheet'!AA223)","v":""},{"$f":"IF('Broker Sheet'!Z223=\"\",\"\",'Broker Sheet'!Z223)","v":""},{"$f":"IF('Broker Sheet'!AB223=\"\",\"\",'Broker Sheet'!AB223)","v":""},null,null,{"$f":"IF('Broker Sheet'!L223=\"\",\"\",TEXT('Broker Sheet'!L223,\"YYYYMMDD\"))","v":""},{"$f":"IF('Broker Sheet'!AC223=\"\",\"\",TEXT('Broker Sheet'!AC223,\"YYYYMMDD\"))","v":""},{"$f":"IF('Broker Sheet'!AD223=\"\",\"\",TEXT('Broker Sheet'!AD223,\"YYYYMMDD\"))","v":""},{"$f":"IF('Broker Sheet'!AE223=\"\",\"\",'Broker Sheet'!AE223)","v":""},{"$f":"IF('Broker Sheet'!AF223=\"\",\"\",TEXT('Broker Sheet'!AF223,\"YYYYMMDD\"))","v":""},{"$f":"IF('Broker Sheet'!AG223=\"\",\"\",TEXT('Broker Sheet'!AG223,\"YYYYMMDD\"))","v":""}]
[null,null,null,null,null,{"$f":"IF('Broker Sheet'!C224=\"\",\"\",'Broker Sheet'!C224)","v":""},{"$f":"IF('Broker Sheet'!D224=\"\",\"\",'Broker Sheet'!D224)","v":""},{"$f":"IF('Broker Sheet'!E224=\"\",\"\",'Broker Sheet'!E224)","v":""},{"$f":"IF('Broker Sheet'!F224=\"\",\"\",'Broker Sheet'!F224)","v":""},{"$f":"IF('Broker Sheet'!G224=\"\",\"\",TEXT('Broker Sheet'!G224,\"YYYYMMDD\"))","v":""},{"$f":"IF('Broker Sheet'!H224=\"\",\"\",'Broker Sheet'!H224)","v":""},{"$f":"IF('Broker Sheet'!I224=\"\",\"\",'Broker Sheet'!I224)","v":""},{"$f":"IF('Broker Sheet'!J224=\"\",\"\",VLOOKUP('Broker Sheet'!J224,(Reference!$E$4:$F$9),2,FALSE))","v":""},{"$f":"IF('Broker Sheet'!K224=\"\",\"\",'Broker Sheet'!K224)","v":""},{"$f":"IF('Broker Sheet'!R224=\"\",\"\",'Broker Sheet'!R224)","v":""},{"$f":"IF('Broker Sheet'!S224=\"\",\"\",'Broker Sheet'!S224)","v":""},{"$f":"IF('Broker Sheet'!T224=\"\",\"\",'Broker Sheet'!T224)","v":""},{"$f":"IF('Broker Sheet'!U224=\"\",\"\",'Broker Sheet'!U224)","v":""},{"$f":"IF('Broker Sheet'!V224=\"\",\"\",'Broker Sheet'!V224)","v":""},{"$f":"IF('Broker Sheet'!W224=\"\",\"\",'Broker Sheet'!W224)","v":""},{"$f":"IF('Broker Sheet'!Y224=\"\",\"\",'Broker Sheet'!Y224)","v":""},{"$f":"IF('Broker Sheet'!AA224=\"\",\"\",'Broker Sheet'!AA224)","v":""},{"$f":"IF('Broker Sheet'!Z224=\"\",\"\",'Broker Sheet'!Z224)","v":""},{"$f":"IF('Broker Sheet'!AB224=\"\",\"\",'Broker Sheet'!AB224)","v":""},null,null,{"$f":"IF('Broker Sheet'!L224=\"\",\"\",TEXT('Broker Sheet'!L224,\"YYYYMMDD\"))","v":""},{"$f":"IF('Broker Sheet'!AC224=\"\",\"\",TEXT('Broker Sheet'!AC224,\"YYYYMMDD\"))","v":""},{"$f":"IF('Broker Sheet'!AD224=\"\",\"\",TEXT('Broker Sheet'!AD224,\"YYYYMMDD\"))","v":""},{"$f":"IF('Broker Sheet'!AE224=\"\",\"\",'Broker Sheet'!AE224)","v":""},{"$f":"IF('Broker Sheet'!AF224=\"\",\"\",TEXT('Broker Sheet'!AF224,\"YYYYMMDD\"))","v":""},{"$f":"IF('Broker Sheet'!AG224=\"\",\"\",TEXT('Broker Sheet'!AG224,\"YYYYMMDD\"))","v":""}]
[null,null,null,null,null,{"$f":"IF('Broker Sheet'!C225=\"\",\"\",'Broker Sheet'!C225)","v":""},{"$f":"IF('Broker Sheet'!D225=\"\",\"\",'Broker Sheet'!D225)","v":""},{"$f":"IF('Broker Sheet'!E225=\"\",\"\",'Broker Sheet'!E225)","v":""},{"$f":"IF('Broker Sheet'!F225=\"\",\"\",'Broker Sheet'!F225)","v":""},{"$f":"IF('Broker Sheet'!G225=\"\",\"\",TEXT('Broker Sheet'!G225,\"YYYYMMDD\"))","v":""},{"$f":"IF('Broker Sheet'!H225=\"\",\"\",'Broker Sheet'!H225)","v":""},{"$f":"IF('Broker Sheet'!I225=\"\",\"\",'Broker Sheet'!I225)","v":""},{"$f":"IF('Broker Sheet'!J225=\"\",\"\",VLOOKUP('Broker Sheet'!J225,(Reference!$E$4:$F$9),2,FALSE))","v":""},{"$f":"IF('Broker Sheet'!K225=\"\",\"\",'Broker Sheet'!K225)","v":""},{"$f":"IF('Broker Sheet'!R225=\"\",\"\",'Broker Sheet'!R225)","v":""},{"$f":"IF('Broker Sheet'!S225=\"\",\"\",'Broker Sheet'!S225)","v":""},{"$f":"IF('Broker Sheet'!T225=\"\",\"\",'Broker Sheet'!T225)","v":""},{"$f":"IF('Broker Sheet'!U225=\"\",\"\",'Broker Sheet'!U225)","v":""},{"$f":"IF('Broker Sheet'!V225=\"\",\"\",'Broker Sheet'!V225)","v":""},{"$f":"IF('Broker Sheet'!W225=\"\",\"\",'Broker Sheet'!W225)","v":""},{"$f":"IF('Broker Sheet'!Y225=\"\",\"\",'Broker Sheet'!Y225)","v":""},{"$f":"IF('Broker Sheet'!AA225=\"\",\"\",'Broker Sheet'!AA225)","v":""},{"$f":"IF('Broker Sheet'!Z225=\"\",\"\",'Broker Sheet'!Z225)","v":""},{"$f":"IF('Broker Sheet'!AB225=\"\",\"\",'Broker Sheet'!AB225)","v":""},null,null,{"$f":"IF('Broker Sheet'!L225=\"\",\"\",TEXT('Broker Sheet'!L225,\"YYYYMMDD\"))","v":""},{"$f":"IF('Broker Sheet'!AC225=\"\",\"\",TEXT('Broker Sheet'!AC225,\"YYYYMMDD\"))","v":""},{"$f":"IF('Broker Sheet'!AD225=\"\",\"\",TEXT('Broker Sheet'!AD225,\"YYYYMMDD\"))","v":""},{"$f":"IF('Broker Sheet'!AE225=\"\",\"\",'Broker Sheet'!AE225)","v":""},{"$f":"IF('Broker Sheet'!AF225=\"\",\"\",TEXT('Broker Sheet'!AF225,\"YYYYMMDD\"))","v":""},{"$f":"IF('Broker Sheet'!AG225=\"\",\"\",TEXT('Broker Sheet'!AG225,\"YYYYMMDD\"))","v":""}]
[null,null,null,null,null,{"$f":"IF('Broker Sheet'!C226=\"\",\"\",'Broker Sheet'!C226)","v":""},{"$f":"IF('Broker Sheet'!D226=\"\",\"\",'Broker Sheet'!D226)","v":""},{"$f":"IF('Broker Sheet'!E226=\"\",\"\",'Broker Sheet'!E226)","v":""},{"$f":"IF('Broker Sheet'!F226=\"\",\"\",'Broker Sheet'!F226)","v":""},{"$f":"IF('Broker Sheet'!G226=\"\",\"\",TEXT('Broker Sheet'!G226,\"YYYYMMDD\"))","v":""},{"$f":"IF('Broker Sheet'!H226=\"\",\"\",'Broker Sheet'!H226)","v":""},{"$f":"IF('Broker Sheet'!I226=\"\",\"\",'Broker Sheet'!I226)","v":""},{"$f":"IF('Broker Sheet'!J226=\"\",\"\",VLOOKUP('Broker Sheet'!J226,(Reference!$E$4:$F$9),2,FALSE))","v":""},{"$f":"IF('Broker Sheet'!K226=\"\",\"\",'Broker Sheet'!K226)","v":""},{"$f":"IF('Broker Sheet'!R226=\"\",\"\",'Broker Sheet'!R226)","v":""},{"$f":"IF('Broker Sheet'!S226=\"\",\"\",'Broker Sheet'!S226)","v":""},{"$f":"IF('Broker Sheet'!T226=\"\",\"\",'Broker Sheet'!T226)","v":""},{"$f":"IF('Broker Sheet'!U226=\"\",\"\",'Broker Sheet'!U226)","v":""},{"$f":"IF('Broker Sheet'!V226=\"\",\"\",'Broker Sheet'!V226)","v":""},{"$f":"IF('Broker Sheet'!W226=\"\",\"\",'Broker Sheet'!W226)","v":""},{"$f":"IF('Broker Sheet'!Y226=\"\",\"\",'Broker Sheet'!Y226)","v":""},{"$f":"IF('Broker Sheet'!AA226=\"\",\"\",'Broker Sheet'!AA226)","v":""},{"$f":"IF('Broker Sheet'!Z226=\"\",\"\",'Broker Sheet'!Z226)","v":""},{"$f":"IF('Broker Sheet'!AB226=\"\",\"\",'Broker Sheet'!AB226)","v":""},null,null,{"$f":"IF('Broker Sheet'!L226=\"\",\"\",TEXT('Broker Sheet'!L226,\"YYYYMMDD\"))","v":""},{"$f":"IF('Broker Sheet'!AC226=\"\",\"\",TEXT('Broker Sheet'!AC226,\"YYYYMMDD\"))","v":""},{"$f":"IF('Broker Sheet'!AD226=\"\",\"\",TEXT('Broker Sheet'!AD226,\"YYYYMMDD\"))","v":""},{"$f":"IF('Broker Sheet'!AE226=\"\",\"\",'Broker Sheet'!AE226)","v":""},{"$f":"IF('Broker Sheet'!AF226=\"\",\"\",TEXT('Broker Sheet'!AF226,\"YYYYMMDD\"))","v":""},{"$f":"IF('Broker Sheet'!AG226=\"\",\"\",TEXT('Broker Sheet'!AG226,\"YYYYMMDD\"))","v":""}]
[null,null,null,null,null,{"$f":"IF('Broker Sheet'!C227=\"\",\"\",'Broker Sheet'!C227)","v":""},{"$f":"IF('Broker Sheet'!D227=\"\",\"\",'Broker Sheet'!D227)","v":""},{"$f":"IF('Broker Sheet'!E227=\"\",\"\",'Broker Sheet'!E227)","v":""},{"$f":"IF('Broker Sheet'!F227=\"\",\"\",'Broker Sheet'!F227)","v":""},{"$f":"IF('Broker Sheet'!G227=\"\",\"\",TEXT('Broker Sheet'!G227,\"YYYYMMDD\"))","v":""},{"$f":"IF('Broker Sheet'!H227=\"\",\"\",'Broker Sheet'!H227)","v":""},{"$f":"IF('Broker Sheet'!I227=\"\",\"\",'Broker Sheet'!I227)","v":""},{"$f":"IF('Broker Sheet'!J227=\"\",\"\",VLOOKUP('Broker Sheet'!J227,(Reference!$E$4:$F$9),2,FALSE))","v":""},{"$f":"IF('Broker Sheet'!K227=\"\",\"\",'Broker Sheet'!K227)","v":""},{"$f":"IF('Broker Sheet'!R227=\"\",\"\",'Broker Sheet'!R227)","v":""},{"$f":"IF('Broker Sheet'!S227=\"\",\"\",'Broker Sheet'!S227)","v":""},{"$f":"IF('Broker Sheet'!T227=\"\",\"\",'Broker Sheet'!T227)","v":""},{"$f":"IF('Broker Sheet'!U227=\"\",\"\",'Broker Sheet'!U227)","v":""},{"$f":"IF('Broker Sheet'!V227=\"\",\"\",'Broker Sheet'!V227)","v":""},{"$f":"IF('Broker Sheet'!W227=\"\",\"\",'Broker Sheet'!W227)","v":""},{"$f":"IF('Broker Sheet'!Y227=\"\",\"\",'Broker Sheet'!Y227)","v":""},{"$f":"IF('Broker Sheet'!AA227=\"\",\"\",'Broker Sheet'!AA227)","v":""},{"$f":"IF('Broker Sheet'!Z227=\"\",\"\",'Broker Sheet'!Z227)","v":""},{"$f":"IF('Broker Sheet'!AB227=\"\",\"\",'Broker Sheet'!AB227)","v":""},null,null,{"$f":"IF('Broker Sheet'!L227=\"\",\"\",TEXT('Broker Sheet'!L227,\"YYYYMMDD\"))","v":""},{"$f":"IF('Broker Sheet'!AC227=\"\",\"\",TEXT('Broker Sheet'!AC227,\"YYYYMMDD\"))","v":""},{"$f":"IF('Broker Sheet'!AD227=\"\",\"\",TEXT('Broker Sheet'!AD227,\"YYYYMMDD\"))","v":""},{"$f":"IF('Broker Sheet'!AE227=\"\",\"\",'Broker Sheet'!AE227)","v":""},{"$f":"IF('Broker Sheet'!AF227=\"\",\"\",TEXT('Broker Sheet'!AF227,\"YYYYMMDD\"))","v":""},{"$f":"IF('Broker Sheet'!AG227=\"\",\"\",TEXT('Broker Sheet'!AG227,\"YYYYMMDD\"))","v":""}]
[null,null,null,null,null,{"$f":"IF('Broker Sheet'!C228=\"\",\"\",'Broker Sheet'!C228)","v":""},{"$f":"IF('Broker Sheet'!D228=\"\",\"\",'Broker Sheet'!D228)","v":""},{"$f":"IF('Broker Sheet'!E228=\"\",\"\",'Broker Sheet'!E228)","v":""},{"$f":"IF('Broker Sheet'!F228=\"\",\"\",'Broker Sheet'!F228)","v":""},{"$f":"IF('Broker Sheet'!G228=\"\",\"\",TEXT('Broker Sheet'!G228,\"YYYYMMDD\"))","v":""},{"$f":"IF('Broker Sheet'!H228=\"\",\"\",'Broker Sheet'!H228)","v":""},{"$f":"IF('Broker Sheet'!I228=\"\",\"\",'Broker Sheet'!I228)","v":""},{"$f":"IF('Broker Sheet'!J228=\"\",\"\",VLOOKUP('Broker Sheet'!J228,(Reference!$E$4:$F$9),2,FALSE))","v":""},{"$f":"IF('Broker Sheet'!K228=\"\",\"\",'Broker Sheet'!K228)","v":""},{"$f":"IF('Broker Sheet'!R228=\"\",\"\",'Broker Sheet'!R228)","v":""},{"$f":"IF('Broker Sheet'!S228=\"\",\"\",'Broker Sheet'!S228)","v":""},{"$f":"IF('Broker Sheet'!T228=\"\",\"\",'Broker Sheet'!T228)","v":""},{"$f":"IF('Broker Sheet'!U228=\"\",\"\",'Broker Sheet'!U228)","v":""},{"$f":"IF('Broker Sheet'!V228=\"\",\"\",'Broker Sheet'!V228)","v":""},{"$f":"IF('Broker Sheet'!W228=\"\",\"\",'Broker Sheet'!W228)","v":""},{"$f":"IF('Broker Sheet'!Y228=\"\",\"\",'Broker Sheet'!Y228)","v":""},{"$f":"IF('Broker Sheet'!AA228=\"\",\"\",'Broker Sheet'!AA228)","v":""},{"$f":"IF('Broker Sheet'!Z228=\"\",\"\",'Broker Sheet'!Z228)","v":""},{"$f":"IF('Broker Sheet'!AB228=\"\",\"\",'Broker Sheet'!AB228)","v":""},null,null,{"$f":"IF('Broker Sheet'!L228=\"\",\"\",TEXT('Broker Sheet'!L228,\"YYYYMMDD\"))","v":""},{"$f":"IF('Broker Sheet'!AC228=\"\",\"\",TEXT('Broker Sheet'!AC228,\"YYYYMMDD\"))","v":""},{"$f":"IF('Broker Sheet'!AD228=\"\",\"\",TEXT('Broker Sheet'!AD228,\"YYYYMMDD\"))","v":""},{"$f":"IF('Broker Sheet'!AE228=\"\",\"\",'Broker Sheet'!AE228)","v":""},{"$f":"IF('Broker Sheet'!AF228=\"\",\"\",TEXT('Broker Sheet'!AF228,\"YYYYMMDD\"))","v":""},{"$f":"IF('Broker Sheet'!AG228=\"\",\"\",TEXT('Broker Sheet'!AG228,\"YYYYMMDD\"))","v":""}]
[null,null,null,null,null,{"$f":"IF('Broker Sheet'!C229=\"\",\"\",'Broker Sheet'!C229)","v":""},{"$f":"IF('Broker Sheet'!D229=\"\",\"\",'Broker Sheet'!D229)","v":""},{"$f":"IF('Broker Sheet'!E229=\"\",\"\",'Broker Sheet'!E229)","v":""},{"$f":"IF('Broker Sheet'!F229=\"\",\"\",'Broker Sheet'!F229)","v":""},{"$f":"IF('Broker Sheet'!G229=\"\",\"\",TEXT('Broker Sheet'!G229,\"YYYYMMDD\"))","v":""},{"$f":"IF('Broker Sheet'!H229=\"\",\"\",'Broker Sheet'!H229)","v":""},{"$f":"IF('Broker Sheet'!I229=\"\",\"\",'Broker Sheet'!I229)","v":""},{"$f":"IF('Broker Sheet'!J229=\"\",\"\",VLOOKUP('Broker Sheet'!J229,(Reference!$E$4:$F$9),2,FALSE))","v":""},{"$f":"IF('Broker Sheet'!K229=\"\",\"\",'Broker Sheet'!K229)","v":""},{"$f":"IF('Broker Sheet'!R229=\"\",\"\",'Broker Sheet'!R229)","v":""},{"$f":"IF('Broker Sheet'!S229=\"\",\"\",'Broker Sheet'!S229)","v":""},{"$f":"IF('Broker Sheet'!T229=\"\",\"\",'Broker Sheet'!T229)","v":""},{"$f":"IF('Broker Sheet'!U229=\"\",\"\",'Broker Sheet'!U229)","v":""},{"$f":"IF('Broker Sheet'!V229=\"\",\"\",'Broker Sheet'!V229)","v":""},{"$f":"IF('Broker Sheet'!W229=\"\",\"\",'Broker Sheet'!W229)","v":""},{"$f":"IF('Broker Sheet'!Y229=\"\",\"\",'Broker Sheet'!Y229)","v":""},{"$f":"IF('Broker Sheet'!AA229=\"\",\"\",'Broker Sheet'!AA229)","v":""},{"$f":"IF('Broker Sheet'!Z229=\"\",\"\",'Broker Sheet'!Z229)","v":""},{"$f":"IF('Broker Sheet'!AB229=\"\",\"\",'Broker Sheet'!AB229)","v":""},null,null,{"$f":"IF('Broker Sheet'!L229=\"\",\"\",TEXT('Broker Sheet'!L229,\"YYYYMMDD\"))","v":""},{"$f":"IF('Broker Sheet'!AC229=\"\",\"\",TEXT('Broker Sheet'!AC229,\"YYYYMMDD\"))","v":""},{"$f":"IF('Broker Sheet'!AD229=\"\",\"\",TEXT('Broker Sheet'!AD229,\"YYYYMMDD\"))","v":""},{"$f":"IF('Broker Sheet'!AE229=\"\",\"\",'Broker Sheet'!AE229)","v":""},{"$f":"IF('Broker Sheet'!AF229=\"\",\"\",TEXT('Broker Sheet'!AF229,\"YYYYMMDD\"))","v":""},{"$f":"IF('Broker Sheet'!AG229=\"\",\"\",TEXT('Broker Sheet'!AG229,\"YYYYMMDD\"))","v":""}]
[null,null,null,null,null,{"$f":"IF('Broker Sheet'!C230=\"\",\"\",'Broker Sheet'!C230)","v":""},{"$f":"IF('Broker Sheet'!D230=\"\",\"\",'Broker Sheet'!D230)","v":""},{"$f":"IF('Broker Sheet'!E230=\"\",\"\",'Broker Sheet'!E230)","v":""},{"$f":"IF('Broker Sheet'!F230=\"\",\"\",'Broker Sheet'!F230)","v":""},{"$f":"IF('Broker Sheet'!G230=\"\",\"\",TEXT('Broker Sheet'!G230,\"YYYYMMDD\"))","v":""},{"$f":"IF('Broker Sheet'!H230=\"\",\"\",'Broker Sheet'!H230)","v":""},{"$f":"IF('Broker Sheet'!I230=\"\",\"\",'Broker Sheet'!I230)","v":""},{"$f":"IF('Broker Sheet'!J230=\"\",\"\",VLOOKUP('Broker Sheet'!J230,(Reference!$E$4:$F$9),2,FALSE))","v":""},{"$f":"IF('Broker Sheet'!K230=\"\",\"\",'Broker Sheet'!K230)","v":""},{"$f":"IF('Broker Sheet'!R230=\"\",\"\",'Broker Sheet'!R230)","v":""},{"$f":"IF('Broker Sheet'!S230=\"\",\"\",'Broker Sheet'!S230)","v":""},{"$f":"IF('Broker Sheet'!T230=\"\",\"\",'Broker Sheet'!T230)","v":""},{"$f":"IF('Broker Sheet'!U230=\"\",\"\",'Broker Sheet'!U230)","v":""},{"$f":"IF('Broker Sheet'!V230=\"\",\"\",'Broker Sheet'!V230)","v":""},{"$f":"IF('Broker Sheet'!W230=\"\",\"\",'Broker Sheet'!W230)","v":""},{"$f":"IF('Broker Sheet'!Y230=\"\",\"\",'Broker Sheet'!Y230)","v":""},{"$f":"IF('Broker Sheet'!AA230=\"\",\"\",'Broker Sheet'!AA230)","v":""},{"$f":"IF('Broker Sheet'!Z230=\"\",\"\",'Broker Sheet'!Z230)","v":""},{"$f":"IF('Broker Sheet'!AB230=\"\",\"\",'Broker Sheet'!AB230)","v":""},null,null,{"$f":"IF('Broker Sheet'!L230=\"\",\"\",TEXT('Broker Sheet'!L230,\"YYYYMMDD\"))","v":""},{"$f":"IF('Broker Sheet'!AC230=\"\",\"\",TEXT('Broker Sheet'!AC230,\"YYYYMMDD\"))","v":""},{"$f":"IF('Broker Sheet'!AD230=\"\",\"\",TEXT('Broker Sheet'!AD230,\"YYYYMMDD\"))","v":""},{"$f":"IF('Broker Sheet'!AE230=\"\",\"\",'Broker Sheet'!AE230)","v":""},{"$f":"IF('Broker Sheet'!AF230=\"\",\"\",TEXT('Broker Sheet'!AF230,\"YYYYMMDD\"))","v":""},{"$f":"IF('Broker Sheet'!AG230=\"\",\"\",TEXT('Broker Sheet'!AG230,\"YYYYMMDD\"))","v":""}]
[null,null,null,null,null,{"$f":"IF('Broker Sheet'!C231=\"\",\"\",'Broker Sheet'!C231)","v":""},{"$f":"IF('Broker Sheet'!D231=\"\",\"\",'Broker Sheet'!D231)","v":""},{"$f":"IF('Broker Sheet'!E231=\"\",\"\",'Broker Sheet'!E231)","v":""},{"$f":"IF('Broker Sheet'!F231=\"\",\"\",'Broker Sheet'!F231)","v":""},{"$f":"IF('Broker Sheet'!G231=\"\",\"\",TEXT('Broker Sheet'!G231,\"YYYYMMDD\"))","v":""},{"$f":"IF('Broker Sheet'!H231=\"\",\"\",'Broker Sheet'!H231)","v":""},{"$f":"IF('Broker Sheet'!I231=\"\",\"\",'Broker Sheet'!I231)","v":""},{"$f":"IF('Broker Sheet'!J231=\"\",\"\",VLOOKUP('Broker Sheet'!J231,(Reference!$E$4:$F$9),2,FALSE))","v":""},{"$f":"IF('Broker Sheet'!K231=\"\",\"\",'Broker Sheet'!K231)","v":""},{"$f":"IF('Broker Sheet'!R231=\"\",\"\",'Broker Sheet'!R231)","v":""},{"$f":"IF('Broker Sheet'!S231=\"\",\"\",'Broker Sheet'!S231)","v":""},{"$f":"IF('Broker Sheet'!T231=\"\",\"\",'Broker Sheet'!T231)","v":""},{"$f":"IF('Broker Sheet'!U231=\"\",\"\",'Broker Sheet'!U231)","v":""},{"$f":"IF('Broker Sheet'!V231=\"\",\"\",'Broker Sheet'!V231)","v":""},{"$f":"IF('Broker Sheet'!W231=\"\",\"\",'Broker Sheet'!W231)","v":""},{"$f":"IF('Broker Sheet'!Y231=\"\",\"\",'Broker Sheet'!Y231)","v":""},{"$f":"IF('Broker Sheet'!AA231=\"\",\"\",'Broker Sheet'!AA231)","v":""},{"$f":"IF('Broker Sheet'!Z231=\"\",\"\",'Broker Sheet'!Z231)","v":""},{"$f":"IF('Broker Sheet'!AB231=\"\",\"\",'Broker Sheet'!AB231)","v":""},null,null,{"$f":"IF('Broker Sheet'!L231=\"\",\"\",TEXT('Broker Sheet'!L231,\"YYYYMMDD\"))","v":""},{"$f":"IF('Broker Sheet'!AC231=\"\",\"\",TEXT('Broker Sheet'!AC231,\"YYYYMMDD\"))","v":""},{"$f":"IF('Broker Sheet'!AD231=\"\",\"\",TEXT('Broker Sheet'!AD231,\"YYYYMMDD\"))","v":""},{"$f":"IF('Broker Sheet'!AE231=\"\",\"\",'Broker Sheet'!AE231)","v":""},{"$f":"IF('Broker Sheet'!AF231=\"\",\"\",TEXT('Broker Sheet'!AF231,\"YYYYMMDD\"))","v":""},{"$f":"IF('Broker Sheet'!AG231=\"\",\"\",TEXT('Broker Sheet'!AG231,\"YYYYMMDD\"))","v":""}]
[null,null,null,null,null,{"$f":"IF('Broker Sheet'!C232=\"\",\"\",'Broker Sheet'!C232)","v":""},{"$f":"IF('Broker Sheet'!D232=\"\",\"\",'Broker Sheet'!D232)","v":""},{"$f":"IF('Broker Sheet'!E232=\"\",\"\",'Broker Sheet'!E232)","v":""},{"$f":"IF('Broker Sheet'!F232=\"\",\"\",'Broker Sheet'!F232)","v":""},{"$f":"IF('Broker Sheet'!G232=\"\",\"\",TEXT('Broker Sheet'!G232,\"YYYYMMDD\"))","v":""},{"$f":"IF('Broker Sheet'!H232=\"\",\"\",'Broker Sheet'!H232)","v":""},{"$f":"IF('Broker Sheet'!I232=\"\",\"\",'Broker Sheet'!I232)","v":""},{"$f":"IF('Broker Sheet'!J232=\"\",\"\",VLOOKUP('Broker Sheet'!J232,(Reference!$E$4:$F$9),2,FALSE))","v":""},{"$f":"IF('Broker Sheet'!K232=\"\",\"\",'Broker Sheet'!K232)","v":""},{"$f":"IF('Broker Sheet'!R232=\"\",\"\",'Broker Sheet'!R232)","v":""},{"$f":"IF('Broker Sheet'!S232=\"\",\"\",'Broker Sheet'!S232)","v":""},{"$f":"IF('Broker Sheet'!T232=\"\",\"\",'Broker Sheet'!T232)","v":""},{"$f":"IF('Broker Sheet'!U232=\"\",\"\",'Broker Sheet'!U232)","v":""},{"$f":"IF('Broker Sheet'!V232=\"\",\"\",'Broker Sheet'!V232)","v":""},{"$f":"IF('Broker Sheet'!W232=\"\",\"\",'Broker Sheet'!W232)","v":""},{"$f":"IF('Broker Sheet'!Y232=\"\",\"\",'Broker Sheet'!Y232)","v":""},{"$f":"IF('Broker Sheet'!AA232=\"\",\"\",'Broker Sheet'!AA232)","v":""},{"$f":"IF('Broker Sheet'!Z232=\"\",\"\",'Broker Sheet'!Z232)","v":""},{"$f":"IF('Broker Sheet'!AB232=\"\",\"\",'Broker Sheet'!AB232)","v":""},null,null,{"$f":"IF('Broker Sheet'!L232=\"\",\"\",TEXT('Broker Sheet'!L232,\"YYYYMMDD\"))","v":""},{"$f":"IF('Broker Sheet'!AC232=\"\",\"\",TEXT('Broker Sheet'!AC232,\"YYYYMMDD\"))","v":""},{"$f":"IF('Broker Sheet'!AD232=\"\",\"\",TEXT('Broker Sheet'!AD232,\"YYYYMMDD\"))","v":""},{"$f":"IF('Broker Sheet'!AE232=\"\",\"\",'Broker Sheet'!AE232)","v":""},{"$f":"IF('Broker Sheet'!AF232=\"\",\"\",TEXT('Broker Sheet'!AF232,\"YYYYMMDD\"))","v":""},{"$f":"IF('Broker Sheet'!AG232=\"\",\"\",TEXT('Broker Sheet'!AG232,\"YYYYMMDD\"))","v":""}]
[null,null,null,null,null,{"$f":"IF('Broker Sheet'!C233=\"\",\"\",'Broker Sheet'!C233)","v":""},{"$f":"IF('Broker Sheet'!D233=\"\",\"\",'Broker Sheet'!D233)","v":""},{"$f":"IF('Broker Sheet'!E233=\"\",\"\",'Broker Sheet'!E233)","v":""},{"$f":"IF('Broker Sheet'!F233=\"\",\"\",'Broker Sheet'!F233)","v":""},{"$f":"IF('Broker Sheet'!G233=\"\",\"\",TEXT('Broker Sheet'!G233,\"YYYYMMDD\"))","v":""},{"$f":"IF('Broker Sheet'!H233=\"\",\"\",'Broker Sheet'!H233)","v":""},{"$f":"IF('Broker Sheet'!I233=\"\",\"\",'Broker Sheet'!I233)","v":""},{"$f":"IF('Broker Sheet'!J233=\"\",\"\",VLOOKUP('Broker Sheet'!J233,(Reference!$E$4:$F$9),2,FALSE))","v":""},{"$f":"IF('Broker Sheet'!K233=\"\",\"\",'Broker Sheet'!K233)","v":""},{"$f":"IF('Broker Sheet'!R233=\"\",\"\",'Broker Sheet'!R233)","v":""},{"$f":"IF('Broker Sheet'!S233=\"\",\"\",'Broker Sheet'!S233)","v":""},{"$f":"IF('Broker Sheet'!T233=\"\",\"\",'Broker Sheet'!T233)","v":""},{"$f":"IF('Broker Sheet'!U233=\"\",\"\",'Broker Sheet'!U233)","v":""},{"$f":"IF('Broker Sheet'!V233=\"\",\"\",'Broker Sheet'!V233)","v":""},{"$f":"IF('Broker Sheet'!W233=\"\",\"\",'Broker Sheet'!W233)","v":""},{"$f":"IF('Broker Sheet'!Y233=\"\",\"\",'Broker Sheet'!Y233)","v":""},{"$f":"IF('Broker Sheet'!AA233=\"\",\"\",'Broker Sheet'!AA233)","v":""},{"$f":"IF('Broker Sheet'!Z233=\"\",\"\",'Broker Sheet'!Z233)","v":""},{"$f":"IF('Broker Sheet'!AB233=\"\",\"\",'Broker Sheet'!AB233)","v":""},null,null,{"$f":"IF('Broker Sheet'!L233=\"\",\"\",TEXT('Broker Sheet'!L233,\"YYYYMMDD\"))","v":""},{"$f":"IF('Broker Sheet'!AC233=\"\",\"\",TEXT('Broker Sheet'!AC233,\"YYYYMMDD\"))","v":""},{"$f":"IF('Broker Sheet'!AD233=\"\",\"\",TEXT('Broker Sheet'!AD233,\"YYYYMMDD\"))","v":""},{"$f":"IF('Broker Sheet'!AE233=\"\",\"\",'Broker Sheet'!AE233)","v":""},{"$f":"IF('Broker Sheet'!AF233=\"\",\"\",TEXT('Broker Sheet'!AF233,\"YYYYMMDD\"))","v":""},{"$f":"IF('Broker Sheet'!AG233=\"\",\"\",TEXT('Broker Sheet'!AG233,\"YYYYMMDD\"))","v":""}]
[null,null,null,null,null,{"$f":"IF('Broker Sheet'!C234=\"\",\"\",'Broker Sheet'!C234)","v":""},{"$f":"IF('Broker Sheet'!D234=\"\",\"\",'Broker Sheet'!D234)","v":""},{"$f":"IF('Broker Sheet'!E234=\"\",\"\",'Broker Sheet'!E234)","v":""},{"$f":"IF('Broker Sheet'!F234=\"\",\"\",'Broker Sheet'!F234)","v":""},{"$f":"IF('Broker Sheet'!G234=\"\",\"\",TEXT('Broker Sheet'!G234,\"YYYYMMDD\"))","v":""},{"$f":"IF('Broker Sheet'!H234=\"\",\"\",'Broker Sheet'!H234)","v":""},{"$f":"IF('Broker Sheet'!I234=\"\",\"\",'Broker Sheet'!I234)","v":""},{"$f":"IF('Broker Sheet'!J234=\"\",\"\",VLOOKUP('Broker Sheet'!J234,(Reference!$E$4:$F$9),2,FALSE))","v":""},{"$f":"IF('Broker Sheet'!K234=\"\",\"\",'Broker Sheet'!K234)","v":""},{"$f":"IF('Broker Sheet'!R234=\"\",\"\",'Broker Sheet'!R234)","v":""},{"$f":"IF('Broker Sheet'!S234=\"\",\"\",'Broker Sheet'!S234)","v":""},{"$f":"IF('Broker Sheet'!T234=\"\",\"\",'Broker Sheet'!T234)","v":""},{"$f":"IF('Broker Sheet'!U234=\"\",\"\",'Broker Sheet'!U234)","v":""},{"$f":"IF('Broker Sheet'!V234=\"\",\"\",'Broker Sheet'!V234)","v":""},{"$f":"IF('Broker Sheet'!W234=\"\",\"\",'Broker Sheet'!W234)","v":""},{"$f":"IF('Broker Sheet'!Y234=\"\",\"\",'Broker Sheet'!Y234)","v":""},{"$f":"IF('Broker Sheet'!AA234=\"\",\"\",'Broker Sheet'!AA234)","v":""},{"$f":"IF('Broker Sheet'!Z234=\"\",\"\",'Broker Sheet'!Z234)","v":""},{"$f":"IF('Broker Sheet'!AB234=\"\",\"\",'Broker Sheet'!AB234)","v":""},null,null,{"$f":"IF('Broker Sheet'!L234=\"\",\"\",TEXT('Broker Sheet'!L234,\"YYYYMMDD\"))","v":""},{"$f":"IF('Broker Sheet'!AC234=\"\",\"\",TEXT('Broker Sheet'!AC234,\"YYYYMMDD\"))","v":""},{"$f":"IF('Broker Sheet'!AD234=\"\",\"\",TEXT('Broker Sheet'!AD234,\"YYYYMMDD\"))","v":""},{"$f":"IF('Broker Sheet'!AE234=\"\",\"\",'Broker Sheet'!AE234)","v":""},{"$f":"IF('Broker Sheet'!AF234=\"\",\"\",TEXT('Broker Sheet'!AF234,\"YYYYMMDD\"))","v":""},{"$f":"IF('Broker Sheet'!AG234=\"\",\"\",TEXT('Broker Sheet'!AG234,\"YYYYMMDD\"))","v":""}]
[null,null,null,null,null,{"$f":"IF('Broker Sheet'!C235=\"\",\"\",'Broker Sheet'!C235)","v":""},{"$f":"IF('Broker Sheet'!D235=\"\",\"\",'Broker Sheet'!D235)","v":""},{"$f":"IF('Broker Sheet'!E235=\"\",\"\",'Broker Sheet'!E235)","v":""},{"$f":"IF('Broker Sheet'!F235=\"\",\"\",'Broker Sheet'!F235)","v":""},{"$f":"IF('Broker Sheet'!G235=\"\",\"\",TEXT('Broker Sheet'!G235,\"YYYYMMDD\"))","v":""},{"$f":"IF('Broker Sheet'!H235=\"\",\"\",'Broker Sheet'!H235)","v":""},{"$f":"IF('Broker Sheet'!I235=\"\",\"\",'Broker Sheet'!I235)","v":""},{"$f":"IF('Broker Sheet'!J235=\"\",\"\",VLOOKUP('Broker Sheet'!J235,(Reference!$E$4:$F$9),2,FALSE))","v":""},{"$f":"IF('Broker Sheet'!K235=\"\",\"\",'Broker Sheet'!K235)","v":""},{"$f":"IF('Broker Sheet'!R235=\"\",\"\",'Broker Sheet'!R235)","v":""},{"$f":"IF('Broker Sheet'!S235=\"\",\"\",'Broker Sheet'!S235)","v":""},{"$f":"IF('Broker Sheet'!T235=\"\",\"\",'Broker Sheet'!T235)","v":""},{"$f":"IF('Broker Sheet'!U235=\"\",\"\",'Broker Sheet'!U235)","v":""},{"$f":"IF('Broker Sheet'!V235=\"\",\"\",'Broker Sheet'!V235)","v":""},{"$f":"IF('Broker Sheet'!W235=\"\",\"\",'Broker Sheet'!W235)","v":""},{"$f":"IF('Broker Sheet'!Y235=\"\",\"\",'Broker Sheet'!Y235)","v":""},{"$f":"IF('Broker Sheet'!AA235=\"\",\"\",'Broker Sheet'!AA235)","v":""},{"$f":"IF('Broker Sheet'!Z235=\"\",\"\",'Broker Sheet'!Z235)","v":""},{"$f":"IF('Broker Sheet'!AB235=\"\",\"\",'Broker Sheet'!AB235)","v":""},null,null,{"$f":"IF('Broker Sheet'!L235=\"\",\"\",TEXT('Broker Sheet'!L235,\"YYYYMMDD\"))","v":""},{"$f":"IF('Broker Sheet'!AC235=\"\",\"\",TEXT('Broker Sheet'!AC235,\"YYYYMMDD\"))","v":""},{"$f":"IF('Broker Sheet'!AD235=\"\",\"\",TEXT('Broker Sheet'!AD235,\"YYYYMMDD\"))","v":""},{"$f":"IF('Broker Sheet'!AE235=\"\",\"\",'Broker Sheet'!AE235)","v":""},{"$f":"IF('Broker Sheet'!AF235=\"\",\"\",TEXT('Broker Sheet'!AF235,\"YYYYMMDD\"))","v":""},{"$f":"IF('Broker Sheet'!AG235=\"\",\"\",TEXT('Broker Sheet'!AG235,\"YYYYMMDD\"))","v":""}]
[null,null,null,null,null,{"$f":"IF('Broker Sheet'!C236=\"\",\"\",'Broker Sheet'!C236)","v":""},{"$f":"IF('Broker Sheet'!D236=\"\",\"\",'Broker Sheet'!D236)","v":""},{"$f":"IF('Broker Sheet'!E236=\"\",\"\",'Broker Sheet'!E236)","v":""},{"$f":"IF('Broker Sheet'!F236=\"\",\"\",'Broker Sheet'!F236)","v":""},{"$f":"IF('Broker Sheet'!G236=\"\",\"\",TEXT('Broker Sheet'!G236,\"YYYYMMDD\"))","v":""},{"$f":"IF('Broker Sheet'!H236=\"\",\"\",'Broker Sheet'!H236)","v":""},{"$f":"IF('Broker Sheet'!I236=\"\",\"\",'Broker Sheet'!I236)","v":""},{"$f":"IF('Broker Sheet'!J236=\"\",\"\",VLOOKUP('Broker Sheet'!J236,(Reference!$E$4:$F$9),2,FALSE))","v":""},{"$f":"IF('Broker Sheet'!K236=\"\",\"\",'Broker Sheet'!K236)","v":""},{"$f":"IF('Broker Sheet'!R236=\"\",\"\",'Broker Sheet'!R236)","v":""},{"$f":"IF('Broker Sheet'!S236=\"\",\"\",'Broker Sheet'!S236)","v":""},{"$f":"IF('Broker Sheet'!T236=\"\",\"\",'Broker Sheet'!T236)","v":""},{"$f":"IF('Broker Sheet'!U236=\"\",\"\",'Broker Sheet'!U236)","v":""},{"$f":"IF('Broker Sheet'!V236=\"\",\"\",'Broker Sheet'!V236)","v":""},{"$f":"IF('Broker Sheet'!W236=\"\",\"\",'Broker Sheet'!W236)","v":""},{"$f":"IF('Broker Sheet'!Y236=\"\",\"\",'Broker Sheet'!Y236)","v":""},{"$f":"IF('Broker Sheet'!AA236=\"\",\"\",'Broker Sheet'!AA236)","v":""},{"$f":"IF('Broker Sheet'!Z236=\"\",\"\",'Broker Sheet'!Z236)","v":""},{"$f":"IF('Broker Sheet'!AB236=\"\",\"\",'Broker Sheet'!AB236)","v":""},null,null,{"$f":"IF('Broker Sheet'!L236=\"\",\"\",TEXT('Broker Sheet'!L236,\"YYYYMMDD\"))","v":""},{"$f":"IF('Broker Sheet'!AC236=\"\",\"\",TEXT('Broker Sheet'!AC236,\"YYYYMMDD\"))","v":""},{"$f":"IF('Broker Sheet'!AD236=\"\",\"\",TEXT('Broker Sheet'!AD236,\"YYYYMMDD\"))","v":""},{"$f":"IF('Broker Sheet'!AE236=\"\",\"\",'Broker Sheet'!AE236)","v":""},{"$f":"IF('Broker Sheet'!AF236=\"\",\"\",TEXT('Broker Sheet'!AF236,\"YYYYMMDD\"))","v":""},{"$f":"IF('Broker Sheet'!AG236=\"\",\"\",TEXT('Broker Sheet'!AG236,\"YYYYMMDD\"))","v":""}]
[null,null,null,null,null,{"$f":"IF('Broker Sheet'!C237=\"\",\"\",'Broker Sheet'!C237)","v":""},{"$f":"IF('Broker Sheet'!D237=\"\",\"\",'Broker Sheet'!D237)","v":""},{"$f":"IF('Broker Sheet'!E237=\"\",\"\",'Broker Sheet'!E237)","v":""},{"$f":"IF('Broker Sheet'!F237=\"\",\"\",'Broker Sheet'!F237)","v":""},{"$f":"IF('Broker Sheet'!G237=\"\",\"\",TEXT('Broker Sheet'!G237,\"YYYYMMDD\"))","v":""},{"$f":"IF('Broker Sheet'!H237=\"\",\"\",'Broker Sheet'!H237)","v":""},{"$f":"IF('Broker Sheet'!I237=\"\",\"\",'Broker Sheet'!I237)","v":""},{"$f":"IF('Broker Sheet'!J237=\"\",\"\",VLOOKUP('Broker Sheet'!J237,(Reference!$E$4:$F$9),2,FALSE))","v":""},{"$f":"IF('Broker Sheet'!K237=\"\",\"\",'Broker Sheet'!K237)","v":""},{"$f":"IF('Broker Sheet'!R237=\"\",\"\",'Broker Sheet'!R237)","v":""},{"$f":"IF('Broker Sheet'!S237=\"\",\"\",'Broker Sheet'!S237)","v":""},{"$f":"IF('Broker Sheet'!T237=\"\",\"\",'Broker Sheet'!T237)","v":""},{"$f":"IF('Broker Sheet'!U237=\"\",\"\",'Broker Sheet'!U237)","v":""},{"$f":"IF('Broker Sheet'!V237=\"\",\"\",'Broker Sheet'!V237)","v":""},{"$f":"IF('Broker Sheet'!W237=\"\",\"\",'Broker Sheet'!W237)","v":""},{"$f":"IF('Broker Sheet'!Y237=\"\",\"\",'Broker Sheet'!Y237)","v":""},{"$f":"IF('Broker Sheet'!AA237=\"\",\"\",'Broker Sheet'!AA237)","v":""},{"$f":"IF('Broker Sheet'!Z237=\"\",\"\",'Broker Sheet'!Z237)","v":""},{"$f":"IF('Broker Sheet'!AB237=\"\",\"\",'Broker Sheet'!AB237)","v":""},null,null,{"$f":"IF('Broker Sheet'!L237=\"\",\"\",TEXT('Broker Sheet'!L237,\"YYYYMMDD\"))","v":""},{"$f":"IF('Broker Sheet'!AC237=\"\",\"\",TEXT('Broker Sheet'!AC237,\"YYYYMMDD\"))","v":""},{"$f":"IF('Broker Sheet'!AD237=\"\",\"\",TEXT('Broker Sheet'!AD237,\"YYYYMMDD\"))","v":""},{"$f":"IF('Broker Sheet'!AE237=\"\",\"\",'Broker Sheet'!AE237)","v":""},{"$f":"IF('Broker Sheet'!AF237=\"\",\"\",TEXT('Broker Sheet'!AF237,\"YYYYMMDD\"))","v":""},{"$f":"IF('Broker Sheet'!AG237=\"\",\"\",TEXT('Broker Sheet'!AG237,\"YYYYMMDD\"))","v":""}]
[null,null,null,null,null,{"$f":"IF('Broker Sheet'!C238=\"\",\"\",'Broker Sheet'!C238)","v":""},{"$f":"IF('Broker Sheet'!D238=\"\",\"\",'Broker Sheet'!D238)","v":""},{"$f":"IF('Broker Sheet'!E238=\"\",\"\",'Broker Sheet'!E238)","v":""},{"$f":"IF('Broker Sheet'!F238=\"\",\"\",'Broker Sheet'!F238)","v":""},{"$f":"IF('Broker Sheet'!G238=\"\",\"\",TEXT('Broker Sheet'!G238,\"YYYYMMDD\"))","v":""},{"$f":"IF('Broker Sheet'!H238=\"\",\"\",'Broker Sheet'!H238)","v":""},{"$f":"IF('Broker Sheet'!I238=\"\",\"\",'Broker Sheet'!I238)","v":""},{"$f":"IF('Broker Sheet'!J238=\"\",\"\",VLOOKUP('Broker Sheet'!J238,(Reference!$E$4:$F$9),2,FALSE))","v":""},{"$f":"IF('Broker Sheet'!K238=\"\",\"\",'Broker Sheet'!K238)","v":""},{"$f":"IF('Broker Sheet'!R238=\"\",\"\",'Broker Sheet'!R238)","v":""},{"$f":"IF('Broker Sheet'!S238=\"\",\"\",'Broker Sheet'!S238)","v":""},{"$f":"IF('Broker Sheet'!T238=\"\",\"\",'Broker Sheet'!T238)","v":""},{"$f":"IF('Broker Sheet'!U238=\"\",\"\",'Broker Sheet'!U238)","v":""},{"$f":"IF('Broker Sheet'!V238=\"\",\"\",'Broker Sheet'!V238)","v":""},{"$f":"IF('Broker Sheet'!W238=\"\",\"\",'Broker Sheet'!W238)","v":""},{"$f":"IF('Broker Sheet'!Y238=\"\",\"\",'Broker Sheet'!Y238)","v":""},{"$f":"IF('Broker Sheet'!AA238=\"\",\"\",'Broker Sheet'!AA238)","v":""},{"$f":"IF('Broker Sheet'!Z238=\"\",\"\",'Broker Sheet'!Z238)","v":""},{"$f":"IF('Broker Sheet'!AB238=\"\",\"\",'Broker Sheet'!AB238)","v":""},null,null,{"$f":"IF('Broker Sheet'!L238=\"\",\"\",TEXT('Broker Sheet'!L238,\"YYYYMMDD\"))","v":""},{"$f":"IF('Broker Sheet'!AC238=\"\",\"\",TEXT('Broker Sheet'!AC238,\"YYYYMMDD\"))","v":""},{"$f":"IF('Broker Sheet'!AD238=\"\",\"\",TEXT('Broker Sheet'!AD238,\"YYYYMMDD\"))","v":""},{"$f":"IF('Broker Sheet'!AE238=\"\",\"\",'Broker Sheet'!AE238)","v":""},{"$f":"IF('Broker Sheet'!AF238=\"\",\"\",TEXT('Broker Sheet'!AF238,\"YYYYMMDD\"))","v":""},{"$f":"IF('Broker Sheet'!AG238=\"\",\"\",TEXT('Broker Sheet'!AG238,\"YYYYMMDD\"))","v":""}]
[null,null,null,null,null,{"$f":"IF('Broker Sheet'!C239=\"\",\"\",'Broker Sheet'!C239)","v":""},{"$f":"IF('Broker Sheet'!D239=\"\",\"\",'Broker Sheet'!D239)","v":""},{"$f":"IF('Broker Sheet'!E239=\"\",\"\",'Broker Sheet'!E239)","v":""},{"$f":"IF('Broker Sheet'!F239=\"\",\"\",'Broker Sheet'!F239)","v":""},{"$f":"IF('Broker Sheet'!G239=\"\",\"\",TEXT('Broker Sheet'!G239,\"YYYYMMDD\"))","v":""},{"$f":"IF('Broker Sheet'!H239=\"\",\"\",'Broker Sheet'!H239)","v":""},{"$f":"IF('Broker Sheet'!I239=\"\",\"\",'Broker Sheet'!I239)","v":""},{"$f":"IF('Broker Sheet'!J239=\"\",\"\",VLOOKUP('Broker Sheet'!J239,(Reference!$E$4:$F$9),2,FALSE))","v":""},{"$f":"IF('Broker Sheet'!K239=\"\",\"\",'Broker Sheet'!K239)","v":""},{"$f":"IF('Broker Sheet'!R239=\"\",\"\",'Broker Sheet'!R239)","v":""},{"$f":"IF('Broker Sheet'!S239=\"\",\"\",'Broker Sheet'!S239)","v":""},{"$f":"IF('Broker Sheet'!T239=\"\",\"\",'Broker Sheet'!T239)","v":""},{"$f":"IF('Broker Sheet'!U239=\"\",\"\",'Broker Sheet'!U239)","v":""},{"$f":"IF('Broker Sheet'!V239=\"\",\"\",'Broker Sheet'!V239)","v":""},{"$f":"IF('Broker Sheet'!W239=\"\",\"\",'Broker Sheet'!W239)","v":""},{"$f":"IF('Broker Sheet'!Y239=\"\",\"\",'Broker Sheet'!Y239)","v":""},{"$f":"IF('Broker Sheet'!AA239=\"\",\"\",'Broker Sheet'!AA239)","v":""},{"$f":"IF('Broker Sheet'!Z239=\"\",\"\",'Broker Sheet'!Z239)","v":""},{"$f":"IF('Broker Sheet'!AB239=\"\",\"\",'Broker Sheet'!AB239)","v":""},null,null,{"$f":"IF('Broker Sheet'!L239=\"\",\"\",TEXT('Broker Sheet'!L239,\"YYYYMMDD\"))","v":""},{"$f":"IF('Broker Sheet'!AC239=\"\",\"\",TEXT('Broker Sheet'!AC239,\"YYYYMMDD\"))","v":""},{"$f":"IF('Broker Sheet'!AD239=\"\",\"\",TEXT('Broker Sheet'!AD239,\"YYYYMMDD\"))","v":""},{"$f":"IF('Broker Sheet'!AE239=\"\",\"\",'Broker Sheet'!AE239)","v":""},{"$f":"IF('Broker Sheet'!AF239=\"\",\"\",TEXT('Broker Sheet'!AF239,\"YYYYMMDD\"))","v":""},{"$f":"IF('Broker Sheet'!AG239=\"\",\"\",TEXT('Broker Sheet'!AG239,\"YYYYMMDD\"))","v":""}]
[null,null,null,null,null,{"$f":"IF('Broker Sheet'!C240=\"\",\"\",'Broker Sheet'!C240)","v":""},{"$f":"IF('Broker Sheet'!D240=\"\",\"\",'Broker Sheet'!D240)","v":""},{"$f":"IF('Broker Sheet'!E240=\"\",\"\",'Broker Sheet'!E240)","v":""},{"$f":"IF('Broker Sheet'!F240=\"\",\"\",'Broker Sheet'!F240)","v":""},{"$f":"IF('Broker Sheet'!G240=\"\",\"\",TEXT('Broker Sheet'!G240,\"YYYYMMDD\"))","v":""},{"$f":"IF('Broker Sheet'!H240=\"\",\"\",'Broker Sheet'!H240)","v":""},{"$f":"IF('Broker Sheet'!I240=\"\",\"\",'Broker Sheet'!I240)","v":""},{"$f":"IF('Broker Sheet'!J240=\"\",\"\",VLOOKUP('Broker Sheet'!J240,(Reference!$E$4:$F$9),2,FALSE))","v":""},{"$f":"IF('Broker Sheet'!K240=\"\",\"\",'Broker Sheet'!K240)","v":""},{"$f":"IF('Broker Sheet'!R240=\"\",\"\",'Broker Sheet'!R240)","v":""},{"$f":"IF('Broker Sheet'!S240=\"\",\"\",'Broker Sheet'!S240)","v":""},{"$f":"IF('Broker Sheet'!T240=\"\",\"\",'Broker Sheet'!T240)","v":""},{"$f":"IF('Broker Sheet'!U240=\"\",\"\",'Broker Sheet'!U240)","v":""},{"$f":"IF('Broker Sheet'!V240=\"\",\"\",'Broker Sheet'!V240)","v":""},{"$f":"IF('Broker Sheet'!W240=\"\",\"\",'Broker Sheet'!W240)","v":""},{"$f":"IF('Broker Sheet'!Y240=\"\",\"\",'Broker Sheet'!Y240)","v":""},{"$f":"IF('Broker Sheet'!AA240=\"\",\"\",'Broker Sheet'!AA240)","v":""},{"$f":"IF('Broker Sheet'!Z240=\"\",\"\",'Broker Sheet'!Z240)","v":""},{"$f":"IF('Broker Sheet'!AB240=\"\",\"\",'Broker Sheet'!AB240)","v":""},null,null,{"$f":"IF('Broker Sheet'!L240=\"\",\"\",TEXT('Broker Sheet'!L240,\"YYYYMMDD\"))","v":""},{"$f":"IF('Broker Sheet'!AC240=\"\",\"\",TEXT('Broker Sheet'!AC240,\"YYYYMMDD\"))","v":""},{"$f":"IF('Broker Sheet'!AD240=\"\",\"\",TEXT('Broker Sheet'!AD240,\"YYYYMMDD\"))","v":""},{"$f":"IF('Broker Sheet'!AE240=\"\",\"\",'Broker Sheet'!AE240)","v":""},{"$f":"IF('Broker Sheet'!AF240=\"\",\"\",TEXT('Broker Sheet'!AF240,\"YYYYMMDD\"))","v":""},{"$f":"IF('Broker Sheet'!AG240=\"\",\"\",TEXT('Broker Sheet'!AG240,\"YYYYMMDD\"))","v":""}]
[null,null,null,null,null,{"$f":"IF('Broker Sheet'!C241=\"\",\"\",'Broker Sheet'!C241)","v":""},{"$f":"IF('Broker Sheet'!D241=\"\",\"\",'Broker Sheet'!D241)","v":""},{"$f":"IF('Broker Sheet'!E241=\"\",\"\",'Broker Sheet'!E241)","v":""},{"$f":"IF('Broker Sheet'!F241=\"\",\"\",'Broker Sheet'!F241)","v":""},{"$f":"IF('Broker Sheet'!G241=\"\",\"\",TEXT('Broker Sheet'!G241,\"YYYYMMDD\"))","v":""},{"$f":"IF('Broker Sheet'!H241=\"\",\"\",'Broker Sheet'!H241)","v":""},{"$f":"IF('Broker Sheet'!I241=\"\",\"\",'Broker Sheet'!I241)","v":""},{"$f":"IF('Broker Sheet'!J241=\"\",\"\",VLOOKUP('Broker Sheet'!J241,(Reference!$E$4:$F$9),2,FALSE))","v":""},{"$f":"IF('Broker Sheet'!K241=\"\",\"\",'Broker Sheet'!K241)","v":""},{"$f":"IF('Broker Sheet'!R241=\"\",\"\",'Broker Sheet'!R241)","v":""},{"$f":"IF('Broker Sheet'!S241=\"\",\"\",'Broker Sheet'!S241)","v":""},{"$f":"IF('Broker Sheet'!T241=\"\",\"\",'Broker Sheet'!T241)","v":""},{"$f":"IF('Broker Sheet'!U241=\"\",\"\",'Broker Sheet'!U241)","v":""},{"$f":"IF('Broker Sheet'!V241=\"\",\"\",'Broker Sheet'!V241)","v":""},{"$f":"IF('Broker Sheet'!W241=\"\",\"\",'Broker Sheet'!W241)","v":""},{"$f":"IF('Broker Sheet'!Y241=\"\",\"\",'Broker Sheet'!Y241)","v":""},{"$f":"IF('Broker Sheet'!AA241=\"\",\"\",'Broker Sheet'!AA241)","v":""},{"$f":"IF('Broker Sheet'!Z241=\"\",\"\",'Broker Sheet'!Z241)","v":""},{"$f":"IF('Broker Sheet'!AB241=\"\",\"\",'Broker Sheet'!AB241)","v":""},null,null,{"$f":"IF('Broker Sheet'!L241=\"\",\"\",TEXT('Broker Sheet'!L241,\"YYYYMMDD\"))","v":""},{"$f":"IF('Broker Sheet'!AC241=\"\",\"\",TEXT('Broker Sheet'!AC241,\"YYYYMMDD\"))","v":""},{"$f":"IF('Broker Sheet'!AD241=\"\",\"\",TEXT('Broker Sheet'!AD241,\"YYYYMMDD\"))","v":""},{"$f":"IF('Broker Sheet'!AE241=\"\",\"\",'Broker Sheet'!AE241)","v":""},{"$f":"IF('Broker Sheet'!AF241=\"\",\"\",TEXT('Broker Sheet'!AF241,\"YYYYMMDD\"))","v":""},{"$f":"IF('Broker Sheet'!AG241=\"\",\"\",TEXT('Broker Sheet'!AG241,\"YYYYMMDD\"))","v":""}]
[null,null,null,null,null,{"$f":"IF('Broker Sheet'!C242=\"\",\"\",'Broker Sheet'!C242)","v":""},{"$f":"IF('Broker Sheet'!D242=\"\",\"\",'Broker Sheet'!D242)","v":""},{"$f":"IF('Broker Sheet'!E242=\"\",\"\",'Broker Sheet'!E242)","v":""},{"$f":"IF('Broker Sheet'!F242=\"\",\"\",'Broker Sheet'!F242)","v":""},{"$f":"IF('Broker Sheet'!G242=\"\",\"\",TEXT('Broker Sheet'!G242,\"YYYYMMDD\"))","v":""},{"$f":"IF('Broker Sheet'!H242=\"\",\"\",'Broker Sheet'!H242)","v":""},{"$f":"IF('Broker Sheet'!I242=\"\",\"\",'Broker Sheet'!I242)","v":""},{"$f":"IF('Broker Sheet'!J242=\"\",\"\",VLOOKUP('Broker Sheet'!J242,(Reference!$E$4:$F$9),2,FALSE))","v":""},{"$f":"IF('Broker Sheet'!K242=\"\",\"\",'Broker Sheet'!K242)","v":""},{"$f":"IF('Broker Sheet'!R242=\"\",\"\",'Broker Sheet'!R242)","v":""},{"$f":"IF('Broker Sheet'!S242=\"\",\"\",'Broker Sheet'!S242)","v":""},{"$f":"IF('Broker Sheet'!T242=\"\",\"\",'Broker Sheet'!T242)","v":""},{"$f":"IF('Broker Sheet'!U242=\"\",\"\",'Broker Sheet'!U242)","v":""},{"$f":"IF('Broker Sheet'!V242=\"\",\"\",'Broker Sheet'!V242)","v":""},{"$f":"IF('Broker Sheet'!W242=\"\",\"\",'Broker Sheet'!W242)","v":""},{"$f":"IF('Broker Sheet'!Y242=\"\",\"\",'Broker Sheet'!Y242)","v":""},{"$f":"IF('Broker Sheet'!AA242=\"\",\"\",'Broker Sheet'!AA242)","v":""},{"$f":"IF('Broker Sheet'!Z242=\"\",\"\",'Broker Sheet'!Z242)","v":""},{"$f":"IF('Broker Sheet'!AB242=\"\",\"\",'Broker Sheet'!AB242)","v":""},null,null,{"$f":"IF('Broker Sheet'!L242=\"\",\"\",TEXT('Broker Sheet'!L242,\"YYYYMMDD\"))","v":""},{"$f":"IF('Broker Sheet'!AC242=\"\",\"\",TEXT('Broker Sheet'!AC242,\"YYYYMMDD\"))","v":""},{"$f":"IF('Broker Sheet'!AD242=\"\",\"\",TEXT('Broker Sheet'!AD242,\"YYYYMMDD\"))","v":""},{"$f":"IF('Broker Sheet'!AE242=\"\",\"\",'Broker Sheet'!AE242)","v":""},{"$f":"IF('Broker Sheet'!AF242=\"\",\"\",TEXT('Broker Sheet'!AF242,\"YYYYMMDD\"))","v":""},{"$f":"IF('Broker Sheet'!AG242=\"\",\"\",TEXT('Broker Sheet'!AG242,\"YYYYMMDD\"))","v":""}]
[null,null,null,null,null,{"$f":"IF('Broker Sheet'!C243=\"\",\"\",'Broker Sheet'!C243)","v":""},{"$f":"IF('Broker Sheet'!D243=\"\",\"\",'Broker Sheet'!D243)","v":""},{"$f":"IF('Broker Sheet'!E243=\"\",\"\",'Broker Sheet'!E243)","v":""},{"$f":"IF('Broker Sheet'!F243=\"\",\"\",'Broker Sheet'!F243)","v":""},{"$f":"IF('Broker Sheet'!G243=\"\",\"\",TEXT('Broker Sheet'!G243,\"YYYYMMDD\"))","v":""},{"$f":"IF('Broker Sheet'!H243=\"\",\"\",'Broker Sheet'!H243)","v":""},{"$f":"IF('Broker Sheet'!I243=\"\",\"\",'Broker Sheet'!I243)","v":""},{"$f":"IF('Broker Sheet'!J243=\"\",\"\",VLOOKUP('Broker Sheet'!J243,(Reference!$E$4:$F$9),2,FALSE))","v":""},{"$f":"IF('Broker Sheet'!K243=\"\",\"\",'Broker Sheet'!K243)","v":""},{"$f":"IF('Broker Sheet'!R243=\"\",\"\",'Broker Sheet'!R243)","v":""},{"$f":"IF('Broker Sheet'!S243=\"\",\"\",'Broker Sheet'!S243)","v":""},{"$f":"IF('Broker Sheet'!T243=\"\",\"\",'Broker Sheet'!T243)","v":""},{"$f":"IF('Broker Sheet'!U243=\"\",\"\",'Broker Sheet'!U243)","v":""},{"$f":"IF('Broker Sheet'!V243=\"\",\"\",'Broker Sheet'!V243)","v":""},{"$f":"IF('Broker Sheet'!W243=\"\",\"\",'Broker Sheet'!W243)","v":""},{"$f":"IF('Broker Sheet'!Y243=\"\",\"\",'Broker Sheet'!Y243)","v":""},{"$f":"IF('Broker Sheet'!AA243=\"\",\"\",'Broker Sheet'!AA243)","v":""},{"$f":"IF('Broker Sheet'!Z243=\"\",\"\",'Broker Sheet'!Z243)","v":""},{"$f":"IF('Broker Sheet'!AB243=\"\",\"\",'Broker Sheet'!AB243)","v":""},null,null,{"$f":"IF('Broker Sheet'!L243=\"\",\"\",TEXT('Broker Sheet'!L243,\"YYYYMMDD\"))","v":""},{"$f":"IF('Broker Sheet'!AC243=\"\",\"\",TEXT('Broker Sheet'!AC243,\"YYYYMMDD\"))","v":""},{"$f":"IF('Broker Sheet'!AD243=\"\",\"\",TEXT('Broker Sheet'!AD243,\"YYYYMMDD\"))","v":""},{"$f":"IF('Broker Sheet'!AE243=\"\",\"\",'Broker Sheet'!AE243)","v":""},{"$f":"IF('Broker Sheet'!AF243=\"\",\"\",TEXT('Broker Sheet'!AF243,\"YYYYMMDD\"))","v":""},{"$f":"IF('Broker Sheet'!AG243=\"\",\"\",TEXT('Broker Sheet'!AG243,\"YYYYMMDD\"))","v":""}]
[null,null,null,null,null,{"$f":"IF('Broker Sheet'!C244=\"\",\"\",'Broker Sheet'!C244)","v":""},{"$f":"IF('Broker Sheet'!D244=\"\",\"\",'Broker Sheet'!D244)","v":""},{"$f":"IF('Broker Sheet'!E244=\"\",\"\",'Broker Sheet'!E244)","v":""},{"$f":"IF('Broker Sheet'!F244=\"\",\"\",'Broker Sheet'!F244)","v":""},{"$f":"IF('Broker Sheet'!G244=\"\",\"\",TEXT('Broker Sheet'!G244,\"YYYYMMDD\"))","v":""},{"$f":"IF('Broker Sheet'!H244=\"\",\"\",'Broker Sheet'!H244)","v":""},{"$f":"IF('Broker Sheet'!I244=\"\",\"\",'Broker Sheet'!I244)","v":""},{"$f":"IF('Broker Sheet'!J244=\"\",\"\",VLOOKUP('Broker Sheet'!J244,(Reference!$E$4:$F$9),2,FALSE))","v":""},{"$f":"IF('Broker Sheet'!K244=\"\",\"\",'Broker Sheet'!K244)","v":""},{"$f":"IF('Broker Sheet'!R244=\"\",\"\",'Broker Sheet'!R244)","v":""},{"$f":"IF('Broker Sheet'!S244=\"\",\"\",'Broker Sheet'!S244)","v":""},{"$f":"IF('Broker Sheet'!T244=\"\",\"\",'Broker Sheet'!T244)","v":""},{"$f":"IF('Broker Sheet'!U244=\"\",\"\",'Broker Sheet'!U244)","v":""},{"$f":"IF('Broker Sheet'!V244=\"\",\"\",'Broker Sheet'!V244)","v":""},{"$f":"IF('Broker Sheet'!W244=\"\",\"\",'Broker Sheet'!W244)","v":""},{"$f":"IF('Broker Sheet'!Y244=\"\",\"\",'Broker Sheet'!Y244)","v":""},{"$f":"IF('Broker Sheet'!AA244=\"\",\"\",'Broker Sheet'!AA244)","v":""},{"$f":"IF('Broker Sheet'!Z244=\"\",\"\",'Broker Sheet'!Z244)","v":""},{"$f":"IF('Broker Sheet'!AB244=\"\",\"\",'Broker Sheet'!AB244)","v":""},null,null,{"$f":"IF('Broker Sheet'!L244=\"\",\"\",TEXT('Broker Sheet'!L244,\"YYYYMMDD\"))","v":""},{"$f":"IF('Broker Sheet'!AC244=\"\",\"\",TEXT('Broker Sheet'!AC244,\"YYYYMMDD\"))","v":""},{"$f":"IF('Broker Sheet'!AD244=\"\",\"\",TEXT('Broker Sheet'!AD244,\"YYYYMMDD\"))","v":""},{"$f":"IF('Broker Sheet'!AE244=\"\",\"\",'Broker Sheet'!AE244)","v":""},{"$f":"IF('Broker Sheet'!AF244=\"\",\"\",TEXT('Broker Sheet'!AF244,\"YYYYMMDD\"))","v":""},{"$f":"IF('Broker Sheet'!AG244=\"\",\"\",TEXT('Broker Sheet'!AG244,\"YYYYMMDD\"))","v":""}]
[null,null,null,null,null,{"$f":"IF('Broker Sheet'!C245=\"\",\"\",'Broker Sheet'!C245)","v":""},{"$f":"IF('Broker Sheet'!D245=\"\",\"\",'Broker Sheet'!D245)","v":""},{"$f":"IF('Broker Sheet'!E245=\"\",\"\",'Broker Sheet'!E245)","v":""},{"$f":"IF('Broker Sheet'!F245=\"\",\"\",'Broker Sheet'!F245)","v":""},{"$f":"IF('Broker Sheet'!G245=\"\",\"\",TEXT('Broker Sheet'!G245,\"YYYYMMDD\"))","v":""},{"$f":"IF('Broker Sheet'!H245=\"\",\"\",'Broker Sheet'!H245)","v":""},{"$f":"IF('Broker Sheet'!I245=\"\",\"\",'Broker Sheet'!I245)","v":""},{"$f":"IF('Broker Sheet'!J245=\"\",\"\",VLOOKUP('Broker Sheet'!J245,(Reference!$E$4:$F$9),2,FALSE))","v":""},{"$f":"IF('Broker Sheet'!K245=\"\",\"\",'Broker Sheet'!K245)","v":""},{"$f":"IF('Broker Sheet'!R245=\"\",\"\",'Broker Sheet'!R245)","v":""},{"$f":"IF('Broker Sheet'!S245=\"\",\"\",'Broker Sheet'!S245)","v":""},{"$f":"IF('Broker Sheet'!T245=\"\",\"\",'Broker Sheet'!T245)","v":""},{"$f":"IF('Broker Sheet'!U245=\"\",\"\",'Broker Sheet'!U245)","v":""},{"$f":"IF('Broker Sheet'!V245=\"\",\"\",'Broker Sheet'!V245)","v":""},{"$f":"IF('Broker Sheet'!W245=\"\",\"\",'Broker Sheet'!W245)","v":""},{"$f":"IF('Broker Sheet'!Y245=\"\",\"\",'Broker Sheet'!Y245)","v":""},{"$f":"IF('Broker Sheet'!AA245=\"\",\"\",'Broker Sheet'!AA245)","v":""},{"$f":"IF('Broker Sheet'!Z245=\"\",\"\",'Broker Sheet'!Z245)","v":""},{"$f":"IF('Broker Sheet'!AB245=\"\",\"\",'Broker Sheet'!AB245)","v":""},null,null,{"$f":"IF('Broker Sheet'!L245=\"\",\"\",TEXT('Broker Sheet'!L245,\"YYYYMMDD\"))","v":""},{"$f":"IF('Broker Sheet'!AC245=\"\",\"\",TEXT('Broker Sheet'!AC245,\"YYYYMMDD\"))","v":""},{"$f":"IF('Broker Sheet'!AD245=\"\",\"\",TEXT('Broker Sheet'!AD245,\"YYYYMMDD\"))","v":""},{"$f":"IF('Broker Sheet'!AE245=\"\",\"\",'Broker Sheet'!AE245)","v":""},{"$f":"IF('Broker Sheet'!AF245=\"\",\"\",TEXT('Broker Sheet'!AF245,\"YYYYMMDD\"))","v":""},{"$f":"IF('Broker Sheet'!AG245=\"\",\"\",TEXT('Broker Sheet'!AG245,\"YYYYMMDD\"))","v":""}]
[null,null,null,null,null,{"$f":"IF('Broker Sheet'!C246=\"\",\"\",'Broker Sheet'!C246)","v":""},{"$f":"IF('Broker Sheet'!D246=\"\",\"\",'Broker Sheet'!D246)","v":""},{"$f":"IF('Broker Sheet'!E246=\"\",\"\",'Broker Sheet'!E246)","v":""},{"$f":"IF('Broker Sheet'!F246=\"\",\"\",'Broker Sheet'!F246)","v":""},{"$f":"IF('Broker Sheet'!G246=\"\",\"\",TEXT('Broker Sheet'!G246,\"YYYYMMDD\"))","v":""},{"$f":"IF('Broker Sheet'!H246=\"\",\"\",'Broker Sheet'!H246)","v":""},{"$f":"IF('Broker Sheet'!I246=\"\",\"\",'Broker Sheet'!I246)","v":""},{"$f":"IF('Broker Sheet'!J246=\"\",\"\",VLOOKUP('Broker Sheet'!J246,(Reference!$E$4:$F$9),2,FALSE))","v":""},{"$f":"IF('Broker Sheet'!K246=\"\",\"\",'Broker Sheet'!K246)","v":""},{"$f":"IF('Broker Sheet'!R246=\"\",\"\",'Broker Sheet'!R246)","v":""},{"$f":"IF('Broker Sheet'!S246=\"\",\"\",'Broker Sheet'!S246)","v":""},{"$f":"IF('Broker Sheet'!T246=\"\",\"\",'Broker Sheet'!T246)","v":""},{"$f":"IF('Broker Sheet'!U246=\"\",\"\",'Broker Sheet'!U246)","v":""},{"$f":"IF('Broker Sheet'!V246=\"\",\"\",'Broker Sheet'!V246)","v":""},{"$f":"IF('Broker Sheet'!W246=\"\",\"\",'Broker Sheet'!W246)","v":""},{"$f":"IF('Broker Sheet'!Y246=\"\",\"\",'Broker Sheet'!Y246)","v":""},{"$f":"IF('Broker Sheet'!AA246=\"\",\"\",'Broker Sheet'!AA246)","v":""},{"$f":"IF('Broker Sheet'!Z246=\"\",\"\",'Broker Sheet'!Z246)","v":""},{"$f":"IF('Broker Sheet'!AB246=\"\",\"\",'Broker Sheet'!AB246)","v":""},null,null,{"$f":"IF('Broker Sheet'!L246=\"\",\"\",TEXT('Broker Sheet'!L246,\"YYYYMMDD\"))","v":""},{"$f":"IF('Broker Sheet'!AC246=\"\",\"\",TEXT('Broker Sheet'!AC246,\"YYYYMMDD\"))","v":""},{"$f":"IF('Broker Sheet'!AD246=\"\",\"\",TEXT('Broker Sheet'!AD246,\"YYYYMMDD\"))","v":""},{"$f":"IF('Broker Sheet'!AE246=\"\",\"\",'Broker Sheet'!AE246)","v":""},{"$f":"IF('Broker Sheet'!AF246=\"\",\"\",TEXT('Broker Sheet'!AF246,\"YYYYMMDD\"))","v":""},{"$f":"IF('Broker Sheet'!AG246=\"\",\"\",TEXT('Broker Sheet'!AG246,\"YYYYMMDD\"))","v":""}]
[null,null,null,null,null,{"$f":"IF('Broker Sheet'!C247=\"\",\"\",'Broker Sheet'!C247)","v":""},{"$f":"IF('Broker Sheet'!D247=\"\",\"\",'Broker Sheet'!D247)","v":""},{"$f":"IF('Broker Sheet'!E247=\"\",\"\",'Broker Sheet'!E247)","v":""},{"$f":"IF('Broker Sheet'!F247=\"\",\"\",'Broker Sheet'!F247)","v":""},{"$f":"IF('Broker Sheet'!G247=\"\",\"\",TEXT('Broker Sheet'!G247,\"YYYYMMDD\"))","v":""},{"$f":"IF('Broker Sheet'!H247=\"\",\"\",'Broker Sheet'!H247)","v":""},{"$f":"IF('Broker Sheet'!I247=\"\",\"\",'Broker Sheet'!I247)","v":""},{"$f":"IF('Broker Sheet'!J247=\"\",\"\",VLOOKUP('Broker Sheet'!J247,(Reference!$E$4:$F$9),2,FALSE))","v":""},{"$f":"IF('Broker Sheet'!K247=\"\",\"\",'Broker Sheet'!K247)","v":""},{"$f":"IF('Broker Sheet'!R247=\"\",\"\",'Broker Sheet'!R247)","v":""},{"$f":"IF('Broker Sheet'!S247=\"\",\"\",'Broker Sheet'!S247)","v":""},{"$f":"IF('Broker Sheet'!T247=\"\",\"\",'Broker Sheet'!T247)","v":""},{"$f":"IF('Broker Sheet'!U247=\"\",\"\",'Broker Sheet'!U247)","v":""},{"$f":"IF('Broker Sheet'!V247=\"\",\"\",'Broker Sheet'!V247)","v":""},{"$f":"IF('Broker Sheet'!W247=\"\",\"\",'Broker Sheet'!W247)","v":""},{"$f":"IF('Broker Sheet'!Y247=\"\",\"\",'Broker Sheet'!Y247)","v":""},{"$f":"IF('Broker Sheet'!AA247=\"\",\"\",'Broker Sheet'!AA247)","v":""},{"$f":"IF('Broker Sheet'!Z247=\"\",\"\",'Broker Sheet'!Z247)","v":""},{"$f":"IF('Broker Sheet'!AB247=\"\",\"\",'Broker Sheet'!AB247)","v":""},null,null,{"$f":"IF('Broker Sheet'!L247=\"\",\"\",TEXT('Broker Sheet'!L247,\"YYYYMMDD\"))","v":""},{"$f":"IF('Broker Sheet'!AC247=\"\",\"\",TEXT('Broker Sheet'!AC247,\"YYYYMMDD\"))","v":""},{"$f":"IF('Broker Sheet'!AD247=\"\",\"\",TEXT('Broker Sheet'!AD247,\"YYYYMMDD\"))","v":""},{"$f":"IF('Broker Sheet'!AE247=\"\",\"\",'Broker Sheet'!AE247)","v":""},{"$f":"IF('Broker Sheet'!AF247=\"\",\"\",TEXT('Broker Sheet'!AF247,\"YYYYMMDD\"))","v":""},{"$f":"IF('Broker Sheet'!AG247=\"\",\"\",TEXT('Broker Sheet'!AG247,\"YYYYMMDD\"))","v":""}]
[null,null,null,null,null,{"$f":"IF('Broker Sheet'!C248=\"\",\"\",'Broker Sheet'!C248)","v":""},{"$f":"IF('Broker Sheet'!D248=\"\",\"\",'Broker Sheet'!D248)","v":""},{"$f":"IF('Broker Sheet'!E248=\"\",\"\",'Broker Sheet'!E248)","v":""},{"$f":"IF('Broker Sheet'!F248=\"\",\"\",'Broker Sheet'!F248)","v":""},{"$f":"IF('Broker Sheet'!G248=\"\",\"\",TEXT('Broker Sheet'!G248,\"YYYYMMDD\"))","v":""},{"$f":"IF('Broker Sheet'!H248=\"\",\"\",'Broker Sheet'!H248)","v":""},{"$f":"IF('Broker Sheet'!I248=\"\",\"\",'Broker Sheet'!I248)","v":""},{"$f":"IF('Broker Sheet'!J248=\"\",\"\",VLOOKUP('Broker Sheet'!J248,(Reference!$E$4:$F$9),2,FALSE))","v":""},{"$f":"IF('Broker Sheet'!K248=\"\",\"\",'Broker Sheet'!K248)","v":""},{"$f":"IF('Broker Sheet'!R248=\"\",\"\",'Broker Sheet'!R248)","v":""},{"$f":"IF('Broker Sheet'!S248=\"\",\"\",'Broker Sheet'!S248)","v":""},{"$f":"IF('Broker Sheet'!T248=\"\",\"\",'Broker Sheet'!T248)","v":""},{"$f":"IF('Broker Sheet'!U248=\"\",\"\",'Broker Sheet'!U248)","v":""},{"$f":"IF('Broker Sheet'!V248=\"\",\"\",'Broker Sheet'!V248)","v":""},{"$f":"IF('Broker Sheet'!W248=\"\",\"\",'Broker Sheet'!W248)","v":""},{"$f":"IF('Broker Sheet'!Y248=\"\",\"\",'Broker Sheet'!Y248)","v":""},{"$f":"IF('Broker Sheet'!AA248=\"\",\"\",'Broker Sheet'!AA248)","v":""},{"$f":"IF('Broker Sheet'!Z248=\"\",\"\",'Broker Sheet'!Z248)","v":""},{"$f":"IF('Broker Sheet'!AB248=\"\",\"\",'Broker Sheet'!AB248)","v":""},null,null,{"$f":"IF('Broker Sheet'!L248=\"\",\"\",TEXT('Broker Sheet'!L248,\"YYYYMMDD\"))","v":""},{"$f":"IF('Broker Sheet'!AC248=\"\",\"\",TEXT('Broker Sheet'!AC248,\"YYYYMMDD\"))","v":""},{"$f":"IF('Broker Sheet'!AD248=\"\",\"\",TEXT('Broker Sheet'!AD248,\"YYYYMMDD\"))","v":""},{"$f":"IF('Broker Sheet'!AE248=\"\",\"\",'Broker Sheet'!AE248)","v":""},{"$f":"IF('Broker Sheet'!AF248=\"\",\"\",TEXT('Broker Sheet'!AF248,\"YYYYMMDD\"))","v":""},{"$f":"IF('Broker Sheet'!AG248=\"\",\"\",TEXT('Broker Sheet'!AG248,\"YYYYMMDD\"))","v":""}]
[null,null,null,null,null,{"$f":"IF('Broker Sheet'!C249=\"\",\"\",'Broker Sheet'!C249)","v":""},{"$f":"IF('Broker Sheet'!D249=\"\",\"\",'Broker Sheet'!D249)","v":""},{"$f":"IF('Broker Sheet'!E249=\"\",\"\",'Broker Sheet'!E249)","v":""},{"$f":"IF('Broker Sheet'!F249=\"\",\"\",'Broker Sheet'!F249)","v":""},{"$f":"IF('Broker Sheet'!G249=\"\",\"\",TEXT('Broker Sheet'!G249,\"YYYYMMDD\"))","v":""},{"$f":"IF('Broker Sheet'!H249=\"\",\"\",'Broker Sheet'!H249)","v":""},{"$f":"IF('Broker Sheet'!I249=\"\",\"\",'Broker Sheet'!I249)","v":""},{"$f":"IF('Broker Sheet'!J249=\"\",\"\",VLOOKUP('Broker Sheet'!J249,(Reference!$E$4:$F$9),2,FALSE))","v":""},{"$f":"IF('Broker Sheet'!K249=\"\",\"\",'Broker Sheet'!K249)","v":""},{"$f":"IF('Broker Sheet'!R249=\"\",\"\",'Broker Sheet'!R249)","v":""},{"$f":"IF('Broker Sheet'!S249=\"\",\"\",'Broker Sheet'!S249)","v":""},{"$f":"IF('Broker Sheet'!T249=\"\",\"\",'Broker Sheet'!T249)","v":""},{"$f":"IF('Broker Sheet'!U249=\"\",\"\",'Broker Sheet'!U249)","v":""},{"$f":"IF('Broker Sheet'!V249=\"\",\"\",'Broker Sheet'!V249)","v":""},{"$f":"IF('Broker Sheet'!W249=\"\",\"\",'Broker Sheet'!W249)","v":""},{"$f":"IF('Broker Sheet'!Y249=\"\",\"\",'Broker Sheet'!Y249)","v":""},{"$f":"IF('Broker Sheet'!AA249=\"\",\"\",'Broker Sheet'!AA249)","v":""},{"$f":"IF('Broker Sheet'!Z249=\"\",\"\",'Broker Sheet'!Z249)","v":""},{"$f":"IF('Broker Sheet'!AB249=\"\",\"\",'Broker Sheet'!AB249)","v":""},null,null,{"$f":"IF('Broker Sheet'!L249=\"\",\"\",TEXT('Broker Sheet'!L249,\"YYYYMMDD\"))","v":""},{"$f":"IF('Broker Sheet'!AC249=\"\",\"\",TEXT('Broker Sheet'!AC249,\"YYYYMMDD\"))","v":""},{"$f":"IF('Broker Sheet'!AD249=\"\",\"\",TEXT('Broker Sheet'!AD249,\"YYYYMMDD\"))","v":""},{"$f":"IF('Broker Sheet'!AE249=\"\",\"\",'Broker Sheet'!AE249)","v":""},{"$f":"IF('Broker Sheet'!AF249=\"\",\"\",TEXT('Broker Sheet'!AF249,\"YYYYMMDD\"))","v":""},{"$f":"IF('Broker Sheet'!AG249=\"\",\"\",TEXT('Broker Sheet'!AG249,\"YYYYMMDD\"))","v":""}]
[null,null,null,null,null,{"$f":"IF('Broker Sheet'!C250=\"\",\"\",'Broker Sheet'!C250)","v":""},{"$f":"IF('Broker Sheet'!D250=\"\",\"\",'Broker Sheet'!D250)","v":""},{"$f":"IF('Broker Sheet'!E250=\"\",\"\",'Broker Sheet'!E250)","v":""},{"$f":"IF('Broker Sheet'!F250=\"\",\"\",'Broker Sheet'!F250)","v":""},{"$f":"IF('Broker Sheet'!G250=\"\",\"\",TEXT('Broker Sheet'!G250,\"YYYYMMDD\"))","v":""},{"$f":"IF('Broker Sheet'!H250=\"\",\"\",'Broker Sheet'!H250)","v":""},{"$f":"IF('Broker Sheet'!I250=\"\",\"\",'Broker Sheet'!I250)","v":""},{"$f":"IF('Broker Sheet'!J250=\"\",\"\",VLOOKUP('Broker Sheet'!J250,(Reference!$E$4:$F$9),2,FALSE))","v":""},{"$f":"IF('Broker Sheet'!K250=\"\",\"\",'Broker Sheet'!K250)","v":""},{"$f":"IF('Broker Sheet'!R250=\"\",\"\",'Broker Sheet'!R250)","v":""},{"$f":"IF('Broker Sheet'!S250=\"\",\"\",'Broker Sheet'!S250)","v":""},{"$f":"IF('Broker Sheet'!T250=\"\",\"\",'Broker Sheet'!T250)","v":""},{"$f":"IF('Broker Sheet'!U250=\"\",\"\",'Broker Sheet'!U250)","v":""},{"$f":"IF('Broker Sheet'!V250=\"\",\"\",'Broker Sheet'!V250)","v":""},{"$f":"IF('Broker Sheet'!W250=\"\",\"\",'Broker Sheet'!W250)","v":""},{"$f":"IF('Broker Sheet'!Y250=\"\",\"\",'Broker Sheet'!Y250)","v":""},{"$f":"IF('Broker Sheet'!AA250=\"\",\"\",'Broker Sheet'!AA250)","v":""},{"$f":"IF('Broker Sheet'!Z250=\"\",\"\",'Broker Sheet'!Z250)","v":""},{"$f":"IF('Broker Sheet'!AB250=\"\",\"\",'Broker Sheet'!AB250)","v":""},null,null,{"$f":"IF('Broker Sheet'!L250=\"\",\"\",TEXT('Broker Sheet'!L250,\"YYYYMMDD\"))","v":""},{"$f":"IF('Broker Sheet'!AC250=\"\",\"\",TEXT('Broker Sheet'!AC250,\"YYYYMMDD\"))","v":""},{"$f":"IF('Broker Sheet'!AD250=\"\",\"\",TEXT('Broker Sheet'!AD250,\"YYYYMMDD\"))","v":""},{"$f":"IF('Broker Sheet'!AE250=\"\",\"\",'Broker Sheet'!AE250)","v":""},{"$f":"IF('Broker Sheet'!AF250=\"\",\"\",TEXT('Broker Sheet'!AF250,\"YYYYMMDD\"))","v":""},{"$f":"IF('Broker Sheet'!AG250=\"\",\"\",TEXT('Broker Sheet'!AG250,\"YYYYMMDD\"))","v":""}]
[null,null,null,null,null,{"$f":"IF('Broker Sheet'!C251=\"\",\"\",'Broker Sheet'!C251)","v":""},{"$f":"IF('Broker Sheet'!D251=\"\",\"\",'Broker Sheet'!D251)","v":""},{"$f":"IF('Broker Sheet'!E251=\"\",\"\",'Broker Sheet'!E251)","v":""},{"$f":"IF('Broker Sheet'!F251=\"\",\"\",'Broker Sheet'!F251)","v":""},{"$f":"IF('Broker Sheet'!G251=\"\",\"\",TEXT('Broker Sheet'!G251,\"YYYYMMDD\"))","v":""},{"$f":"IF('Broker Sheet'!H251=\"\",\"\",'Broker Sheet'!H251)","v":""},{"$f":"IF('Broker Sheet'!I251=\"\",\"\",'Broker Sheet'!I251)","v":""},{"$f":"IF('Broker Sheet'!J251=\"\",\"\",VLOOKUP('Broker Sheet'!J251,(Reference!$E$4:$F$9),2,FALSE))","v":""},{"$f":"IF('Broker Sheet'!K251=\"\",\"\",'Broker Sheet'!K251)","v":""},{"$f":"IF('Broker Sheet'!R251=\"\",\"\",'Broker Sheet'!R251)","v":""},{"$f":"IF('Broker Sheet'!S251=\"\",\"\",'Broker Sheet'!S251)","v":""},{"$f":"IF('Broker Sheet'!T251=\"\",\"\",'Broker Sheet'!T251)","v":""},{"$f":"IF('Broker Sheet'!U251=\"\",\"\",'Broker Sheet'!U251)","v":""},{"$f":"IF('Broker Sheet'!V251=\"\",\"\",'Broker Sheet'!V251)","v":""},{"$f":"IF('Broker Sheet'!W251=\"\",\"\",'Broker Sheet'!W251)","v":""},{"$f":"IF('Broker Sheet'!Y251=\"\",\"\",'Broker Sheet'!Y251)","v":""},{"$f":"IF('Broker Sheet'!AA251=\"\",\"\",'Broker Sheet'!AA251)","v":""},{"$f":"IF('Broker Sheet'!Z251=\"\",\"\",'Broker Sheet'!Z251)","v":""},{"$f":"IF('Broker Sheet'!AB251=\"\",\"\",'Broker Sheet'!AB251)","v":""},null,null,{"$f":"IF('Broker Sheet'!L251=\"\",\"\",TEXT('Broker Sheet'!L251,\"YYYYMMDD\"))","v":""},{"$f":"IF('Broker Sheet'!AC251=\"\",\"\",TEXT('Broker Sheet'!AC251,\"YYYYMMDD\"))","v":""},{"$f":"IF('Broker Sheet'!AD251=\"\",\"\",TEXT('Broker Sheet'!AD251,\"YYYYMMDD\"))","v":""},{"$f":"IF('Broker Sheet'!AE251=\"\",\"\",'Broker Sheet'!AE251)","v":""},{"$f":"IF('Broker Sheet'!AF251=\"\",\"\",TEXT('Broker Sheet'!AF251,\"YYYYMMDD\"))","v":""},{"$f":"IF('Broker Sheet'!AG251=\"\",\"\",TEXT('Broker Sheet'!AG251,\"YYYYMMDD\"))","v":""}]
[null,null,null,null,null,{"$f":"IF('Broker Sheet'!C252=\"\",\"\",'Broker Sheet'!C252)","v":""},{"$f":"IF('Broker Sheet'!D252=\"\",\"\",'Broker Sheet'!D252)","v":""},{"$f":"IF('Broker Sheet'!E252=\"\",\"\",'Broker Sheet'!E252)","v":""},{"$f":"IF('Broker Sheet'!F252=\"\",\"\",'Broker Sheet'!F252)","v":""},{"$f":"IF('Broker Sheet'!G252=\"\",\"\",TEXT('Broker Sheet'!G252,\"YYYYMMDD\"))","v":""},{"$f":"IF('Broker Sheet'!H252=\"\",\"\",'Broker Sheet'!H252)","v":""},{"$f":"IF('Broker Sheet'!I252=\"\",\"\",'Broker Sheet'!I252)","v":""},{"$f":"IF('Broker Sheet'!J252=\"\",\"\",VLOOKUP('Broker Sheet'!J252,(Reference!$E$4:$F$9),2,FALSE))","v":""},{"$f":"IF('Broker Sheet'!K252=\"\",\"\",'Broker Sheet'!K252)","v":""},{"$f":"IF('Broker Sheet'!R252=\"\",\"\",'Broker Sheet'!R252)","v":""},{"$f":"IF('Broker Sheet'!S252=\"\",\"\",'Broker Sheet'!S252)","v":""},{"$f":"IF('Broker Sheet'!T252=\"\",\"\",'Broker Sheet'!T252)","v":""},{"$f":"IF('Broker Sheet'!U252=\"\",\"\",'Broker Sheet'!U252)","v":""},{"$f":"IF('Broker Sheet'!V252=\"\",\"\",'Broker Sheet'!V252)","v":""},{"$f":"IF('Broker Sheet'!W252=\"\",\"\",'Broker Sheet'!W252)","v":""},{"$f":"IF('Broker Sheet'!Y252=\"\",\"\",'Broker Sheet'!Y252)","v":""},{"$f":"IF('Broker Sheet'!AA252=\"\",\"\",'Broker Sheet'!AA252)","v":""},{"$f":"IF('Broker Sheet'!Z252=\"\",\"\",'Broker Sheet'!Z252)","v":""},{"$f":"IF('Broker Sheet'!AB252=\"\",\"\",'Broker Sheet'!AB252)","v":""},null,null,{"$f":"IF('Broker Sheet'!L252=\"\",\"\",TEXT('Broker Sheet'!L252,\"YYYYMMDD\"))","v":""},{"$f":"IF('Broker Sheet'!AC252=\"\",\"\",TEXT('Broker Sheet'!AC252,\"YYYYMMDD\"))","v":""},{"$f":"IF('Broker Sheet'!AD252=\"\",\"\",TEXT('Broker Sheet'!AD252,\"YYYYMMDD\"))","v":""},{"$f":"IF('Broker Sheet'!AE252=\"\",\"\",'Broker Sheet'!AE252)","v":""},{"$f":"IF('Broker Sheet'!AF252=\"\",\"\",TEXT('Broker Sheet'!AF252,\"YYYYMMDD\"))","v":""},{"$f":"IF('Broker Sheet'!AG252=\"\",\"\",TEXT('Broker Sheet'!AG252,\"YYYYMMDD\"))","v":""}]
[null,null,null,null,null,{"$f":"IF('Broker Sheet'!C253=\"\",\"\",'Broker Sheet'!C253)","v":""},{"$f":"IF('Broker Sheet'!D253=\"\",\"\",'Broker Sheet'!D253)","v":""},{"$f":"IF('Broker Sheet'!E253=\"\",\"\",'Broker Sheet'!E253)","v":""},{"$f":"IF('Broker Sheet'!F253=\"\",\"\",'Broker Sheet'!F253)","v":""},{"$f":"IF('Broker Sheet'!G253=\"\",\"\",TEXT('Broker Sheet'!G253,\"YYYYMMDD\"))","v":""},{"$f":"IF('Broker Sheet'!H253=\"\",\"\",'Broker Sheet'!H253)","v":""},{"$f":"IF('Broker Sheet'!I253=\"\",\"\",'Broker Sheet'!I253)","v":""},{"$f":"IF('Broker Sheet'!J253=\"\",\"\",VLOOKUP('Broker Sheet'!J253,(Reference!$E$4:$F$9),2,FALSE))","v":""},{"$f":"IF('Broker Sheet'!K253=\"\",\"\",'Broker Sheet'!K253)","v":""},{"$f":"IF('Broker Sheet'!R253=\"\",\"\",'Broker Sheet'!R253)","v":""},{"$f":"IF('Broker Sheet'!S253=\"\",\"\",'Broker Sheet'!S253)","v":""},{"$f":"IF('Broker Sheet'!T253=\"\",\"\",'Broker Sheet'!T253)","v":""},{"$f":"IF('Broker Sheet'!U253=\"\",\"\",'Broker Sheet'!U253)","v":""},{"$f":"IF('Broker Sheet'!V253=\"\",\"\",'Broker Sheet'!V253)","v":""},{"$f":"IF('Broker Sheet'!W253=\"\",\"\",'Broker Sheet'!W253)","v":""},{"$f":"IF('Broker Sheet'!Y253=\"\",\"\",'Broker Sheet'!Y253)","v":""},{"$f":"IF('Broker Sheet'!AA253=\"\",\"\",'Broker Sheet'!AA253)","v":""},{"$f":"IF('Broker Sheet'!Z253=\"\",\"\",'Broker Sheet'!Z253)","v":""},{"$f":"IF('Broker Sheet'!AB253=\"\",\"\",'Broker Sheet'!AB253)","v":""},null,null,{"$f":"IF('Broker Sheet'!L253=\"\",\"\",TEXT('Broker Sheet'!L253,\"YYYYMMDD\"))","v":""},{"$f":"IF('Broker Sheet'!AC253=\"\",\"\",TEXT('Broker Sheet'!AC253,\"YYYYMMDD\"))","v":""},{"$f":"IF('Broker Sheet'!AD253=\"\",\"\",TEXT('Broker Sheet'!AD253,\"YYYYMMDD\"))","v":""},{"$f":"IF('Broker Sheet'!AE253=\"\",\"\",'Broker Sheet'!AE253)","v":""},{"$f":"IF('Broker Sheet'!AF253=\"\",\"\",TEXT('Broker Sheet'!AF253,\"YYYYMMDD\"))","v":""},{"$f":"IF('Broker Sheet'!AG253=\"\",\"\",TEXT('Broker Sheet'!AG253,\"YYYYMMDD\"))","v":""}]
[null,null,null,null,null,{"$f":"IF('Broker Sheet'!C254=\"\",\"\",'Broker Sheet'!C254)","v":""},{"$f":"IF('Broker Sheet'!D254=\"\",\"\",'Broker Sheet'!D254)","v":""},{"$f":"IF('Broker Sheet'!E254=\"\",\"\",'Broker Sheet'!E254)","v":""},{"$f":"IF('Broker Sheet'!F254=\"\",\"\",'Broker Sheet'!F254)","v":""},{"$f":"IF('Broker Sheet'!G254=\"\",\"\",TEXT('Broker Sheet'!G254,\"YYYYMMDD\"))","v":""},{"$f":"IF('Broker Sheet'!H254=\"\",\"\",'Broker Sheet'!H254)","v":""},{"$f":"IF('Broker Sheet'!I254=\"\",\"\",'Broker Sheet'!I254)","v":""},{"$f":"IF('Broker Sheet'!J254=\"\",\"\",VLOOKUP('Broker Sheet'!J254,(Reference!$E$4:$F$9),2,FALSE))","v":""},{"$f":"IF('Broker Sheet'!K254=\"\",\"\",'Broker Sheet'!K254)","v":""},{"$f":"IF('Broker Sheet'!R254=\"\",\"\",'Broker Sheet'!R254)","v":""},{"$f":"IF('Broker Sheet'!S254=\"\",\"\",'Broker Sheet'!S254)","v":""},{"$f":"IF('Broker Sheet'!T254=\"\",\"\",'Broker Sheet'!T254)","v":""},{"$f":"IF('Broker Sheet'!U254=\"\",\"\",'Broker Sheet'!U254)","v":""},{"$f":"IF('Broker Sheet'!V254=\"\",\"\",'Broker Sheet'!V254)","v":""},{"$f":"IF('Broker Sheet'!W254=\"\",\"\",'Broker Sheet'!W254)","v":""},{"$f":"IF('Broker Sheet'!Y254=\"\",\"\",'Broker Sheet'!Y254)","v":""},{"$f":"IF('Broker Sheet'!AA254=\"\",\"\",'Broker Sheet'!AA254)","v":""},{"$f":"IF('Broker Sheet'!Z254=\"\",\"\",'Broker Sheet'!Z254)","v":""},{"$f":"IF('Broker Sheet'!AB254=\"\",\"\",'Broker Sheet'!AB254)","v":""},null,null,{"$f":"IF('Broker Sheet'!L254=\"\",\"\",TEXT('Broker Sheet'!L254,\"YYYYMMDD\"))","v":""},{"$f":"IF('Broker Sheet'!AC254=\"\",\"\",TEXT('Broker Sheet'!AC254,\"YYYYMMDD\"))","v":""},{"$f":"IF('Broker Sheet'!AD254=\"\",\"\",TEXT('Broker Sheet'!AD254,\"YYYYMMDD\"))","v":""},{"$f":"IF('Broker Sheet'!AE254=\"\",\"\",'Broker Sheet'!AE254)","v":""},{"$f":"IF('Broker Sheet'!AF254=\"\",\"\",TEXT('Broker Sheet'!AF254,\"YYYYMMDD\"))","v":""},{"$f":"IF('Broker Sheet'!AG254=\"\",\"\",TEXT('Broker Sheet'!AG254,\"YYYYMMDD\"))","v":""}]
[null,null,null,null,null,{"$f":"IF('Broker Sheet'!C255=\"\",\"\",'Broker Sheet'!C255)","v":""},{"$f":"IF('Broker Sheet'!D255=\"\",\"\",'Broker Sheet'!D255)","v":""},{"$f":"IF('Broker Sheet'!E255=\"\",\"\",'Broker Sheet'!E255)","v":""},{"$f":"IF('Broker Sheet'!F255=\"\",\"\",'Broker Sheet'!F255)","v":""},{"$f":"IF('Broker Sheet'!G255=\"\",\"\",TEXT('Broker Sheet'!G255,\"YYYYMMDD\"))","v":""},{"$f":"IF('Broker Sheet'!H255=\"\",\"\",'Broker Sheet'!H255)","v":""},{"$f":"IF('Broker Sheet'!I255=\"\",\"\",'Broker Sheet'!I255)","v":""},{"$f":"IF('Broker Sheet'!J255=\"\",\"\",VLOOKUP('Broker Sheet'!J255,(Reference!$E$4:$F$9),2,FALSE))","v":""},{"$f":"IF('Broker Sheet'!K255=\"\",\"\",'Broker Sheet'!K255)","v":""},{"$f":"IF('Broker Sheet'!R255=\"\",\"\",'Broker Sheet'!R255)","v":""},{"$f":"IF('Broker Sheet'!S255=\"\",\"\",'Broker Sheet'!S255)","v":""},{"$f":"IF('Broker Sheet'!T255=\"\",\"\",'Broker Sheet'!T255)","v":""},{"$f":"IF('Broker Sheet'!U255=\"\",\"\",'Broker Sheet'!U255)","v":""},{"$f":"IF('Broker Sheet'!V255=\"\",\"\",'Broker Sheet'!V255)","v":""},{"$f":"IF('Broker Sheet'!W255=\"\",\"\",'Broker Sheet'!W255)","v":""},{"$f":"IF('Broker Sheet'!Y255=\"\",\"\",'Broker Sheet'!Y255)","v":""},{"$f":"IF('Broker Sheet'!AA255=\"\",\"\",'Broker Sheet'!AA255)","v":""},{"$f":"IF('Broker Sheet'!Z255=\"\",\"\",'Broker Sheet'!Z255)","v":""},{"$f":"IF('Broker Sheet'!AB255=\"\",\"\",'Broker Sheet'!AB255)","v":""},null,null,{"$f":"IF('Broker Sheet'!L255=\"\",\"\",TEXT('Broker Sheet'!L255,\"YYYYMMDD\"))","v":""},{"$f":"IF('Broker Sheet'!AC255=\"\",\"\",TEXT('Broker Sheet'!AC255,\"YYYYMMDD\"))","v":""},{"$f":"IF('Broker Sheet'!AD255=\"\",\"\",TEXT('Broker Sheet'!AD255,\"YYYYMMDD\"))","v":""},{"$f":"IF('Broker Sheet'!AE255=\"\",\"\",'Broker Sheet'!AE255)","v":""},{"$f":"IF('Broker Sheet'!AF255=\"\",\"\",TEXT('Broker Sheet'!AF255,\"YYYYMMDD\"))","v":""},{"$f":"IF('Broker Sheet'!AG255=\"\",\"\",TEXT('Broker Sheet'!AG255,\"YYYYMMDD\"))","v":""}]
[null,null,null,null,null,{"$f":"IF('Broker Sheet'!C256=\"\",\"\",'Broker Sheet'!C256)","v":""},{"$f":"IF('Broker Sheet'!D256=\"\",\"\",'Broker Sheet'!D256)","v":""},{"$f":"IF('Broker Sheet'!E256=\"\",\"\",'Broker Sheet'!E256)","v":""},{"$f":"IF('Broker Sheet'!F256=\"\",\"\",'Broker Sheet'!F256)","v":""},{"$f":"IF('Broker Sheet'!G256=\"\",\"\",TEXT('Broker Sheet'!G256,\"YYYYMMDD\"))","v":""},{"$f":"IF('Broker Sheet'!H256=\"\",\"\",'Broker Sheet'!H256)","v":""},{"$f":"IF('Broker Sheet'!I256=\"\",\"\",'Broker Sheet'!I256)","v":""},{"$f":"IF('Broker Sheet'!J256=\"\",\"\",VLOOKUP('Broker Sheet'!J256,(Reference!$E$4:$F$9),2,FALSE))","v":""},{"$f":"IF('Broker Sheet'!K256=\"\",\"\",'Broker Sheet'!K256)","v":""},{"$f":"IF('Broker Sheet'!R256=\"\",\"\",'Broker Sheet'!R256)","v":""},{"$f":"IF('Broker Sheet'!S256=\"\",\"\",'Broker Sheet'!S256)","v":""},{"$f":"IF('Broker Sheet'!T256=\"\",\"\",'Broker Sheet'!T256)","v":""},{"$f":"IF('Broker Sheet'!U256=\"\",\"\",'Broker Sheet'!U256)","v":""},{"$f":"IF('Broker Sheet'!V256=\"\",\"\",'Broker Sheet'!V256)","v":""},{"$f":"IF('Broker Sheet'!W256=\"\",\"\",'Broker Sheet'!W256)","v":""},{"$f":"IF('Broker Sheet'!Y256=\"\",\"\",'Broker Sheet'!Y256)","v":""},{"$f":"IF('Broker Sheet'!AA256=\"\",\"\",'Broker Sheet'!AA256)","v":""},{"$f":"IF('Broker Sheet'!Z256=\"\",\"\",'Broker Sheet'!Z256)","v":""},{"$f":"IF('Broker Sheet'!AB256=\"\",\"\",'Broker Sheet'!AB256)","v":""},null,null,{"$f":"IF('Broker Sheet'!L256=\"\",\"\",TEXT('Broker Sheet'!L256,\"YYYYMMDD\"))","v":""},{"$f":"IF('Broker Sheet'!AC256=\"\",\"\",TEXT('Broker Sheet'!AC256,\"YYYYMMDD\"))","v":""},{"$f":"IF('Broker Sheet'!AD256=\"\",\"\",TEXT('Broker Sheet'!AD256,\"YYYYMMDD\"))","v":""},{"$f":"IF('Broker Sheet'!AE256=\"\",\"\",'Broker Sheet'!AE256)","v":""},{"$f":"IF('Broker Sheet'!AF256=\"\",\"\",TEXT('Broker Sheet'!AF256,\"YYYYMMDD\"))","v":""},{"$f":"IF('Broker Sheet'!AG256=\"\",\"\",TEXT('Broker Sheet'!AG256,\"YYYYMMDD\"))","v":""}]
[null,null,null,null,null,{"$f":"IF('Broker Sheet'!C257=\"\",\"\",'Broker Sheet'!C257)","v":""},{"$f":"IF('Broker Sheet'!D257=\"\",\"\",'Broker Sheet'!D257)","v":""},{"$f":"IF('Broker Sheet'!E257=\"\",\"\",'Broker Sheet'!E257)","v":""},{"$f":"IF('Broker Sheet'!F257=\"\",\"\",'Broker Sheet'!F257)","v":""},{"$f":"IF('Broker Sheet'!G257=\"\",\"\",TEXT('Broker Sheet'!G257,\"YYYYMMDD\"))","v":""},{"$f":"IF('Broker Sheet'!H257=\"\",\"\",'Broker Sheet'!H257)","v":""},{"$f":"IF('Broker Sheet'!I257=\"\",\"\",'Broker Sheet'!I257)","v":""},{"$f":"IF('Broker Sheet'!J257=\"\",\"\",VLOOKUP('Broker Sheet'!J257,(Reference!$E$4:$F$9),2,FALSE))","v":""},{"$f":"IF('Broker Sheet'!K257=\"\",\"\",'Broker Sheet'!K257)","v":""},{"$f":"IF('Broker Sheet'!R257=\"\",\"\",'Broker Sheet'!R257)","v":""},{"$f":"IF('Broker Sheet'!S257=\"\",\"\",'Broker Sheet'!S257)","v":""},{"$f":"IF('Broker Sheet'!T257=\"\",\"\",'Broker Sheet'!T257)","v":""},{"$f":"IF('Broker Sheet'!U257=\"\",\"\",'Broker Sheet'!U257)","v":""},{"$f":"IF('Broker Sheet'!V257=\"\",\"\",'Broker Sheet'!V257)","v":""},{"$f":"IF('Broker Sheet'!W257=\"\",\"\",'Broker Sheet'!W257)","v":""},{"$f":"IF('Broker Sheet'!Y257=\"\",\"\",'Broker Sheet'!Y257)","v":""},{"$f":"IF('Broker Sheet'!AA257=\"\",\"\",'Broker Sheet'!AA257)","v":""},{"$f":"IF('Broker Sheet'!Z257=\"\",\"\",'Broker Sheet'!Z257)","v":""},{"$f":"IF('Broker Sheet'!AB257=\"\",\"\",'Broker Sheet'!AB257)","v":""},null,null,{"$f":"IF('Broker Sheet'!L257=\"\",\"\",TEXT('Broker Sheet'!L257,\"YYYYMMDD\"))","v":""},{"$f":"IF('Broker Sheet'!AC257=\"\",\"\",TEXT('Broker Sheet'!AC257,\"YYYYMMDD\"))","v":""},{"$f":"IF('Broker Sheet'!AD257=\"\",\"\",TEXT('Broker Sheet'!AD257,\"YYYYMMDD\"))","v":""},{"$f":"IF('Broker Sheet'!AE257=\"\",\"\",'Broker Sheet'!AE257)","v":""},{"$f":"IF('Broker Sheet'!AF257=\"\",\"\",TEXT('Broker Sheet'!AF257,\"YYYYMMDD\"))","v":""},{"$f":"IF('Broker Sheet'!AG257=\"\",\"\",TEXT('Broker Sheet'!AG257,\"YYYYMMDD\"))","v":""}]
[null,null,null,null,null,{"$f":"IF('Broker Sheet'!C258=\"\",\"\",'Broker Sheet'!C258)","v":""},{"$f":"IF('Broker Sheet'!D258=\"\",\"\",'Broker Sheet'!D258)","v":""},{"$f":"IF('Broker Sheet'!E258=\"\",\"\",'Broker Sheet'!E258)","v":""},{"$f":"IF('Broker Sheet'!F258=\"\",\"\",'Broker Sheet'!F258)","v":""},{"$f":"IF('Broker Sheet'!G258=\"\",\"\",TEXT('Broker Sheet'!G258,\"YYYYMMDD\"))","v":""},{"$f":"IF('Broker Sheet'!H258=\"\",\"\",'Broker Sheet'!H258)","v":""},{"$f":"IF('Broker Sheet'!I258=\"\",\"\",'Broker Sheet'!I258)","v":""},{"$f":"IF('Broker Sheet'!J258=\"\",\"\",VLOOKUP('Broker Sheet'!J258,(Reference!$E$4:$F$9),2,FALSE))","v":""},{"$f":"IF('Broker Sheet'!K258=\"\",\"\",'Broker Sheet'!K258)","v":""},{"$f":"IF('Broker Sheet'!R258=\"\",\"\",'Broker Sheet'!R258)","v":""},{"$f":"IF('Broker Sheet'!S258=\"\",\"\",'Broker Sheet'!S258)","v":""},{"$f":"IF('Broker Sheet'!T258=\"\",\"\",'Broker Sheet'!T258)","v":""},{"$f":"IF('Broker Sheet'!U258=\"\",\"\",'Broker Sheet'!U258)","v":""},{"$f":"IF('Broker Sheet'!V258=\"\",\"\",'Broker Sheet'!V258)","v":""},{"$f":"IF('Broker Sheet'!W258=\"\",\"\",'Broker Sheet'!W258)","v":""},{"$f":"IF('Broker Sheet'!Y258=\"\",\"\",'Broker Sheet'!Y258)","v":""},{"$f":"IF('Broker Sheet'!AA258=\"\",\"\",'Broker Sheet'!AA258)","v":""},{"$f":"IF('Broker Sheet'!Z258=\"\",\"\",'Broker Sheet'!Z258)","v":""},{"$f":"IF('Broker Sheet'!AB258=\"\",\"\",'Broker Sheet'!AB258)","v":""},null,null,{"$f":"IF('Broker Sheet'!L258=\"\",\"\",TEXT('Broker Sheet'!L258,\"YYYYMMDD\"))","v":""},{"$f":"IF('Broker Sheet'!AC258=\"\",\"\",TEXT('Broker Sheet'!AC258,\"YYYYMMDD\"))","v":""},{"$f":"IF('Broker Sheet'!AD258=\"\",\"\",TEXT('Broker Sheet'!AD258,\"YYYYMMDD\"))","v":""},{"$f":"IF('Broker Sheet'!AE258=\"\",\"\",'Broker Sheet'!AE258)","v":""},{"$f":"IF('Broker Sheet'!AF258=\"\",\"\",TEXT('Broker Sheet'!AF258,\"YYYYMMDD\"))","v":""},{"$f":"IF('Broker Sheet'!AG258=\"\",\"\",TEXT('Broker Sheet'!AG258,\"YYYYMMDD\"))","v":""}]
[null,null,null,null,null,{"$f":"IF('Broker Sheet'!C259=\"\",\"\",'Broker Sheet'!C259)","v":""},{"$f":"IF('Broker Sheet'!D259=\"\",\"\",'Broker Sheet'!D259)","v":""},{"$f":"IF('Broker Sheet'!E259=\"\",\"\",'Broker Sheet'!E259)","v":""},{"$f":"IF('Broker Sheet'!F259=\"\",\"\",'Broker Sheet'!F259)","v":""},{"$f":"IF('Broker Sheet'!G259=\"\",\"\",TEXT('Broker Sheet'!G259,\"YYYYMMDD\"))","v":""},{"$f":"IF('Broker Sheet'!H259=\"\",\"\",'Broker Sheet'!H259)","v":""},{"$f":"IF('Broker Sheet'!I259=\"\",\"\",'Broker Sheet'!I259)","v":""},{"$f":"IF('Broker Sheet'!J259=\"\",\"\",VLOOKUP('Broker Sheet'!J259,(Reference!$E$4:$F$9),2,FALSE))","v":""},{"$f":"IF('Broker Sheet'!K259=\"\",\"\",'Broker Sheet'!K259)","v":""},{"$f":"IF('Broker Sheet'!R259=\"\",\"\",'Broker Sheet'!R259)","v":""},{"$f":"IF('Broker Sheet'!S259=\"\",\"\",'Broker Sheet'!S259)","v":""},{"$f":"IF('Broker Sheet'!T259=\"\",\"\",'Broker Sheet'!T259)","v":""},{"$f":"IF('Broker Sheet'!U259=\"\",\"\",'Broker Sheet'!U259)","v":""},{"$f":"IF('Broker Sheet'!V259=\"\",\"\",'Broker Sheet'!V259)","v":""},{"$f":"IF('Broker Sheet'!W259=\"\",\"\",'Broker Sheet'!W259)","v":""},{"$f":"IF('Broker Sheet'!Y259=\"\",\"\",'Broker Sheet'!Y259)","v":""},{"$f":"IF('Broker Sheet'!AA259=\"\",\"\",'Broker Sheet'!AA259)","v":""},{"$f":"IF('Broker Sheet'!Z259=\"\",\"\",'Broker Sheet'!Z259)","v":""},{"$f":"IF('Broker Sheet'!AB259=\"\",\"\",'Broker Sheet'!AB259)","v":""},null,null,{"$f":"IF('Broker Sheet'!L259=\"\",\"\",TEXT('Broker Sheet'!L259,\"YYYYMMDD\"))","v":""},{"$f":"IF('Broker Sheet'!AC259=\"\",\"\",TEXT('Broker Sheet'!AC259,\"YYYYMMDD\"))","v":""},{"$f":"IF('Broker Sheet'!AD259=\"\",\"\",TEXT('Broker Sheet'!AD259,\"YYYYMMDD\"))","v":""},{"$f":"IF('Broker Sheet'!AE259=\"\",\"\",'Broker Sheet'!AE259)","v":""},{"$f":"IF('Broker Sheet'!AF259=\"\",\"\",TEXT('Broker Sheet'!AF259,\"YYYYMMDD\"))","v":""},{"$f":"IF('Broker Sheet'!AG259=\"\",\"\",TEXT('Broker Sheet'!AG259,\"YYYYMMDD\"))","v":""}]
[null,null,null,null,null,{"$f":"IF('Broker Sheet'!C260=\"\",\"\",'Broker Sheet'!C260)","v":""},{"$f":"IF('Broker Sheet'!D260=\"\",\"\",'Broker Sheet'!D260)","v":""},{"$f":"IF('Broker Sheet'!E260=\"\",\"\",'Broker Sheet'!E260)","v":""},{"$f":"IF('Broker Sheet'!F260=\"\",\"\",'Broker Sheet'!F260)","v":""},{"$f":"IF('Broker Sheet'!G260=\"\",\"\",TEXT('Broker Sheet'!G260,\"YYYYMMDD\"))","v":""},{"$f":"IF('Broker Sheet'!H260=\"\",\"\",'Broker Sheet'!H260)","v":""},{"$f":"IF('Broker Sheet'!I260=\"\",\"\",'Broker Sheet'!I260)","v":""},{"$f":"IF('Broker Sheet'!J260=\"\",\"\",VLOOKUP('Broker Sheet'!J260,(Reference!$E$4:$F$9),2,FALSE))","v":""},{"$f":"IF('Broker Sheet'!K260=\"\",\"\",'Broker Sheet'!K260)","v":""},{"$f":"IF('Broker Sheet'!R260=\"\",\"\",'Broker Sheet'!R260)","v":""},{"$f":"IF('Broker Sheet'!S260=\"\",\"\",'Broker Sheet'!S260)","v":""},{"$f":"IF('Broker Sheet'!T260=\"\",\"\",'Broker Sheet'!T260)","v":""},{"$f":"IF('Broker Sheet'!U260=\"\",\"\",'Broker Sheet'!U260)","v":""},{"$f":"IF('Broker Sheet'!V260=\"\",\"\",'Broker Sheet'!V260)","v":""},{"$f":"IF('Broker Sheet'!W260=\"\",\"\",'Broker Sheet'!W260)","v":""},{"$f":"IF('Broker Sheet'!Y260=\"\",\"\",'Broker Sheet'!Y260)","v":""},{"$f":"IF('Broker Sheet'!AA260=\"\",\"\",'Broker Sheet'!AA260)","v":""},{"$f":"IF('Broker Sheet'!Z260=\"\",\"\",'Broker Sheet'!Z260)","v":""},{"$f":"IF('Broker Sheet'!AB260=\"\",\"\",'Broker Sheet'!AB260)","v":""},null,null,{"$f":"IF('Broker Sheet'!L260=\"\",\"\",TEXT('Broker Sheet'!L260,\"YYYYMMDD\"))","v":""},{"$f":"IF('Broker Sheet'!AC260=\"\",\"\",TEXT('Broker Sheet'!AC260,\"YYYYMMDD\"))","v":""},{"$f":"IF('Broker Sheet'!AD260=\"\",\"\",TEXT('Broker Sheet'!AD260,\"YYYYMMDD\"))","v":""},{"$f":"IF('Broker Sheet'!AE260=\"\",\"\",'Broker Sheet'!AE260)","v":""},{"$f":"IF('Broker Sheet'!AF260=\"\",\"\",TEXT('Broker Sheet'!AF260,\"YYYYMMDD\"))","v":""},{"$f":"IF('Broker Sheet'!AG260=\"\",\"\",TEXT('Broker Sheet'!AG260,\"YYYYMMDD\"))","v":""}]
[null,null,null,null,null,{"$f":"IF('Broker Sheet'!C261=\"\",\"\",'Broker Sheet'!C261)","v":""},{"$f":"IF('Broker Sheet'!D261=\"\",\"\",'Broker Sheet'!D261)","v":""},{"$f":"IF('Broker Sheet'!E261=\"\",\"\",'Broker Sheet'!E261)","v":""},{"$f":"IF('Broker Sheet'!F261=\"\",\"\",'Broker Sheet'!F261)","v":""},{"$f":"IF('Broker Sheet'!G261=\"\",\"\",TEXT('Broker Sheet'!G261,\"YYYYMMDD\"))","v":""},{"$f":"IF('Broker Sheet'!H261=\"\",\"\",'Broker Sheet'!H261)","v":""},{"$f":"IF('Broker Sheet'!I261=\"\",\"\",'Broker Sheet'!I261)","v":""},{"$f":"IF('Broker Sheet'!J261=\"\",\"\",VLOOKUP('Broker Sheet'!J261,(Reference!$E$4:$F$9),2,FALSE))","v":""},{"$f":"IF('Broker Sheet'!K261=\"\",\"\",'Broker Sheet'!K261)","v":""},{"$f":"IF('Broker Sheet'!R261=\"\",\"\",'Broker Sheet'!R261)","v":""},{"$f":"IF('Broker Sheet'!S261=\"\",\"\",'Broker Sheet'!S261)","v":""},{"$f":"IF('Broker Sheet'!T261=\"\",\"\",'Broker Sheet'!T261)","v":""},{"$f":"IF('Broker Sheet'!U261=\"\",\"\",'Broker Sheet'!U261)","v":""},{"$f":"IF('Broker Sheet'!V261=\"\",\"\",'Broker Sheet'!V261)","v":""},{"$f":"IF('Broker Sheet'!W261=\"\",\"\",'Broker Sheet'!W261)","v":""},{"$f":"IF('Broker Sheet'!Y261=\"\",\"\",'Broker Sheet'!Y261)","v":""},{"$f":"IF('Broker Sheet'!AA261=\"\",\"\",'Broker Sheet'!AA261)","v":""},{"$f":"IF('Broker Sheet'!Z261=\"\",\"\",'Broker Sheet'!Z261)","v":""},{"$f":"IF('Broker Sheet'!AB261=\"\",\"\",'Broker Sheet'!AB261)","v":""},null,null,{"$f":"IF('Broker Sheet'!L261=\"\",\"\",TEXT('Broker Sheet'!L261,\"YYYYMMDD\"))","v":""},{"$f":"IF('Broker Sheet'!AC261=\"\",\"\",TEXT('Broker Sheet'!AC261,\"YYYYMMDD\"))","v":""},{"$f":"IF('Broker Sheet'!AD261=\"\",\"\",TEXT('Broker Sheet'!AD261,\"YYYYMMDD\"))","v":""},{"$f":"IF('Broker Sheet'!AE261=\"\",\"\",'Broker Sheet'!AE261)","v":""},{"$f":"IF('Broker Sheet'!AF261=\"\",\"\",TEXT('Broker Sheet'!AF261,\"YYYYMMDD\"))","v":""},{"$f":"IF('Broker Sheet'!AG261=\"\",\"\",TEXT('Broker Sheet'!AG261,\"YYYYMMDD\"))","v":""}]
[null,null,null,null,null,{"$f":"IF('Broker Sheet'!C262=\"\",\"\",'Broker Sheet'!C262)","v":""},{"$f":"IF('Broker Sheet'!D262=\"\",\"\",'Broker Sheet'!D262)","v":""},{"$f":"IF('Broker Sheet'!E262=\"\",\"\",'Broker Sheet'!E262)","v":""},{"$f":"IF('Broker Sheet'!F262=\"\",\"\",'Broker Sheet'!F262)","v":""},{"$f":"IF('Broker Sheet'!G262=\"\",\"\",TEXT('Broker Sheet'!G262,\"YYYYMMDD\"))","v":""},{"$f":"IF('Broker Sheet'!H262=\"\",\"\",'Broker Sheet'!H262)","v":""},{"$f":"IF('Broker Sheet'!I262=\"\",\"\",'Broker Sheet'!I262)","v":""},{"$f":"IF('Broker Sheet'!J262=\"\",\"\",VLOOKUP('Broker Sheet'!J262,(Reference!$E$4:$F$9),2,FALSE))","v":""},{"$f":"IF('Broker Sheet'!K262=\"\",\"\",'Broker Sheet'!K262)","v":""},{"$f":"IF('Broker Sheet'!R262=\"\",\"\",'Broker Sheet'!R262)","v":""},{"$f":"IF('Broker Sheet'!S262=\"\",\"\",'Broker Sheet'!S262)","v":""},{"$f":"IF('Broker Sheet'!T262=\"\",\"\",'Broker Sheet'!T262)","v":""},{"$f":"IF('Broker Sheet'!U262=\"\",\"\",'Broker Sheet'!U262)","v":""},{"$f":"IF('Broker Sheet'!V262=\"\",\"\",'Broker Sheet'!V262)","v":""},{"$f":"IF('Broker Sheet'!W262=\"\",\"\",'Broker Sheet'!W262)","v":""},{"$f":"IF('Broker Sheet'!Y262=\"\",\"\",'Broker Sheet'!Y262)","v":""},{"$f":"IF('Broker Sheet'!AA262=\"\",\"\",'Broker Sheet'!AA262)","v":""},{"$f":"IF('Broker Sheet'!Z262=\"\",\"\",'Broker Sheet'!Z262)","v":""},{"$f":"IF('Broker Sheet'!AB262=\"\",\"\",'Broker Sheet'!AB262)","v":""},null,null,{"$f":"IF('Broker Sheet'!L262=\"\",\"\",TEXT('Broker Sheet'!L262,\"YYYYMMDD\"))","v":""},{"$f":"IF('Broker Sheet'!AC262=\"\",\"\",TEXT('Broker Sheet'!AC262,\"YYYYMMDD\"))","v":""},{"$f":"IF('Broker Sheet'!AD262=\"\",\"\",TEXT('Broker Sheet'!AD262,\"YYYYMMDD\"))","v":""},{"$f":"IF('Broker Sheet'!AE262=\"\",\"\",'Broker Sheet'!AE262)","v":""},{"$f":"IF('Broker Sheet'!AF262=\"\",\"\",TEXT('Broker Sheet'!AF262,\"YYYYMMDD\"))","v":""},{"$f":"IF('Broker Sheet'!AG262=\"\",\"\",TEXT('Broker Sheet'!AG262,\"YYYYMMDD\"))","v":""}]
[null,null,null,null,null,{"$f":"IF('Broker Sheet'!C263=\"\",\"\",'Broker Sheet'!C263)","v":""},{"$f":"IF('Broker Sheet'!D263=\"\",\"\",'Broker Sheet'!D263)","v":""},{"$f":"IF('Broker Sheet'!E263=\"\",\"\",'Broker Sheet'!E263)","v":""},{"$f":"IF('Broker Sheet'!F263=\"\",\"\",'Broker Sheet'!F263)","v":""},{"$f":"IF('Broker Sheet'!G263=\"\",\"\",TEXT('Broker Sheet'!G263,\"YYYYMMDD\"))","v":""},{"$f":"IF('Broker Sheet'!H263=\"\",\"\",'Broker Sheet'!H263)","v":""},{"$f":"IF('Broker Sheet'!I263=\"\",\"\",'Broker Sheet'!I263)","v":""},{"$f":"IF('Broker Sheet'!J263=\"\",\"\",VLOOKUP('Broker Sheet'!J263,(Reference!$E$4:$F$9),2,FALSE))","v":""},{"$f":"IF('Broker Sheet'!K263=\"\",\"\",'Broker Sheet'!K263)","v":""},{"$f":"IF('Broker Sheet'!R263=\"\",\"\",'Broker Sheet'!R263)","v":""},{"$f":"IF('Broker Sheet'!S263=\"\",\"\",'Broker Sheet'!S263)","v":""},{"$f":"IF('Broker Sheet'!T263=\"\",\"\",'Broker Sheet'!T263)","v":""},{"$f":"IF('Broker Sheet'!U263=\"\",\"\",'Broker Sheet'!U263)","v":""},{"$f":"IF('Broker Sheet'!V263=\"\",\"\",'Broker Sheet'!V263)","v":""},{"$f":"IF('Broker Sheet'!W263=\"\",\"\",'Broker Sheet'!W263)","v":""},{"$f":"IF('Broker Sheet'!Y263=\"\",\"\",'Broker Sheet'!Y263)","v":""},{"$f":"IF('Broker Sheet'!AA263=\"\",\"\",'Broker Sheet'!AA263)","v":""},{"$f":"IF('Broker Sheet'!Z263=\"\",\"\",'Broker Sheet'!Z263)","v":""},{"$f":"IF('Broker Sheet'!AB263=\"\",\"\",'Broker Sheet'!AB263)","v":""},null,null,{"$f":"IF('Broker Sheet'!L263=\"\",\"\",TEXT('Broker Sheet'!L263,\"YYYYMMDD\"))","v":""},{"$f":"IF('Broker Sheet'!AC263=\"\",\"\",TEXT('Broker Sheet'!AC263,\"YYYYMMDD\"))","v":""},{"$f":"IF('Broker Sheet'!AD263=\"\",\"\",TEXT('Broker Sheet'!AD263,\"YYYYMMDD\"))","v":""},{"$f":"IF('Broker Sheet'!AE263=\"\",\"\",'Broker Sheet'!AE263)","v":""},{"$f":"IF('Broker Sheet'!AF263=\"\",\"\",TEXT('Broker Sheet'!AF263,\"YYYYMMDD\"))","v":""},{"$f":"IF('Broker Sheet'!AG263=\"\",\"\",TEXT('Broker Sheet'!AG263,\"YYYYMMDD\"))","v":""}]
[null,null,null,null,null,{"$f":"IF('Broker Sheet'!C264=\"\",\"\",'Broker Sheet'!C264)","v":""},{"$f":"IF('Broker Sheet'!D264=\"\",\"\",'Broker Sheet'!D264)","v":""},{"$f":"IF('Broker Sheet'!E264=\"\",\"\",'Broker Sheet'!E264)","v":""},{"$f":"IF('Broker Sheet'!F264=\"\",\"\",'Broker Sheet'!F264)","v":""},{"$f":"IF('Broker Sheet'!G264=\"\",\"\",TEXT('Broker Sheet'!G264,\"YYYYMMDD\"))","v":""},{"$f":"IF('Broker Sheet'!H264=\"\",\"\",'Broker Sheet'!H264)","v":""},{"$f":"IF('Broker Sheet'!I264=\"\",\"\",'Broker Sheet'!I264)","v":""},{"$f":"IF('Broker Sheet'!J264=\"\",\"\",VLOOKUP('Broker Sheet'!J264,(Reference!$E$4:$F$9),2,FALSE))","v":""},{"$f":"IF('Broker Sheet'!K264=\"\",\"\",'Broker Sheet'!K264)","v":""},{"$f":"IF('Broker Sheet'!R264=\"\",\"\",'Broker Sheet'!R264)","v":""},{"$f":"IF('Broker Sheet'!S264=\"\",\"\",'Broker Sheet'!S264)","v":""},{"$f":"IF('Broker Sheet'!T264=\"\",\"\",'Broker Sheet'!T264)","v":""},{"$f":"IF('Broker Sheet'!U264=\"\",\"\",'Broker Sheet'!U264)","v":""},{"$f":"IF('Broker Sheet'!V264=\"\",\"\",'Broker Sheet'!V264)","v":""},{"$f":"IF('Broker Sheet'!W264=\"\",\"\",'Broker Sheet'!W264)","v":""},{"$f":"IF('Broker Sheet'!Y264=\"\",\"\",'Broker Sheet'!Y264)","v":""},{"$f":"IF('Broker Sheet'!AA264=\"\",\"\",'Broker Sheet'!AA264)","v":""},{"$f":"IF('Broker Sheet'!Z264=\"\",\"\",'Broker Sheet'!Z264)","v":""},{"$f":"IF('Broker Sheet'!AB264=\"\",\"\",'Broker Sheet'!AB264)","v":""},null,null,{"$f":"IF('Broker Sheet'!L264=\"\",\"\",TEXT('Broker Sheet'!L264,\"YYYYMMDD\"))","v":""},{"$f":"IF('Broker Sheet'!AC264=\"\",\"\",TEXT('Broker Sheet'!AC264,\"YYYYMMDD\"))","v":""},{"$f":"IF('Broker Sheet'!AD264=\"\",\"\",TEXT('Broker Sheet'!AD264,\"YYYYMMDD\"))","v":""},{"$f":"IF('Broker Sheet'!AE264=\"\",\"\",'Broker Sheet'!AE264)","v":""},{"$f":"IF('Broker Sheet'!AF264=\"\",\"\",TEXT('Broker Sheet'!AF264,\"YYYYMMDD\"))","v":""},{"$f":"IF('Broker Sheet'!AG264=\"\",\"\",TEXT('Broker Sheet'!AG264,\"YYYYMMDD\"))","v":""}]
[null,null,null,null,null,{"$f":"IF('Broker Sheet'!C265=\"\",\"\",'Broker Sheet'!C265)","v":""},{"$f":"IF('Broker Sheet'!D265=\"\",\"\",'Broker Sheet'!D265)","v":""},{"$f":"IF('Broker Sheet'!E265=\"\",\"\",'Broker Sheet'!E265)","v":""},{"$f":"IF('Broker Sheet'!F265=\"\",\"\",'Broker Sheet'!F265)","v":""},{"$f":"IF('Broker Sheet'!G265=\"\",\"\",TEXT('Broker Sheet'!G265,\"YYYYMMDD\"))","v":""},{"$f":"IF('Broker Sheet'!H265=\"\",\"\",'Broker Sheet'!H265)","v":""},{"$f":"IF('Broker Sheet'!I265=\"\",\"\",'Broker Sheet'!I265)","v":""},{"$f":"IF('Broker Sheet'!J265=\"\",\"\",VLOOKUP('Broker Sheet'!J265,(Reference!$E$4:$F$9),2,FALSE))","v":""},{"$f":"IF('Broker Sheet'!K265=\"\",\"\",'Broker Sheet'!K265)","v":""},{"$f":"IF('Broker Sheet'!R265=\"\",\"\",'Broker Sheet'!R265)","v":""},{"$f":"IF('Broker Sheet'!S265=\"\",\"\",'Broker Sheet'!S265)","v":""},{"$f":"IF('Broker Sheet'!T265=\"\",\"\",'Broker Sheet'!T265)","v":""},{"$f":"IF('Broker Sheet'!U265=\"\",\"\",'Broker Sheet'!U265)","v":""},{"$f":"IF('Broker Sheet'!V265=\"\",\"\",'Broker Sheet'!V265)","v":""},{"$f":"IF('Broker Sheet'!W265=\"\",\"\",'Broker Sheet'!W265)","v":""},{"$f":"IF('Broker Sheet'!Y265=\"\",\"\",'Broker Sheet'!Y265)","v":""},{"$f":"IF('Broker Sheet'!AA265=\"\",\"\",'Broker Sheet'!AA265)","v":""},{"$f":"IF('Broker Sheet'!Z265=\"\",\"\",'Broker Sheet'!Z265)","v":""},{"$f":"IF('Broker Sheet'!AB265=\"\",\"\",'Broker Sheet'!AB265)","v":""},null,null,{"$f":"IF('Broker Sheet'!L265=\"\",\"\",TEXT('Broker Sheet'!L265,\"YYYYMMDD\"))","v":""},{"$f":"IF('Broker Sheet'!AC265=\"\",\"\",TEXT('Broker Sheet'!AC265,\"YYYYMMDD\"))","v":""},{"$f":"IF('Broker Sheet'!AD265=\"\",\"\",TEXT('Broker Sheet'!AD265,\"YYYYMMDD\"))","v":""},{"$f":"IF('Broker Sheet'!AE265=\"\",\"\",'Broker Sheet'!AE265)","v":""},{"$f":"IF('Broker Sheet'!AF265=\"\",\"\",TEXT('Broker Sheet'!AF265,\"YYYYMMDD\"))","v":""},{"$f":"IF('Broker Sheet'!AG265=\"\",\"\",TEXT('Broker Sheet'!AG265,\"YYYYMMDD\"))","v":""}]
[null,null,null,null,null,{"$f":"IF('Broker Sheet'!C266=\"\",\"\",'Broker Sheet'!C266)","v":""},{"$f":"IF('Broker Sheet'!D266=\"\",\"\",'Broker Sheet'!D266)","v":""},{"$f":"IF('Broker Sheet'!E266=\"\",\"\",'Broker Sheet'!E266)","v":""},{"$f":"IF('Broker Sheet'!F266=\"\",\"\",'Broker Sheet'!F266)","v":""},{"$f":"IF('Broker Sheet'!G266=\"\",\"\",TEXT('Broker Sheet'!G266,\"YYYYMMDD\"))","v":""},{"$f":"IF('Broker Sheet'!H266=\"\",\"\",'Broker Sheet'!H266)","v":""},{"$f":"IF('Broker Sheet'!I266=\"\",\"\",'Broker Sheet'!I266)","v":""},{"$f":"IF('Broker Sheet'!J266=\"\",\"\",VLOOKUP('Broker Sheet'!J266,(Reference!$E$4:$F$9),2,FALSE))","v":""},{"$f":"IF('Broker Sheet'!K266=\"\",\"\",'Broker Sheet'!K266)","v":""},{"$f":"IF('Broker Sheet'!R266=\"\",\"\",'Broker Sheet'!R266)","v":""},{"$f":"IF('Broker Sheet'!S266=\"\",\"\",'Broker Sheet'!S266)","v":""},{"$f":"IF('Broker Sheet'!T266=\"\",\"\",'Broker Sheet'!T266)","v":""},{"$f":"IF('Broker Sheet'!U266=\"\",\"\",'Broker Sheet'!U266)","v":""},{"$f":"IF('Broker Sheet'!V266=\"\",\"\",'Broker Sheet'!V266)","v":""},{"$f":"IF('Broker Sheet'!W266=\"\",\"\",'Broker Sheet'!W266)","v":""},{"$f":"IF('Broker Sheet'!Y266=\"\",\"\",'Broker Sheet'!Y266)","v":""},{"$f":"IF('Broker Sheet'!AA266=\"\",\"\",'Broker Sheet'!AA266)","v":""},{"$f":"IF('Broker Sheet'!Z266=\"\",\"\",'Broker Sheet'!Z266)","v":""},{"$f":"IF('Broker Sheet'!AB266=\"\",\"\",'Broker Sheet'!AB266)","v":""},null,null,{"$f":"IF('Broker Sheet'!L266=\"\",\"\",TEXT('Broker Sheet'!L266,\"YYYYMMDD\"))","v":""},{"$f":"IF('Broker Sheet'!AC266=\"\",\"\",TEXT('Broker Sheet'!AC266,\"YYYYMMDD\"))","v":""},{"$f":"IF('Broker Sheet'!AD266=\"\",\"\",TEXT('Broker Sheet'!AD266,\"YYYYMMDD\"))","v":""},{"$f":"IF('Broker Sheet'!AE266=\"\",\"\",'Broker Sheet'!AE266)","v":""},{"$f":"IF('Broker Sheet'!AF266=\"\",\"\",TEXT('Broker Sheet'!AF266,\"YYYYMMDD\"))","v":""},{"$f":"IF('Broker Sheet'!AG266=\"\",\"\",TEXT('Broker Sheet'!AG266,\"YYYYMMDD\"))","v":""}]
[null,null,null,null,null,{"$f":"IF('Broker Sheet'!C267=\"\",\"\",'Broker Sheet'!C267)","v":""},{"$f":"IF('Broker Sheet'!D267=\"\",\"\",'Broker Sheet'!D267)","v":""},{"$f":"IF('Broker Sheet'!E267=\"\",\"\",'Broker Sheet'!E267)","v":""},{"$f":"IF('Broker Sheet'!F267=\"\",\"\",'Broker Sheet'!F267)","v":""},{"$f":"IF('Broker Sheet'!G267=\"\",\"\",TEXT('Broker Sheet'!G267,\"YYYYMMDD\"))","v":""},{"$f":"IF('Broker Sheet'!H267=\"\",\"\",'Broker Sheet'!H267)","v":""},{"$f":"IF('Broker Sheet'!I267=\"\",\"\",'Broker Sheet'!I267)","v":""},{"$f":"IF('Broker Sheet'!J267=\"\",\"\",VLOOKUP('Broker Sheet'!J267,(Reference!$E$4:$F$9),2,FALSE))","v":""},{"$f":"IF('Broker Sheet'!K267=\"\",\"\",'Broker Sheet'!K267)","v":""},{"$f":"IF('Broker Sheet'!R267=\"\",\"\",'Broker Sheet'!R267)","v":""},{"$f":"IF('Broker Sheet'!S267=\"\",\"\",'Broker Sheet'!S267)","v":""},{"$f":"IF('Broker Sheet'!T267=\"\",\"\",'Broker Sheet'!T267)","v":""},{"$f":"IF('Broker Sheet'!U267=\"\",\"\",'Broker Sheet'!U267)","v":""},{"$f":"IF('Broker Sheet'!V267=\"\",\"\",'Broker Sheet'!V267)","v":""},{"$f":"IF('Broker Sheet'!W267=\"\",\"\",'Broker Sheet'!W267)","v":""},{"$f":"IF('Broker Sheet'!Y267=\"\",\"\",'Broker Sheet'!Y267)","v":""},{"$f":"IF('Broker Sheet'!AA267=\"\",\"\",'Broker Sheet'!AA267)","v":""},{"$f":"IF('Broker Sheet'!Z267=\"\",\"\",'Broker Sheet'!Z267)","v":""},{"$f":"IF('Broker Sheet'!AB267=\"\",\"\",'Broker Sheet'!AB267)","v":""},null,null,{"$f":"IF('Broker Sheet'!L267=\"\",\"\",TEXT('Broker Sheet'!L267,\"YYYYMMDD\"))","v":""},{"$f":"IF('Broker Sheet'!AC267=\"\",\"\",TEXT('Broker Sheet'!AC267,\"YYYYMMDD\"))","v":""},{"$f":"IF('Broker Sheet'!AD267=\"\",\"\",TEXT('Broker Sheet'!AD267,\"YYYYMMDD\"))","v":""},{"$f":"IF('Broker Sheet'!AE267=\"\",\"\",'Broker Sheet'!AE267)","v":""},{"$f":"IF('Broker Sheet'!AF267=\"\",\"\",TEXT('Broker Sheet'!AF267,\"YYYYMMDD\"))","v":""},{"$f":"IF('Broker Sheet'!AG267=\"\",\"\",TEXT('Broker Sheet'!AG267,\"YYYYMMDD\"))","v":""}]
[null,null,null,null,null,{"$f":"IF('Broker Sheet'!C268=\"\",\"\",'Broker Sheet'!C268)","v":""},{"$f":"IF('Broker Sheet'!D268=\"\",\"\",'Broker Sheet'!D268)","v":""},{"$f":"IF('Broker Sheet'!E268=\"\",\"\",'Broker Sheet'!E268)","v":""},{"$f":"IF('Broker Sheet'!F268=\"\",\"\",'Broker Sheet'!F268)","v":""},{"$f":"IF('Broker Sheet'!G268=\"\",\"\",TEXT('Broker Sheet'!G268,\"YYYYMMDD\"))","v":""},{"$f":"IF('Broker Sheet'!H268=\"\",\"\",'Broker Sheet'!H268)","v":""},{"$f":"IF('Broker Sheet'!I268=\"\",\"\",'Broker Sheet'!I268)","v":""},{"$f":"IF('Broker Sheet'!J268=\"\",\"\",VLOOKUP('Broker Sheet'!J268,(Reference!$E$4:$F$9),2,FALSE))","v":""},{"$f":"IF('Broker Sheet'!K268=\"\",\"\",'Broker Sheet'!K268)","v":""},{"$f":"IF('Broker Sheet'!R268=\"\",\"\",'Broker Sheet'!R268)","v":""},{"$f":"IF('Broker Sheet'!S268=\"\",\"\",'Broker Sheet'!S268)","v":""},{"$f":"IF('Broker Sheet'!T268=\"\",\"\",'Broker Sheet'!T268)","v":""},{"$f":"IF('Broker Sheet'!U268=\"\",\"\",'Broker Sheet'!U268)","v":""},{"$f":"IF('Broker Sheet'!V268=\"\",\"\",'Broker Sheet'!V268)","v":""},{"$f":"IF('Broker Sheet'!W268=\"\",\"\",'Broker Sheet'!W268)","v":""},{"$f":"IF('Broker Sheet'!Y268=\"\",\"\",'Broker Sheet'!Y268)","v":""},{"$f":"IF('Broker Sheet'!AA268=\"\",\"\",'Broker Sheet'!AA268)","v":""},{"$f":"IF('Broker Sheet'!Z268=\"\",\"\",'Broker Sheet'!Z268)","v":""},{"$f":"IF('Broker Sheet'!AB268=\"\",\"\",'Broker Sheet'!AB268)","v":""},null,null,{"$f":"IF('Broker Sheet'!L268=\"\",\"\",TEXT('Broker Sheet'!L268,\"YYYYMMDD\"))","v":""},{"$f":"IF('Broker Sheet'!AC268=\"\",\"\",TEXT('Broker Sheet'!AC268,\"YYYYMMDD\"))","v":""},{"$f":"IF('Broker Sheet'!AD268=\"\",\"\",TEXT('Broker Sheet'!AD268,\"YYYYMMDD\"))","v":""},{"$f":"IF('Broker Sheet'!AE268=\"\",\"\",'Broker Sheet'!AE268)","v":""},{"$f":"IF('Broker Sheet'!AF268=\"\",\"\",TEXT('Broker Sheet'!AF268,\"YYYYMMDD\"))","v":""},{"$f":"IF('Broker Sheet'!AG268=\"\",\"\",TEXT('Broker Sheet'!AG268,\"YYYYMMDD\"))","v":""}]
[null,null,null,null,null,{"$f":"IF('Broker Sheet'!C269=\"\",\"\",'Broker Sheet'!C269)","v":""},{"$f":"IF('Broker Sheet'!D269=\"\",\"\",'Broker Sheet'!D269)","v":""},{"$f":"IF('Broker Sheet'!E269=\"\",\"\",'Broker Sheet'!E269)","v":""},{"$f":"IF('Broker Sheet'!F269=\"\",\"\",'Broker Sheet'!F269)","v":""},{"$f":"IF('Broker Sheet'!G269=\"\",\"\",TEXT('Broker Sheet'!G269,\"YYYYMMDD\"))","v":""},{"$f":"IF('Broker Sheet'!H269=\"\",\"\",'Broker Sheet'!H269)","v":""},{"$f":"IF('Broker Sheet'!I269=\"\",\"\",'Broker Sheet'!I269)","v":""},{"$f":"IF('Broker Sheet'!J269=\"\",\"\",VLOOKUP('Broker Sheet'!J269,(Reference!$E$4:$F$9),2,FALSE))","v":""},{"$f":"IF('Broker Sheet'!K269=\"\",\"\",'Broker Sheet'!K269)","v":""},{"$f":"IF('Broker Sheet'!R269=\"\",\"\",'Broker Sheet'!R269)","v":""},{"$f":"IF('Broker Sheet'!S269=\"\",\"\",'Broker Sheet'!S269)","v":""},{"$f":"IF('Broker Sheet'!T269=\"\",\"\",'Broker Sheet'!T269)","v":""},{"$f":"IF('Broker Sheet'!U269=\"\",\"\",'Broker Sheet'!U269)","v":""},{"$f":"IF('Broker Sheet'!V269=\"\",\"\",'Broker Sheet'!V269)","v":""},{"$f":"IF('Broker Sheet'!W269=\"\",\"\",'Broker Sheet'!W269)","v":""},{"$f":"IF('Broker Sheet'!Y269=\"\",\"\",'Broker Sheet'!Y269)","v":""},{"$f":"IF('Broker Sheet'!AA269=\"\",\"\",'Broker Sheet'!AA269)","v":""},{"$f":"IF('Broker Sheet'!Z269=\"\",\"\",'Broker Sheet'!Z269)","v":""},{"$f":"IF('Broker Sheet'!AB269=\"\",\"\",'Broker Sheet'!AB269)","v":""},null,null,{"$f":"IF('Broker Sheet'!L269=\"\",\"\",TEXT('Broker Sheet'!L269,\"YYYYMMDD\"))","v":""},{"$f":"IF('Broker Sheet'!AC269=\"\",\"\",TEXT('Broker Sheet'!AC269,\"YYYYMMDD\"))","v":""},{"$f":"IF('Broker Sheet'!AD269=\"\",\"\",TEXT('Broker Sheet'!AD269,\"YYYYMMDD\"))","v":""},{"$f":"IF('Broker Sheet'!AE269=\"\",\"\",'Broker Sheet'!AE269)","v":""},{"$f":"IF('Broker Sheet'!AF269=\"\",\"\",TEXT('Broker Sheet'!AF269,\"YYYYMMDD\"))","v":""},{"$f":"IF('Broker Sheet'!AG269=\"\",\"\",TEXT('Broker Sheet'!AG269,\"YYYYMMDD\"))","v":""}]
[null,null,null,null,null,{"$f":"IF('Broker Sheet'!C270=\"\",\"\",'Broker Sheet'!C270)","v":""},{"$f":"IF('Broker Sheet'!D270=\"\",\"\",'Broker Sheet'!D270)","v":""},{"$f":"IF('Broker Sheet'!E270=\"\",\"\",'Broker Sheet'!E270)","v":""},{"$f":"IF('Broker Sheet'!F270=\"\",\"\",'Broker Sheet'!F270)","v":""},{"$f":"IF('Broker Sheet'!G270=\"\",\"\",TEXT('Broker Sheet'!G270,\"YYYYMMDD\"))","v":""},{"$f":"IF('Broker Sheet'!H270=\"\",\"\",'Broker Sheet'!H270)","v":""},{"$f":"IF('Broker Sheet'!I270=\"\",\"\",'Broker Sheet'!I270)","v":""},{"$f":"IF('Broker Sheet'!J270=\"\",\"\",VLOOKUP('Broker Sheet'!J270,(Reference!$E$4:$F$9),2,FALSE))","v":""},{"$f":"IF('Broker Sheet'!K270=\"\",\"\",'Broker Sheet'!K270)","v":""},{"$f":"IF('Broker Sheet'!R270=\"\",\"\",'Broker Sheet'!R270)","v":""},{"$f":"IF('Broker Sheet'!S270=\"\",\"\",'Broker Sheet'!S270)","v":""},{"$f":"IF('Broker Sheet'!T270=\"\",\"\",'Broker Sheet'!T270)","v":""},{"$f":"IF('Broker Sheet'!U270=\"\",\"\",'Broker Sheet'!U270)","v":""},{"$f":"IF('Broker Sheet'!V270=\"\",\"\",'Broker Sheet'!V270)","v":""},{"$f":"IF('Broker Sheet'!W270=\"\",\"\",'Broker Sheet'!W270)","v":""},{"$f":"IF('Broker Sheet'!Y270=\"\",\"\",'Broker Sheet'!Y270)","v":""},{"$f":"IF('Broker Sheet'!AA270=\"\",\"\",'Broker Sheet'!AA270)","v":""},{"$f":"IF('Broker Sheet'!Z270=\"\",\"\",'Broker Sheet'!Z270)","v":""},{"$f":"IF('Broker Sheet'!AB270=\"\",\"\",'Broker Sheet'!AB270)","v":""},null,null,{"$f":"IF('Broker Sheet'!L270=\"\",\"\",TEXT('Broker Sheet'!L270,\"YYYYMMDD\"))","v":""},{"$f":"IF('Broker Sheet'!AC270=\"\",\"\",TEXT('Broker Sheet'!AC270,\"YYYYMMDD\"))","v":""},{"$f":"IF('Broker Sheet'!AD270=\"\",\"\",TEXT('Broker Sheet'!AD270,\"YYYYMMDD\"))","v":""},{"$f":"IF('Broker Sheet'!AE270=\"\",\"\",'Broker Sheet'!AE270)","v":""},{"$f":"IF('Broker Sheet'!AF270=\"\",\"\",TEXT('Broker Sheet'!AF270,\"YYYYMMDD\"))","v":""},{"$f":"IF('Broker Sheet'!AG270=\"\",\"\",TEXT('Broker Sheet'!AG270,\"YYYYMMDD\"))","v":""}]
[null,null,null,null,null,{"$f":"IF('Broker Sheet'!C271=\"\",\"\",'Broker Sheet'!C271)","v":""},{"$f":"IF('Broker Sheet'!D271=\"\",\"\",'Broker Sheet'!D271)","v":""},{"$f":"IF('Broker Sheet'!E271=\"\",\"\",'Broker Sheet'!E271)","v":""},{"$f":"IF('Broker Sheet'!F271=\"\",\"\",'Broker Sheet'!F271)","v":""},{"$f":"IF('Broker Sheet'!G271=\"\",\"\",TEXT('Broker Sheet'!G271,\"YYYYMMDD\"))","v":""},{"$f":"IF('Broker Sheet'!H271=\"\",\"\",'Broker Sheet'!H271)","v":""},{"$f":"IF('Broker Sheet'!I271=\"\",\"\",'Broker Sheet'!I271)","v":""},{"$f":"IF('Broker Sheet'!J271=\"\",\"\",VLOOKUP('Broker Sheet'!J271,(Reference!$E$4:$F$9),2,FALSE))","v":""},{"$f":"IF('Broker Sheet'!K271=\"\",\"\",'Broker Sheet'!K271)","v":""},{"$f":"IF('Broker Sheet'!R271=\"\",\"\",'Broker Sheet'!R271)","v":""},{"$f":"IF('Broker Sheet'!S271=\"\",\"\",'Broker Sheet'!S271)","v":""},{"$f":"IF('Broker Sheet'!T271=\"\",\"\",'Broker Sheet'!T271)","v":""},{"$f":"IF('Broker Sheet'!U271=\"\",\"\",'Broker Sheet'!U271)","v":""},{"$f":"IF('Broker Sheet'!V271=\"\",\"\",'Broker Sheet'!V271)","v":""},{"$f":"IF('Broker Sheet'!W271=\"\",\"\",'Broker Sheet'!W271)","v":""},{"$f":"IF('Broker Sheet'!Y271=\"\",\"\",'Broker Sheet'!Y271)","v":""},{"$f":"IF('Broker Sheet'!AA271=\"\",\"\",'Broker Sheet'!AA271)","v":""},{"$f":"IF('Broker Sheet'!Z271=\"\",\"\",'Broker Sheet'!Z271)","v":""},{"$f":"IF('Broker Sheet'!AB271=\"\",\"\",'Broker Sheet'!AB271)","v":""},null,null,{"$f":"IF('Broker Sheet'!L271=\"\",\"\",TEXT('Broker Sheet'!L271,\"YYYYMMDD\"))","v":""},{"$f":"IF('Broker Sheet'!AC271=\"\",\"\",TEXT('Broker Sheet'!AC271,\"YYYYMMDD\"))","v":""},{"$f":"IF('Broker Sheet'!AD271=\"\",\"\",TEXT('Broker Sheet'!AD271,\"YYYYMMDD\"))","v":""},{"$f":"IF('Broker Sheet'!AE271=\"\",\"\",'Broker Sheet'!AE271)","v":""},{"$f":"IF('Broker Sheet'!AF271=\"\",\"\",TEXT('Broker Sheet'!AF271,\"YYYYMMDD\"))","v":""},{"$f":"IF('Broker Sheet'!AG271=\"\",\"\",TEXT('Broker Sheet'!AG271,\"YYYYMMDD\"))","v":""}]
[null,null,null,null,null,{"$f":"IF('Broker Sheet'!C272=\"\",\"\",'Broker Sheet'!C272)","v":""},{"$f":"IF('Broker Sheet'!D272=\"\",\"\",'Broker Sheet'!D272)","v":""},{"$f":"IF('Broker Sheet'!E272=\"\",\"\",'Broker Sheet'!E272)","v":""},{"$f":"IF('Broker Sheet'!F272=\"\",\"\",'Broker Sheet'!F272)","v":""},{"$f":"IF('Broker Sheet'!G272=\"\",\"\",TEXT('Broker Sheet'!G272,\"YYYYMMDD\"))","v":""},{"$f":"IF('Broker Sheet'!H272=\"\",\"\",'Broker Sheet'!H272)","v":""},{"$f":"IF('Broker Sheet'!I272=\"\",\"\",'Broker Sheet'!I272)","v":""},{"$f":"IF('Broker Sheet'!J272=\"\",\"\",VLOOKUP('Broker Sheet'!J272,(Reference!$E$4:$F$9),2,FALSE))","v":""},{"$f":"IF('Broker Sheet'!K272=\"\",\"\",'Broker Sheet'!K272)","v":""},{"$f":"IF('Broker Sheet'!R272=\"\",\"\",'Broker Sheet'!R272)","v":""},{"$f":"IF('Broker Sheet'!S272=\"\",\"\",'Broker Sheet'!S272)","v":""},{"$f":"IF('Broker Sheet'!T272=\"\",\"\",'Broker Sheet'!T272)","v":""},{"$f":"IF('Broker Sheet'!U272=\"\",\"\",'Broker Sheet'!U272)","v":""},{"$f":"IF('Broker Sheet'!V272=\"\",\"\",'Broker Sheet'!V272)","v":""},{"$f":"IF('Broker Sheet'!W272=\"\",\"\",'Broker Sheet'!W272)","v":""},{"$f":"IF('Broker Sheet'!Y272=\"\",\"\",'Broker Sheet'!Y272)","v":""},{"$f":"IF('Broker Sheet'!AA272=\"\",\"\",'Broker Sheet'!AA272)","v":""},{"$f":"IF('Broker Sheet'!Z272=\"\",\"\",'Broker Sheet'!Z272)","v":""},{"$f":"IF('Broker Sheet'!AB272=\"\",\"\",'Broker Sheet'!AB272)","v":""},null,null,{"$f":"IF('Broker Sheet'!L272=\"\",\"\",TEXT('Broker Sheet'!L272,\"YYYYMMDD\"))","v":""},{"$f":"IF('Broker Sheet'!AC272=\"\",\"\",TEXT('Broker Sheet'!AC272,\"YYYYMMDD\"))","v":""},{"$f":"IF('Broker Sheet'!AD272=\"\",\"\",TEXT('Broker Sheet'!AD272,\"YYYYMMDD\"))","v":""},{"$f":"IF('Broker Sheet'!AE272=\"\",\"\",'Broker Sheet'!AE272)","v":""},{"$f":"IF('Broker Sheet'!AF272=\"\",\"\",TEXT('Broker Sheet'!AF272,\"YYYYMMDD\"))","v":""},{"$f":"IF('Broker Sheet'!AG272=\"\",\"\",TEXT('Broker Sheet'!AG272,\"YYYYMMDD\"))","v":""}]
[null,null,null,null,null,{"$f":"IF('Broker Sheet'!C273=\"\",\"\",'Broker Sheet'!C273)","v":""},{"$f":"IF('Broker Sheet'!D273=\"\",\"\",'Broker Sheet'!D273)","v":""},{"$f":"IF('Broker Sheet'!E273=\"\",\"\",'Broker Sheet'!E273)","v":""},{"$f":"IF('Broker Sheet'!F273=\"\",\"\",'Broker Sheet'!F273)","v":""},{"$f":"IF('Broker Sheet'!G273=\"\",\"\",TEXT('Broker Sheet'!G273,\"YYYYMMDD\"))","v":""},{"$f":"IF('Broker Sheet'!H273=\"\",\"\",'Broker Sheet'!H273)","v":""},{"$f":"IF('Broker Sheet'!I273=\"\",\"\",'Broker Sheet'!I273)","v":""},{"$f":"IF('Broker Sheet'!J273=\"\",\"\",VLOOKUP('Broker Sheet'!J273,(Reference!$E$4:$F$9),2,FALSE))","v":""},{"$f":"IF('Broker Sheet'!K273=\"\",\"\",'Broker Sheet'!K273)","v":""},{"$f":"IF('Broker Sheet'!R273=\"\",\"\",'Broker Sheet'!R273)","v":""},{"$f":"IF('Broker Sheet'!S273=\"\",\"\",'Broker Sheet'!S273)","v":""},{"$f":"IF('Broker Sheet'!T273=\"\",\"\",'Broker Sheet'!T273)","v":""},{"$f":"IF('Broker Sheet'!U273=\"\",\"\",'Broker Sheet'!U273)","v":""},{"$f":"IF('Broker Sheet'!V273=\"\",\"\",'Broker Sheet'!V273)","v":""},{"$f":"IF('Broker Sheet'!W273=\"\",\"\",'Broker Sheet'!W273)","v":""},{"$f":"IF('Broker Sheet'!Y273=\"\",\"\",'Broker Sheet'!Y273)","v":""},{"$f":"IF('Broker Sheet'!AA273=\"\",\"\",'Broker Sheet'!AA273)","v":""},{"$f":"IF('Broker Sheet'!Z273=\"\",\"\",'Broker Sheet'!Z273)","v":""},{"$f":"IF('Broker Sheet'!AB273=\"\",\"\",'Broker Sheet'!AB273)","v":""},null,null,{"$f":"IF('Broker Sheet'!L273=\"\",\"\",TEXT('Broker Sheet'!L273,\"YYYYMMDD\"))","v":""},{"$f":"IF('Broker Sheet'!AC273=\"\",\"\",TEXT('Broker Sheet'!AC273,\"YYYYMMDD\"))","v":""},{"$f":"IF('Broker Sheet'!AD273=\"\",\"\",TEXT('Broker Sheet'!AD273,\"YYYYMMDD\"))","v":""},{"$f":"IF('Broker Sheet'!AE273=\"\",\"\",'Broker Sheet'!AE273)","v":""},{"$f":"IF('Broker Sheet'!AF273=\"\",\"\",TEXT('Broker Sheet'!AF273,\"YYYYMMDD\"))","v":""},{"$f":"IF('Broker Sheet'!AG273=\"\",\"\",TEXT('Broker Sheet'!AG273,\"YYYYMMDD\"))","v":""}]
[null,null,null,null,null,{"$f":"IF('Broker Sheet'!C274=\"\",\"\",'Broker Sheet'!C274)","v":""},{"$f":"IF('Broker Sheet'!D274=\"\",\"\",'Broker Sheet'!D274)","v":""},{"$f":"IF('Broker Sheet'!E274=\"\",\"\",'Broker Sheet'!E274)","v":""},{"$f":"IF('Broker Sheet'!F274=\"\",\"\",'Broker Sheet'!F274)","v":""},{"$f":"IF('Broker Sheet'!G274=\"\",\"\",TEXT('Broker Sheet'!G274,\"YYYYMMDD\"))","v":""},{"$f":"IF('Broker Sheet'!H274=\"\",\"\",'Broker Sheet'!H274)","v":""},{"$f":"IF('Broker Sheet'!I274=\"\",\"\",'Broker Sheet'!I274)","v":""},{"$f":"IF('Broker Sheet'!J274=\"\",\"\",VLOOKUP('Broker Sheet'!J274,(Reference!$E$4:$F$9),2,FALSE))","v":""},{"$f":"IF('Broker Sheet'!K274=\"\",\"\",'Broker Sheet'!K274)","v":""},{"$f":"IF('Broker Sheet'!R274=\"\",\"\",'Broker Sheet'!R274)","v":""},{"$f":"IF('Broker Sheet'!S274=\"\",\"\",'Broker Sheet'!S274)","v":""},{"$f":"IF('Broker Sheet'!T274=\"\",\"\",'Broker Sheet'!T274)","v":""},{"$f":"IF('Broker Sheet'!U274=\"\",\"\",'Broker Sheet'!U274)","v":""},{"$f":"IF('Broker Sheet'!V274=\"\",\"\",'Broker Sheet'!V274)","v":""},{"$f":"IF('Broker Sheet'!W274=\"\",\"\",'Broker Sheet'!W274)","v":""},{"$f":"IF('Broker Sheet'!Y274=\"\",\"\",'Broker Sheet'!Y274)","v":""},{"$f":"IF('Broker Sheet'!AA274=\"\",\"\",'Broker Sheet'!AA274)","v":""},{"$f":"IF('Broker Sheet'!Z274=\"\",\"\",'Broker Sheet'!Z274)","v":""},{"$f":"IF('Broker Sheet'!AB274=\"\",\"\",'Broker Sheet'!AB274)","v":""},null,null,{"$f":"IF('Broker Sheet'!L274=\"\",\"\",TEXT('Broker Sheet'!L274,\"YYYYMMDD\"))","v":""},{"$f":"IF('Broker Sheet'!AC274=\"\",\"\",TEXT('Broker Sheet'!AC274,\"YYYYMMDD\"))","v":""},{"$f":"IF('Broker Sheet'!AD274=\"\",\"\",TEXT('Broker Sheet'!AD274,\"YYYYMMDD\"))","v":""},{"$f":"IF('Broker Sheet'!AE274=\"\",\"\",'Broker Sheet'!AE274)","v":""},{"$f":"IF('Broker Sheet'!AF274=\"\",\"\",TEXT('Broker Sheet'!AF274,\"YYYYMMDD\"))","v":""},{"$f":"IF('Broker Sheet'!AG274=\"\",\"\",TEXT('Broker Sheet'!AG274,\"YYYYMMDD\"))","v":""}]
[null,null,null,null,null,{"$f":"IF('Broker Sheet'!C275=\"\",\"\",'Broker Sheet'!C275)","v":""},{"$f":"IF('Broker Sheet'!D275=\"\",\"\",'Broker Sheet'!D275)","v":""},{"$f":"IF('Broker Sheet'!E275=\"\",\"\",'Broker Sheet'!E275)","v":""},{"$f":"IF('Broker Sheet'!F275=\"\",\"\",'Broker Sheet'!F275)","v":""},{"$f":"IF('Broker Sheet'!G275=\"\",\"\",TEXT('Broker Sheet'!G275,\"YYYYMMDD\"))","v":""},{"$f":"IF('Broker Sheet'!H275=\"\",\"\",'Broker Sheet'!H275)","v":""},{"$f":"IF('Broker Sheet'!I275=\"\",\"\",'Broker Sheet'!I275)","v":""},{"$f":"IF('Broker Sheet'!J275=\"\",\"\",VLOOKUP('Broker Sheet'!J275,(Reference!$E$4:$F$9),2,FALSE))","v":""},{"$f":"IF('Broker Sheet'!K275=\"\",\"\",'Broker Sheet'!K275)","v":""},{"$f":"IF('Broker Sheet'!R275=\"\",\"\",'Broker Sheet'!R275)","v":""},{"$f":"IF('Broker Sheet'!S275=\"\",\"\",'Broker Sheet'!S275)","v":""},{"$f":"IF('Broker Sheet'!T275=\"\",\"\",'Broker Sheet'!T275)","v":""},{"$f":"IF('Broker Sheet'!U275=\"\",\"\",'Broker Sheet'!U275)","v":""},{"$f":"IF('Broker Sheet'!V275=\"\",\"\",'Broker Sheet'!V275)","v":""},{"$f":"IF('Broker Sheet'!W275=\"\",\"\",'Broker Sheet'!W275)","v":""},{"$f":"IF('Broker Sheet'!Y275=\"\",\"\",'Broker Sheet'!Y275)","v":""},{"$f":"IF('Broker Sheet'!AA275=\"\",\"\",'Broker Sheet'!AA275)","v":""},{"$f":"IF('Broker Sheet'!Z275=\"\",\"\",'Broker Sheet'!Z275)","v":""},{"$f":"IF('Broker Sheet'!AB275=\"\",\"\",'Broker Sheet'!AB275)","v":""},null,null,{"$f":"IF('Broker Sheet'!L275=\"\",\"\",TEXT('Broker Sheet'!L275,\"YYYYMMDD\"))","v":""},{"$f":"IF('Broker Sheet'!AC275=\"\",\"\",TEXT('Broker Sheet'!AC275,\"YYYYMMDD\"))","v":""},{"$f":"IF('Broker Sheet'!AD275=\"\",\"\",TEXT('Broker Sheet'!AD275,\"YYYYMMDD\"))","v":""},{"$f":"IF('Broker Sheet'!AE275=\"\",\"\",'Broker Sheet'!AE275)","v":""},{"$f":"IF('Broker Sheet'!AF275=\"\",\"\",TEXT('Broker Sheet'!AF275,\"YYYYMMDD\"))","v":""},{"$f":"IF('Broker Sheet'!AG275=\"\",\"\",TEXT('Broker Sheet'!AG275,\"YYYYMMDD\"))","v":""}]
[null,null,null,null,null,{"$f":"IF('Broker Sheet'!C276=\"\",\"\",'Broker Sheet'!C276)","v":""},{"$f":"IF('Broker Sheet'!D276=\"\",\"\",'Broker Sheet'!D276)","v":""},{"$f":"IF('Broker Sheet'!E276=\"\",\"\",'Broker Sheet'!E276)","v":""},{"$f":"IF('Broker Sheet'!F276=\"\",\"\",'Broker Sheet'!F276)","v":""},{"$f":"IF('Broker Sheet'!G276=\"\",\"\",TEXT('Broker Sheet'!G276,\"YYYYMMDD\"))","v":""},{"$f":"IF('Broker Sheet'!H276=\"\",\"\",'Broker Sheet'!H276)","v":""},{"$f":"IF('Broker Sheet'!I276=\"\",\"\",'Broker Sheet'!I276)","v":""},{"$f":"IF('Broker Sheet'!J276=\"\",\"\",VLOOKUP('Broker Sheet'!J276,(Reference!$E$4:$F$9),2,FALSE))","v":""},{"$f":"IF('Broker Sheet'!K276=\"\",\"\",'Broker Sheet'!K276)","v":""},{"$f":"IF('Broker Sheet'!R276=\"\",\"\",'Broker Sheet'!R276)","v":""},{"$f":"IF('Broker Sheet'!S276=\"\",\"\",'Broker Sheet'!S276)","v":""},{"$f":"IF('Broker Sheet'!T276=\"\",\"\",'Broker Sheet'!T276)","v":""},{"$f":"IF('Broker Sheet'!U276=\"\",\"\",'Broker Sheet'!U276)","v":""},{"$f":"IF('Broker Sheet'!V276=\"\",\"\",'Broker Sheet'!V276)","v":""},{"$f":"IF('Broker Sheet'!W276=\"\",\"\",'Broker Sheet'!W276)","v":""},{"$f":"IF('Broker Sheet'!Y276=\"\",\"\",'Broker Sheet'!Y276)","v":""},{"$f":"IF('Broker Sheet'!AA276=\"\",\"\",'Broker Sheet'!AA276)","v":""},{"$f":"IF('Broker Sheet'!Z276=\"\",\"\",'Broker Sheet'!Z276)","v":""},{"$f":"IF('Broker Sheet'!AB276=\"\",\"\",'Broker Sheet'!AB276)","v":""},null,null,{"$f":"IF('Broker Sheet'!L276=\"\",\"\",TEXT('Broker Sheet'!L276,\"YYYYMMDD\"))","v":""},{"$f":"IF('Broker Sheet'!AC276=\"\",\"\",TEXT('Broker Sheet'!AC276,\"YYYYMMDD\"))","v":""},{"$f":"IF('Broker Sheet'!AD276=\"\",\"\",TEXT('Broker Sheet'!AD276,\"YYYYMMDD\"))","v":""},{"$f":"IF('Broker Sheet'!AE276=\"\",\"\",'Broker Sheet'!AE276)","v":""},{"$f":"IF('Broker Sheet'!AF276=\"\",\"\",TEXT('Broker Sheet'!AF276,\"YYYYMMDD\"))","v":""},{"$f":"IF('Broker Sheet'!AG276=\"\",\"\",TEXT('Broker Sheet'!AG276,\"YYYYMMDD\"))","v":""}]
[null,null,null,null,null,{"$f":"IF('Broker Sheet'!C277=\"\",\"\",'Broker Sheet'!C277)","v":""},{"$f":"IF('Broker Sheet'!D277=\"\",\"\",'Broker Sheet'!D277)","v":""},{"$f":"IF('Broker Sheet'!E277=\"\",\"\",'Broker Sheet'!E277)","v":""},{"$f":"IF('Broker Sheet'!F277=\"\",\"\",'Broker Sheet'!F277)","v":""},{"$f":"IF('Broker Sheet'!G277=\"\",\"\",TEXT('Broker Sheet'!G277,\"YYYYMMDD\"))","v":""},{"$f":"IF('Broker Sheet'!H277=\"\",\"\",'Broker Sheet'!H277)","v":""},{"$f":"IF('Broker Sheet'!I277=\"\",\"\",'Broker Sheet'!I277)","v":""},{"$f":"IF('Broker Sheet'!J277=\"\",\"\",VLOOKUP('Broker Sheet'!J277,(Reference!$E$4:$F$9),2,FALSE))","v":""},{"$f":"IF('Broker Sheet'!K277=\"\",\"\",'Broker Sheet'!K277)","v":""},{"$f":"IF('Broker Sheet'!R277=\"\",\"\",'Broker Sheet'!R277)","v":""},{"$f":"IF('Broker Sheet'!S277=\"\",\"\",'Broker Sheet'!S277)","v":""},{"$f":"IF('Broker Sheet'!T277=\"\",\"\",'Broker Sheet'!T277)","v":""},{"$f":"IF('Broker Sheet'!U277=\"\",\"\",'Broker Sheet'!U277)","v":""},{"$f":"IF('Broker Sheet'!V277=\"\",\"\",'Broker Sheet'!V277)","v":""},{"$f":"IF('Broker Sheet'!W277=\"\",\"\",'Broker Sheet'!W277)","v":""},{"$f":"IF('Broker Sheet'!Y277=\"\",\"\",'Broker Sheet'!Y277)","v":""},{"$f":"IF('Broker Sheet'!AA277=\"\",\"\",'Broker Sheet'!AA277)","v":""},{"$f":"IF('Broker Sheet'!Z277=\"\",\"\",'Broker Sheet'!Z277)","v":""},{"$f":"IF('Broker Sheet'!AB277=\"\",\"\",'Broker Sheet'!AB277)","v":""},null,null,{"$f":"IF('Broker Sheet'!L277=\"\",\"\",TEXT('Broker Sheet'!L277,\"YYYYMMDD\"))","v":""},{"$f":"IF('Broker Sheet'!AC277=\"\",\"\",TEXT('Broker Sheet'!AC277,\"YYYYMMDD\"))","v":""},{"$f":"IF('Broker Sheet'!AD277=\"\",\"\",TEXT('Broker Sheet'!AD277,\"YYYYMMDD\"))","v":""},{"$f":"IF('Broker Sheet'!AE277=\"\",\"\",'Broker Sheet'!AE277)","v":""},{"$f":"IF('Broker Sheet'!AF277=\"\",\"\",TEXT('Broker Sheet'!AF277,\"YYYYMMDD\"))","v":""},{"$f":"IF('Broker Sheet'!AG277=\"\",\"\",TEXT('Broker Sheet'!AG277,\"YYYYMMDD\"))","v":""}]
[null,null,null,null,null,{"$f":"IF('Broker Sheet'!C278=\"\",\"\",'Broker Sheet'!C278)","v":""},{"$f":"IF('Broker Sheet'!D278=\"\",\"\",'Broker Sheet'!D278)","v":""},{"$f":"IF('Broker Sheet'!E278=\"\",\"\",'Broker Sheet'!E278)","v":""},{"$f":"IF('Broker Sheet'!F278=\"\",\"\",'Broker Sheet'!F278)","v":""},{"$f":"IF('Broker Sheet'!G278=\"\",\"\",TEXT('Broker Sheet'!G278,\"YYYYMMDD\"))","v":""},{"$f":"IF('Broker Sheet'!H278=\"\",\"\",'Broker Sheet'!H278)","v":""},{"$f":"IF('Broker Sheet'!I278=\"\",\"\",'Broker Sheet'!I278)","v":""},{"$f":"IF('Broker Sheet'!J278=\"\",\"\",VLOOKUP('Broker Sheet'!J278,(Reference!$E$4:$F$9),2,FALSE))","v":""},{"$f":"IF('Broker Sheet'!K278=\"\",\"\",'Broker Sheet'!K278)","v":""},{"$f":"IF('Broker Sheet'!R278=\"\",\"\",'Broker Sheet'!R278)","v":""},{"$f":"IF('Broker Sheet'!S278=\"\",\"\",'Broker Sheet'!S278)","v":""},{"$f":"IF('Broker Sheet'!T278=\"\",\"\",'Broker Sheet'!T278)","v":""},{"$f":"IF('Broker Sheet'!U278=\"\",\"\",'Broker Sheet'!U278)","v":""},{"$f":"IF('Broker Sheet'!V278=\"\",\"\",'Broker Sheet'!V278)","v":""},{"$f":"IF('Broker Sheet'!W278=\"\",\"\",'Broker Sheet'!W278)","v":""},{"$f":"IF('Broker Sheet'!Y278=\"\",\"\",'Broker Sheet'!Y278)","v":""},{"$f":"IF('Broker Sheet'!AA278=\"\",\"\",'Broker Sheet'!AA278)","v":""},{"$f":"IF('Broker Sheet'!Z278=\"\",\"\",'Broker Sheet'!Z278)","v":""},{"$f":"IF('Broker Sheet'!AB278=\"\",\"\",'Broker Sheet'!AB278)","v":""},null,null,{"$f":"IF('Broker Sheet'!L278=\"\",\"\",TEXT('Broker Sheet'!L278,\"YYYYMMDD\"))","v":""},{"$f":"IF('Broker Sheet'!AC278=\"\",\"\",TEXT('Broker Sheet'!AC278,\"YYYYMMDD\"))","v":""},{"$f":"IF('Broker Sheet'!AD278=\"\",\"\",TEXT('Broker Sheet'!AD278,\"YYYYMMDD\"))","v":""},{"$f":"IF('Broker Sheet'!AE278=\"\",\"\",'Broker Sheet'!AE278)","v":""},{"$f":"IF('Broker Sheet'!AF278=\"\",\"\",TEXT('Broker Sheet'!AF278,\"YYYYMMDD\"))","v":""},{"$f":"IF('Broker Sheet'!AG278=\"\",\"\",TEXT('Broker Sheet'!AG278,\"YYYYMMDD\"))","v":""}]
[null,null,null,null,null,{"$f":"IF('Broker Sheet'!C279=\"\",\"\",'Broker Sheet'!C279)","v":""},{"$f":"IF('Broker Sheet'!D279=\"\",\"\",'Broker Sheet'!D279)","v":""},{"$f":"IF('Broker Sheet'!E279=\"\",\"\",'Broker Sheet'!E279)","v":""},{"$f":"IF('Broker Sheet'!F279=\"\",\"\",'Broker Sheet'!F279)","v":""},{"$f":"IF('Broker Sheet'!G279=\"\",\"\",TEXT('Broker Sheet'!G279,\"YYYYMMDD\"))","v":""},{"$f":"IF('Broker Sheet'!H279=\"\",\"\",'Broker Sheet'!H279)","v":""},{"$f":"IF('Broker Sheet'!I279=\"\",\"\",'Broker Sheet'!I279)","v":""},{"$f":"IF('Broker Sheet'!J279=\"\",\"\",VLOOKUP('Broker Sheet'!J279,(Reference!$E$4:$F$9),2,FALSE))","v":""},{"$f":"IF('Broker Sheet'!K279=\"\",\"\",'Broker Sheet'!K279)","v":""},{"$f":"IF('Broker Sheet'!R279=\"\",\"\",'Broker Sheet'!R279)","v":""},{"$f":"IF('Broker Sheet'!S279=\"\",\"\",'Broker Sheet'!S279)","v":""},{"$f":"IF('Broker Sheet'!T279=\"\",\"\",'Broker Sheet'!T279)","v":""},{"$f":"IF('Broker Sheet'!U279=\"\",\"\",'Broker Sheet'!U279)","v":""},{"$f":"IF('Broker Sheet'!V279=\"\",\"\",'Broker Sheet'!V279)","v":""},{"$f":"IF('Broker Sheet'!W279=\"\",\"\",'Broker Sheet'!W279)","v":""},{"$f":"IF('Broker Sheet'!Y279=\"\",\"\",'Broker Sheet'!Y279)","v":""},{"$f":"IF('Broker Sheet'!AA279=\"\",\"\",'Broker Sheet'!AA279)","v":""},{"$f":"IF('Broker Sheet'!Z279=\"\",\"\",'Broker Sheet'!Z279)","v":""},{"$f":"IF('Broker Sheet'!AB279=\"\",\"\",'Broker Sheet'!AB279)","v":""},null,null,{"$f":"IF('Broker Sheet'!L279=\"\",\"\",TEXT('Broker Sheet'!L279,\"YYYYMMDD\"))","v":""},{"$f":"IF('Broker Sheet'!AC279=\"\",\"\",TEXT('Broker Sheet'!AC279,\"YYYYMMDD\"))","v":""},{"$f":"IF('Broker Sheet'!AD279=\"\",\"\",TEXT('Broker Sheet'!AD279,\"YYYYMMDD\"))","v":""},{"$f":"IF('Broker Sheet'!AE279=\"\",\"\",'Broker Sheet'!AE279)","v":""},{"$f":"IF('Broker Sheet'!AF279=\"\",\"\",TEXT('Broker Sheet'!AF279,\"YYYYMMDD\"))","v":""},{"$f":"IF('Broker Sheet'!AG279=\"\",\"\",TEXT('Broker Sheet'!AG279,\"YYYYMMDD\"))","v":""}]
[null,null,null,null,null,{"$f":"IF('Broker Sheet'!C280=\"\",\"\",'Broker Sheet'!C280)","v":""},{"$f":"IF('Broker Sheet'!D280=\"\",\"\",'Broker Sheet'!D280)","v":""},{"$f":"IF('Broker Sheet'!E280=\"\",\"\",'Broker Sheet'!E280)","v":""},{"$f":"IF('Broker Sheet'!F280=\"\",\"\",'Broker Sheet'!F280)","v":""},{"$f":"IF('Broker Sheet'!G280=\"\",\"\",TEXT('Broker Sheet'!G280,\"YYYYMMDD\"))","v":""},{"$f":"IF('Broker Sheet'!H280=\"\",\"\",'Broker Sheet'!H280)","v":""},{"$f":"IF('Broker Sheet'!I280=\"\",\"\",'Broker Sheet'!I280)","v":""},{"$f":"IF('Broker Sheet'!J280=\"\",\"\",VLOOKUP('Broker Sheet'!J280,(Reference!$E$4:$F$9),2,FALSE))","v":""},{"$f":"IF('Broker Sheet'!K280=\"\",\"\",'Broker Sheet'!K280)","v":""},{"$f":"IF('Broker Sheet'!R280=\"\",\"\",'Broker Sheet'!R280)","v":""},{"$f":"IF('Broker Sheet'!S280=\"\",\"\",'Broker Sheet'!S280)","v":""},{"$f":"IF('Broker Sheet'!T280=\"\",\"\",'Broker Sheet'!T280)","v":""},{"$f":"IF('Broker Sheet'!U280=\"\",\"\",'Broker Sheet'!U280)","v":""},{"$f":"IF('Broker Sheet'!V280=\"\",\"\",'Broker Sheet'!V280)","v":""},{"$f":"IF('Broker Sheet'!W280=\"\",\"\",'Broker Sheet'!W280)","v":""},{"$f":"IF('Broker Sheet'!Y280=\"\",\"\",'Broker Sheet'!Y280)","v":""},{"$f":"IF('Broker Sheet'!AA280=\"\",\"\",'Broker Sheet'!AA280)","v":""},{"$f":"IF('Broker Sheet'!Z280=\"\",\"\",'Broker Sheet'!Z280)","v":""},{"$f":"IF('Broker Sheet'!AB280=\"\",\"\",'Broker Sheet'!AB280)","v":""},null,null,{"$f":"IF('Broker Sheet'!L280=\"\",\"\",TEXT('Broker Sheet'!L280,\"YYYYMMDD\"))","v":""},{"$f":"IF('Broker Sheet'!AC280=\"\",\"\",TEXT('Broker Sheet'!AC280,\"YYYYMMDD\"))","v":""},{"$f":"IF('Broker Sheet'!AD280=\"\",\"\",TEXT('Broker Sheet'!AD280,\"YYYYMMDD\"))","v":""},{"$f":"IF('Broker Sheet'!AE280=\"\",\"\",'Broker Sheet'!AE280)","v":""},{"$f":"IF('Broker Sheet'!AF280=\"\",\"\",TEXT('Broker Sheet'!AF280,\"YYYYMMDD\"))","v":""},{"$f":"IF('Broker Sheet'!AG280=\"\",\"\",TEXT('Broker Sheet'!AG280,\"YYYYMMDD\"))","v":""}]
[null,null,null,null,null,{"$f":"IF('Broker Sheet'!C281=\"\",\"\",'Broker Sheet'!C281)","v":""},{"$f":"IF('Broker Sheet'!D281=\"\",\"\",'Broker Sheet'!D281)","v":""},{"$f":"IF('Broker Sheet'!E281=\"\",\"\",'Broker Sheet'!E281)","v":""},{"$f":"IF('Broker Sheet'!F281=\"\",\"\",'Broker Sheet'!F281)","v":""},{"$f":"IF('Broker Sheet'!G281=\"\",\"\",TEXT('Broker Sheet'!G281,\"YYYYMMDD\"))","v":""},{"$f":"IF('Broker Sheet'!H281=\"\",\"\",'Broker Sheet'!H281)","v":""},{"$f":"IF('Broker Sheet'!I281=\"\",\"\",'Broker Sheet'!I281)","v":""},{"$f":"IF('Broker Sheet'!J281=\"\",\"\",VLOOKUP('Broker Sheet'!J281,(Reference!$E$4:$F$9),2,FALSE))","v":""},{"$f":"IF('Broker Sheet'!K281=\"\",\"\",'Broker Sheet'!K281)","v":""},{"$f":"IF('Broker Sheet'!R281=\"\",\"\",'Broker Sheet'!R281)","v":""},{"$f":"IF('Broker Sheet'!S281=\"\",\"\",'Broker Sheet'!S281)","v":""},{"$f":"IF('Broker Sheet'!T281=\"\",\"\",'Broker Sheet'!T281)","v":""},{"$f":"IF('Broker Sheet'!U281=\"\",\"\",'Broker Sheet'!U281)","v":""},{"$f":"IF('Broker Sheet'!V281=\"\",\"\",'Broker Sheet'!V281)","v":""},{"$f":"IF('Broker Sheet'!W281=\"\",\"\",'Broker Sheet'!W281)","v":""},{"$f":"IF('Broker Sheet'!Y281=\"\",\"\",'Broker Sheet'!Y281)","v":""},{"$f":"IF('Broker Sheet'!AA281=\"\",\"\",'Broker Sheet'!AA281)","v":""},{"$f":"IF('Broker Sheet'!Z281=\"\",\"\",'Broker Sheet'!Z281)","v":""},{"$f":"IF('Broker Sheet'!AB281=\"\",\"\",'Broker Sheet'!AB281)","v":""},null,null,{"$f":"IF('Broker Sheet'!L281=\"\",\"\",TEXT('Broker Sheet'!L281,\"YYYYMMDD\"))","v":""},{"$f":"IF('Broker Sheet'!AC281=\"\",\"\",TEXT('Broker Sheet'!AC281,\"YYYYMMDD\"))","v":""},{"$f":"IF('Broker Sheet'!AD281=\"\",\"\",TEXT('Broker Sheet'!AD281,\"YYYYMMDD\"))","v":""},{"$f":"IF('Broker Sheet'!AE281=\"\",\"\",'Broker Sheet'!AE281)","v":""},{"$f":"IF('Broker Sheet'!AF281=\"\",\"\",TEXT('Broker Sheet'!AF281,\"YYYYMMDD\"))","v":""},{"$f":"IF('Broker Sheet'!AG281=\"\",\"\",TEXT('Broker Sheet'!AG281,\"YYYYMMDD\"))","v":""}]
[null,null,null,null,null,{"$f":"IF('Broker Sheet'!C282=\"\",\"\",'Broker Sheet'!C282)","v":""},{"$f":"IF('Broker Sheet'!D282=\"\",\"\",'Broker Sheet'!D282)","v":""},{"$f":"IF('Broker Sheet'!E282=\"\",\"\",'Broker Sheet'!E282)","v":""},{"$f":"IF('Broker Sheet'!F282=\"\",\"\",'Broker Sheet'!F282)","v":""},{"$f":"IF('Broker Sheet'!G282=\"\",\"\",TEXT('Broker Sheet'!G282,\"YYYYMMDD\"))","v":""},{"$f":"IF('Broker Sheet'!H282=\"\",\"\",'Broker Sheet'!H282)","v":""},{"$f":"IF('Broker Sheet'!I282=\"\",\"\",'Broker Sheet'!I282)","v":""},{"$f":"IF('Broker Sheet'!J282=\"\",\"\",VLOOKUP('Broker Sheet'!J282,(Reference!$E$4:$F$9),2,FALSE))","v":""},{"$f":"IF('Broker Sheet'!K282=\"\",\"\",'Broker Sheet'!K282)","v":""},{"$f":"IF('Broker Sheet'!R282=\"\",\"\",'Broker Sheet'!R282)","v":""},{"$f":"IF('Broker Sheet'!S282=\"\",\"\",'Broker Sheet'!S282)","v":""},{"$f":"IF('Broker Sheet'!T282=\"\",\"\",'Broker Sheet'!T282)","v":""},{"$f":"IF('Broker Sheet'!U282=\"\",\"\",'Broker Sheet'!U282)","v":""},{"$f":"IF('Broker Sheet'!V282=\"\",\"\",'Broker Sheet'!V282)","v":""},{"$f":"IF('Broker Sheet'!W282=\"\",\"\",'Broker Sheet'!W282)","v":""},{"$f":"IF('Broker Sheet'!Y282=\"\",\"\",'Broker Sheet'!Y282)","v":""},{"$f":"IF('Broker Sheet'!AA282=\"\",\"\",'Broker Sheet'!AA282)","v":""},{"$f":"IF('Broker Sheet'!Z282=\"\",\"\",'Broker Sheet'!Z282)","v":""},{"$f":"IF('Broker Sheet'!AB282=\"\",\"\",'Broker Sheet'!AB282)","v":""},null,null,{"$f":"IF('Broker Sheet'!L282=\"\",\"\",TEXT('Broker Sheet'!L282,\"YYYYMMDD\"))","v":""},{"$f":"IF('Broker Sheet'!AC282=\"\",\"\",TEXT('Broker Sheet'!AC282,\"YYYYMMDD\"))","v":""},{"$f":"IF('Broker Sheet'!AD282=\"\",\"\",TEXT('Broker Sheet'!AD282,\"YYYYMMDD\"))","v":""},{"$f":"IF('Broker Sheet'!AE282=\"\",\"\",'Broker Sheet'!AE282)","v":""},{"$f":"IF('Broker Sheet'!AF282=\"\",\"\",TEXT('Broker Sheet'!AF282,\"YYYYMMDD\"))","v":""},{"$f":"IF('Broker Sheet'!AG282=\"\",\"\",TEXT('Broker Sheet'!AG282,\"YYYYMMDD\"))","v":""}]
[null,null,null,null,null,{"$f":"IF('Broker Sheet'!C283=\"\",\"\",'Broker Sheet'!C283)","v":""},{"$f":"IF('Broker Sheet'!D283=\"\",\"\",'Broker Sheet'!D283)","v":""},{"$f":"IF('Broker Sheet'!E283=\"\",\"\",'Broker Sheet'!E283)","v":""},{"$f":"IF('Broker Sheet'!F283=\"\",\"\",'Broker Sheet'!F283)","v":""},{"$f":"IF('Broker Sheet'!G283=\"\",\"\",TEXT('Broker Sheet'!G283,\"YYYYMMDD\"))","v":""},{"$f":"IF('Broker Sheet'!H283=\"\",\"\",'Broker Sheet'!H283)","v":""},{"$f":"IF('Broker Sheet'!I283=\"\",\"\",'Broker Sheet'!I283)","v":""},{"$f":"IF('Broker Sheet'!J283=\"\",\"\",VLOOKUP('Broker Sheet'!J283,(Reference!$E$4:$F$9),2,FALSE))","v":""},{"$f":"IF('Broker Sheet'!K283=\"\",\"\",'Broker Sheet'!K283)","v":""},{"$f":"IF('Broker Sheet'!R283=\"\",\"\",'Broker Sheet'!R283)","v":""},{"$f":"IF('Broker Sheet'!S283=\"\",\"\",'Broker Sheet'!S283)","v":""},{"$f":"IF('Broker Sheet'!T283=\"\",\"\",'Broker Sheet'!T283)","v":""},{"$f":"IF('Broker Sheet'!U283=\"\",\"\",'Broker Sheet'!U283)","v":""},{"$f":"IF('Broker Sheet'!V283=\"\",\"\",'Broker Sheet'!V283)","v":""},{"$f":"IF('Broker Sheet'!W283=\"\",\"\",'Broker Sheet'!W283)","v":""},{"$f":"IF('Broker Sheet'!Y283=\"\",\"\",'Broker Sheet'!Y283)","v":""},{"$f":"IF('Broker Sheet'!AA283=\"\",\"\",'Broker Sheet'!AA283)","v":""},{"$f":"IF('Broker Sheet'!Z283=\"\",\"\",'Broker Sheet'!Z283)","v":""},{"$f":"IF('Broker Sheet'!AB283=\"\",\"\",'Broker Sheet'!AB283)","v":""},null,null,{"$f":"IF('Broker Sheet'!L283=\"\",\"\",TEXT('Broker Sheet'!L283,\"YYYYMMDD\"))","v":""},{"$f":"IF('Broker Sheet'!AC283=\"\",\"\",TEXT('Broker Sheet'!AC283,\"YYYYMMDD\"))","v":""},{"$f":"IF('Broker Sheet'!AD283=\"\",\"\",TEXT('Broker Sheet'!AD283,\"YYYYMMDD\"))","v":""},{"$f":"IF('Broker Sheet'!AE283=\"\",\"\",'Broker Sheet'!AE283)","v":""},{"$f":"IF('Broker Sheet'!AF283=\"\",\"\",TEXT('Broker Sheet'!AF283,\"YYYYMMDD\"))","v":""},{"$f":"IF('Broker Sheet'!AG283=\"\",\"\",TEXT('Broker Sheet'!AG283,\"YYYYMMDD\"))","v":""}]
[null,null,null,null,null,{"$f":"IF('Broker Sheet'!C284=\"\",\"\",'Broker Sheet'!C284)","v":""},{"$f":"IF('Broker Sheet'!D284=\"\",\"\",'Broker Sheet'!D284)","v":""},{"$f":"IF('Broker Sheet'!E284=\"\",\"\",'Broker Sheet'!E284)","v":""},{"$f":"IF('Broker Sheet'!F284=\"\",\"\",'Broker Sheet'!F284)","v":""},{"$f":"IF('Broker Sheet'!G284=\"\",\"\",TEXT('Broker Sheet'!G284,\"YYYYMMDD\"))","v":""},{"$f":"IF('Broker Sheet'!H284=\"\",\"\",'Broker Sheet'!H284)","v":""},{"$f":"IF('Broker Sheet'!I284=\"\",\"\",'Broker Sheet'!I284)","v":""},{"$f":"IF('Broker Sheet'!J284=\"\",\"\",VLOOKUP('Broker Sheet'!J284,(Reference!$E$4:$F$9),2,FALSE))","v":""},{"$f":"IF('Broker Sheet'!K284=\"\",\"\",'Broker Sheet'!K284)","v":""},{"$f":"IF('Broker Sheet'!R284=\"\",\"\",'Broker Sheet'!R284)","v":""},{"$f":"IF('Broker Sheet'!S284=\"\",\"\",'Broker Sheet'!S284)","v":""},{"$f":"IF('Broker Sheet'!T284=\"\",\"\",'Broker Sheet'!T284)","v":""},{"$f":"IF('Broker Sheet'!U284=\"\",\"\",'Broker Sheet'!U284)","v":""},{"$f":"IF('Broker Sheet'!V284=\"\",\"\",'Broker Sheet'!V284)","v":""},{"$f":"IF('Broker Sheet'!W284=\"\",\"\",'Broker Sheet'!W284)","v":""},{"$f":"IF('Broker Sheet'!Y284=\"\",\"\",'Broker Sheet'!Y284)","v":""},{"$f":"IF('Broker Sheet'!AA284=\"\",\"\",'Broker Sheet'!AA284)","v":""},{"$f":"IF('Broker Sheet'!Z284=\"\",\"\",'Broker Sheet'!Z284)","v":""},{"$f":"IF('Broker Sheet'!AB284=\"\",\"\",'Broker Sheet'!AB284)","v":""},null,null,{"$f":"IF('Broker Sheet'!L284=\"\",\"\",TEXT('Broker Sheet'!L284,\"YYYYMMDD\"))","v":""},{"$f":"IF('Broker Sheet'!AC284=\"\",\"\",TEXT('Broker Sheet'!AC284,\"YYYYMMDD\"))","v":""},{"$f":"IF('Broker Sheet'!AD284=\"\",\"\",TEXT('Broker Sheet'!AD284,\"YYYYMMDD\"))","v":""},{"$f":"IF('Broker Sheet'!AE284=\"\",\"\",'Broker Sheet'!AE284)","v":""},{"$f":"IF('Broker Sheet'!AF284=\"\",\"\",TEXT('Broker Sheet'!AF284,\"YYYYMMDD\"))","v":""},{"$f":"IF('Broker Sheet'!AG284=\"\",\"\",TEXT('Broker Sheet'!AG284,\"YYYYMMDD\"))","v":""}]
[null,null,null,null,null,{"$f":"IF('Broker Sheet'!C285=\"\",\"\",'Broker Sheet'!C285)","v":""},{"$f":"IF('Broker Sheet'!D285=\"\",\"\",'Broker Sheet'!D285)","v":""},{"$f":"IF('Broker Sheet'!E285=\"\",\"\",'Broker Sheet'!E285)","v":""},{"$f":"IF('Broker Sheet'!F285=\"\",\"\",'Broker Sheet'!F285)","v":""},{"$f":"IF('Broker Sheet'!G285=\"\",\"\",TEXT('Broker Sheet'!G285,\"YYYYMMDD\"))","v":""},{"$f":"IF('Broker Sheet'!H285=\"\",\"\",'Broker Sheet'!H285)","v":""},{"$f":"IF('Broker Sheet'!I285=\"\",\"\",'Broker Sheet'!I285)","v":""},{"$f":"IF('Broker Sheet'!J285=\"\",\"\",VLOOKUP('Broker Sheet'!J285,(Reference!$E$4:$F$9),2,FALSE))","v":""},{"$f":"IF('Broker Sheet'!K285=\"\",\"\",'Broker Sheet'!K285)","v":""},{"$f":"IF('Broker Sheet'!R285=\"\",\"\",'Broker Sheet'!R285)","v":""},{"$f":"IF('Broker Sheet'!S285=\"\",\"\",'Broker Sheet'!S285)","v":""},{"$f":"IF('Broker Sheet'!T285=\"\",\"\",'Broker Sheet'!T285)","v":""},{"$f":"IF('Broker Sheet'!U285=\"\",\"\",'Broker Sheet'!U285)","v":""},{"$f":"IF('Broker Sheet'!V285=\"\",\"\",'Broker Sheet'!V285)","v":""},{"$f":"IF('Broker Sheet'!W285=\"\",\"\",'Broker Sheet'!W285)","v":""},{"$f":"IF('Broker Sheet'!Y285=\"\",\"\",'Broker Sheet'!Y285)","v":""},{"$f":"IF('Broker Sheet'!AA285=\"\",\"\",'Broker Sheet'!AA285)","v":""},{"$f":"IF('Broker Sheet'!Z285=\"\",\"\",'Broker Sheet'!Z285)","v":""},{"$f":"IF('Broker Sheet'!AB285=\"\",\"\",'Broker Sheet'!AB285)","v":""},null,null,{"$f":"IF('Broker Sheet'!L285=\"\",\"\",TEXT('Broker Sheet'!L285,\"YYYYMMDD\"))","v":""},{"$f":"IF('Broker Sheet'!AC285=\"\",\"\",TEXT('Broker Sheet'!AC285,\"YYYYMMDD\"))","v":""},{"$f":"IF('Broker Sheet'!AD285=\"\",\"\",TEXT('Broker Sheet'!AD285,\"YYYYMMDD\"))","v":""},{"$f":"IF('Broker Sheet'!AE285=\"\",\"\",'Broker Sheet'!AE285)","v":""},{"$f":"IF('Broker Sheet'!AF285=\"\",\"\",TEXT('Broker Sheet'!AF285,\"YYYYMMDD\"))","v":""},{"$f":"IF('Broker Sheet'!AG285=\"\",\"\",TEXT('Broker Sheet'!AG285,\"YYYYMMDD\"))","v":""}]
[null,null,null,null,null,{"$f":"IF('Broker Sheet'!C286=\"\",\"\",'Broker Sheet'!C286)","v":""},{"$f":"IF('Broker Sheet'!D286=\"\",\"\",'Broker Sheet'!D286)","v":""},{"$f":"IF('Broker Sheet'!E286=\"\",\"\",'Broker Sheet'!E286)","v":""},{"$f":"IF('Broker Sheet'!F286=\"\",\"\",'Broker Sheet'!F286)","v":""},{"$f":"IF('Broker Sheet'!G286=\"\",\"\",TEXT('Broker Sheet'!G286,\"YYYYMMDD\"))","v":""},{"$f":"IF('Broker Sheet'!H286=\"\",\"\",'Broker Sheet'!H286)","v":""},{"$f":"IF('Broker Sheet'!I286=\"\",\"\",'Broker Sheet'!I286)","v":""},{"$f":"IF('Broker Sheet'!J286=\"\",\"\",VLOOKUP('Broker Sheet'!J286,(Reference!$E$4:$F$9),2,FALSE))","v":""},{"$f":"IF('Broker Sheet'!K286=\"\",\"\",'Broker Sheet'!K286)","v":""},{"$f":"IF('Broker Sheet'!R286=\"\",\"\",'Broker Sheet'!R286)","v":""},{"$f":"IF('Broker Sheet'!S286=\"\",\"\",'Broker Sheet'!S286)","v":""},{"$f":"IF('Broker Sheet'!T286=\"\",\"\",'Broker Sheet'!T286)","v":""},{"$f":"IF('Broker Sheet'!U286=\"\",\"\",'Broker Sheet'!U286)","v":""},{"$f":"IF('Broker Sheet'!V286=\"\",\"\",'Broker Sheet'!V286)","v":""},{"$f":"IF('Broker Sheet'!W286=\"\",\"\",'Broker Sheet'!W286)","v":""},{"$f":"IF('Broker Sheet'!Y286=\"\",\"\",'Broker Sheet'!Y286)","v":""},{"$f":"IF('Broker Sheet'!AA286=\"\",\"\",'Broker Sheet'!AA286)","v":""},{"$f":"IF('Broker Sheet'!Z286=\"\",\"\",'Broker Sheet'!Z286)","v":""},{"$f":"IF('Broker Sheet'!AB286=\"\",\"\",'Broker Sheet'!AB286)","v":""},null,null,{"$f":"IF('Broker Sheet'!L286=\"\",\"\",TEXT('Broker Sheet'!L286,\"YYYYMMDD\"))","v":""},{"$f":"IF('Broker Sheet'!AC286=\"\",\"\",TEXT('Broker Sheet'!AC286,\"YYYYMMDD\"))","v":""},{"$f":"IF('Broker Sheet'!AD286=\"\",\"\",TEXT('Broker Sheet'!AD286,\"YYYYMMDD\"))","v":""},{"$f":"IF('Broker Sheet'!AE286=\"\",\"\",'Broker Sheet'!AE286)","v":""},{"$f":"IF('Broker Sheet'!AF286=\"\",\"\",TEXT('Broker Sheet'!AF286,\"YYYYMMDD\"))","v":""},{"$f":"IF('Broker Sheet'!AG286=\"\",\"\",TEXT('Broker Sheet'!AG286,\"YYYYMMDD\"))","v":""}]
[null,null,null,null,null,{"$f":"IF('Broker Sheet'!C287=\"\",\"\",'Broker Sheet'!C287)","v":""},{"$f":"IF('Broker Sheet'!D287=\"\",\"\",'Broker Sheet'!D287)","v":""},{"$f":"IF('Broker Sheet'!E287=\"\",\"\",'Broker Sheet'!E287)","v":""},{"$f":"IF('Broker Sheet'!F287=\"\",\"\",'Broker Sheet'!F287)","v":""},{"$f":"IF('Broker Sheet'!G287=\"\",\"\",TEXT('Broker Sheet'!G287,\"YYYYMMDD\"))","v":""},{"$f":"IF('Broker Sheet'!H287=\"\",\"\",'Broker Sheet'!H287)","v":""},{"$f":"IF('Broker Sheet'!I287=\"\",\"\",'Broker Sheet'!I287)","v":""},{"$f":"IF('Broker Sheet'!J287=\"\",\"\",VLOOKUP('Broker Sheet'!J287,(Reference!$E$4:$F$9),2,FALSE))","v":""},{"$f":"IF('Broker Sheet'!K287=\"\",\"\",'Broker Sheet'!K287)","v":""},{"$f":"IF('Broker Sheet'!R287=\"\",\"\",'Broker Sheet'!R287)","v":""},{"$f":"IF('Broker Sheet'!S287=\"\",\"\",'Broker Sheet'!S287)","v":""},{"$f":"IF('Broker Sheet'!T287=\"\",\"\",'Broker Sheet'!T287)","v":""},{"$f":"IF('Broker Sheet'!U287=\"\",\"\",'Broker Sheet'!U287)","v":""},{"$f":"IF('Broker Sheet'!V287=\"\",\"\",'Broker Sheet'!V287)","v":""},{"$f":"IF('Broker Sheet'!W287=\"\",\"\",'Broker Sheet'!W287)","v":""},{"$f":"IF('Broker Sheet'!Y287=\"\",\"\",'Broker Sheet'!Y287)","v":""},{"$f":"IF('Broker Sheet'!AA287=\"\",\"\",'Broker Sheet'!AA287)","v":""},{"$f":"IF('Broker Sheet'!Z287=\"\",\"\",'Broker Sheet'!Z287)","v":""},{"$f":"IF('Broker Sheet'!AB287=\"\",\"\",'Broker Sheet'!AB287)","v":""},null,null,{"$f":"IF('Broker Sheet'!L287=\"\",\"\",TEXT('Broker Sheet'!L287,\"YYYYMMDD\"))","v":""},{"$f":"IF('Broker Sheet'!AC287=\"\",\"\",TEXT('Broker Sheet'!AC287,\"YYYYMMDD\"))","v":""},{"$f":"IF('Broker Sheet'!AD287=\"\",\"\",TEXT('Broker Sheet'!AD287,\"YYYYMMDD\"))","v":""},{"$f":"IF('Broker Sheet'!AE287=\"\",\"\",'Broker Sheet'!AE287)","v":""},{"$f":"IF('Broker Sheet'!AF287=\"\",\"\",TEXT('Broker Sheet'!AF287,\"YYYYMMDD\"))","v":""},{"$f":"IF('Broker Sheet'!AG287=\"\",\"\",TEXT('Broker Sheet'!AG287,\"YYYYMMDD\"))","v":""}]
[null,null,null,null,null,{"$f":"IF('Broker Sheet'!C288=\"\",\"\",'Broker Sheet'!C288)","v":""},{"$f":"IF('Broker Sheet'!D288=\"\",\"\",'Broker Sheet'!D288)","v":""},{"$f":"IF('Broker Sheet'!E288=\"\",\"\",'Broker Sheet'!E288)","v":""},{"$f":"IF('Broker Sheet'!F288=\"\",\"\",'Broker Sheet'!F288)","v":""},{"$f":"IF('Broker Sheet'!G288=\"\",\"\",TEXT('Broker Sheet'!G288,\"YYYYMMDD\"))","v":""},{"$f":"IF('Broker Sheet'!H288=\"\",\"\",'Broker Sheet'!H288)","v":""},{"$f":"IF('Broker Sheet'!I288=\"\",\"\",'Broker Sheet'!I288)","v":""},{"$f":"IF('Broker Sheet'!J288=\"\",\"\",VLOOKUP('Broker Sheet'!J288,(Reference!$E$4:$F$9),2,FALSE))","v":""},{"$f":"IF('Broker Sheet'!K288=\"\",\"\",'Broker Sheet'!K288)","v":""},{"$f":"IF('Broker Sheet'!R288=\"\",\"\",'Broker Sheet'!R288)","v":""},{"$f":"IF('Broker Sheet'!S288=\"\",\"\",'Broker Sheet'!S288)","v":""},{"$f":"IF('Broker Sheet'!T288=\"\",\"\",'Broker Sheet'!T288)","v":""},{"$f":"IF('Broker Sheet'!U288=\"\",\"\",'Broker Sheet'!U288)","v":""},{"$f":"IF('Broker Sheet'!V288=\"\",\"\",'Broker Sheet'!V288)","v":""},{"$f":"IF('Broker Sheet'!W288=\"\",\"\",'Broker Sheet'!W288)","v":""},{"$f":"IF('Broker Sheet'!Y288=\"\",\"\",'Broker Sheet'!Y288)","v":""},{"$f":"IF('Broker Sheet'!AA288=\"\",\"\",'Broker Sheet'!AA288)","v":""},{"$f":"IF('Broker Sheet'!Z288=\"\",\"\",'Broker Sheet'!Z288)","v":""},{"$f":"IF('Broker Sheet'!AB288=\"\",\"\",'Broker Sheet'!AB288)","v":""},null,null,{"$f":"IF('Broker Sheet'!L288=\"\",\"\",TEXT('Broker Sheet'!L288,\"YYYYMMDD\"))","v":""},{"$f":"IF('Broker Sheet'!AC288=\"\",\"\",TEXT('Broker Sheet'!AC288,\"YYYYMMDD\"))","v":""},{"$f":"IF('Broker Sheet'!AD288=\"\",\"\",TEXT('Broker Sheet'!AD288,\"YYYYMMDD\"))","v":""},{"$f":"IF('Broker Sheet'!AE288=\"\",\"\",'Broker Sheet'!AE288)","v":""},{"$f":"IF('Broker Sheet'!AF288=\"\",\"\",TEXT('Broker Sheet'!AF288,\"YYYYMMDD\"))","v":""},{"$f":"IF('Broker Sheet'!AG288=\"\",\"\",TEXT('Broker Sheet'!AG288,\"YYYYMMDD\"))","v":""}]
[null,null,null,null,null,{"$f":"IF('Broker Sheet'!C289=\"\",\"\",'Broker Sheet'!C289)","v":""},{"$f":"IF('Broker Sheet'!D289=\"\",\"\",'Broker Sheet'!D289)","v":""},{"$f":"IF('Broker Sheet'!E289=\"\",\"\",'Broker Sheet'!E289)","v":""},{"$f":"IF('Broker Sheet'!F289=\"\",\"\",'Broker Sheet'!F289)","v":""},{"$f":"IF('Broker Sheet'!G289=\"\",\"\",TEXT('Broker Sheet'!G289,\"YYYYMMDD\"))","v":""},{"$f":"IF('Broker Sheet'!H289=\"\",\"\",'Broker Sheet'!H289)","v":""},{"$f":"IF('Broker Sheet'!I289=\"\",\"\",'Broker Sheet'!I289)","v":""},{"$f":"IF('Broker Sheet'!J289=\"\",\"\",VLOOKUP('Broker Sheet'!J289,(Reference!$E$4:$F$9),2,FALSE))","v":""},{"$f":"IF('Broker Sheet'!K289=\"\",\"\",'Broker Sheet'!K289)","v":""},{"$f":"IF('Broker Sheet'!R289=\"\",\"\",'Broker Sheet'!R289)","v":""},{"$f":"IF('Broker Sheet'!S289=\"\",\"\",'Broker Sheet'!S289)","v":""},{"$f":"IF('Broker Sheet'!T289=\"\",\"\",'Broker Sheet'!T289)","v":""},{"$f":"IF('Broker Sheet'!U289=\"\",\"\",'Broker Sheet'!U289)","v":""},{"$f":"IF('Broker Sheet'!V289=\"\",\"\",'Broker Sheet'!V289)","v":""},{"$f":"IF('Broker Sheet'!W289=\"\",\"\",'Broker Sheet'!W289)","v":""},{"$f":"IF('Broker Sheet'!Y289=\"\",\"\",'Broker Sheet'!Y289)","v":""},{"$f":"IF('Broker Sheet'!AA289=\"\",\"\",'Broker Sheet'!AA289)","v":""},{"$f":"IF('Broker Sheet'!Z289=\"\",\"\",'Broker Sheet'!Z289)","v":""},{"$f":"IF('Broker Sheet'!AB289=\"\",\"\",'Broker Sheet'!AB289)","v":""},null,null,{"$f":"IF('Broker Sheet'!L289=\"\",\"\",TEXT('Broker Sheet'!L289,\"YYYYMMDD\"))","v":""},{"$f":"IF('Broker Sheet'!AC289=\"\",\"\",TEXT('Broker Sheet'!AC289,\"YYYYMMDD\"))","v":""},{"$f":"IF('Broker Sheet'!AD289=\"\",\"\",TEXT('Broker Sheet'!AD289,\"YYYYMMDD\"))","v":""},{"$f":"IF('Broker Sheet'!AE289=\"\",\"\",'Broker Sheet'!AE289)","v":""},{"$f":"IF('Broker Sheet'!AF289=\"\",\"\",TEXT('Broker Sheet'!AF289,\"YYYYMMDD\"))","v":""},{"$f":"IF('Broker Sheet'!AG289=\"\",\"\",TEXT('Broker Sheet'!AG289,\"YYYYMMDD\"))","v":""}]
[null,null,null,null,null,{"$f":"IF('Broker Sheet'!C290=\"\",\"\",'Broker Sheet'!C290)","v":""},{"$f":"IF('Broker Sheet'!D290=\"\",\"\",'Broker Sheet'!D290)","v":""},{"$f":"IF('Broker Sheet'!E290=\"\",\"\",'Broker Sheet'!E290)","v":""},{"$f":"IF('Broker Sheet'!F290=\"\",\"\",'Broker Sheet'!F290)","v":""},{"$f":"IF('Broker Sheet'!G290=\"\",\"\",TEXT('Broker Sheet'!G290,\"YYYYMMDD\"))","v":""},{"$f":"IF('Broker Sheet'!H290=\"\",\"\",'Broker Sheet'!H290)","v":""},{"$f":"IF('Broker Sheet'!I290=\"\",\"\",'Broker Sheet'!I290)","v":""},{"$f":"IF('Broker Sheet'!J290=\"\",\"\",VLOOKUP('Broker Sheet'!J290,(Reference!$E$4:$F$9),2,FALSE))","v":""},{"$f":"IF('Broker Sheet'!K290=\"\",\"\",'Broker Sheet'!K290)","v":""},{"$f":"IF('Broker Sheet'!R290=\"\",\"\",'Broker Sheet'!R290)","v":""},{"$f":"IF('Broker Sheet'!S290=\"\",\"\",'Broker Sheet'!S290)","v":""},{"$f":"IF('Broker Sheet'!T290=\"\",\"\",'Broker Sheet'!T290)","v":""},{"$f":"IF('Broker Sheet'!U290=\"\",\"\",'Broker Sheet'!U290)","v":""},{"$f":"IF('Broker Sheet'!V290=\"\",\"\",'Broker Sheet'!V290)","v":""},{"$f":"IF('Broker Sheet'!W290=\"\",\"\",'Broker Sheet'!W290)","v":""},{"$f":"IF('Broker Sheet'!Y290=\"\",\"\",'Broker Sheet'!Y290)","v":""},{"$f":"IF('Broker Sheet'!AA290=\"\",\"\",'Broker Sheet'!AA290)","v":""},{"$f":"IF('Broker Sheet'!Z290=\"\",\"\",'Broker Sheet'!Z290)","v":""},{"$f":"IF('Broker Sheet'!AB290=\"\",\"\",'Broker Sheet'!AB290)","v":""},null,null,{"$f":"IF('Broker Sheet'!L290=\"\",\"\",TEXT('Broker Sheet'!L290,\"YYYYMMDD\"))","v":""},{"$f":"IF('Broker Sheet'!AC290=\"\",\"\",TEXT('Broker Sheet'!AC290,\"YYYYMMDD\"))","v":""},{"$f":"IF('Broker Sheet'!AD290=\"\",\"\",TEXT('Broker Sheet'!AD290,\"YYYYMMDD\"))","v":""},{"$f":"IF('Broker Sheet'!AE290=\"\",\"\",'Broker Sheet'!AE290)","v":""},{"$f":"IF('Broker Sheet'!AF290=\"\",\"\",TEXT('Broker Sheet'!AF290,\"YYYYMMDD\"))","v":""},{"$f":"IF('Broker Sheet'!AG290=\"\",\"\",TEXT('Broker Sheet'!AG290,\"YYYYMMDD\"))","v":""}]
[null,null,null,null,null,{"$f":"IF('Broker Sheet'!C291=\"\",\"\",'Broker Sheet'!C291)","v":""},{"$f":"IF('Broker Sheet'!D291=\"\",\"\",'Broker Sheet'!D291)","v":""},{"$f":"IF('Broker Sheet'!E291=\"\",\"\",'Broker Sheet'!E291)","v":""},{"$f":"IF('Broker Sheet'!F291=\"\",\"\",'Broker Sheet'!F291)","v":""},{"$f":"IF('Broker Sheet'!G291=\"\",\"\",TEXT('Broker Sheet'!G291,\"YYYYMMDD\"))","v":""},{"$f":"IF('Broker Sheet'!H291=\"\",\"\",'Broker Sheet'!H291)","v":""},{"$f":"IF('Broker Sheet'!I291=\"\",\"\",'Broker Sheet'!I291)","v":""},{"$f":"IF('Broker Sheet'!J291=\"\",\"\",VLOOKUP('Broker Sheet'!J291,(Reference!$E$4:$F$9),2,FALSE))","v":""},{"$f":"IF('Broker Sheet'!K291=\"\",\"\",'Broker Sheet'!K291)","v":""},{"$f":"IF('Broker Sheet'!R291=\"\",\"\",'Broker Sheet'!R291)","v":""},{"$f":"IF('Broker Sheet'!S291=\"\",\"\",'Broker Sheet'!S291)","v":""},{"$f":"IF('Broker Sheet'!T291=\"\",\"\",'Broker Sheet'!T291)","v":""},{"$f":"IF('Broker Sheet'!U291=\"\",\"\",'Broker Sheet'!U291)","v":""},{"$f":"IF('Broker Sheet'!V291=\"\",\"\",'Broker Sheet'!V291)","v":""},{"$f":"IF('Broker Sheet'!W291=\"\",\"\",'Broker Sheet'!W291)","v":""},{"$f":"IF('Broker Sheet'!Y291=\"\",\"\",'Broker Sheet'!Y291)","v":""},{"$f":"IF('Broker Sheet'!AA291=\"\",\"\",'Broker Sheet'!AA291)","v":""},{"$f":"IF('Broker Sheet'!Z291=\"\",\"\",'Broker Sheet'!Z291)","v":""},{"$f":"IF('Broker Sheet'!AB291=\"\",\"\",'Broker Sheet'!AB291)","v":""},null,null,{"$f":"IF('Broker Sheet'!L291=\"\",\"\",TEXT('Broker Sheet'!L291,\"YYYYMMDD\"))","v":""},{"$f":"IF('Broker Sheet'!AC291=\"\",\"\",TEXT('Broker Sheet'!AC291,\"YYYYMMDD\"))","v":""},{"$f":"IF('Broker Sheet'!AD291=\"\",\"\",TEXT('Broker Sheet'!AD291,\"YYYYMMDD\"))","v":""},{"$f":"IF('Broker Sheet'!AE291=\"\",\"\",'Broker Sheet'!AE291)","v":""},{"$f":"IF('Broker Sheet'!AF291=\"\",\"\",TEXT('Broker Sheet'!AF291,\"YYYYMMDD\"))","v":""},{"$f":"IF('Broker Sheet'!AG291=\"\",\"\",TEXT('Broker Sheet'!AG291,\"YYYYMMDD\"))","v":""}]
[null,null,null,null,null,{"$f":"IF('Broker Sheet'!C292=\"\",\"\",'Broker Sheet'!C292)","v":""},{"$f":"IF('Broker Sheet'!D292=\"\",\"\",'Broker Sheet'!D292)","v":""},{"$f":"IF('Broker Sheet'!E292=\"\",\"\",'Broker Sheet'!E292)","v":""},{"$f":"IF('Broker Sheet'!F292=\"\",\"\",'Broker Sheet'!F292)","v":""},{"$f":"IF('Broker Sheet'!G292=\"\",\"\",TEXT('Broker Sheet'!G292,\"YYYYMMDD\"))","v":""},{"$f":"IF('Broker Sheet'!H292=\"\",\"\",'Broker Sheet'!H292)","v":""},{"$f":"IF('Broker Sheet'!I292=\"\",\"\",'Broker Sheet'!I292)","v":""},{"$f":"IF('Broker Sheet'!J292=\"\",\"\",VLOOKUP('Broker Sheet'!J292,(Reference!$E$4:$F$9),2,FALSE))","v":""},{"$f":"IF('Broker Sheet'!K292=\"\",\"\",'Broker Sheet'!K292)","v":""},{"$f":"IF('Broker Sheet'!R292=\"\",\"\",'Broker Sheet'!R292)","v":""},{"$f":"IF('Broker Sheet'!S292=\"\",\"\",'Broker Sheet'!S292)","v":""},{"$f":"IF('Broker Sheet'!T292=\"\",\"\",'Broker Sheet'!T292)","v":""},{"$f":"IF('Broker Sheet'!U292=\"\",\"\",'Broker Sheet'!U292)","v":""},{"$f":"IF('Broker Sheet'!V292=\"\",\"\",'Broker Sheet'!V292)","v":""},{"$f":"IF('Broker Sheet'!W292=\"\",\"\",'Broker Sheet'!W292)","v":""},{"$f":"IF('Broker Sheet'!Y292=\"\",\"\",'Broker Sheet'!Y292)","v":""},{"$f":"IF('Broker Sheet'!AA292=\"\",\"\",'Broker Sheet'!AA292)","v":""},{"$f":"IF('Broker Sheet'!Z292=\"\",\"\",'Broker Sheet'!Z292)","v":""},{"$f":"IF('Broker Sheet'!AB292=\"\",\"\",'Broker Sheet'!AB292)","v":""},null,null,{"$f":"IF('Broker Sheet'!L292=\"\",\"\",TEXT('Broker Sheet'!L292,\"YYYYMMDD\"))","v":""},{"$f":"IF('Broker Sheet'!AC292=\"\",\"\",TEXT('Broker Sheet'!AC292,\"YYYYMMDD\"))","v":""},{"$f":"IF('Broker Sheet'!AD292=\"\",\"\",TEXT('Broker Sheet'!AD292,\"YYYYMMDD\"))","v":""},{"$f":"IF('Broker Sheet'!AE292=\"\",\"\",'Broker Sheet'!AE292)","v":""},{"$f":"IF('Broker Sheet'!AF292=\"\",\"\",TEXT('Broker Sheet'!AF292,\"YYYYMMDD\"))","v":""},{"$f":"IF('Broker Sheet'!AG292=\"\",\"\",TEXT('Broker Sheet'!AG292,\"YYYYMMDD\"))","v":""}]
[null,null,null,null,null,{"$f":"IF('Broker Sheet'!C293=\"\",\"\",'Broker Sheet'!C293)","v":""},{"$f":"IF('Broker Sheet'!D293=\"\",\"\",'Broker Sheet'!D293)","v":""},{"$f":"IF('Broker Sheet'!E293=\"\",\"\",'Broker Sheet'!E293)","v":""},{"$f":"IF('Broker Sheet'!F293=\"\",\"\",'Broker Sheet'!F293)","v":""},{"$f":"IF('Broker Sheet'!G293=\"\",\"\",TEXT('Broker Sheet'!G293,\"YYYYMMDD\"))","v":""},{"$f":"IF('Broker Sheet'!H293=\"\",\"\",'Broker Sheet'!H293)","v":""},{"$f":"IF('Broker Sheet'!I293=\"\",\"\",'Broker Sheet'!I293)","v":""},{"$f":"IF('Broker Sheet'!J293=\"\",\"\",VLOOKUP('Broker Sheet'!J293,(Reference!$E$4:$F$9),2,FALSE))","v":""},{"$f":"IF('Broker Sheet'!K293=\"\",\"\",'Broker Sheet'!K293)","v":""},{"$f":"IF('Broker Sheet'!R293=\"\",\"\",'Broker Sheet'!R293)","v":""},{"$f":"IF('Broker Sheet'!S293=\"\",\"\",'Broker Sheet'!S293)","v":""},{"$f":"IF('Broker Sheet'!T293=\"\",\"\",'Broker Sheet'!T293)","v":""},{"$f":"IF('Broker Sheet'!U293=\"\",\"\",'Broker Sheet'!U293)","v":""},{"$f":"IF('Broker Sheet'!V293=\"\",\"\",'Broker Sheet'!V293)","v":""},{"$f":"IF('Broker Sheet'!W293=\"\",\"\",'Broker Sheet'!W293)","v":""},{"$f":"IF('Broker Sheet'!Y293=\"\",\"\",'Broker Sheet'!Y293)","v":""},{"$f":"IF('Broker Sheet'!AA293=\"\",\"\",'Broker Sheet'!AA293)","v":""},{"$f":"IF('Broker Sheet'!Z293=\"\",\"\",'Broker Sheet'!Z293)","v":""},{"$f":"IF('Broker Sheet'!AB293=\"\",\"\",'Broker Sheet'!AB293)","v":""},null,null,{"$f":"IF('Broker Sheet'!L293=\"\",\"\",TEXT('Broker Sheet'!L293,\"YYYYMMDD\"))","v":""},{"$f":"IF('Broker Sheet'!AC293=\"\",\"\",TEXT('Broker Sheet'!AC293,\"YYYYMMDD\"))","v":""},{"$f":"IF('Broker Sheet'!AD293=\"\",\"\",TEXT('Broker Sheet'!AD293,\"YYYYMMDD\"))","v":""},{"$f":"IF('Broker Sheet'!AE293=\"\",\"\",'Broker Sheet'!AE293)","v":""},{"$f":"IF('Broker Sheet'!AF293=\"\",\"\",TEXT('Broker Sheet'!AF293,\"YYYYMMDD\"))","v":""},{"$f":"IF('Broker Sheet'!AG293=\"\",\"\",TEXT('Broker Sheet'!AG293,\"YYYYMMDD\"))","v":""}]
[null,null,null,null,null,{"$f":"IF('Broker Sheet'!C294=\"\",\"\",'Broker Sheet'!C294)","v":""},{"$f":"IF('Broker Sheet'!D294=\"\",\"\",'Broker Sheet'!D294)","v":""},{"$f":"IF('Broker Sheet'!E294=\"\",\"\",'Broker Sheet'!E294)","v":""},{"$f":"IF('Broker Sheet'!F294=\"\",\"\",'Broker Sheet'!F294)","v":""},{"$f":"IF('Broker Sheet'!G294=\"\",\"\",TEXT('Broker Sheet'!G294,\"YYYYMMDD\"))","v":""},{"$f":"IF('Broker Sheet'!H294=\"\",\"\",'Broker Sheet'!H294)","v":""},{"$f":"IF('Broker Sheet'!I294=\"\",\"\",'Broker Sheet'!I294)","v":""},{"$f":"IF('Broker Sheet'!J294=\"\",\"\",VLOOKUP('Broker Sheet'!J294,(Reference!$E$4:$F$9),2,FALSE))","v":""},{"$f":"IF('Broker Sheet'!K294=\"\",\"\",'Broker Sheet'!K294)","v":""},{"$f":"IF('Broker Sheet'!R294=\"\",\"\",'Broker Sheet'!R294)","v":""},{"$f":"IF('Broker Sheet'!S294=\"\",\"\",'Broker Sheet'!S294)","v":""},{"$f":"IF('Broker Sheet'!T294=\"\",\"\",'Broker Sheet'!T294)","v":""},{"$f":"IF('Broker Sheet'!U294=\"\",\"\",'Broker Sheet'!U294)","v":""},{"$f":"IF('Broker Sheet'!V294=\"\",\"\",'Broker Sheet'!V294)","v":""},{"$f":"IF('Broker Sheet'!W294=\"\",\"\",'Broker Sheet'!W294)","v":""},{"$f":"IF('Broker Sheet'!Y294=\"\",\"\",'Broker Sheet'!Y294)","v":""},{"$f":"IF('Broker Sheet'!AA294=\"\",\"\",'Broker Sheet'!AA294)","v":""},{"$f":"IF('Broker Sheet'!Z294=\"\",\"\",'Broker Sheet'!Z294)","v":""},{"$f":"IF('Broker Sheet'!AB294=\"\",\"\",'Broker Sheet'!AB294)","v":""},null,null,{"$f":"IF('Broker Sheet'!L294=\"\",\"\",TEXT('Broker Sheet'!L294,\"YYYYMMDD\"))","v":""},{"$f":"IF('Broker Sheet'!AC294=\"\",\"\",TEXT('Broker Sheet'!AC294,\"YYYYMMDD\"))","v":""},{"$f":"IF('Broker Sheet'!AD294=\"\",\"\",TEXT('Broker Sheet'!AD294,\"YYYYMMDD\"))","v":""},{"$f":"IF('Broker Sheet'!AE294=\"\",\"\",'Broker Sheet'!AE294)","v":""},{"$f":"IF('Broker Sheet'!AF294=\"\",\"\",TEXT('Broker Sheet'!AF294,\"YYYYMMDD\"))","v":""},{"$f":"IF('Broker Sheet'!AG294=\"\",\"\",TEXT('Broker Sheet'!AG294,\"YYYYMMDD\"))","v":""}]
[null,null,null,null,null,{"$f":"IF('Broker Sheet'!C295=\"\",\"\",'Broker Sheet'!C295)","v":""},{"$f":"IF('Broker Sheet'!D295=\"\",\"\",'Broker Sheet'!D295)","v":""},{"$f":"IF('Broker Sheet'!E295=\"\",\"\",'Broker Sheet'!E295)","v":""},{"$f":"IF('Broker Sheet'!F295=\"\",\"\",'Broker Sheet'!F295)","v":""},{"$f":"IF('Broker Sheet'!G295=\"\",\"\",TEXT('Broker Sheet'!G295,\"YYYYMMDD\"))","v":""},{"$f":"IF('Broker Sheet'!H295=\"\",\"\",'Broker Sheet'!H295)","v":""},{"$f":"IF('Broker Sheet'!I295=\"\",\"\",'Broker Sheet'!I295)","v":""},{"$f":"IF('Broker Sheet'!J295=\"\",\"\",VLOOKUP('Broker Sheet'!J295,(Reference!$E$4:$F$9),2,FALSE))","v":""},{"$f":"IF('Broker Sheet'!K295=\"\",\"\",'Broker Sheet'!K295)","v":""},{"$f":"IF('Broker Sheet'!R295=\"\",\"\",'Broker Sheet'!R295)","v":""},{"$f":"IF('Broker Sheet'!S295=\"\",\"\",'Broker Sheet'!S295)","v":""},{"$f":"IF('Broker Sheet'!T295=\"\",\"\",'Broker Sheet'!T295)","v":""},{"$f":"IF('Broker Sheet'!U295=\"\",\"\",'Broker Sheet'!U295)","v":""},{"$f":"IF('Broker Sheet'!V295=\"\",\"\",'Broker Sheet'!V295)","v":""},{"$f":"IF('Broker Sheet'!W295=\"\",\"\",'Broker Sheet'!W295)","v":""},{"$f":"IF('Broker Sheet'!Y295=\"\",\"\",'Broker Sheet'!Y295)","v":""},{"$f":"IF('Broker Sheet'!AA295=\"\",\"\",'Broker Sheet'!AA295)","v":""},{"$f":"IF('Broker Sheet'!Z295=\"\",\"\",'Broker Sheet'!Z295)","v":""},{"$f":"IF('Broker Sheet'!AB295=\"\",\"\",'Broker Sheet'!AB295)","v":""},null,null,{"$f":"IF('Broker Sheet'!L295=\"\",\"\",TEXT('Broker Sheet'!L295,\"YYYYMMDD\"))","v":""},{"$f":"IF('Broker Sheet'!AC295=\"\",\"\",TEXT('Broker Sheet'!AC295,\"YYYYMMDD\"))","v":""},{"$f":"IF('Broker Sheet'!AD295=\"\",\"\",TEXT('Broker Sheet'!AD295,\"YYYYMMDD\"))","v":""},{"$f":"IF('Broker Sheet'!AE295=\"\",\"\",'Broker Sheet'!AE295)","v":""},{"$f":"IF('Broker Sheet'!AF295=\"\",\"\",TEXT('Broker Sheet'!AF295,\"YYYYMMDD\"))","v":""},{"$f":"IF('Broker Sheet'!AG295=\"\",\"\",TEXT('Broker Sheet'!AG295,\"YYYYMMDD\"))","v":""}]
[null,null,null,null,null,{"$f":"IF('Broker Sheet'!C296=\"\",\"\",'Broker Sheet'!C296)","v":""},{"$f":"IF('Broker Sheet'!D296=\"\",\"\",'Broker Sheet'!D296)","v":""},{"$f":"IF('Broker Sheet'!E296=\"\",\"\",'Broker Sheet'!E296)","v":""},{"$f":"IF('Broker Sheet'!F296=\"\",\"\",'Broker Sheet'!F296)","v":""},{"$f":"IF('Broker Sheet'!G296=\"\",\"\",TEXT('Broker Sheet'!G296,\"YYYYMMDD\"))","v":""},{"$f":"IF('Broker Sheet'!H296=\"\",\"\",'Broker Sheet'!H296)","v":""},{"$f":"IF('Broker Sheet'!I296=\"\",\"\",'Broker Sheet'!I296)","v":""},{"$f":"IF('Broker Sheet'!J296=\"\",\"\",VLOOKUP('Broker Sheet'!J296,(Reference!$E$4:$F$9),2,FALSE))","v":""},{"$f":"IF('Broker Sheet'!K296=\"\",\"\",'Broker Sheet'!K296)","v":""},{"$f":"IF('Broker Sheet'!R296=\"\",\"\",'Broker Sheet'!R296)","v":""},{"$f":"IF('Broker Sheet'!S296=\"\",\"\",'Broker Sheet'!S296)","v":""},{"$f":"IF('Broker Sheet'!T296=\"\",\"\",'Broker Sheet'!T296)","v":""},{"$f":"IF('Broker Sheet'!U296=\"\",\"\",'Broker Sheet'!U296)","v":""},{"$f":"IF('Broker Sheet'!V296=\"\",\"\",'Broker Sheet'!V296)","v":""},{"$f":"IF('Broker Sheet'!W296=\"\",\"\",'Broker Sheet'!W296)","v":""},{"$f":"IF('Broker Sheet'!Y296=\"\",\"\",'Broker Sheet'!Y296)","v":""},{"$f":"IF('Broker Sheet'!AA296=\"\",\"\",'Broker Sheet'!AA296)","v":""},{"$f":"IF('Broker Sheet'!Z296=\"\",\"\",'Broker Sheet'!Z296)","v":""},{"$f":"IF('Broker Sheet'!AB296=\"\",\"\",'Broker Sheet'!AB296)","v":""},null,null,{"$f":"IF('Broker Sheet'!L296=\"\",\"\",TEXT('Broker Sheet'!L296,\"YYYYMMDD\"))","v":""},{"$f":"IF('Broker Sheet'!AC296=\"\",\"\",TEXT('Broker Sheet'!AC296,\"YYYYMMDD\"))","v":""},{"$f":"IF('Broker Sheet'!AD296=\"\",\"\",TEXT('Broker Sheet'!AD296,\"YYYYMMDD\"))","v":""},{"$f":"IF('Broker Sheet'!AE296=\"\",\"\",'Broker Sheet'!AE296)","v":""},{"$f":"IF('Broker Sheet'!AF296=\"\",\"\",TEXT('Broker Sheet'!AF296,\"YYYYMMDD\"))","v":""},{"$f":"IF('Broker Sheet'!AG296=\"\",\"\",TEXT('Broker Sheet'!AG296,\"YYYYMMDD\"))","v":""}]
[null,null,null,null,null,{"$f":"IF('Broker Sheet'!C297=\"\",\"\",'Broker Sheet'!C297)","v":""},{"$f":"IF('Broker Sheet'!D297=\"\",\"\",'Broker Sheet'!D297)","v":""},{"$f":"IF('Broker Sheet'!E297=\"\",\"\",'Broker Sheet'!E297)","v":""},{"$f":"IF('Broker Sheet'!F297=\"\",\"\",'Broker Sheet'!F297)","v":""},{"$f":"IF('Broker Sheet'!G297=\"\",\"\",TEXT('Broker Sheet'!G297,\"YYYYMMDD\"))","v":""},{"$f":"IF('Broker Sheet'!H297=\"\",\"\",'Broker Sheet'!H297)","v":""},{"$f":"IF('Broker Sheet'!I297=\"\",\"\",'Broker Sheet'!I297)","v":""},{"$f":"IF('Broker Sheet'!J297=\"\",\"\",VLOOKUP('Broker Sheet'!J297,(Reference!$E$4:$F$9),2,FALSE))","v":""},{"$f":"IF('Broker Sheet'!K297=\"\",\"\",'Broker Sheet'!K297)","v":""},{"$f":"IF('Broker Sheet'!R297=\"\",\"\",'Broker Sheet'!R297)","v":""},{"$f":"IF('Broker Sheet'!S297=\"\",\"\",'Broker Sheet'!S297)","v":""},{"$f":"IF('Broker Sheet'!T297=\"\",\"\",'Broker Sheet'!T297)","v":""},{"$f":"IF('Broker Sheet'!U297=\"\",\"\",'Broker Sheet'!U297)","v":""},{"$f":"IF('Broker Sheet'!V297=\"\",\"\",'Broker Sheet'!V297)","v":""},{"$f":"IF('Broker Sheet'!W297=\"\",\"\",'Broker Sheet'!W297)","v":""},{"$f":"IF('Broker Sheet'!Y297=\"\",\"\",'Broker Sheet'!Y297)","v":""},{"$f":"IF('Broker Sheet'!AA297=\"\",\"\",'Broker Sheet'!AA297)","v":""},{"$f":"IF('Broker Sheet'!Z297=\"\",\"\",'Broker Sheet'!Z297)","v":""},{"$f":"IF('Broker Sheet'!AB297=\"\",\"\",'Broker Sheet'!AB297)","v":""},null,null,{"$f":"IF('Broker Sheet'!L297=\"\",\"\",TEXT('Broker Sheet'!L297,\"YYYYMMDD\"))","v":""},{"$f":"IF('Broker Sheet'!AC297=\"\",\"\",TEXT('Broker Sheet'!AC297,\"YYYYMMDD\"))","v":""},{"$f":"IF('Broker Sheet'!AD297=\"\",\"\",TEXT('Broker Sheet'!AD297,\"YYYYMMDD\"))","v":""},{"$f":"IF('Broker Sheet'!AE297=\"\",\"\",'Broker Sheet'!AE297)","v":""},{"$f":"IF('Broker Sheet'!AF297=\"\",\"\",TEXT('Broker Sheet'!AF297,\"YYYYMMDD\"))","v":""},{"$f":"IF('Broker Sheet'!AG297=\"\",\"\",TEXT('Broker Sheet'!AG297,\"YYYYMMDD\"))","v":""}]
[null,null,null,null,null,{"$f":"IF('Broker Sheet'!C298=\"\",\"\",'Broker Sheet'!C298)","v":""},{"$f":"IF('Broker Sheet'!D298=\"\",\"\",'Broker Sheet'!D298)","v":""},{"$f":"IF('Broker Sheet'!E298=\"\",\"\",'Broker Sheet'!E298)","v":""},{"$f":"IF('Broker Sheet'!F298=\"\",\"\",'Broker Sheet'!F298)","v":""},{"$f":"IF('Broker Sheet'!G298=\"\",\"\",TEXT('Broker Sheet'!G298,\"YYYYMMDD\"))","v":""},{"$f":"IF('Broker Sheet'!H298=\"\",\"\",'Broker Sheet'!H298)","v":""},{"$f":"IF('Broker Sheet'!I298=\"\",\"\",'Broker Sheet'!I298)","v":""},{"$f":"IF('Broker Sheet'!J298=\"\",\"\",VLOOKUP('Broker Sheet'!J298,(Reference!$E$4:$F$9),2,FALSE))","v":""},{"$f":"IF('Broker Sheet'!K298=\"\",\"\",'Broker Sheet'!K298)","v":""},{"$f":"IF('Broker Sheet'!R298=\"\",\"\",'Broker Sheet'!R298)","v":""},{"$f":"IF('Broker Sheet'!S298=\"\",\"\",'Broker Sheet'!S298)","v":""},{"$f":"IF('Broker Sheet'!T298=\"\",\"\",'Broker Sheet'!T298)","v":""},{"$f":"IF('Broker Sheet'!U298=\"\",\"\",'Broker Sheet'!U298)","v":""},{"$f":"IF('Broker Sheet'!V298=\"\",\"\",'Broker Sheet'!V298)","v":""},{"$f":"IF('Broker Sheet'!W298=\"\",\"\",'Broker Sheet'!W298)","v":""},{"$f":"IF('Broker Sheet'!Y298=\"\",\"\",'Broker Sheet'!Y298)","v":""},{"$f":"IF('Broker Sheet'!AA298=\"\",\"\",'Broker Sheet'!AA298)","v":""},{"$f":"IF('Broker Sheet'!Z298=\"\",\"\",'Broker Sheet'!Z298)","v":""},{"$f":"IF('Broker Sheet'!AB298=\"\",\"\",'Broker Sheet'!AB298)","v":""},null,null,{"$f":"IF('Broker Sheet'!L298=\"\",\"\",TEXT('Broker Sheet'!L298,\"YYYYMMDD\"))","v":""},{"$f":"IF('Broker Sheet'!AC298=\"\",\"\",TEXT('Broker Sheet'!AC298,\"YYYYMMDD\"))","v":""},{"$f":"IF('Broker Sheet'!AD298=\"\",\"\",TEXT('Broker Sheet'!AD298,\"YYYYMMDD\"))","v":""},{"$f":"IF('Broker Sheet'!AE298=\"\",\"\",'Broker Sheet'!AE298)","v":""},{"$f":"IF('Broker Sheet'!AF298=\"\",\"\",TEXT('Broker Sheet'!AF298,\"YYYYMMDD\"))","v":""},{"$f":"IF('Broker Sheet'!AG298=\"\",\"\",TEXT('Broker Sheet'!AG298,\"YYYYMMDD\"))","v":""}]
[null,null,null,null,null,{"$f":"IF('Broker Sheet'!C299=\"\",\"\",'Broker Sheet'!C299)","v":""},{"$f":"IF('Broker Sheet'!D299=\"\",\"\",'Broker Sheet'!D299)","v":""},{"$f":"IF('Broker Sheet'!E299=\"\",\"\",'Broker Sheet'!E299)","v":""},{"$f":"IF('Broker Sheet'!F299=\"\",\"\",'Broker Sheet'!F299)","v":""},{"$f":"IF('Broker Sheet'!G299=\"\",\"\",TEXT('Broker Sheet'!G299,\"YYYYMMDD\"))","v":""},{"$f":"IF('Broker Sheet'!H299=\"\",\"\",'Broker Sheet'!H299)","v":""},{"$f":"IF('Broker Sheet'!I299=\"\",\"\",'Broker Sheet'!I299)","v":""},{"$f":"IF('Broker Sheet'!J299=\"\",\"\",VLOOKUP('Broker Sheet'!J299,(Reference!$E$4:$F$9),2,FALSE))","v":""},{"$f":"IF('Broker Sheet'!K299=\"\",\"\",'Broker Sheet'!K299)","v":""},{"$f":"IF('Broker Sheet'!R299=\"\",\"\",'Broker Sheet'!R299)","v":""},{"$f":"IF('Broker Sheet'!S299=\"\",\"\",'Broker Sheet'!S299)","v":""},{"$f":"IF('Broker Sheet'!T299=\"\",\"\",'Broker Sheet'!T299)","v":""},{"$f":"IF('Broker Sheet'!U299=\"\",\"\",'Broker Sheet'!U299)","v":""},{"$f":"IF('Broker Sheet'!V299=\"\",\"\",'Broker Sheet'!V299)","v":""},{"$f":"IF('Broker Sheet'!W299=\"\",\"\",'Broker Sheet'!W299)","v":""},{"$f":"IF('Broker Sheet'!Y299=\"\",\"\",'Broker Sheet'!Y299)","v":""},{"$f":"IF('Broker Sheet'!AA299=\"\",\"\",'Broker Sheet'!AA299)","v":""},{"$f":"IF('Broker Sheet'!Z299=\"\",\"\",'Broker Sheet'!Z299)","v":""},{"$f":"IF('Broker Sheet'!AB299=\"\",\"\",'Broker Sheet'!AB299)","v":""},null,null,{"$f":"IF('Broker Sheet'!L299=\"\",\"\",TEXT('Broker Sheet'!L299,\"YYYYMMDD\"))","v":""},{"$f":"IF('Broker Sheet'!AC299=\"\",\"\",TEXT('Broker Sheet'!AC299,\"YYYYMMDD\"))","v":""},{"$f":"IF('Broker Sheet'!AD299=\"\",\"\",TEXT('Broker Sheet'!AD299,\"YYYYMMDD\"))","v":""},{"$f":"IF('Broker Sheet'!AE299=\"\",\"\",'Broker Sheet'!AE299)","v":""},{"$f":"IF('Broker Sheet'!AF299=\"\",\"\",TEXT('Broker Sheet'!AF299,\"YYYYMMDD\"))","v":""},{"$f":"IF('Broker Sheet'!AG299=\"\",\"\",TEXT('Broker Sheet'!AG299,\"YYYYMMDD\"))","v":""}]
[null,null,null,null,null,{"$f":"IF('Broker Sheet'!C300=\"\",\"\",'Broker Sheet'!C300)","v":""},{"$f":"IF('Broker Sheet'!D300=\"\",\"\",'Broker Sheet'!D300)","v":""},{"$f":"IF('Broker Sheet'!E300=\"\",\"\",'Broker Sheet'!E300)","v":""},{"$f":"IF('Broker Sheet'!F300=\"\",\"\",'Broker Sheet'!F300)","v":""},{"$f":"IF('Broker Sheet'!G300=\"\",\"\",TEXT('Broker Sheet'!G300,\"YYYYMMDD\"))","v":""},{"$f":"IF('Broker Sheet'!H300=\"\",\"\",'Broker Sheet'!H300)","v":""},{"$f":"IF('Broker Sheet'!I300=\"\",\"\",'Broker Sheet'!I300)","v":""},{"$f":"IF('Broker Sheet'!J300=\"\",\"\",VLOOKUP('Broker Sheet'!J300,(Reference!$E$4:$F$9),2,FALSE))","v":""},{"$f":"IF('Broker Sheet'!K300=\"\",\"\",'Broker Sheet'!K300)","v":""},{"$f":"IF('Broker Sheet'!R300=\"\",\"\",'Broker Sheet'!R300)","v":""},{"$f":"IF('Broker Sheet'!S300=\"\",\"\",'Broker Sheet'!S300)","v":""},{"$f":"IF('Broker Sheet'!T300=\"\",\"\",'Broker Sheet'!T300)","v":""},{"$f":"IF('Broker Sheet'!U300=\"\",\"\",'Broker Sheet'!U300)","v":""},{"$f":"IF('Broker Sheet'!V300=\"\",\"\",'Broker Sheet'!V300)","v":""},{"$f":"IF('Broker Sheet'!W300=\"\",\"\",'Broker Sheet'!W300)","v":""},{"$f":"IF('Broker Sheet'!Y300=\"\",\"\",'Broker Sheet'!Y300)","v":""},{"$f":"IF('Broker Sheet'!AA300=\"\",\"\",'Broker Sheet'!AA300)","v":""},{"$f":"IF('Broker Sheet'!Z300=\"\",\"\",'Broker Sheet'!Z300)","v":""},{"$f":"IF('Broker Sheet'!AB300=\"\",\"\",'Broker Sheet'!AB300)","v":""},null,null,{"$f":"IF('Broker Sheet'!L300=\"\",\"\",TEXT('Broker Sheet'!L300,\"YYYYMMDD\"))","v":""},{"$f":"IF('Broker Sheet'!AC300=\"\",\"\",TEXT('Broker Sheet'!AC300,\"YYYYMMDD\"))","v":""},{"$f":"IF('Broker Sheet'!AD300=\"\",\"\",TEXT('Broker Sheet'!AD300,\"YYYYMMDD\"))","v":""},{"$f":"IF('Broker Sheet'!AE300=\"\",\"\",'Broker Sheet'!AE300)","v":""},{"$f":"IF('Broker Sheet'!AF300=\"\",\"\",TEXT('Broker Sheet'!AF300,\"YYYYMMDD\"))","v":""},{"$f":"IF('Broker Sheet'!AG300=\"\",\"\",TEXT('Broker Sheet'!AG300,\"YYYYMMDD\"))","v":""}]
[null,null,null,null,null,{"$f":"IF('Broker Sheet'!C301=\"\",\"\",'Broker Sheet'!C301)","v":""},{"$f":"IF('Broker Sheet'!D301=\"\",\"\",'Broker Sheet'!D301)","v":""},{"$f":"IF('Broker Sheet'!E301=\"\",\"\",'Broker Sheet'!E301)","v":""},{"$f":"IF('Broker Sheet'!F301=\"\",\"\",'Broker Sheet'!F301)","v":""},{"$f":"IF('Broker Sheet'!G301=\"\",\"\",TEXT('Broker Sheet'!G301,\"YYYYMMDD\"))","v":""},{"$f":"IF('Broker Sheet'!H301=\"\",\"\",'Broker Sheet'!H301)","v":""},{"$f":"IF('Broker Sheet'!I301=\"\",\"\",'Broker Sheet'!I301)","v":""},{"$f":"IF('Broker Sheet'!J301=\"\",\"\",VLOOKUP('Broker Sheet'!J301,(Reference!$E$4:$F$9),2,FALSE))","v":""},{"$f":"IF('Broker Sheet'!K301=\"\",\"\",'Broker Sheet'!K301)","v":""},{"$f":"IF('Broker Sheet'!R301=\"\",\"\",'Broker Sheet'!R301)","v":""},{"$f":"IF('Broker Sheet'!S301=\"\",\"\",'Broker Sheet'!S301)","v":""},{"$f":"IF('Broker Sheet'!T301=\"\",\"\",'Broker Sheet'!T301)","v":""},{"$f":"IF('Broker Sheet'!U301=\"\",\"\",'Broker Sheet'!U301)","v":""},{"$f":"IF('Broker Sheet'!V301=\"\",\"\",'Broker Sheet'!V301)","v":""},{"$f":"IF('Broker Sheet'!W301=\"\",\"\",'Broker Sheet'!W301)","v":""},{"$f":"IF('Broker Sheet'!Y301=\"\",\"\",'Broker Sheet'!Y301)","v":""},{"$f":"IF('Broker Sheet'!AA301=\"\",\"\",'Broker Sheet'!AA301)","v":""},{"$f":"IF('Broker Sheet'!Z301=\"\",\"\",'Broker Sheet'!Z301)","v":""},{"$f":"IF('Broker Sheet'!AB301=\"\",\"\",'Broker Sheet'!AB301)","v":""},null,null,{"$f":"IF('Broker Sheet'!L301=\"\",\"\",TEXT('Broker Sheet'!L301,\"YYYYMMDD\"))","v":""},{"$f":"IF('Broker Sheet'!AC301=\"\",\"\",TEXT('Broker Sheet'!AC301,\"YYYYMMDD\"))","v":""},{"$f":"IF('Broker Sheet'!AD301=\"\",\"\",TEXT('Broker Sheet'!AD301,\"YYYYMMDD\"))","v":""},{"$f":"IF('Broker Sheet'!AE301=\"\",\"\",'Broker Sheet'!AE301)","v":""},{"$f":"IF('Broker Sheet'!AF301=\"\",\"\",TEXT('Broker Sheet'!AF301,\"YYYYMMDD\"))","v":""},{"$f":"IF('Broker Sheet'!AG301=\"\",\"\",TEXT('Broker Sheet'!AG301,\"YYYYMMDD\"))","v":""}]
[null,null,null,null,null,{"$f":"IF('Broker Sheet'!C302=\"\",\"\",'Broker Sheet'!C302)","v":""},{"$f":"IF('Broker Sheet'!D302=\"\",\"\",'Broker Sheet'!D302)","v":""},{"$f":"IF('Broker Sheet'!E302=\"\",\"\",'Broker Sheet'!E302)","v":""},{"$f":"IF('Broker Sheet'!F302=\"\",\"\",'Broker Sheet'!F302)","v":""},{"$f":"IF('Broker Sheet'!G302=\"\",\"\",TEXT('Broker Sheet'!G302,\"YYYYMMDD\"))","v":""},{"$f":"IF('Broker Sheet'!H302=\"\",\"\",'Broker Sheet'!H302)","v":""},{"$f":"IF('Broker Sheet'!I302=\"\",\"\",'Broker Sheet'!I302)","v":""},{"$f":"IF('Broker Sheet'!J302=\"\",\"\",VLOOKUP('Broker Sheet'!J302,(Reference!$E$4:$F$9),2,FALSE))","v":""},{"$f":"IF('Broker Sheet'!K302=\"\",\"\",'Broker Sheet'!K302)","v":""},{"$f":"IF('Broker Sheet'!R302=\"\",\"\",'Broker Sheet'!R302)","v":""},{"$f":"IF('Broker Sheet'!S302=\"\",\"\",'Broker Sheet'!S302)","v":""},{"$f":"IF('Broker Sheet'!T302=\"\",\"\",'Broker Sheet'!T302)","v":""},{"$f":"IF('Broker Sheet'!U302=\"\",\"\",'Broker Sheet'!U302)","v":""},{"$f":"IF('Broker Sheet'!V302=\"\",\"\",'Broker Sheet'!V302)","v":""},{"$f":"IF('Broker Sheet'!W302=\"\",\"\",'Broker Sheet'!W302)","v":""},{"$f":"IF('Broker Sheet'!Y302=\"\",\"\",'Broker Sheet'!Y302)","v":""},{"$f":"IF('Broker Sheet'!AA302=\"\",\"\",'Broker Sheet'!AA302)","v":""},{"$f":"IF('Broker Sheet'!Z302=\"\",\"\",'Broker Sheet'!Z302)","v":""},{"$f":"IF('Broker Sheet'!AB302=\"\",\"\",'Broker Sheet'!AB302)","v":""},null,null,{"$f":"IF('Broker Sheet'!L302=\"\",\"\",TEXT('Broker Sheet'!L302,\"YYYYMMDD\"))","v":""},{"$f":"IF('Broker Sheet'!AC302=\"\",\"\",TEXT('Broker Sheet'!AC302,\"YYYYMMDD\"))","v":""},{"$f":"IF('Broker Sheet'!AD302=\"\",\"\",TEXT('Broker Sheet'!AD302,\"YYYYMMDD\"))","v":""},{"$f":"IF('Broker Sheet'!AE302=\"\",\"\",'Broker Sheet'!AE302)","v":""},{"$f":"IF('Broker Sheet'!AF302=\"\",\"\",TEXT('Broker Sheet'!AF302,\"YYYYMMDD\"))","v":""},{"$f":"IF('Broker Sheet'!AG302=\"\",\"\",TEXT('Broker Sheet'!AG302,\"YYYYMMDD\"))","v":""}]
[null,null,null,null,null,{"$f":"IF('Broker Sheet'!C303=\"\",\"\",'Broker Sheet'!C303)","v":""},{"$f":"IF('Broker Sheet'!D303=\"\",\"\",'Broker Sheet'!D303)","v":""},{"$f":"IF('Broker Sheet'!E303=\"\",\"\",'Broker Sheet'!E303)","v":""},{"$f":"IF('Broker Sheet'!F303=\"\",\"\",'Broker Sheet'!F303)","v":""},{"$f":"IF('Broker Sheet'!G303=\"\",\"\",TEXT('Broker Sheet'!G303,\"YYYYMMDD\"))","v":""},{"$f":"IF('Broker Sheet'!H303=\"\",\"\",'Broker Sheet'!H303)","v":""},{"$f":"IF('Broker Sheet'!I303=\"\",\"\",'Broker Sheet'!I303)","v":""},{"$f":"IF('Broker Sheet'!J303=\"\",\"\",VLOOKUP('Broker Sheet'!J303,(Reference!$E$4:$F$9),2,FALSE))","v":""},{"$f":"IF('Broker Sheet'!K303=\"\",\"\",'Broker Sheet'!K303)","v":""},{"$f":"IF('Broker Sheet'!R303=\"\",\"\",'Broker Sheet'!R303)","v":""},{"$f":"IF('Broker Sheet'!S303=\"\",\"\",'Broker Sheet'!S303)","v":""},{"$f":"IF('Broker Sheet'!T303=\"\",\"\",'Broker Sheet'!T303)","v":""},{"$f":"IF('Broker Sheet'!U303=\"\",\"\",'Broker Sheet'!U303)","v":""},{"$f":"IF('Broker Sheet'!V303=\"\",\"\",'Broker Sheet'!V303)","v":""},{"$f":"IF('Broker Sheet'!W303=\"\",\"\",'Broker Sheet'!W303)","v":""},{"$f":"IF('Broker Sheet'!Y303=\"\",\"\",'Broker Sheet'!Y303)","v":""},{"$f":"IF('Broker Sheet'!AA303=\"\",\"\",'Broker Sheet'!AA303)","v":""},{"$f":"IF('Broker Sheet'!Z303=\"\",\"\",'Broker Sheet'!Z303)","v":""},{"$f":"IF('Broker Sheet'!AB303=\"\",\"\",'Broker Sheet'!AB303)","v":""},null,null,{"$f":"IF('Broker Sheet'!L303=\"\",\"\",TEXT('Broker Sheet'!L303,\"YYYYMMDD\"))","v":""},{"$f":"IF('Broker Sheet'!AC303=\"\",\"\",TEXT('Broker Sheet'!AC303,\"YYYYMMDD\"))","v":""},{"$f":"IF('Broker Sheet'!AD303=\"\",\"\",TEXT('Broker Sheet'!AD303,\"YYYYMMDD\"))","v":""},{"$f":"IF('Broker Sheet'!AE303=\"\",\"\",'Broker Sheet'!AE303)","v":""},{"$f":"IF('Broker Sheet'!AF303=\"\",\"\",TEXT('Broker Sheet'!AF303,\"YYYYMMDD\"))","v":""},{"$f":"IF('Broker Sheet'!AG303=\"\",\"\",TEXT('Broker Sheet'!AG303,\"YYYYMMDD\"))","v":""}]
[null,null,null,null,null,{"$f":"IF('Broker Sheet'!C304=\"\",\"\",'Broker Sheet'!C304)","v":""},{"$f":"IF('Broker Sheet'!D304=\"\",\"\",'Broker Sheet'!D304)","v":""},{"$f":"IF('Broker Sheet'!E304=\"\",\"\",'Broker Sheet'!E304)","v":""},{"$f":"IF('Broker Sheet'!F304=\"\",\"\",'Broker Sheet'!F304)","v":""},{"$f":"IF('Broker Sheet'!G304=\"\",\"\",TEXT('Broker Sheet'!G304,\"YYYYMMDD\"))","v":""},{"$f":"IF('Broker Sheet'!H304=\"\",\"\",'Broker Sheet'!H304)","v":""},{"$f":"IF('Broker Sheet'!I304=\"\",\"\",'Broker Sheet'!I304)","v":""},{"$f":"IF('Broker Sheet'!J304=\"\",\"\",VLOOKUP('Broker Sheet'!J304,(Reference!$E$4:$F$9),2,FALSE))","v":""},{"$f":"IF('Broker Sheet'!K304=\"\",\"\",'Broker Sheet'!K304)","v":""},{"$f":"IF('Broker Sheet'!R304=\"\",\"\",'Broker Sheet'!R304)","v":""},{"$f":"IF('Broker Sheet'!S304=\"\",\"\",'Broker Sheet'!S304)","v":""},{"$f":"IF('Broker Sheet'!T304=\"\",\"\",'Broker Sheet'!T304)","v":""},{"$f":"IF('Broker Sheet'!U304=\"\",\"\",'Broker Sheet'!U304)","v":""},{"$f":"IF('Broker Sheet'!V304=\"\",\"\",'Broker Sheet'!V304)","v":""},{"$f":"IF('Broker Sheet'!W304=\"\",\"\",'Broker Sheet'!W304)","v":""},{"$f":"IF('Broker Sheet'!Y304=\"\",\"\",'Broker Sheet'!Y304)","v":""},{"$f":"IF('Broker Sheet'!AA304=\"\",\"\",'Broker Sheet'!AA304)","v":""},{"$f":"IF('Broker Sheet'!Z304=\"\",\"\",'Broker Sheet'!Z304)","v":""},{"$f":"IF('Broker Sheet'!AB304=\"\",\"\",'Broker Sheet'!AB304)","v":""},null,null,{"$f":"IF('Broker Sheet'!L304=\"\",\"\",TEXT('Broker Sheet'!L304,\"YYYYMMDD\"))","v":""},{"$f":"IF('Broker Sheet'!AC304=\"\",\"\",TEXT('Broker Sheet'!AC304,\"YYYYMMDD\"))","v":""},{"$f":"IF('Broker Sheet'!AD304=\"\",\"\",TEXT('Broker Sheet'!AD304,\"YYYYMMDD\"))","v":""},{"$f":"IF('Broker Sheet'!AE304=\"\",\"\",'Broker Sheet'!AE304)","v":""},{"$f":"IF('Broker Sheet'!AF304=\"\",\"\",TEXT('Broker Sheet'!AF304,\"YYYYMMDD\"))","v":""},{"$f":"IF('Broker Sheet'!AG304=\"\",\"\",TEXT('Broker Sheet'!AG304,\"YYYYMMDD\"))","v":""}]
[null,null,null,null,null,{"$f":"IF('Broker Sheet'!C305=\"\",\"\",'Broker Sheet'!C305)","v":""},{"$f":"IF('Broker Sheet'!D305=\"\",\"\",'Broker Sheet'!D305)","v":""},{"$f":"IF('Broker Sheet'!E305=\"\",\"\",'Broker Sheet'!E305)","v":""},{"$f":"IF('Broker Sheet'!F305=\"\",\"\",'Broker Sheet'!F305)","v":""},{"$f":"IF('Broker Sheet'!G305=\"\",\"\",TEXT('Broker Sheet'!G305,\"YYYYMMDD\"))","v":""},{"$f":"IF('Broker Sheet'!H305=\"\",\"\",'Broker Sheet'!H305)","v":""},{"$f":"IF('Broker Sheet'!I305=\"\",\"\",'Broker Sheet'!I305)","v":""},{"$f":"IF('Broker Sheet'!J305=\"\",\"\",VLOOKUP('Broker Sheet'!J305,(Reference!$E$4:$F$9),2,FALSE))","v":""},{"$f":"IF('Broker Sheet'!K305=\"\",\"\",'Broker Sheet'!K305)","v":""},{"$f":"IF('Broker Sheet'!R305=\"\",\"\",'Broker Sheet'!R305)","v":""},{"$f":"IF('Broker Sheet'!S305=\"\",\"\",'Broker Sheet'!S305)","v":""},{"$f":"IF('Broker Sheet'!T305=\"\",\"\",'Broker Sheet'!T305)","v":""},{"$f":"IF('Broker Sheet'!U305=\"\",\"\",'Broker Sheet'!U305)","v":""},{"$f":"IF('Broker Sheet'!V305=\"\",\"\",'Broker Sheet'!V305)","v":""},{"$f":"IF('Broker Sheet'!W305=\"\",\"\",'Broker Sheet'!W305)","v":""},{"$f":"IF('Broker Sheet'!Y305=\"\",\"\",'Broker Sheet'!Y305)","v":""},{"$f":"IF('Broker Sheet'!AA305=\"\",\"\",'Broker Sheet'!AA305)","v":""},{"$f":"IF('Broker Sheet'!Z305=\"\",\"\",'Broker Sheet'!Z305)","v":""},{"$f":"IF('Broker Sheet'!AB305=\"\",\"\",'Broker Sheet'!AB305)","v":""},null,null,{"$f":"IF('Broker Sheet'!L305=\"\",\"\",TEXT('Broker Sheet'!L305,\"YYYYMMDD\"))","v":""},{"$f":"IF('Broker Sheet'!AC305=\"\",\"\",TEXT('Broker Sheet'!AC305,\"YYYYMMDD\"))","v":""},{"$f":"IF('Broker Sheet'!AD305=\"\",\"\",TEXT('Broker Sheet'!AD305,\"YYYYMMDD\"))","v":""},{"$f":"IF('Broker Sheet'!AE305=\"\",\"\",'Broker Sheet'!AE305)","v":""},{"$f":"IF('Broker Sheet'!AF305=\"\",\"\",TEXT('Broker Sheet'!AF305,\"YYYYMMDD\"))","v":""},{"$f":"IF('Broker Sheet'!AG305=\"\",\"\",TEXT('Broker Sheet'!AG305,\"YYYYMMDD\"))","v":""}]
[null,null,null,null,null,{"$f":"IF('Broker Sheet'!C306=\"\",\"\",'Broker Sheet'!C306)","v":""},{"$f":"IF('Broker Sheet'!D306=\"\",\"\",'Broker Sheet'!D306)","v":""},{"$f":"IF('Broker Sheet'!E306=\"\",\"\",'Broker Sheet'!E306)","v":""},{"$f":"IF('Broker Sheet'!F306=\"\",\"\",'Broker Sheet'!F306)","v":""},{"$f":"IF('Broker Sheet'!G306=\"\",\"\",TEXT('Broker Sheet'!G306,\"YYYYMMDD\"))","v":""},{"$f":"IF('Broker Sheet'!H306=\"\",\"\",'Broker Sheet'!H306)","v":""},{"$f":"IF('Broker Sheet'!I306=\"\",\"\",'Broker Sheet'!I306)","v":""},{"$f":"IF('Broker Sheet'!J306=\"\",\"\",VLOOKUP('Broker Sheet'!J306,(Reference!$E$4:$F$9),2,FALSE))","v":""},{"$f":"IF('Broker Sheet'!K306=\"\",\"\",'Broker Sheet'!K306)","v":""},{"$f":"IF('Broker Sheet'!R306=\"\",\"\",'Broker Sheet'!R306)","v":""},{"$f":"IF('Broker Sheet'!S306=\"\",\"\",'Broker Sheet'!S306)","v":""},{"$f":"IF('Broker Sheet'!T306=\"\",\"\",'Broker Sheet'!T306)","v":""},{"$f":"IF('Broker Sheet'!U306=\"\",\"\",'Broker Sheet'!U306)","v":""},{"$f":"IF('Broker Sheet'!V306=\"\",\"\",'Broker Sheet'!V306)","v":""},{"$f":"IF('Broker Sheet'!W306=\"\",\"\",'Broker Sheet'!W306)","v":""},{"$f":"IF('Broker Sheet'!Y306=\"\",\"\",'Broker Sheet'!Y306)","v":""},{"$f":"IF('Broker Sheet'!AA306=\"\",\"\",'Broker Sheet'!AA306)","v":""},{"$f":"IF('Broker Sheet'!Z306=\"\",\"\",'Broker Sheet'!Z306)","v":""},{"$f":"IF('Broker Sheet'!AB306=\"\",\"\",'Broker Sheet'!AB306)","v":""},null,null,{"$f":"IF('Broker Sheet'!L306=\"\",\"\",TEXT('Broker Sheet'!L306,\"YYYYMMDD\"))","v":""},{"$f":"IF('Broker Sheet'!AC306=\"\",\"\",TEXT('Broker Sheet'!AC306,\"YYYYMMDD\"))","v":""},{"$f":"IF('Broker Sheet'!AD306=\"\",\"\",TEXT('Broker Sheet'!AD306,\"YYYYMMDD\"))","v":""},{"$f":"IF('Broker Sheet'!AE306=\"\",\"\",'Broker Sheet'!AE306)","v":""},{"$f":"IF('Broker Sheet'!AF306=\"\",\"\",TEXT('Broker Sheet'!AF306,\"YYYYMMDD\"))","v":""},{"$f":"IF('Broker Sheet'!AG306=\"\",\"\",TEXT('Broker Sheet'!AG306,\"YYYYMMDD\"))","v":""}]
[null,null,null,null,null,{"$f":"IF('Broker Sheet'!C307=\"\",\"\",'Broker Sheet'!C307)","v":""},{"$f":"IF('Broker Sheet'!D307=\"\",\"\",'Broker Sheet'!D307)","v":""},{"$f":"IF('Broker Sheet'!E307=\"\",\"\",'Broker Sheet'!E307)","v":""},{"$f":"IF('Broker Sheet'!F307=\"\",\"\",'Broker Sheet'!F307)","v":""},{"$f":"IF('Broker Sheet'!G307=\"\",\"\",TEXT('Broker Sheet'!G307,\"YYYYMMDD\"))","v":""},{"$f":"IF('Broker Sheet'!H307=\"\",\"\",'Broker Sheet'!H307)","v":""},{"$f":"IF('Broker Sheet'!I307=\"\",\"\",'Broker Sheet'!I307)","v":""},{"$f":"IF('Broker Sheet'!J307=\"\",\"\",VLOOKUP('Broker Sheet'!J307,(Reference!$E$4:$F$9),2,FALSE))","v":""},{"$f":"IF('Broker Sheet'!K307=\"\",\"\",'Broker Sheet'!K307)","v":""},{"$f":"IF('Broker Sheet'!R307=\"\",\"\",'Broker Sheet'!R307)","v":""},{"$f":"IF('Broker Sheet'!S307=\"\",\"\",'Broker Sheet'!S307)","v":""},{"$f":"IF('Broker Sheet'!T307=\"\",\"\",'Broker Sheet'!T307)","v":""},{"$f":"IF('Broker Sheet'!U307=\"\",\"\",'Broker Sheet'!U307)","v":""},{"$f":"IF('Broker Sheet'!V307=\"\",\"\",'Broker Sheet'!V307)","v":""},{"$f":"IF('Broker Sheet'!W307=\"\",\"\",'Broker Sheet'!W307)","v":""},{"$f":"IF('Broker Sheet'!Y307=\"\",\"\",'Broker Sheet'!Y307)","v":""},{"$f":"IF('Broker Sheet'!AA307=\"\",\"\",'Broker Sheet'!AA307)","v":""},{"$f":"IF('Broker Sheet'!Z307=\"\",\"\",'Broker Sheet'!Z307)","v":""},{"$f":"IF('Broker Sheet'!AB307=\"\",\"\",'Broker Sheet'!AB307)","v":""},null,null,{"$f":"IF('Broker Sheet'!L307=\"\",\"\",TEXT('Broker Sheet'!L307,\"YYYYMMDD\"))","v":""},{"$f":"IF('Broker Sheet'!AC307=\"\",\"\",TEXT('Broker Sheet'!AC307,\"YYYYMMDD\"))","v":""},{"$f":"IF('Broker Sheet'!AD307=\"\",\"\",TEXT('Broker Sheet'!AD307,\"YYYYMMDD\"))","v":""},{"$f":"IF('Broker Sheet'!AE307=\"\",\"\",'Broker Sheet'!AE307)","v":""},{"$f":"IF('Broker Sheet'!AF307=\"\",\"\",TEXT('Broker Sheet'!AF307,\"YYYYMMDD\"))","v":""},{"$f":"IF('Broker Sheet'!AG307=\"\",\"\",TEXT('Broker Sheet'!AG307,\"YYYYMMDD\"))","v":""}]
[null,null,null,null,null,{"$f":"IF('Broker Sheet'!C308=\"\",\"\",'Broker Sheet'!C308)","v":""},{"$f":"IF('Broker Sheet'!D308=\"\",\"\",'Broker Sheet'!D308)","v":""},{"$f":"IF('Broker Sheet'!E308=\"\",\"\",'Broker Sheet'!E308)","v":""},{"$f":"IF('Broker Sheet'!F308=\"\",\"\",'Broker Sheet'!F308)","v":""},{"$f":"IF('Broker Sheet'!G308=\"\",\"\",TEXT('Broker Sheet'!G308,\"YYYYMMDD\"))","v":""},{"$f":"IF('Broker Sheet'!H308=\"\",\"\",'Broker Sheet'!H308)","v":""},{"$f":"IF('Broker Sheet'!I308=\"\",\"\",'Broker Sheet'!I308)","v":""},{"$f":"IF('Broker Sheet'!J308=\"\",\"\",VLOOKUP('Broker Sheet'!J308,(Reference!$E$4:$F$9),2,FALSE))","v":""},{"$f":"IF('Broker Sheet'!K308=\"\",\"\",'Broker Sheet'!K308)","v":""},{"$f":"IF('Broker Sheet'!R308=\"\",\"\",'Broker Sheet'!R308)","v":""},{"$f":"IF('Broker Sheet'!S308=\"\",\"\",'Broker Sheet'!S308)","v":""},{"$f":"IF('Broker Sheet'!T308=\"\",\"\",'Broker Sheet'!T308)","v":""},{"$f":"IF('Broker Sheet'!U308=\"\",\"\",'Broker Sheet'!U308)","v":""},{"$f":"IF('Broker Sheet'!V308=\"\",\"\",'Broker Sheet'!V308)","v":""},{"$f":"IF('Broker Sheet'!W308=\"\",\"\",'Broker Sheet'!W308)","v":""},{"$f":"IF('Broker Sheet'!Y308=\"\",\"\",'Broker Sheet'!Y308)","v":""},{"$f":"IF('Broker Sheet'!AA308=\"\",\"\",'Broker Sheet'!AA308)","v":""},{"$f":"IF('Broker Sheet'!Z308=\"\",\"\",'Broker Sheet'!Z308)","v":""},{"$f":"IF('Broker Sheet'!AB308=\"\",\"\",'Broker Sheet'!AB308)","v":""},null,null,{"$f":"IF('Broker Sheet'!L308=\"\",\"\",TEXT('Broker Sheet'!L308,\"YYYYMMDD\"))","v":""},{"$f":"IF('Broker Sheet'!AC308=\"\",\"\",TEXT('Broker Sheet'!AC308,\"YYYYMMDD\"))","v":""},{"$f":"IF('Broker Sheet'!AD308=\"\",\"\",TEXT('Broker Sheet'!AD308,\"YYYYMMDD\"))","v":""},{"$f":"IF('Broker Sheet'!AE308=\"\",\"\",'Broker Sheet'!AE308)","v":""},{"$f":"IF('Broker Sheet'!AF308=\"\",\"\",TEXT('Broker Sheet'!AF308,\"YYYYMMDD\"))","v":""},{"$f":"IF('Broker Sheet'!AG308=\"\",\"\",TEXT('Broker Sheet'!AG308,\"YYYYMMDD\"))","v":""}]
[null,null,null,null,null,{"$f":"IF('Broker Sheet'!C309=\"\",\"\",'Broker Sheet'!C309)","v":""},{"$f":"IF('Broker Sheet'!D309=\"\",\"\",'Broker Sheet'!D309)","v":""},{"$f":"IF('Broker Sheet'!E309=\"\",\"\",'Broker Sheet'!E309)","v":""},{"$f":"IF('Broker Sheet'!F309=\"\",\"\",'Broker Sheet'!F309)","v":""},{"$f":"IF('Broker Sheet'!G309=\"\",\"\",TEXT('Broker Sheet'!G309,\"YYYYMMDD\"))","v":""},{"$f":"IF('Broker Sheet'!H309=\"\",\"\",'Broker Sheet'!H309)","v":""},{"$f":"IF('Broker Sheet'!I309=\"\",\"\",'Broker Sheet'!I309)","v":""},{"$f":"IF('Broker Sheet'!J309=\"\",\"\",VLOOKUP('Broker Sheet'!J309,(Reference!$E$4:$F$9),2,FALSE))","v":""},{"$f":"IF('Broker Sheet'!K309=\"\",\"\",'Broker Sheet'!K309)","v":""},{"$f":"IF('Broker Sheet'!R309=\"\",\"\",'Broker Sheet'!R309)","v":""},{"$f":"IF('Broker Sheet'!S309=\"\",\"\",'Broker Sheet'!S309)","v":""},{"$f":"IF('Broker Sheet'!T309=\"\",\"\",'Broker Sheet'!T309)","v":""},{"$f":"IF('Broker Sheet'!U309=\"\",\"\",'Broker Sheet'!U309)","v":""},{"$f":"IF('Broker Sheet'!V309=\"\",\"\",'Broker Sheet'!V309)","v":""},{"$f":"IF('Broker Sheet'!W309=\"\",\"\",'Broker Sheet'!W309)","v":""},{"$f":"IF('Broker Sheet'!Y309=\"\",\"\",'Broker Sheet'!Y309)","v":""},{"$f":"IF('Broker Sheet'!AA309=\"\",\"\",'Broker Sheet'!AA309)","v":""},{"$f":"IF('Broker Sheet'!Z309=\"\",\"\",'Broker Sheet'!Z309)","v":""},{"$f":"IF('Broker Sheet'!AB309=\"\",\"\",'Broker Sheet'!AB309)","v":""},null,null,{"$f":"IF('Broker Sheet'!L309=\"\",\"\",TEXT('Broker Sheet'!L309,\"YYYYMMDD\"))","v":""},{"$f":"IF('Broker Sheet'!AC309=\"\",\"\",TEXT('Broker Sheet'!AC309,\"YYYYMMDD\"))","v":""},{"$f":"IF('Broker Sheet'!AD309=\"\",\"\",TEXT('Broker Sheet'!AD309,\"YYYYMMDD\"))","v":""},{"$f":"IF('Broker Sheet'!AE309=\"\",\"\",'Broker Sheet'!AE309)","v":""},{"$f":"IF('Broker Sheet'!AF309=\"\",\"\",TEXT('Broker Sheet'!AF309,\"YYYYMMDD\"))","v":""},{"$f":"IF('Broker Sheet'!AG309=\"\",\"\",TEXT('Broker Sheet'!AG309,\"YYYYMMDD\"))","v":""}]
[null,null,null,null,null,{"$f":"IF('Broker Sheet'!C310=\"\",\"\",'Broker Sheet'!C310)","v":""},{"$f":"IF('Broker Sheet'!D310=\"\",\"\",'Broker Sheet'!D310)","v":""},{"$f":"IF('Broker Sheet'!E310=\"\",\"\",'Broker Sheet'!E310)","v":""},{"$f":"IF('Broker Sheet'!F310=\"\",\"\",'Broker Sheet'!F310)","v":""},{"$f":"IF('Broker Sheet'!G310=\"\",\"\",TEXT('Broker Sheet'!G310,\"YYYYMMDD\"))","v":""},{"$f":"IF('Broker Sheet'!H310=\"\",\"\",'Broker Sheet'!H310)","v":""},{"$f":"IF('Broker Sheet'!I310=\"\",\"\",'Broker Sheet'!I310)","v":""},{"$f":"IF('Broker Sheet'!J310=\"\",\"\",VLOOKUP('Broker Sheet'!J310,(Reference!$E$4:$F$9),2,FALSE))","v":""},{"$f":"IF('Broker Sheet'!K310=\"\",\"\",'Broker Sheet'!K310)","v":""},{"$f":"IF('Broker Sheet'!R310=\"\",\"\",'Broker Sheet'!R310)","v":""},{"$f":"IF('Broker Sheet'!S310=\"\",\"\",'Broker Sheet'!S310)","v":""},{"$f":"IF('Broker Sheet'!T310=\"\",\"\",'Broker Sheet'!T310)","v":""},{"$f":"IF('Broker Sheet'!U310=\"\",\"\",'Broker Sheet'!U310)","v":""},{"$f":"IF('Broker Sheet'!V310=\"\",\"\",'Broker Sheet'!V310)","v":""},{"$f":"IF('Broker Sheet'!W310=\"\",\"\",'Broker Sheet'!W310)","v":""},{"$f":"IF('Broker Sheet'!Y310=\"\",\"\",'Broker Sheet'!Y310)","v":""},{"$f":"IF('Broker Sheet'!AA310=\"\",\"\",'Broker Sheet'!AA310)","v":""},{"$f":"IF('Broker Sheet'!Z310=\"\",\"\",'Broker Sheet'!Z310)","v":""},{"$f":"IF('Broker Sheet'!AB310=\"\",\"\",'Broker Sheet'!AB310)","v":""},null,null,{"$f":"IF('Broker Sheet'!L310=\"\",\"\",TEXT('Broker Sheet'!L310,\"YYYYMMDD\"))","v":""},{"$f":"IF('Broker Sheet'!AC310=\"\",\"\",TEXT('Broker Sheet'!AC310,\"YYYYMMDD\"))","v":""},{"$f":"IF('Broker Sheet'!AD310=\"\",\"\",TEXT('Broker Sheet'!AD310,\"YYYYMMDD\"))","v":""},{"$f":"IF('Broker Sheet'!AE310=\"\",\"\",'Broker Sheet'!AE310)","v":""},{"$f":"IF('Broker Sheet'!AF310=\"\",\"\",TEXT('Broker Sheet'!AF310,\"YYYYMMDD\"))","v":""},{"$f":"IF('Broker Sheet'!AG310=\"\",\"\",TEXT('Broker Sheet'!AG310,\"YYYYMMDD\"))","v":""}]
[null,null,null,null,null,{"$f":"IF('Broker Sheet'!C311=\"\",\"\",'Broker Sheet'!C311)","v":""},{"$f":"IF('Broker Sheet'!D311=\"\",\"\",'Broker Sheet'!D311)","v":""},{"$f":"IF('Broker Sheet'!E311=\"\",\"\",'Broker Sheet'!E311)","v":""},{"$f":"IF('Broker Sheet'!F311=\"\",\"\",'Broker Sheet'!F311)","v":""},{"$f":"IF('Broker Sheet'!G311=\"\",\"\",TEXT('Broker Sheet'!G311,\"YYYYMMDD\"))","v":""},{"$f":"IF('Broker Sheet'!H311=\"\",\"\",'Broker Sheet'!H311)","v":""},{"$f":"IF('Broker Sheet'!I311=\"\",\"\",'Broker Sheet'!I311)","v":""},{"$f":"IF('Broker Sheet'!J311=\"\",\"\",VLOOKUP('Broker Sheet'!J311,(Reference!$E$4:$F$9),2,FALSE))","v":""},{"$f":"IF('Broker Sheet'!K311=\"\",\"\",'Broker Sheet'!K311)","v":""},{"$f":"IF('Broker Sheet'!R311=\"\",\"\",'Broker Sheet'!R311)","v":""},{"$f":"IF('Broker Sheet'!S311=\"\",\"\",'Broker Sheet'!S311)","v":""},{"$f":"IF('Broker Sheet'!T311=\"\",\"\",'Broker Sheet'!T311)","v":""},{"$f":"IF('Broker Sheet'!U311=\"\",\"\",'Broker Sheet'!U311)","v":""},{"$f":"IF('Broker Sheet'!V311=\"\",\"\",'Broker Sheet'!V311)","v":""},{"$f":"IF('Broker Sheet'!W311=\"\",\"\",'Broker Sheet'!W311)","v":""},{"$f":"IF('Broker Sheet'!Y311=\"\",\"\",'Broker Sheet'!Y311)","v":""},{"$f":"IF('Broker Sheet'!AA311=\"\",\"\",'Broker Sheet'!AA311)","v":""},{"$f":"IF('Broker Sheet'!Z311=\"\",\"\",'Broker Sheet'!Z311)","v":""},{"$f":"IF('Broker Sheet'!AB311=\"\",\"\",'Broker Sheet'!AB311)","v":""},null,null,{"$f":"IF('Broker Sheet'!L311=\"\",\"\",TEXT('Broker Sheet'!L311,\"YYYYMMDD\"))","v":""},{"$f":"IF('Broker Sheet'!AC311=\"\",\"\",TEXT('Broker Sheet'!AC311,\"YYYYMMDD\"))","v":""},{"$f":"IF('Broker Sheet'!AD311=\"\",\"\",TEXT('Broker Sheet'!AD311,\"YYYYMMDD\"))","v":""},{"$f":"IF('Broker Sheet'!AE311=\"\",\"\",'Broker Sheet'!AE311)","v":""},{"$f":"IF('Broker Sheet'!AF311=\"\",\"\",TEXT('Broker Sheet'!AF311,\"YYYYMMDD\"))","v":""},{"$f":"IF('Broker Sheet'!AG311=\"\",\"\",TEXT('Broker Sheet'!AG311,\"YYYYMMDD\"))","v":""}]
[null,null,null,null,null,{"$f":"IF('Broker Sheet'!C312=\"\",\"\",'Broker Sheet'!C312)","v":""},{"$f":"IF('Broker Sheet'!D312=\"\",\"\",'Broker Sheet'!D312)","v":""},{"$f":"IF('Broker Sheet'!E312=\"\",\"\",'Broker Sheet'!E312)","v":""},{"$f":"IF('Broker Sheet'!F312=\"\",\"\",'Broker Sheet'!F312)","v":""},{"$f":"IF('Broker Sheet'!G312=\"\",\"\",TEXT('Broker Sheet'!G312,\"YYYYMMDD\"))","v":""},{"$f":"IF('Broker Sheet'!H312=\"\",\"\",'Broker Sheet'!H312)","v":""},{"$f":"IF('Broker Sheet'!I312=\"\",\"\",'Broker Sheet'!I312)","v":""},{"$f":"IF('Broker Sheet'!J312=\"\",\"\",VLOOKUP('Broker Sheet'!J312,(Reference!$E$4:$F$9),2,FALSE))","v":""},{"$f":"IF('Broker Sheet'!K312=\"\",\"\",'Broker Sheet'!K312)","v":""},{"$f":"IF('Broker Sheet'!R312=\"\",\"\",'Broker Sheet'!R312)","v":""},{"$f":"IF('Broker Sheet'!S312=\"\",\"\",'Broker Sheet'!S312)","v":""},{"$f":"IF('Broker Sheet'!T312=\"\",\"\",'Broker Sheet'!T312)","v":""},{"$f":"IF('Broker Sheet'!U312=\"\",\"\",'Broker Sheet'!U312)","v":""},{"$f":"IF('Broker Sheet'!V312=\"\",\"\",'Broker Sheet'!V312)","v":""},{"$f":"IF('Broker Sheet'!W312=\"\",\"\",'Broker Sheet'!W312)","v":""},{"$f":"IF('Broker Sheet'!Y312=\"\",\"\",'Broker Sheet'!Y312)","v":""},{"$f":"IF('Broker Sheet'!AA312=\"\",\"\",'Broker Sheet'!AA312)","v":""},{"$f":"IF('Broker Sheet'!Z312=\"\",\"\",'Broker Sheet'!Z312)","v":""},{"$f":"IF('Broker Sheet'!AB312=\"\",\"\",'Broker Sheet'!AB312)","v":""},null,null,{"$f":"IF('Broker Sheet'!L312=\"\",\"\",TEXT('Broker Sheet'!L312,\"YYYYMMDD\"))","v":""},{"$f":"IF('Broker Sheet'!AC312=\"\",\"\",TEXT('Broker Sheet'!AC312,\"YYYYMMDD\"))","v":""},{"$f":"IF('Broker Sheet'!AD312=\"\",\"\",TEXT('Broker Sheet'!AD312,\"YYYYMMDD\"))","v":""},{"$f":"IF('Broker Sheet'!AE312=\"\",\"\",'Broker Sheet'!AE312)","v":""},{"$f":"IF('Broker Sheet'!AF312=\"\",\"\",TEXT('Broker Sheet'!AF312,\"YYYYMMDD\"))","v":""},{"$f":"IF('Broker Sheet'!AG312=\"\",\"\",TEXT('Broker Sheet'!AG312,\"YYYYMMDD\"))","v":""}]
[null,null,null,null,null,{"$f":"IF('Broker Sheet'!C313=\"\",\"\",'Broker Sheet'!C313)","v":""},{"$f":"IF('Broker Sheet'!D313=\"\",\"\",'Broker Sheet'!D313)","v":""},{"$f":"IF('Broker Sheet'!E313=\"\",\"\",'Broker Sheet'!E313)","v":""},{"$f":"IF('Broker Sheet'!F313=\"\",\"\",'Broker Sheet'!F313)","v":""},{"$f":"IF('Broker Sheet'!G313=\"\",\"\",TEXT('Broker Sheet'!G313,\"YYYYMMDD\"))","v":""},{"$f":"IF('Broker Sheet'!H313=\"\",\"\",'Broker Sheet'!H313)","v":""},{"$f":"IF('Broker Sheet'!I313=\"\",\"\",'Broker Sheet'!I313)","v":""},{"$f":"IF('Broker Sheet'!J313=\"\",\"\",VLOOKUP('Broker Sheet'!J313,(Reference!$E$4:$F$9),2,FALSE))","v":""},{"$f":"IF('Broker Sheet'!K313=\"\",\"\",'Broker Sheet'!K313)","v":""},{"$f":"IF('Broker Sheet'!R313=\"\",\"\",'Broker Sheet'!R313)","v":""},{"$f":"IF('Broker Sheet'!S313=\"\",\"\",'Broker Sheet'!S313)","v":""},{"$f":"IF('Broker Sheet'!T313=\"\",\"\",'Broker Sheet'!T313)","v":""},{"$f":"IF('Broker Sheet'!U313=\"\",\"\",'Broker Sheet'!U313)","v":""},{"$f":"IF('Broker Sheet'!V313=\"\",\"\",'Broker Sheet'!V313)","v":""},{"$f":"IF('Broker Sheet'!W313=\"\",\"\",'Broker Sheet'!W313)","v":""},{"$f":"IF('Broker Sheet'!Y313=\"\",\"\",'Broker Sheet'!Y313)","v":""},{"$f":"IF('Broker Sheet'!AA313=\"\",\"\",'Broker Sheet'!AA313)","v":""},{"$f":"IF('Broker Sheet'!Z313=\"\",\"\",'Broker Sheet'!Z313)","v":""},{"$f":"IF('Broker Sheet'!AB313=\"\",\"\",'Broker Sheet'!AB313)","v":""},null,null,{"$f":"IF('Broker Sheet'!L313=\"\",\"\",TEXT('Broker Sheet'!L313,\"YYYYMMDD\"))","v":""},{"$f":"IF('Broker Sheet'!AC313=\"\",\"\",TEXT('Broker Sheet'!AC313,\"YYYYMMDD\"))","v":""},{"$f":"IF('Broker Sheet'!AD313=\"\",\"\",TEXT('Broker Sheet'!AD313,\"YYYYMMDD\"))","v":""},{"$f":"IF('Broker Sheet'!AE313=\"\",\"\",'Broker Sheet'!AE313)","v":""},{"$f":"IF('Broker Sheet'!AF313=\"\",\"\",TEXT('Broker Sheet'!AF313,\"YYYYMMDD\"))","v":""},{"$f":"IF('Broker Sheet'!AG313=\"\",\"\",TEXT('Broker Sheet'!AG313,\"YYYYMMDD\"))","v":""}]
[null,null,null,null,null,{"$f":"IF('Broker Sheet'!C314=\"\",\"\",'Broker Sheet'!C314)","v":""},{"$f":"IF('Broker Sheet'!D314=\"\",\"\",'Broker Sheet'!D314)","v":""},{"$f":"IF('Broker Sheet'!E314=\"\",\"\",'Broker Sheet'!E314)","v":""},{"$f":"IF('Broker Sheet'!F314=\"\",\"\",'Broker Sheet'!F314)","v":""},{"$f":"IF('Broker Sheet'!G314=\"\",\"\",TEXT('Broker Sheet'!G314,\"YYYYMMDD\"))","v":""},{"$f":"IF('Broker Sheet'!H314=\"\",\"\",'Broker Sheet'!H314)","v":""},{"$f":"IF('Broker Sheet'!I314=\"\",\"\",'Broker Sheet'!I314)","v":""},{"$f":"IF('Broker Sheet'!J314=\"\",\"\",VLOOKUP('Broker Sheet'!J314,(Reference!$E$4:$F$9),2,FALSE))","v":""},{"$f":"IF('Broker Sheet'!K314=\"\",\"\",'Broker Sheet'!K314)","v":""},{"$f":"IF('Broker Sheet'!R314=\"\",\"\",'Broker Sheet'!R314)","v":""},{"$f":"IF('Broker Sheet'!S314=\"\",\"\",'Broker Sheet'!S314)","v":""},{"$f":"IF('Broker Sheet'!T314=\"\",\"\",'Broker Sheet'!T314)","v":""},{"$f":"IF('Broker Sheet'!U314=\"\",\"\",'Broker Sheet'!U314)","v":""},{"$f":"IF('Broker Sheet'!V314=\"\",\"\",'Broker Sheet'!V314)","v":""},{"$f":"IF('Broker Sheet'!W314=\"\",\"\",'Broker Sheet'!W314)","v":""},{"$f":"IF('Broker Sheet'!Y314=\"\",\"\",'Broker Sheet'!Y314)","v":""},{"$f":"IF('Broker Sheet'!AA314=\"\",\"\",'Broker Sheet'!AA314)","v":""},{"$f":"IF('Broker Sheet'!Z314=\"\",\"\",'Broker Sheet'!Z314)","v":""},{"$f":"IF('Broker Sheet'!AB314=\"\",\"\",'Broker Sheet'!AB314)","v":""},null,null,{"$f":"IF('Broker Sheet'!L314=\"\",\"\",TEXT('Broker Sheet'!L314,\"YYYYMMDD\"))","v":""},{"$f":"IF('Broker Sheet'!AC314=\"\",\"\",TEXT('Broker Sheet'!AC314,\"YYYYMMDD\"))","v":""},{"$f":"IF('Broker Sheet'!AD314=\"\",\"\",TEXT('Broker Sheet'!AD314,\"YYYYMMDD\"))","v":""},{"$f":"IF('Broker Sheet'!AE314=\"\",\"\",'Broker Sheet'!AE314)","v":""},{"$f":"IF('Broker Sheet'!AF314=\"\",\"\",TEXT('Broker Sheet'!AF314,\"YYYYMMDD\"))","v":""},{"$f":"IF('Broker Sheet'!AG314=\"\",\"\",TEXT('Broker Sheet'!AG314,\"YYYYMMDD\"))","v":""}]
[null,null,null,null,null,{"$f":"IF('Broker Sheet'!C315=\"\",\"\",'Broker Sheet'!C315)","v":""},{"$f":"IF('Broker Sheet'!D315=\"\",\"\",'Broker Sheet'!D315)","v":""},{"$f":"IF('Broker Sheet'!E315=\"\",\"\",'Broker Sheet'!E315)","v":""},{"$f":"IF('Broker Sheet'!F315=\"\",\"\",'Broker Sheet'!F315)","v":""},{"$f":"IF('Broker Sheet'!G315=\"\",\"\",TEXT('Broker Sheet'!G315,\"YYYYMMDD\"))","v":""},{"$f":"IF('Broker Sheet'!H315=\"\",\"\",'Broker Sheet'!H315)","v":""},{"$f":"IF('Broker Sheet'!I315=\"\",\"\",'Broker Sheet'!I315)","v":""},{"$f":"IF('Broker Sheet'!J315=\"\",\"\",VLOOKUP('Broker Sheet'!J315,(Reference!$E$4:$F$9),2,FALSE))","v":""},{"$f":"IF('Broker Sheet'!K315=\"\",\"\",'Broker Sheet'!K315)","v":""},{"$f":"IF('Broker Sheet'!R315=\"\",\"\",'Broker Sheet'!R315)","v":""},{"$f":"IF('Broker Sheet'!S315=\"\",\"\",'Broker Sheet'!S315)","v":""},{"$f":"IF('Broker Sheet'!T315=\"\",\"\",'Broker Sheet'!T315)","v":""},{"$f":"IF('Broker Sheet'!U315=\"\",\"\",'Broker Sheet'!U315)","v":""},{"$f":"IF('Broker Sheet'!V315=\"\",\"\",'Broker Sheet'!V315)","v":""},{"$f":"IF('Broker Sheet'!W315=\"\",\"\",'Broker Sheet'!W315)","v":""},{"$f":"IF('Broker Sheet'!Y315=\"\",\"\",'Broker Sheet'!Y315)","v":""},{"$f":"IF('Broker Sheet'!AA315=\"\",\"\",'Broker Sheet'!AA315)","v":""},{"$f":"IF('Broker Sheet'!Z315=\"\",\"\",'Broker Sheet'!Z315)","v":""},{"$f":"IF('Broker Sheet'!AB315=\"\",\"\",'Broker Sheet'!AB315)","v":""},null,null,{"$f":"IF('Broker Sheet'!L315=\"\",\"\",TEXT('Broker Sheet'!L315,\"YYYYMMDD\"))","v":""},{"$f":"IF('Broker Sheet'!AC315=\"\",\"\",TEXT('Broker Sheet'!AC315,\"YYYYMMDD\"))","v":""},{"$f":"IF('Broker Sheet'!AD315=\"\",\"\",TEXT('Broker Sheet'!AD315,\"YYYYMMDD\"))","v":""},{"$f":"IF('Broker Sheet'!AE315=\"\",\"\",'Broker Sheet'!AE315)","v":""},{"$f":"IF('Broker Sheet'!AF315=\"\",\"\",TEXT('Broker Sheet'!AF315,\"YYYYMMDD\"))","v":""},{"$f":"IF('Broker Sheet'!AG315=\"\",\"\",TEXT('Broker Sheet'!AG315,\"YYYYMMDD\"))","v":""}]
[null,null,null,null,null,{"$f":"IF('Broker Sheet'!C316=\"\",\"\",'Broker Sheet'!C316)","v":""},{"$f":"IF('Broker Sheet'!D316=\"\",\"\",'Broker Sheet'!D316)","v":""},{"$f":"IF('Broker Sheet'!E316=\"\",\"\",'Broker Sheet'!E316)","v":""},{"$f":"IF('Broker Sheet'!F316=\"\",\"\",'Broker Sheet'!F316)","v":""},{"$f":"IF('Broker Sheet'!G316=\"\",\"\",TEXT('Broker Sheet'!G316,\"YYYYMMDD\"))","v":""},{"$f":"IF('Broker Sheet'!H316=\"\",\"\",'Broker Sheet'!H316)","v":""},{"$f":"IF('Broker Sheet'!I316=\"\",\"\",'Broker Sheet'!I316)","v":""},{"$f":"IF('Broker Sheet'!J316=\"\",\"\",VLOOKUP('Broker Sheet'!J316,(Reference!$E$4:$F$9),2,FALSE))","v":""},{"$f":"IF('Broker Sheet'!K316=\"\",\"\",'Broker Sheet'!K316)","v":""},{"$f":"IF('Broker Sheet'!R316=\"\",\"\",'Broker Sheet'!R316)","v":""},{"$f":"IF('Broker Sheet'!S316=\"\",\"\",'Broker Sheet'!S316)","v":""},{"$f":"IF('Broker Sheet'!T316=\"\",\"\",'Broker Sheet'!T316)","v":""},{"$f":"IF('Broker Sheet'!U316=\"\",\"\",'Broker Sheet'!U316)","v":""},{"$f":"IF('Broker Sheet'!V316=\"\",\"\",'Broker Sheet'!V316)","v":""},{"$f":"IF('Broker Sheet'!W316=\"\",\"\",'Broker Sheet'!W316)","v":""},{"$f":"IF('Broker Sheet'!Y316=\"\",\"\",'Broker Sheet'!Y316)","v":""},{"$f":"IF('Broker Sheet'!AA316=\"\",\"\",'Broker Sheet'!AA316)","v":""},{"$f":"IF('Broker Sheet'!Z316=\"\",\"\",'Broker Sheet'!Z316)","v":""},{"$f":"IF('Broker Sheet'!AB316=\"\",\"\",'Broker Sheet'!AB316)","v":""},null,null,{"$f":"IF('Broker Sheet'!L316=\"\",\"\",TEXT('Broker Sheet'!L316,\"YYYYMMDD\"))","v":""},{"$f":"IF('Broker Sheet'!AC316=\"\",\"\",TEXT('Broker Sheet'!AC316,\"YYYYMMDD\"))","v":""},{"$f":"IF('Broker Sheet'!AD316=\"\",\"\",TEXT('Broker Sheet'!AD316,\"YYYYMMDD\"))","v":""},{"$f":"IF('Broker Sheet'!AE316=\"\",\"\",'Broker Sheet'!AE316)","v":""},{"$f":"IF('Broker Sheet'!AF316=\"\",\"\",TEXT('Broker Sheet'!AF316,\"YYYYMMDD\"))","v":""},{"$f":"IF('Broker Sheet'!AG316=\"\",\"\",TEXT('Broker Sheet'!AG316,\"YYYYMMDD\"))","v":""}]
[null,null,null,null,null,{"$f":"IF('Broker Sheet'!C317=\"\",\"\",'Broker Sheet'!C317)","v":""},{"$f":"IF('Broker Sheet'!D317=\"\",\"\",'Broker Sheet'!D317)","v":""},{"$f":"IF('Broker Sheet'!E317=\"\",\"\",'Broker Sheet'!E317)","v":""},{"$f":"IF('Broker Sheet'!F317=\"\",\"\",'Broker Sheet'!F317)","v":""},{"$f":"IF('Broker Sheet'!G317=\"\",\"\",TEXT('Broker Sheet'!G317,\"YYYYMMDD\"))","v":""},{"$f":"IF('Broker Sheet'!H317=\"\",\"\",'Broker Sheet'!H317)","v":""},{"$f":"IF('Broker Sheet'!I317=\"\",\"\",'Broker Sheet'!I317)","v":""},{"$f":"IF('Broker Sheet'!J317=\"\",\"\",VLOOKUP('Broker Sheet'!J317,(Reference!$E$4:$F$9),2,FALSE))","v":""},{"$f":"IF('Broker Sheet'!K317=\"\",\"\",'Broker Sheet'!K317)","v":""},{"$f":"IF('Broker Sheet'!R317=\"\",\"\",'Broker Sheet'!R317)","v":""},{"$f":"IF('Broker Sheet'!S317=\"\",\"\",'Broker Sheet'!S317)","v":""},{"$f":"IF('Broker Sheet'!T317=\"\",\"\",'Broker Sheet'!T317)","v":""},{"$f":"IF('Broker Sheet'!U317=\"\",\"\",'Broker Sheet'!U317)","v":""},{"$f":"IF('Broker Sheet'!V317=\"\",\"\",'Broker Sheet'!V317)","v":""},{"$f":"IF('Broker Sheet'!W317=\"\",\"\",'Broker Sheet'!W317)","v":""},{"$f":"IF('Broker Sheet'!Y317=\"\",\"\",'Broker Sheet'!Y317)","v":""},{"$f":"IF('Broker Sheet'!AA317=\"\",\"\",'Broker Sheet'!AA317)","v":""},{"$f":"IF('Broker Sheet'!Z317=\"\",\"\",'Broker Sheet'!Z317)","v":""},{"$f":"IF('Broker Sheet'!AB317=\"\",\"\",'Broker Sheet'!AB317)","v":""},null,null,{"$f":"IF('Broker Sheet'!L317=\"\",\"\",TEXT('Broker Sheet'!L317,\"YYYYMMDD\"))","v":""},{"$f":"IF('Broker Sheet'!AC317=\"\",\"\",TEXT('Broker Sheet'!AC317,\"YYYYMMDD\"))","v":""},{"$f":"IF('Broker Sheet'!AD317=\"\",\"\",TEXT('Broker Sheet'!AD317,\"YYYYMMDD\"))","v":""},{"$f":"IF('Broker Sheet'!AE317=\"\",\"\",'Broker Sheet'!AE317)","v":""},{"$f":"IF('Broker Sheet'!AF317=\"\",\"\",TEXT('Broker Sheet'!AF317,\"YYYYMMDD\"))","v":""},{"$f":"IF('Broker Sheet'!AG317=\"\",\"\",TEXT('Broker Sheet'!AG317,\"YYYYMMDD\"))","v":""}]
[null,null,null,null,null,{"$f":"IF('Broker Sheet'!C318=\"\",\"\",'Broker Sheet'!C318)","v":""},{"$f":"IF('Broker Sheet'!D318=\"\",\"\",'Broker Sheet'!D318)","v":""},{"$f":"IF('Broker Sheet'!E318=\"\",\"\",'Broker Sheet'!E318)","v":""},{"$f":"IF('Broker Sheet'!F318=\"\",\"\",'Broker Sheet'!F318)","v":""},{"$f":"IF('Broker Sheet'!G318=\"\",\"\",TEXT('Broker Sheet'!G318,\"YYYYMMDD\"))","v":""},{"$f":"IF('Broker Sheet'!H318=\"\",\"\",'Broker Sheet'!H318)","v":""},{"$f":"IF('Broker Sheet'!I318=\"\",\"\",'Broker Sheet'!I318)","v":""},{"$f":"IF('Broker Sheet'!J318=\"\",\"\",VLOOKUP('Broker Sheet'!J318,(Reference!$E$4:$F$9),2,FALSE))","v":""},{"$f":"IF('Broker Sheet'!K318=\"\",\"\",'Broker Sheet'!K318)","v":""},{"$f":"IF('Broker Sheet'!R318=\"\",\"\",'Broker Sheet'!R318)","v":""},{"$f":"IF('Broker Sheet'!S318=\"\",\"\",'Broker Sheet'!S318)","v":""},{"$f":"IF('Broker Sheet'!T318=\"\",\"\",'Broker Sheet'!T318)","v":""},{"$f":"IF('Broker Sheet'!U318=\"\",\"\",'Broker Sheet'!U318)","v":""},{"$f":"IF('Broker Sheet'!V318=\"\",\"\",'Broker Sheet'!V318)","v":""},{"$f":"IF('Broker Sheet'!W318=\"\",\"\",'Broker Sheet'!W318)","v":""},{"$f":"IF('Broker Sheet'!Y318=\"\",\"\",'Broker Sheet'!Y318)","v":""},{"$f":"IF('Broker Sheet'!AA318=\"\",\"\",'Broker Sheet'!AA318)","v":""},{"$f":"IF('Broker Sheet'!Z318=\"\",\"\",'Broker Sheet'!Z318)","v":""},{"$f":"IF('Broker Sheet'!AB318=\"\",\"\",'Broker Sheet'!AB318)","v":""},null,null,{"$f":"IF('Broker Sheet'!L318=\"\",\"\",TEXT('Broker Sheet'!L318,\"YYYYMMDD\"))","v":""},{"$f":"IF('Broker Sheet'!AC318=\"\",\"\",TEXT('Broker Sheet'!AC318,\"YYYYMMDD\"))","v":""},{"$f":"IF('Broker Sheet'!AD318=\"\",\"\",TEXT('Broker Sheet'!AD318,\"YYYYMMDD\"))","v":""},{"$f":"IF('Broker Sheet'!AE318=\"\",\"\",'Broker Sheet'!AE318)","v":""},{"$f":"IF('Broker Sheet'!AF318=\"\",\"\",TEXT('Broker Sheet'!AF318,\"YYYYMMDD\"))","v":""},{"$f":"IF('Broker Sheet'!AG318=\"\",\"\",TEXT('Broker Sheet'!AG318,\"YYYYMMDD\"))","v":""}]
[null,null,null,null,null,{"$f":"IF('Broker Sheet'!C319=\"\",\"\",'Broker Sheet'!C319)","v":""},{"$f":"IF('Broker Sheet'!D319=\"\",\"\",'Broker Sheet'!D319)","v":""},{"$f":"IF('Broker Sheet'!E319=\"\",\"\",'Broker Sheet'!E319)","v":""},{"$f":"IF('Broker Sheet'!F319=\"\",\"\",'Broker Sheet'!F319)","v":""},{"$f":"IF('Broker Sheet'!G319=\"\",\"\",TEXT('Broker Sheet'!G319,\"YYYYMMDD\"))","v":""},{"$f":"IF('Broker Sheet'!H319=\"\",\"\",'Broker Sheet'!H319)","v":""},{"$f":"IF('Broker Sheet'!I319=\"\",\"\",'Broker Sheet'!I319)","v":""},{"$f":"IF('Broker Sheet'!J319=\"\",\"\",VLOOKUP('Broker Sheet'!J319,(Reference!$E$4:$F$9),2,FALSE))","v":""},{"$f":"IF('Broker Sheet'!K319=\"\",\"\",'Broker Sheet'!K319)","v":""},{"$f":"IF('Broker Sheet'!R319=\"\",\"\",'Broker Sheet'!R319)","v":""},{"$f":"IF('Broker Sheet'!S319=\"\",\"\",'Broker Sheet'!S319)","v":""},{"$f":"IF('Broker Sheet'!T319=\"\",\"\",'Broker Sheet'!T319)","v":""},{"$f":"IF('Broker Sheet'!U319=\"\",\"\",'Broker Sheet'!U319)","v":""},{"$f":"IF('Broker Sheet'!V319=\"\",\"\",'Broker Sheet'!V319)","v":""},{"$f":"IF('Broker Sheet'!W319=\"\",\"\",'Broker Sheet'!W319)","v":""},{"$f":"IF('Broker Sheet'!Y319=\"\",\"\",'Broker Sheet'!Y319)","v":""},{"$f":"IF('Broker Sheet'!AA319=\"\",\"\",'Broker Sheet'!AA319)","v":""},{"$f":"IF('Broker Sheet'!Z319=\"\",\"\",'Broker Sheet'!Z319)","v":""},{"$f":"IF('Broker Sheet'!AB319=\"\",\"\",'Broker Sheet'!AB319)","v":""},null,null,{"$f":"IF('Broker Sheet'!L319=\"\",\"\",TEXT('Broker Sheet'!L319,\"YYYYMMDD\"))","v":""},{"$f":"IF('Broker Sheet'!AC319=\"\",\"\",TEXT('Broker Sheet'!AC319,\"YYYYMMDD\"))","v":""},{"$f":"IF('Broker Sheet'!AD319=\"\",\"\",TEXT('Broker Sheet'!AD319,\"YYYYMMDD\"))","v":""},{"$f":"IF('Broker Sheet'!AE319=\"\",\"\",'Broker Sheet'!AE319)","v":""},{"$f":"IF('Broker Sheet'!AF319=\"\",\"\",TEXT('Broker Sheet'!AF319,\"YYYYMMDD\"))","v":""},{"$f":"IF('Broker Sheet'!AG319=\"\",\"\",TEXT('Broker Sheet'!AG319,\"YYYYMMDD\"))","v":""}]
[null,null,null,null,null,{"$f":"IF('Broker Sheet'!C320=\"\",\"\",'Broker Sheet'!C320)","v":""},{"$f":"IF('Broker Sheet'!D320=\"\",\"\",'Broker Sheet'!D320)","v":""},{"$f":"IF('Broker Sheet'!E320=\"\",\"\",'Broker Sheet'!E320)","v":""},{"$f":"IF('Broker Sheet'!F320=\"\",\"\",'Broker Sheet'!F320)","v":""},{"$f":"IF('Broker Sheet'!G320=\"\",\"\",TEXT('Broker Sheet'!G320,\"YYYYMMDD\"))","v":""},{"$f":"IF('Broker Sheet'!H320=\"\",\"\",'Broker Sheet'!H320)","v":""},{"$f":"IF('Broker Sheet'!I320=\"\",\"\",'Broker Sheet'!I320)","v":""},{"$f":"IF('Broker Sheet'!J320=\"\",\"\",VLOOKUP('Broker Sheet'!J320,(Reference!$E$4:$F$9),2,FALSE))","v":""},{"$f":"IF('Broker Sheet'!K320=\"\",\"\",'Broker Sheet'!K320)","v":""},{"$f":"IF('Broker Sheet'!R320=\"\",\"\",'Broker Sheet'!R320)","v":""},{"$f":"IF('Broker Sheet'!S320=\"\",\"\",'Broker Sheet'!S320)","v":""},{"$f":"IF('Broker Sheet'!T320=\"\",\"\",'Broker Sheet'!T320)","v":""},{"$f":"IF('Broker Sheet'!U320=\"\",\"\",'Broker Sheet'!U320)","v":""},{"$f":"IF('Broker Sheet'!V320=\"\",\"\",'Broker Sheet'!V320)","v":""},{"$f":"IF('Broker Sheet'!W320=\"\",\"\",'Broker Sheet'!W320)","v":""},{"$f":"IF('Broker Sheet'!Y320=\"\",\"\",'Broker Sheet'!Y320)","v":""},{"$f":"IF('Broker Sheet'!AA320=\"\",\"\",'Broker Sheet'!AA320)","v":""},{"$f":"IF('Broker Sheet'!Z320=\"\",\"\",'Broker Sheet'!Z320)","v":""},{"$f":"IF('Broker Sheet'!AB320=\"\",\"\",'Broker Sheet'!AB320)","v":""},null,null,{"$f":"IF('Broker Sheet'!L320=\"\",\"\",TEXT('Broker Sheet'!L320,\"YYYYMMDD\"))","v":""},{"$f":"IF('Broker Sheet'!AC320=\"\",\"\",TEXT('Broker Sheet'!AC320,\"YYYYMMDD\"))","v":""},{"$f":"IF('Broker Sheet'!AD320=\"\",\"\",TEXT('Broker Sheet'!AD320,\"YYYYMMDD\"))","v":""},{"$f":"IF('Broker Sheet'!AE320=\"\",\"\",'Broker Sheet'!AE320)","v":""},{"$f":"IF('Broker Sheet'!AF320=\"\",\"\",TEXT('Broker Sheet'!AF320,\"YYYYMMDD\"))","v":""},{"$f":"IF('Broker Sheet'!AG320=\"\",\"\",TEXT('Broker Sheet'!AG320,\"YYYYMMDD\"))","v":""}]
[null,null,null,null,null,{"$f":"IF('Broker Sheet'!C321=\"\",\"\",'Broker Sheet'!C321)","v":""},{"$f":"IF('Broker Sheet'!D321=\"\",\"\",'Broker Sheet'!D321)","v":""},{"$f":"IF('Broker Sheet'!E321=\"\",\"\",'Broker Sheet'!E321)","v":""},{"$f":"IF('Broker Sheet'!F321=\"\",\"\",'Broker Sheet'!F321)","v":""},{"$f":"IF('Broker Sheet'!G321=\"\",\"\",TEXT('Broker Sheet'!G321,\"YYYYMMDD\"))","v":""},{"$f":"IF('Broker Sheet'!H321=\"\",\"\",'Broker Sheet'!H321)","v":""},{"$f":"IF('Broker Sheet'!I321=\"\",\"\",'Broker Sheet'!I321)","v":""},{"$f":"IF('Broker Sheet'!J321=\"\",\"\",VLOOKUP('Broker Sheet'!J321,(Reference!$E$4:$F$9),2,FALSE))","v":""},{"$f":"IF('Broker Sheet'!K321=\"\",\"\",'Broker Sheet'!K321)","v":""},{"$f":"IF('Broker Sheet'!R321=\"\",\"\",'Broker Sheet'!R321)","v":""},{"$f":"IF('Broker Sheet'!S321=\"\",\"\",'Broker Sheet'!S321)","v":""},{"$f":"IF('Broker Sheet'!T321=\"\",\"\",'Broker Sheet'!T321)","v":""},{"$f":"IF('Broker Sheet'!U321=\"\",\"\",'Broker Sheet'!U321)","v":""},{"$f":"IF('Broker Sheet'!V321=\"\",\"\",'Broker Sheet'!V321)","v":""},{"$f":"IF('Broker Sheet'!W321=\"\",\"\",'Broker Sheet'!W321)","v":""},{"$f":"IF('Broker Sheet'!Y321=\"\",\"\",'Broker Sheet'!Y321)","v":""},{"$f":"IF('Broker Sheet'!AA321=\"\",\"\",'Broker Sheet'!AA321)","v":""},{"$f":"IF('Broker Sheet'!Z321=\"\",\"\",'Broker Sheet'!Z321)","v":""},{"$f":"IF('Broker Sheet'!AB321=\"\",\"\",'Broker Sheet'!AB321)","v":""},null,null,{"$f":"IF('Broker Sheet'!L321=\"\",\"\",TEXT('Broker Sheet'!L321,\"YYYYMMDD\"))","v":""},{"$f":"IF('Broker Sheet'!AC321=\"\",\"\",TEXT('Broker Sheet'!AC321,\"YYYYMMDD\"))","v":""},{"$f":"IF('Broker Sheet'!AD321=\"\",\"\",TEXT('Broker Sheet'!AD321,\"YYYYMMDD\"))","v":""},{"$f":"IF('Broker Sheet'!AE321=\"\",\"\",'Broker Sheet'!AE321)","v":""},{"$f":"IF('Broker Sheet'!AF321=\"\",\"\",TEXT('Broker Sheet'!AF321,\"YYYYMMDD\"))","v":""},{"$f":"IF('Broker Sheet'!AG321=\"\",\"\",TEXT('Broker Sheet'!AG321,\"YYYYMMDD\"))","v":""}]
[null,null,null,null,null,{"$f":"IF('Broker Sheet'!C322=\"\",\"\",'Broker Sheet'!C322)","v":""},{"$f":"IF('Broker Sheet'!D322=\"\",\"\",'Broker Sheet'!D322)","v":""},{"$f":"IF('Broker Sheet'!E322=\"\",\"\",'Broker Sheet'!E322)","v":""},{"$f":"IF('Broker Sheet'!F322=\"\",\"\",'Broker Sheet'!F322)","v":""},{"$f":"IF('Broker Sheet'!G322=\"\",\"\",TEXT('Broker Sheet'!G322,\"YYYYMMDD\"))","v":""},{"$f":"IF('Broker Sheet'!H322=\"\",\"\",'Broker Sheet'!H322)","v":""},{"$f":"IF('Broker Sheet'!I322=\"\",\"\",'Broker Sheet'!I322)","v":""},{"$f":"IF('Broker Sheet'!J322=\"\",\"\",VLOOKUP('Broker Sheet'!J322,(Reference!$E$4:$F$9),2,FALSE))","v":""},{"$f":"IF('Broker Sheet'!K322=\"\",\"\",'Broker Sheet'!K322)","v":""},{"$f":"IF('Broker Sheet'!R322=\"\",\"\",'Broker Sheet'!R322)","v":""},{"$f":"IF('Broker Sheet'!S322=\"\",\"\",'Broker Sheet'!S322)","v":""},{"$f":"IF('Broker Sheet'!T322=\"\",\"\",'Broker Sheet'!T322)","v":""},{"$f":"IF('Broker Sheet'!U322=\"\",\"\",'Broker Sheet'!U322)","v":""},{"$f":"IF('Broker Sheet'!V322=\"\",\"\",'Broker Sheet'!V322)","v":""},{"$f":"IF('Broker Sheet'!W322=\"\",\"\",'Broker Sheet'!W322)","v":""},{"$f":"IF('Broker Sheet'!Y322=\"\",\"\",'Broker Sheet'!Y322)","v":""},{"$f":"IF('Broker Sheet'!AA322=\"\",\"\",'Broker Sheet'!AA322)","v":""},{"$f":"IF('Broker Sheet'!Z322=\"\",\"\",'Broker Sheet'!Z322)","v":""},{"$f":"IF('Broker Sheet'!AB322=\"\",\"\",'Broker Sheet'!AB322)","v":""},null,null,{"$f":"IF('Broker Sheet'!L322=\"\",\"\",TEXT('Broker Sheet'!L322,\"YYYYMMDD\"))","v":""},{"$f":"IF('Broker Sheet'!AC322=\"\",\"\",TEXT('Broker Sheet'!AC322,\"YYYYMMDD\"))","v":""},{"$f":"IF('Broker Sheet'!AD322=\"\",\"\",TEXT('Broker Sheet'!AD322,\"YYYYMMDD\"))","v":""},{"$f":"IF('Broker Sheet'!AE322=\"\",\"\",'Broker Sheet'!AE322)","v":""},{"$f":"IF('Broker Sheet'!AF322=\"\",\"\",TEXT('Broker Sheet'!AF322,\"YYYYMMDD\"))","v":""},{"$f":"IF('Broker Sheet'!AG322=\"\",\"\",TEXT('Broker Sheet'!AG322,\"YYYYMMDD\"))","v":""}]
[null,null,null,null,null,{"$f":"IF('Broker Sheet'!C323=\"\",\"\",'Broker Sheet'!C323)","v":""},{"$f":"IF('Broker Sheet'!D323=\"\",\"\",'Broker Sheet'!D323)","v":""},{"$f":"IF('Broker Sheet'!E323=\"\",\"\",'Broker Sheet'!E323)","v":""},{"$f":"IF('Broker Sheet'!F323=\"\",\"\",'Broker Sheet'!F323)","v":""},{"$f":"IF('Broker Sheet'!G323=\"\",\"\",TEXT('Broker Sheet'!G323,\"YYYYMMDD\"))","v":""},{"$f":"IF('Broker Sheet'!H323=\"\",\"\",'Broker Sheet'!H323)","v":""},{"$f":"IF('Broker Sheet'!I323=\"\",\"\",'Broker Sheet'!I323)","v":""},{"$f":"IF('Broker Sheet'!J323=\"\",\"\",VLOOKUP('Broker Sheet'!J323,(Reference!$E$4:$F$9),2,FALSE))","v":""},{"$f":"IF('Broker Sheet'!K323=\"\",\"\",'Broker Sheet'!K323)","v":""},{"$f":"IF('Broker Sheet'!R323=\"\",\"\",'Broker Sheet'!R323)","v":""},{"$f":"IF('Broker Sheet'!S323=\"\",\"\",'Broker Sheet'!S323)","v":""},{"$f":"IF('Broker Sheet'!T323=\"\",\"\",'Broker Sheet'!T323)","v":""},{"$f":"IF('Broker Sheet'!U323=\"\",\"\",'Broker Sheet'!U323)","v":""},{"$f":"IF('Broker Sheet'!V323=\"\",\"\",'Broker Sheet'!V323)","v":""},{"$f":"IF('Broker Sheet'!W323=\"\",\"\",'Broker Sheet'!W323)","v":""},{"$f":"IF('Broker Sheet'!Y323=\"\",\"\",'Broker Sheet'!Y323)","v":""},{"$f":"IF('Broker Sheet'!AA323=\"\",\"\",'Broker Sheet'!AA323)","v":""},{"$f":"IF('Broker Sheet'!Z323=\"\",\"\",'Broker Sheet'!Z323)","v":""},{"$f":"IF('Broker Sheet'!AB323=\"\",\"\",'Broker Sheet'!AB323)","v":""},null,null,{"$f":"IF('Broker Sheet'!L323=\"\",\"\",TEXT('Broker Sheet'!L323,\"YYYYMMDD\"))","v":""},{"$f":"IF('Broker Sheet'!AC323=\"\",\"\",TEXT('Broker Sheet'!AC323,\"YYYYMMDD\"))","v":""},{"$f":"IF('Broker Sheet'!AD323=\"\",\"\",TEXT('Broker Sheet'!AD323,\"YYYYMMDD\"))","v":""},{"$f":"IF('Broker Sheet'!AE323=\"\",\"\",'Broker Sheet'!AE323)","v":""},{"$f":"IF('Broker Sheet'!AF323=\"\",\"\",TEXT('Broker Sheet'!AF323,\"YYYYMMDD\"))","v":""},{"$f":"IF('Broker Sheet'!AG323=\"\",\"\",TEXT('Broker Sheet'!AG323,\"YYYYMMDD\"))","v":""}]
[null,null,null,null,null,{"$f":"IF('Broker Sheet'!C324=\"\",\"\",'Broker Sheet'!C324)","v":""},{"$f":"IF('Broker Sheet'!D324=\"\",\"\",'Broker Sheet'!D324)","v":""},{"$f":"IF('Broker Sheet'!E324=\"\",\"\",'Broker Sheet'!E324)","v":""},{"$f":"IF('Broker Sheet'!F324=\"\",\"\",'Broker Sheet'!F324)","v":""},{"$f":"IF('Broker Sheet'!G324=\"\",\"\",TEXT('Broker Sheet'!G324,\"YYYYMMDD\"))","v":""},{"$f":"IF('Broker Sheet'!H324=\"\",\"\",'Broker Sheet'!H324)","v":""},{"$f":"IF('Broker Sheet'!I324=\"\",\"\",'Broker Sheet'!I324)","v":""},{"$f":"IF('Broker Sheet'!J324=\"\",\"\",VLOOKUP('Broker Sheet'!J324,(Reference!$E$4:$F$9),2,FALSE))","v":""},{"$f":"IF('Broker Sheet'!K324=\"\",\"\",'Broker Sheet'!K324)","v":""},{"$f":"IF('Broker Sheet'!R324=\"\",\"\",'Broker Sheet'!R324)","v":""},{"$f":"IF('Broker Sheet'!S324=\"\",\"\",'Broker Sheet'!S324)","v":""},{"$f":"IF('Broker Sheet'!T324=\"\",\"\",'Broker Sheet'!T324)","v":""},{"$f":"IF('Broker Sheet'!U324=\"\",\"\",'Broker Sheet'!U324)","v":""},{"$f":"IF('Broker Sheet'!V324=\"\",\"\",'Broker Sheet'!V324)","v":""},{"$f":"IF('Broker Sheet'!W324=\"\",\"\",'Broker Sheet'!W324)","v":""},{"$f":"IF('Broker Sheet'!Y324=\"\",\"\",'Broker Sheet'!Y324)","v":""},{"$f":"IF('Broker Sheet'!AA324=\"\",\"\",'Broker Sheet'!AA324)","v":""},{"$f":"IF('Broker Sheet'!Z324=\"\",\"\",'Broker Sheet'!Z324)","v":""},{"$f":"IF('Broker Sheet'!AB324=\"\",\"\",'Broker Sheet'!AB324)","v":""},null,null,{"$f":"IF('Broker Sheet'!L324=\"\",\"\",TEXT('Broker Sheet'!L324,\"YYYYMMDD\"))","v":""},{"$f":"IF('Broker Sheet'!AC324=\"\",\"\",TEXT('Broker Sheet'!AC324,\"YYYYMMDD\"))","v":""},{"$f":"IF('Broker Sheet'!AD324=\"\",\"\",TEXT('Broker Sheet'!AD324,\"YYYYMMDD\"))","v":""},{"$f":"IF('Broker Sheet'!AE324=\"\",\"\",'Broker Sheet'!AE324)","v":""},{"$f":"IF('Broker Sheet'!AF324=\"\",\"\",TEXT('Broker Sheet'!AF324,\"YYYYMMDD\"))","v":""},{"$f":"IF('Broker Sheet'!AG324=\"\",\"\",TEXT('Broker Sheet'!AG324,\"YYYYMMDD\"))","v":""}]
[null,null,null,null,null,{"$f":"IF('Broker Sheet'!C325=\"\",\"\",'Broker Sheet'!C325)","v":""},{"$f":"IF('Broker Sheet'!D325=\"\",\"\",'Broker Sheet'!D325)","v":""},{"$f":"IF('Broker Sheet'!E325=\"\",\"\",'Broker Sheet'!E325)","v":""},{"$f":"IF('Broker Sheet'!F325=\"\",\"\",'Broker Sheet'!F325)","v":""},{"$f":"IF('Broker Sheet'!G325=\"\",\"\",TEXT('Broker Sheet'!G325,\"YYYYMMDD\"))","v":""},{"$f":"IF('Broker Sheet'!H325=\"\",\"\",'Broker Sheet'!H325)","v":""},{"$f":"IF('Broker Sheet'!I325=\"\",\"\",'Broker Sheet'!I325)","v":""},{"$f":"IF('Broker Sheet'!J325=\"\",\"\",VLOOKUP('Broker Sheet'!J325,(Reference!$E$4:$F$9),2,FALSE))","v":""},{"$f":"IF('Broker Sheet'!K325=\"\",\"\",'Broker Sheet'!K325)","v":""},{"$f":"IF('Broker Sheet'!R325=\"\",\"\",'Broker Sheet'!R325)","v":""},{"$f":"IF('Broker Sheet'!S325=\"\",\"\",'Broker Sheet'!S325)","v":""},{"$f":"IF('Broker Sheet'!T325=\"\",\"\",'Broker Sheet'!T325)","v":""},{"$f":"IF('Broker Sheet'!U325=\"\",\"\",'Broker Sheet'!U325)","v":""},{"$f":"IF('Broker Sheet'!V325=\"\",\"\",'Broker Sheet'!V325)","v":""},{"$f":"IF('Broker Sheet'!W325=\"\",\"\",'Broker Sheet'!W325)","v":""},{"$f":"IF('Broker Sheet'!Y325=\"\",\"\",'Broker Sheet'!Y325)","v":""},{"$f":"IF('Broker Sheet'!AA325=\"\",\"\",'Broker Sheet'!AA325)","v":""},{"$f":"IF('Broker Sheet'!Z325=\"\",\"\",'Broker Sheet'!Z325)","v":""},{"$f":"IF('Broker Sheet'!AB325=\"\",\"\",'Broker Sheet'!AB325)","v":""},null,null,{"$f":"IF('Broker Sheet'!L325=\"\",\"\",TEXT('Broker Sheet'!L325,\"YYYYMMDD\"))","v":""},{"$f":"IF('Broker Sheet'!AC325=\"\",\"\",TEXT('Broker Sheet'!AC325,\"YYYYMMDD\"))","v":""},{"$f":"IF('Broker Sheet'!AD325=\"\",\"\",TEXT('Broker Sheet'!AD325,\"YYYYMMDD\"))","v":""},{"$f":"IF('Broker Sheet'!AE325=\"\",\"\",'Broker Sheet'!AE325)","v":""},{"$f":"IF('Broker Sheet'!AF325=\"\",\"\",TEXT('Broker Sheet'!AF325,\"YYYYMMDD\"))","v":""},{"$f":"IF('Broker Sheet'!AG325=\"\",\"\",TEXT('Broker Sheet'!AG325,\"YYYYMMDD\"))","v":""}]
[null,null,null,null,null,{"$f":"IF('Broker Sheet'!C326=\"\",\"\",'Broker Sheet'!C326)","v":""},{"$f":"IF('Broker Sheet'!D326=\"\",\"\",'Broker Sheet'!D326)","v":""},{"$f":"IF('Broker Sheet'!E326=\"\",\"\",'Broker Sheet'!E326)","v":""},{"$f":"IF('Broker Sheet'!F326=\"\",\"\",'Broker Sheet'!F326)","v":""},{"$f":"IF('Broker Sheet'!G326=\"\",\"\",TEXT('Broker Sheet'!G326,\"YYYYMMDD\"))","v":""},{"$f":"IF('Broker Sheet'!H326=\"\",\"\",'Broker Sheet'!H326)","v":""},{"$f":"IF('Broker Sheet'!I326=\"\",\"\",'Broker Sheet'!I326)","v":""},{"$f":"IF('Broker Sheet'!J326=\"\",\"\",VLOOKUP('Broker Sheet'!J326,(Reference!$E$4:$F$9),2,FALSE))","v":""},{"$f":"IF('Broker Sheet'!K326=\"\",\"\",'Broker Sheet'!K326)","v":""},{"$f":"IF('Broker Sheet'!R326=\"\",\"\",'Broker Sheet'!R326)","v":""},{"$f":"IF('Broker Sheet'!S326=\"\",\"\",'Broker Sheet'!S326)","v":""},{"$f":"IF('Broker Sheet'!T326=\"\",\"\",'Broker Sheet'!T326)","v":""},{"$f":"IF('Broker Sheet'!U326=\"\",\"\",'Broker Sheet'!U326)","v":""},{"$f":"IF('Broker Sheet'!V326=\"\",\"\",'Broker Sheet'!V326)","v":""},{"$f":"IF('Broker Sheet'!W326=\"\",\"\",'Broker Sheet'!W326)","v":""},{"$f":"IF('Broker Sheet'!Y326=\"\",\"\",'Broker Sheet'!Y326)","v":""},{"$f":"IF('Broker Sheet'!AA326=\"\",\"\",'Broker Sheet'!AA326)","v":""},{"$f":"IF('Broker Sheet'!Z326=\"\",\"\",'Broker Sheet'!Z326)","v":""},{"$f":"IF('Broker Sheet'!AB326=\"\",\"\",'Broker Sheet'!AB326)","v":""},null,null,{"$f":"IF('Broker Sheet'!L326=\"\",\"\",TEXT('Broker Sheet'!L326,\"YYYYMMDD\"))","v":""},{"$f":"IF('Broker Sheet'!AC326=\"\",\"\",TEXT('Broker Sheet'!AC326,\"YYYYMMDD\"))","v":""},{"$f":"IF('Broker Sheet'!AD326=\"\",\"\",TEXT('Broker Sheet'!AD326,\"YYYYMMDD\"))","v":""},{"$f":"IF('Broker Sheet'!AE326=\"\",\"\",'Broker Sheet'!AE326)","v":""},{"$f":"IF('Broker Sheet'!AF326=\"\",\"\",TEXT('Broker Sheet'!AF326,\"YYYYMMDD\"))","v":""},{"$f":"IF('Broker Sheet'!AG326=\"\",\"\",TEXT('Broker Sheet'!AG326,\"YYYYMMDD\"))","v":""}]
[null,null,null,null,null,{"$f":"IF('Broker Sheet'!C327=\"\",\"\",'Broker Sheet'!C327)","v":""},{"$f":"IF('Broker Sheet'!D327=\"\",\"\",'Broker Sheet'!D327)","v":""},{"$f":"IF('Broker Sheet'!E327=\"\",\"\",'Broker Sheet'!E327)","v":""},{"$f":"IF('Broker Sheet'!F327=\"\",\"\",'Broker Sheet'!F327)","v":""},{"$f":"IF('Broker Sheet'!G327=\"\",\"\",TEXT('Broker Sheet'!G327,\"YYYYMMDD\"))","v":""},{"$f":"IF('Broker Sheet'!H327=\"\",\"\",'Broker Sheet'!H327)","v":""},{"$f":"IF('Broker Sheet'!I327=\"\",\"\",'Broker Sheet'!I327)","v":""},{"$f":"IF('Broker Sheet'!J327=\"\",\"\",VLOOKUP('Broker Sheet'!J327,(Reference!$E$4:$F$9),2,FALSE))","v":""},{"$f":"IF('Broker Sheet'!K327=\"\",\"\",'Broker Sheet'!K327)","v":""},{"$f":"IF('Broker Sheet'!R327=\"\",\"\",'Broker Sheet'!R327)","v":""},{"$f":"IF('Broker Sheet'!S327=\"\",\"\",'Broker Sheet'!S327)","v":""},{"$f":"IF('Broker Sheet'!T327=\"\",\"\",'Broker Sheet'!T327)","v":""},{"$f":"IF('Broker Sheet'!U327=\"\",\"\",'Broker Sheet'!U327)","v":""},{"$f":"IF('Broker Sheet'!V327=\"\",\"\",'Broker Sheet'!V327)","v":""},{"$f":"IF('Broker Sheet'!W327=\"\",\"\",'Broker Sheet'!W327)","v":""},{"$f":"IF('Broker Sheet'!Y327=\"\",\"\",'Broker Sheet'!Y327)","v":""},{"$f":"IF('Broker Sheet'!AA327=\"\",\"\",'Broker Sheet'!AA327)","v":""},{"$f":"IF('Broker Sheet'!Z327=\"\",\"\",'Broker Sheet'!Z327)","v":""},{"$f":"IF('Broker Sheet'!AB327=\"\",\"\",'Broker Sheet'!AB327)","v":""},null,null,{"$f":"IF('Broker Sheet'!L327=\"\",\"\",TEXT('Broker Sheet'!L327,\"YYYYMMDD\"))","v":""},{"$f":"IF('Broker Sheet'!AC327=\"\",\"\",TEXT('Broker Sheet'!AC327,\"YYYYMMDD\"))","v":""},{"$f":"IF('Broker Sheet'!AD327=\"\",\"\",TEXT('Broker Sheet'!AD327,\"YYYYMMDD\"))","v":""},{"$f":"IF('Broker Sheet'!AE327=\"\",\"\",'Broker Sheet'!AE327)","v":""},{"$f":"IF('Broker Sheet'!AF327=\"\",\"\",TEXT('Broker Sheet'!AF327,\"YYYYMMDD\"))","v":""},{"$f":"IF('Broker Sheet'!AG327=\"\",\"\",TEXT('Broker Sheet'!AG327,\"YYYYMMDD\"))","v":""}]
[null,null,null,null,null,{"$f":"IF('Broker Sheet'!C328=\"\",\"\",'Broker Sheet'!C328)","v":""},{"$f":"IF('Broker Sheet'!D328=\"\",\"\",'Broker Sheet'!D328)","v":""},{"$f":"IF('Broker Sheet'!E328=\"\",\"\",'Broker Sheet'!E328)","v":""},{"$f":"IF('Broker Sheet'!F328=\"\",\"\",'Broker Sheet'!F328)","v":""},{"$f":"IF('Broker Sheet'!G328=\"\",\"\",TEXT('Broker Sheet'!G328,\"YYYYMMDD\"))","v":""},{"$f":"IF('Broker Sheet'!H328=\"\",\"\",'Broker Sheet'!H328)","v":""},{"$f":"IF('Broker Sheet'!I328=\"\",\"\",'Broker Sheet'!I328)","v":""},{"$f":"IF('Broker Sheet'!J328=\"\",\"\",VLOOKUP('Broker Sheet'!J328,(Reference!$E$4:$F$9),2,FALSE))","v":""},{"$f":"IF('Broker Sheet'!K328=\"\",\"\",'Broker Sheet'!K328)","v":""},{"$f":"IF('Broker Sheet'!R328=\"\",\"\",'Broker Sheet'!R328)","v":""},{"$f":"IF('Broker Sheet'!S328=\"\",\"\",'Broker Sheet'!S328)","v":""},{"$f":"IF('Broker Sheet'!T328=\"\",\"\",'Broker Sheet'!T328)","v":""},{"$f":"IF('Broker Sheet'!U328=\"\",\"\",'Broker Sheet'!U328)","v":""},{"$f":"IF('Broker Sheet'!V328=\"\",\"\",'Broker Sheet'!V328)","v":""},{"$f":"IF('Broker Sheet'!W328=\"\",\"\",'Broker Sheet'!W328)","v":""},{"$f":"IF('Broker Sheet'!Y328=\"\",\"\",'Broker Sheet'!Y328)","v":""},{"$f":"IF('Broker Sheet'!AA328=\"\",\"\",'Broker Sheet'!AA328)","v":""},{"$f":"IF('Broker Sheet'!Z328=\"\",\"\",'Broker Sheet'!Z328)","v":""},{"$f":"IF('Broker Sheet'!AB328=\"\",\"\",'Broker Sheet'!AB328)","v":""},null,null,{"$f":"IF('Broker Sheet'!L328=\"\",\"\",TEXT('Broker Sheet'!L328,\"YYYYMMDD\"))","v":""},{"$f":"IF('Broker Sheet'!AC328=\"\",\"\",TEXT('Broker Sheet'!AC328,\"YYYYMMDD\"))","v":""},{"$f":"IF('Broker Sheet'!AD328=\"\",\"\",TEXT('Broker Sheet'!AD328,\"YYYYMMDD\"))","v":""},{"$f":"IF('Broker Sheet'!AE328=\"\",\"\",'Broker Sheet'!AE328)","v":""},{"$f":"IF('Broker Sheet'!AF328=\"\",\"\",TEXT('Broker Sheet'!AF328,\"YYYYMMDD\"))","v":""},{"$f":"IF('Broker Sheet'!AG328=\"\",\"\",TEXT('Broker Sheet'!AG328,\"YYYYMMDD\"))","v":""}]
[null,null,null,null,null,{"$f":"IF('Broker Sheet'!C329=\"\",\"\",'Broker Sheet'!C329)","v":""},{"$f":"IF('Broker Sheet'!D329=\"\",\"\",'Broker Sheet'!D329)","v":""},{"$f":"IF('Broker Sheet'!E329=\"\",\"\",'Broker Sheet'!E329)","v":""},{"$f":"IF('Broker Sheet'!F329=\"\",\"\",'Broker Sheet'!F329)","v":""},{"$f":"IF('Broker Sheet'!G329=\"\",\"\",TEXT('Broker Sheet'!G329,\"YYYYMMDD\"))","v":""},{"$f":"IF('Broker Sheet'!H329=\"\",\"\",'Broker Sheet'!H329)","v":""},{"$f":"IF('Broker Sheet'!I329=\"\",\"\",'Broker Sheet'!I329)","v":""},{"$f":"IF('Broker Sheet'!J329=\"\",\"\",VLOOKUP('Broker Sheet'!J329,(Reference!$E$4:$F$9),2,FALSE))","v":""},{"$f":"IF('Broker Sheet'!K329=\"\",\"\",'Broker Sheet'!K329)","v":""},{"$f":"IF('Broker Sheet'!R329=\"\",\"\",'Broker Sheet'!R329)","v":""},{"$f":"IF('Broker Sheet'!S329=\"\",\"\",'Broker Sheet'!S329)","v":""},{"$f":"IF('Broker Sheet'!T329=\"\",\"\",'Broker Sheet'!T329)","v":""},{"$f":"IF('Broker Sheet'!U329=\"\",\"\",'Broker Sheet'!U329)","v":""},{"$f":"IF('Broker Sheet'!V329=\"\",\"\",'Broker Sheet'!V329)","v":""},{"$f":"IF('Broker Sheet'!W329=\"\",\"\",'Broker Sheet'!W329)","v":""},{"$f":"IF('Broker Sheet'!Y329=\"\",\"\",'Broker Sheet'!Y329)","v":""},{"$f":"IF('Broker Sheet'!AA329=\"\",\"\",'Broker Sheet'!AA329)","v":""},{"$f":"IF('Broker Sheet'!Z329=\"\",\"\",'Broker Sheet'!Z329)","v":""},{"$f":"IF('Broker Sheet'!AB329=\"\",\"\",'Broker Sheet'!AB329)","v":""},null,null,{"$f":"IF('Broker Sheet'!L329=\"\",\"\",TEXT('Broker Sheet'!L329,\"YYYYMMDD\"))","v":""},{"$f":"IF('Broker Sheet'!AC329=\"\",\"\",TEXT('Broker Sheet'!AC329,\"YYYYMMDD\"))","v":""},{"$f":"IF('Broker Sheet'!AD329=\"\",\"\",TEXT('Broker Sheet'!AD329,\"YYYYMMDD\"))","v":""},{"$f":"IF('Broker Sheet'!AE329=\"\",\"\",'Broker Sheet'!AE329)","v":""},{"$f":"IF('Broker Sheet'!AF329=\"\",\"\",TEXT('Broker Sheet'!AF329,\"YYYYMMDD\"))","v":""},{"$f":"IF('Broker Sheet'!AG329=\"\",\"\",TEXT('Broker Sheet'!AG329,\"YYYYMMDD\"))","v":""}]
[null,null,null,null,null,{"$f":"IF('Broker Sheet'!C330=\"\",\"\",'Broker Sheet'!C330)","v":""},{"$f":"IF('Broker Sheet'!D330=\"\",\"\",'Broker Sheet'!D330)","v":""},{"$f":"IF('Broker Sheet'!E330=\"\",\"\",'Broker Sheet'!E330)","v":""},{"$f":"IF('Broker Sheet'!F330=\"\",\"\",'Broker Sheet'!F330)","v":""},{"$f":"IF('Broker Sheet'!G330=\"\",\"\",TEXT('Broker Sheet'!G330,\"YYYYMMDD\"))","v":""},{"$f":"IF('Broker Sheet'!H330=\"\",\"\",'Broker Sheet'!H330)","v":""},{"$f":"IF('Broker Sheet'!I330=\"\",\"\",'Broker Sheet'!I330)","v":""},{"$f":"IF('Broker Sheet'!J330=\"\",\"\",VLOOKUP('Broker Sheet'!J330,(Reference!$E$4:$F$9),2,FALSE))","v":""},{"$f":"IF('Broker Sheet'!K330=\"\",\"\",'Broker Sheet'!K330)","v":""},{"$f":"IF('Broker Sheet'!R330=\"\",\"\",'Broker Sheet'!R330)","v":""},{"$f":"IF('Broker Sheet'!S330=\"\",\"\",'Broker Sheet'!S330)","v":""},{"$f":"IF('Broker Sheet'!T330=\"\",\"\",'Broker Sheet'!T330)","v":""},{"$f":"IF('Broker Sheet'!U330=\"\",\"\",'Broker Sheet'!U330)","v":""},{"$f":"IF('Broker Sheet'!V330=\"\",\"\",'Broker Sheet'!V330)","v":""},{"$f":"IF('Broker Sheet'!W330=\"\",\"\",'Broker Sheet'!W330)","v":""},{"$f":"IF('Broker Sheet'!Y330=\"\",\"\",'Broker Sheet'!Y330)","v":""},{"$f":"IF('Broker Sheet'!AA330=\"\",\"\",'Broker Sheet'!AA330)","v":""},{"$f":"IF('Broker Sheet'!Z330=\"\",\"\",'Broker Sheet'!Z330)","v":""},{"$f":"IF('Broker Sheet'!AB330=\"\",\"\",'Broker Sheet'!AB330)","v":""},null,null,{"$f":"IF('Broker Sheet'!L330=\"\",\"\",TEXT('Broker Sheet'!L330,\"YYYYMMDD\"))","v":""},{"$f":"IF('Broker Sheet'!AC330=\"\",\"\",TEXT('Broker Sheet'!AC330,\"YYYYMMDD\"))","v":""},{"$f":"IF('Broker Sheet'!AD330=\"\",\"\",TEXT('Broker Sheet'!AD330,\"YYYYMMDD\"))","v":""},{"$f":"IF('Broker Sheet'!AE330=\"\",\"\",'Broker Sheet'!AE330)","v":""},{"$f":"IF('Broker Sheet'!AF330=\"\",\"\",TEXT('Broker Sheet'!AF330,\"YYYYMMDD\"))","v":""},{"$f":"IF('Broker Sheet'!AG330=\"\",\"\",TEXT('Broker Sheet'!AG330,\"YYYYMMDD\"))","v":""}]
[null,null,null,null,null,{"$f":"IF('Broker Sheet'!C331=\"\",\"\",'Broker Sheet'!C331)","v":""},{"$f":"IF('Broker Sheet'!D331=\"\",\"\",'Broker Sheet'!D331)","v":""},{"$f":"IF('Broker Sheet'!E331=\"\",\"\",'Broker Sheet'!E331)","v":""},{"$f":"IF('Broker Sheet'!F331=\"\",\"\",'Broker Sheet'!F331)","v":""},{"$f":"IF('Broker Sheet'!G331=\"\",\"\",TEXT('Broker Sheet'!G331,\"YYYYMMDD\"))","v":""},{"$f":"IF('Broker Sheet'!H331=\"\",\"\",'Broker Sheet'!H331)","v":""},{"$f":"IF('Broker Sheet'!I331=\"\",\"\",'Broker Sheet'!I331)","v":""},{"$f":"IF('Broker Sheet'!J331=\"\",\"\",VLOOKUP('Broker Sheet'!J331,(Reference!$E$4:$F$9),2,FALSE))","v":""},{"$f":"IF('Broker Sheet'!K331=\"\",\"\",'Broker Sheet'!K331)","v":""},{"$f":"IF('Broker Sheet'!R331=\"\",\"\",'Broker Sheet'!R331)","v":""},{"$f":"IF('Broker Sheet'!S331=\"\",\"\",'Broker Sheet'!S331)","v":""},{"$f":"IF('Broker Sheet'!T331=\"\",\"\",'Broker Sheet'!T331)","v":""},{"$f":"IF('Broker Sheet'!U331=\"\",\"\",'Broker Sheet'!U331)","v":""},{"$f":"IF('Broker Sheet'!V331=\"\",\"\",'Broker Sheet'!V331)","v":""},{"$f":"IF('Broker Sheet'!W331=\"\",\"\",'Broker Sheet'!W331)","v":""},{"$f":"IF('Broker Sheet'!Y331=\"\",\"\",'Broker Sheet'!Y331)","v":""},{"$f":"IF('Broker Sheet'!AA331=\"\",\"\",'Broker Sheet'!AA331)","v":""},{"$f":"IF('Broker Sheet'!Z331=\"\",\"\",'Broker Sheet'!Z331)","v":""},{"$f":"IF('Broker Sheet'!AB331=\"\",\"\",'Broker Sheet'!AB331)","v":""},null,null,{"$f":"IF('Broker Sheet'!L331=\"\",\"\",TEXT('Broker Sheet'!L331,\"YYYYMMDD\"))","v":""},{"$f":"IF('Broker Sheet'!AC331=\"\",\"\",TEXT('Broker Sheet'!AC331,\"YYYYMMDD\"))","v":""},{"$f":"IF('Broker Sheet'!AD331=\"\",\"\",TEXT('Broker Sheet'!AD331,\"YYYYMMDD\"))","v":""},{"$f":"IF('Broker Sheet'!AE331=\"\",\"\",'Broker Sheet'!AE331)","v":""},{"$f":"IF('Broker Sheet'!AF331=\"\",\"\",TEXT('Broker Sheet'!AF331,\"YYYYMMDD\"))","v":""},{"$f":"IF('Broker Sheet'!AG331=\"\",\"\",TEXT('Broker Sheet'!AG331,\"YYYYMMDD\"))","v":""}]
[null,null,null,null,null,{"$f":"IF('Broker Sheet'!C332=\"\",\"\",'Broker Sheet'!C332)","v":""},{"$f":"IF('Broker Sheet'!D332=\"\",\"\",'Broker Sheet'!D332)","v":""},{"$f":"IF('Broker Sheet'!E332=\"\",\"\",'Broker Sheet'!E332)","v":""},{"$f":"IF('Broker Sheet'!F332=\"\",\"\",'Broker Sheet'!F332)","v":""},{"$f":"IF('Broker Sheet'!G332=\"\",\"\",TEXT('Broker Sheet'!G332,\"YYYYMMDD\"))","v":""},{"$f":"IF('Broker Sheet'!H332=\"\",\"\",'Broker Sheet'!H332)","v":""},{"$f":"IF('Broker Sheet'!I332=\"\",\"\",'Broker Sheet'!I332)","v":""},{"$f":"IF('Broker Sheet'!J332=\"\",\"\",VLOOKUP('Broker Sheet'!J332,(Reference!$E$4:$F$9),2,FALSE))","v":""},{"$f":"IF('Broker Sheet'!K332=\"\",\"\",'Broker Sheet'!K332)","v":""},{"$f":"IF('Broker Sheet'!R332=\"\",\"\",'Broker Sheet'!R332)","v":""},{"$f":"IF('Broker Sheet'!S332=\"\",\"\",'Broker Sheet'!S332)","v":""},{"$f":"IF('Broker Sheet'!T332=\"\",\"\",'Broker Sheet'!T332)","v":""},{"$f":"IF('Broker Sheet'!U332=\"\",\"\",'Broker Sheet'!U332)","v":""},{"$f":"IF('Broker Sheet'!V332=\"\",\"\",'Broker Sheet'!V332)","v":""},{"$f":"IF('Broker Sheet'!W332=\"\",\"\",'Broker Sheet'!W332)","v":""},{"$f":"IF('Broker Sheet'!Y332=\"\",\"\",'Broker Sheet'!Y332)","v":""},{"$f":"IF('Broker Sheet'!AA332=\"\",\"\",'Broker Sheet'!AA332)","v":""},{"$f":"IF('Broker Sheet'!Z332=\"\",\"\",'Broker Sheet'!Z332)","v":""},{"$f":"IF('Broker Sheet'!AB332=\"\",\"\",'Broker Sheet'!AB332)","v":""},null,null,{"$f":"IF('Broker Sheet'!L332=\"\",\"\",TEXT('Broker Sheet'!L332,\"YYYYMMDD\"))","v":""},{"$f":"IF('Broker Sheet'!AC332=\"\",\"\",TEXT('Broker Sheet'!AC332,\"YYYYMMDD\"))","v":""},{"$f":"IF('Broker Sheet'!AD332=\"\",\"\",TEXT('Broker Sheet'!AD332,\"YYYYMMDD\"))","v":""},{"$f":"IF('Broker Sheet'!AE332=\"\",\"\",'Broker Sheet'!AE332)","v":""},{"$f":"IF('Broker Sheet'!AF332=\"\",\"\",TEXT('Broker Sheet'!AF332,\"YYYYMMDD\"))","v":""},{"$f":"IF('Broker Sheet'!AG332=\"\",\"\",TEXT('Broker Sheet'!AG332,\"YYYYMMDD\"))","v":""}]
[null,null,null,null,null,{"$f":"IF('Broker Sheet'!C333=\"\",\"\",'Broker Sheet'!C333)","v":""},{"$f":"IF('Broker Sheet'!D333=\"\",\"\",'Broker Sheet'!D333)","v":""},{"$f":"IF('Broker Sheet'!E333=\"\",\"\",'Broker Sheet'!E333)","v":""},{"$f":"IF('Broker Sheet'!F333=\"\",\"\",'Broker Sheet'!F333)","v":""},{"$f":"IF('Broker Sheet'!G333=\"\",\"\",TEXT('Broker Sheet'!G333,\"YYYYMMDD\"))","v":""},{"$f":"IF('Broker Sheet'!H333=\"\",\"\",'Broker Sheet'!H333)","v":""},{"$f":"IF('Broker Sheet'!I333=\"\",\"\",'Broker Sheet'!I333)","v":""},{"$f":"IF('Broker Sheet'!J333=\"\",\"\",VLOOKUP('Broker Sheet'!J333,(Reference!$E$4:$F$9),2,FALSE))","v":""},{"$f":"IF('Broker Sheet'!K333=\"\",\"\",'Broker Sheet'!K333)","v":""},{"$f":"IF('Broker Sheet'!R333=\"\",\"\",'Broker Sheet'!R333)","v":""},{"$f":"IF('Broker Sheet'!S333=\"\",\"\",'Broker Sheet'!S333)","v":""},{"$f":"IF('Broker Sheet'!T333=\"\",\"\",'Broker Sheet'!T333)","v":""},{"$f":"IF('Broker Sheet'!U333=\"\",\"\",'Broker Sheet'!U333)","v":""},{"$f":"IF('Broker Sheet'!V333=\"\",\"\",'Broker Sheet'!V333)","v":""},{"$f":"IF('Broker Sheet'!W333=\"\",\"\",'Broker Sheet'!W333)","v":""},{"$f":"IF('Broker Sheet'!Y333=\"\",\"\",'Broker Sheet'!Y333)","v":""},{"$f":"IF('Broker Sheet'!AA333=\"\",\"\",'Broker Sheet'!AA333)","v":""},{"$f":"IF('Broker Sheet'!Z333=\"\",\"\",'Broker Sheet'!Z333)","v":""},{"$f":"IF('Broker Sheet'!AB333=\"\",\"\",'Broker Sheet'!AB333)","v":""},null,null,{"$f":"IF('Broker Sheet'!L333=\"\",\"\",TEXT('Broker Sheet'!L333,\"YYYYMMDD\"))","v":""},{"$f":"IF('Broker Sheet'!AC333=\"\",\"\",TEXT('Broker Sheet'!AC333,\"YYYYMMDD\"))","v":""},{"$f":"IF('Broker Sheet'!AD333=\"\",\"\",TEXT('Broker Sheet'!AD333,\"YYYYMMDD\"))","v":""},{"$f":"IF('Broker Sheet'!AE333=\"\",\"\",'Broker Sheet'!AE333)","v":""},{"$f":"IF('Broker Sheet'!AF333=\"\",\"\",TEXT('Broker Sheet'!AF333,\"YYYYMMDD\"))","v":""},{"$f":"IF('Broker Sheet'!AG333=\"\",\"\",TEXT('Broker Sheet'!AG333,\"YYYYMMDD\"))","v":""}]
[null,null,null,null,null,{"$f":"IF('Broker Sheet'!C334=\"\",\"\",'Broker Sheet'!C334)","v":""},{"$f":"IF('Broker Sheet'!D334=\"\",\"\",'Broker Sheet'!D334)","v":""},{"$f":"IF('Broker Sheet'!E334=\"\",\"\",'Broker Sheet'!E334)","v":""},{"$f":"IF('Broker Sheet'!F334=\"\",\"\",'Broker Sheet'!F334)","v":""},{"$f":"IF('Broker Sheet'!G334=\"\",\"\",TEXT('Broker Sheet'!G334,\"YYYYMMDD\"))","v":""},{"$f":"IF('Broker Sheet'!H334=\"\",\"\",'Broker Sheet'!H334)","v":""},{"$f":"IF('Broker Sheet'!I334=\"\",\"\",'Broker Sheet'!I334)","v":""},{"$f":"IF('Broker Sheet'!J334=\"\",\"\",VLOOKUP('Broker Sheet'!J334,(Reference!$E$4:$F$9),2,FALSE))","v":""},{"$f":"IF('Broker Sheet'!K334=\"\",\"\",'Broker Sheet'!K334)","v":""},{"$f":"IF('Broker Sheet'!R334=\"\",\"\",'Broker Sheet'!R334)","v":""},{"$f":"IF('Broker Sheet'!S334=\"\",\"\",'Broker Sheet'!S334)","v":""},{"$f":"IF('Broker Sheet'!T334=\"\",\"\",'Broker Sheet'!T334)","v":""},{"$f":"IF('Broker Sheet'!U334=\"\",\"\",'Broker Sheet'!U334)","v":""},{"$f":"IF('Broker Sheet'!V334=\"\",\"\",'Broker Sheet'!V334)","v":""},{"$f":"IF('Broker Sheet'!W334=\"\",\"\",'Broker Sheet'!W334)","v":""},{"$f":"IF('Broker Sheet'!Y334=\"\",\"\",'Broker Sheet'!Y334)","v":""},{"$f":"IF('Broker Sheet'!AA334=\"\",\"\",'Broker Sheet'!AA334)","v":""},{"$f":"IF('Broker Sheet'!Z334=\"\",\"\",'Broker Sheet'!Z334)","v":""},{"$f":"IF('Broker Sheet'!AB334=\"\",\"\",'Broker Sheet'!AB334)","v":""},null,null,{"$f":"IF('Broker Sheet'!L334=\"\",\"\",TEXT('Broker Sheet'!L334,\"YYYYMMDD\"))","v":""},{"$f":"IF('Broker Sheet'!AC334=\"\",\"\",TEXT('Broker Sheet'!AC334,\"YYYYMMDD\"))","v":""},{"$f":"IF('Broker Sheet'!AD334=\"\",\"\",TEXT('Broker Sheet'!AD334,\"YYYYMMDD\"))","v":""},{"$f":"IF('Broker Sheet'!AE334=\"\",\"\",'Broker Sheet'!AE334)","v":""},{"$f":"IF('Broker Sheet'!AF334=\"\",\"\",TEXT('Broker Sheet'!AF334,\"YYYYMMDD\"))","v":""},{"$f":"IF('Broker Sheet'!AG334=\"\",\"\",TEXT('Broker Sheet'!AG334,\"YYYYMMDD\"))","v":""}]
[null,null,null,null,null,{"$f":"IF('Broker Sheet'!C335=\"\",\"\",'Broker Sheet'!C335)","v":""},{"$f":"IF('Broker Sheet'!D335=\"\",\"\",'Broker Sheet'!D335)","v":""},{"$f":"IF('Broker Sheet'!E335=\"\",\"\",'Broker Sheet'!E335)","v":""},{"$f":"IF('Broker Sheet'!F335=\"\",\"\",'Broker Sheet'!F335)","v":""},{"$f":"IF('Broker Sheet'!G335=\"\",\"\",TEXT('Broker Sheet'!G335,\"YYYYMMDD\"))","v":""},{"$f":"IF('Broker Sheet'!H335=\"\",\"\",'Broker Sheet'!H335)","v":""},{"$f":"IF('Broker Sheet'!I335=\"\",\"\",'Broker Sheet'!I335)","v":""},{"$f":"IF('Broker Sheet'!J335=\"\",\"\",VLOOKUP('Broker Sheet'!J335,(Reference!$E$4:$F$9),2,FALSE))","v":""},{"$f":"IF('Broker Sheet'!K335=\"\",\"\",'Broker Sheet'!K335)","v":""},{"$f":"IF('Broker Sheet'!R335=\"\",\"\",'Broker Sheet'!R335)","v":""},{"$f":"IF('Broker Sheet'!S335=\"\",\"\",'Broker Sheet'!S335)","v":""},{"$f":"IF('Broker Sheet'!T335=\"\",\"\",'Broker Sheet'!T335)","v":""},{"$f":"IF('Broker Sheet'!U335=\"\",\"\",'Broker Sheet'!U335)","v":""},{"$f":"IF('Broker Sheet'!V335=\"\",\"\",'Broker Sheet'!V335)","v":""},{"$f":"IF('Broker Sheet'!W335=\"\",\"\",'Broker Sheet'!W335)","v":""},{"$f":"IF('Broker Sheet'!Y335=\"\",\"\",'Broker Sheet'!Y335)","v":""},{"$f":"IF('Broker Sheet'!AA335=\"\",\"\",'Broker Sheet'!AA335)","v":""},{"$f":"IF('Broker Sheet'!Z335=\"\",\"\",'Broker Sheet'!Z335)","v":""},{"$f":"IF('Broker Sheet'!AB335=\"\",\"\",'Broker Sheet'!AB335)","v":""},null,null,{"$f":"IF('Broker Sheet'!L335=\"\",\"\",TEXT('Broker Sheet'!L335,\"YYYYMMDD\"))","v":""},{"$f":"IF('Broker Sheet'!AC335=\"\",\"\",TEXT('Broker Sheet'!AC335,\"YYYYMMDD\"))","v":""},{"$f":"IF('Broker Sheet'!AD335=\"\",\"\",TEXT('Broker Sheet'!AD335,\"YYYYMMDD\"))","v":""},{"$f":"IF('Broker Sheet'!AE335=\"\",\"\",'Broker Sheet'!AE335)","v":""},{"$f":"IF('Broker Sheet'!AF335=\"\",\"\",TEXT('Broker Sheet'!AF335,\"YYYYMMDD\"))","v":""},{"$f":"IF('Broker Sheet'!AG335=\"\",\"\",TEXT('Broker Sheet'!AG335,\"YYYYMMDD\"))","v":""}]
[null,null,null,null,null,{"$f":"IF('Broker Sheet'!C336=\"\",\"\",'Broker Sheet'!C336)","v":""},{"$f":"IF('Broker Sheet'!D336=\"\",\"\",'Broker Sheet'!D336)","v":""},{"$f":"IF('Broker Sheet'!E336=\"\",\"\",'Broker Sheet'!E336)","v":""},{"$f":"IF('Broker Sheet'!F336=\"\",\"\",'Broker Sheet'!F336)","v":""},{"$f":"IF('Broker Sheet'!G336=\"\",\"\",TEXT('Broker Sheet'!G336,\"YYYYMMDD\"))","v":""},{"$f":"IF('Broker Sheet'!H336=\"\",\"\",'Broker Sheet'!H336)","v":""},{"$f":"IF('Broker Sheet'!I336=\"\",\"\",'Broker Sheet'!I336)","v":""},{"$f":"IF('Broker Sheet'!J336=\"\",\"\",VLOOKUP('Broker Sheet'!J336,(Reference!$E$4:$F$9),2,FALSE))","v":""},{"$f":"IF('Broker Sheet'!K336=\"\",\"\",'Broker Sheet'!K336)","v":""},{"$f":"IF('Broker Sheet'!R336=\"\",\"\",'Broker Sheet'!R336)","v":""},{"$f":"IF('Broker Sheet'!S336=\"\",\"\",'Broker Sheet'!S336)","v":""},{"$f":"IF('Broker Sheet'!T336=\"\",\"\",'Broker Sheet'!T336)","v":""},{"$f":"IF('Broker Sheet'!U336=\"\",\"\",'Broker Sheet'!U336)","v":""},{"$f":"IF('Broker Sheet'!V336=\"\",\"\",'Broker Sheet'!V336)","v":""},{"$f":"IF('Broker Sheet'!W336=\"\",\"\",'Broker Sheet'!W336)","v":""},{"$f":"IF('Broker Sheet'!Y336=\"\",\"\",'Broker Sheet'!Y336)","v":""},{"$f":"IF('Broker Sheet'!AA336=\"\",\"\",'Broker Sheet'!AA336)","v":""},{"$f":"IF('Broker Sheet'!Z336=\"\",\"\",'Broker Sheet'!Z336)","v":""},{"$f":"IF('Broker Sheet'!AB336=\"\",\"\",'Broker Sheet'!AB336)","v":""},null,null,{"$f":"IF('Broker Sheet'!L336=\"\",\"\",TEXT('Broker Sheet'!L336,\"YYYYMMDD\"))","v":""},{"$f":"IF('Broker Sheet'!AC336=\"\",\"\",TEXT('Broker Sheet'!AC336,\"YYYYMMDD\"))","v":""},{"$f":"IF('Broker Sheet'!AD336=\"\",\"\",TEXT('Broker Sheet'!AD336,\"YYYYMMDD\"))","v":""},{"$f":"IF('Broker Sheet'!AE336=\"\",\"\",'Broker Sheet'!AE336)","v":""},{"$f":"IF('Broker Sheet'!AF336=\"\",\"\",TEXT('Broker Sheet'!AF336,\"YYYYMMDD\"))","v":""},{"$f":"IF('Broker Sheet'!AG336=\"\",\"\",TEXT('Broker Sheet'!AG336,\"YYYYMMDD\"))","v":""}]
[null,null,null,null,null,{"$f":"IF('Broker Sheet'!C337=\"\",\"\",'Broker Sheet'!C337)","v":""},{"$f":"IF('Broker Sheet'!D337=\"\",\"\",'Broker Sheet'!D337)","v":""},{"$f":"IF('Broker Sheet'!E337=\"\",\"\",'Broker Sheet'!E337)","v":""},{"$f":"IF('Broker Sheet'!F337=\"\",\"\",'Broker Sheet'!F337)","v":""},{"$f":"IF('Broker Sheet'!G337=\"\",\"\",TEXT('Broker Sheet'!G337,\"YYYYMMDD\"))","v":""},{"$f":"IF('Broker Sheet'!H337=\"\",\"\",'Broker Sheet'!H337)","v":""},{"$f":"IF('Broker Sheet'!I337=\"\",\"\",'Broker Sheet'!I337)","v":""},{"$f":"IF('Broker Sheet'!J337=\"\",\"\",VLOOKUP('Broker Sheet'!J337,(Reference!$E$4:$F$9),2,FALSE))","v":""},{"$f":"IF('Broker Sheet'!K337=\"\",\"\",'Broker Sheet'!K337)","v":""},{"$f":"IF('Broker Sheet'!R337=\"\",\"\",'Broker Sheet'!R337)","v":""},{"$f":"IF('Broker Sheet'!S337=\"\",\"\",'Broker Sheet'!S337)","v":""},{"$f":"IF('Broker Sheet'!T337=\"\",\"\",'Broker Sheet'!T337)","v":""},{"$f":"IF('Broker Sheet'!U337=\"\",\"\",'Broker Sheet'!U337)","v":""},{"$f":"IF('Broker Sheet'!V337=\"\",\"\",'Broker Sheet'!V337)","v":""},{"$f":"IF('Broker Sheet'!W337=\"\",\"\",'Broker Sheet'!W337)","v":""},{"$f":"IF('Broker Sheet'!Y337=\"\",\"\",'Broker Sheet'!Y337)","v":""},{"$f":"IF('Broker Sheet'!AA337=\"\",\"\",'Broker Sheet'!AA337)","v":""},{"$f":"IF('Broker Sheet'!Z337=\"\",\"\",'Broker Sheet'!Z337)","v":""},{"$f":"IF('Broker Sheet'!AB337=\"\",\"\",'Broker Sheet'!AB337)","v":""},null,null,{"$f":"IF('Broker Sheet'!L337=\"\",\"\",TEXT('Broker Sheet'!L337,\"YYYYMMDD\"))","v":""},{"$f":"IF('Broker Sheet'!AC337=\"\",\"\",TEXT('Broker Sheet'!AC337,\"YYYYMMDD\"))","v":""},{"$f":"IF('Broker Sheet'!AD337=\"\",\"\",TEXT('Broker Sheet'!AD337,\"YYYYMMDD\"))","v":""},{"$f":"IF('Broker Sheet'!AE337=\"\",\"\",'Broker Sheet'!AE337)","v":""},{"$f":"IF('Broker Sheet'!AF337=\"\",\"\",TEXT('Broker Sheet'!AF337,\"YYYYMMDD\"))","v":""},{"$f":"IF('Broker Sheet'!AG337=\"\",\"\",TEXT('Broker Sheet'!AG337,\"YYYYMMDD\"))","v":""}]
[null,null,null,null,null,{"$f":"IF('Broker Sheet'!C338=\"\",\"\",'Broker Sheet'!C338)","v":""},{"$f":"IF('Broker Sheet'!D338=\"\",\"\",'Broker Sheet'!D338)","v":""},{"$f":"IF('Broker Sheet'!E338=\"\",\"\",'Broker Sheet'!E338)","v":""},{"$f":"IF('Broker Sheet'!F338=\"\",\"\",'Broker Sheet'!F338)","v":""},{"$f":"IF('Broker Sheet'!G338=\"\",\"\",TEXT('Broker Sheet'!G338,\"YYYYMMDD\"))","v":""},{"$f":"IF('Broker Sheet'!H338=\"\",\"\",'Broker Sheet'!H338)","v":""},{"$f":"IF('Broker Sheet'!I338=\"\",\"\",'Broker Sheet'!I338)","v":""},{"$f":"IF('Broker Sheet'!J338=\"\",\"\",VLOOKUP('Broker Sheet'!J338,(Reference!$E$4:$F$9),2,FALSE))","v":""},{"$f":"IF('Broker Sheet'!K338=\"\",\"\",'Broker Sheet'!K338)","v":""},{"$f":"IF('Broker Sheet'!R338=\"\",\"\",'Broker Sheet'!R338)","v":""},{"$f":"IF('Broker Sheet'!S338=\"\",\"\",'Broker Sheet'!S338)","v":""},{"$f":"IF('Broker Sheet'!T338=\"\",\"\",'Broker Sheet'!T338)","v":""},{"$f":"IF('Broker Sheet'!U338=\"\",\"\",'Broker Sheet'!U338)","v":""},{"$f":"IF('Broker Sheet'!V338=\"\",\"\",'Broker Sheet'!V338)","v":""},{"$f":"IF('Broker Sheet'!W338=\"\",\"\",'Broker Sheet'!W338)","v":""},{"$f":"IF('Broker Sheet'!Y338=\"\",\"\",'Broker Sheet'!Y338)","v":""},{"$f":"IF('Broker Sheet'!AA338=\"\",\"\",'Broker Sheet'!AA338)","v":""},{"$f":"IF('Broker Sheet'!Z338=\"\",\"\",'Broker Sheet'!Z338)","v":""},{"$f":"IF('Broker Sheet'!AB338=\"\",\"\",'Broker Sheet'!AB338)","v":""},null,null,{"$f":"IF('Broker Sheet'!L338=\"\",\"\",TEXT('Broker Sheet'!L338,\"YYYYMMDD\"))","v":""},{"$f":"IF('Broker Sheet'!AC338=\"\",\"\",TEXT('Broker Sheet'!AC338,\"YYYYMMDD\"))","v":""},{"$f":"IF('Broker Sheet'!AD338=\"\",\"\",TEXT('Broker Sheet'!AD338,\"YYYYMMDD\"))","v":""},{"$f":"IF('Broker Sheet'!AE338=\"\",\"\",'Broker Sheet'!AE338)","v":""},{"$f":"IF('Broker Sheet'!AF338=\"\",\"\",TEXT('Broker Sheet'!AF338,\"YYYYMMDD\"))","v":""},{"$f":"IF('Broker Sheet'!AG338=\"\",\"\",TEXT('Broker Sheet'!AG338,\"YYYYMMDD\"))","v":""}]
[null,null,null,null,null,{"$f":"IF('Broker Sheet'!C339=\"\",\"\",'Broker Sheet'!C339)","v":""},{"$f":"IF('Broker Sheet'!D339=\"\",\"\",'Broker Sheet'!D339)","v":""},{"$f":"IF('Broker Sheet'!E339=\"\",\"\",'Broker Sheet'!E339)","v":""},{"$f":"IF('Broker Sheet'!F339=\"\",\"\",'Broker Sheet'!F339)","v":""},{"$f":"IF('Broker Sheet'!G339=\"\",\"\",TEXT('Broker Sheet'!G339,\"YYYYMMDD\"))","v":""},{"$f":"IF('Broker Sheet'!H339=\"\",\"\",'Broker Sheet'!H339)","v":""},{"$f":"IF('Broker Sheet'!I339=\"\",\"\",'Broker Sheet'!I339)","v":""},{"$f":"IF('Broker Sheet'!J339=\"\",\"\",VLOOKUP('Broker Sheet'!J339,(Reference!$E$4:$F$9),2,FALSE))","v":""},{"$f":"IF('Broker Sheet'!K339=\"\",\"\",'Broker Sheet'!K339)","v":""},{"$f":"IF('Broker Sheet'!R339=\"\",\"\",'Broker Sheet'!R339)","v":""},{"$f":"IF('Broker Sheet'!S339=\"\",\"\",'Broker Sheet'!S339)","v":""},{"$f":"IF('Broker Sheet'!T339=\"\",\"\",'Broker Sheet'!T339)","v":""},{"$f":"IF('Broker Sheet'!U339=\"\",\"\",'Broker Sheet'!U339)","v":""},{"$f":"IF('Broker Sheet'!V339=\"\",\"\",'Broker Sheet'!V339)","v":""},{"$f":"IF('Broker Sheet'!W339=\"\",\"\",'Broker Sheet'!W339)","v":""},{"$f":"IF('Broker Sheet'!Y339=\"\",\"\",'Broker Sheet'!Y339)","v":""},{"$f":"IF('Broker Sheet'!AA339=\"\",\"\",'Broker Sheet'!AA339)","v":""},{"$f":"IF('Broker Sheet'!Z339=\"\",\"\",'Broker Sheet'!Z339)","v":""},{"$f":"IF('Broker Sheet'!AB339=\"\",\"\",'Broker Sheet'!AB339)","v":""},null,null,{"$f":"IF('Broker Sheet'!L339=\"\",\"\",TEXT('Broker Sheet'!L339,\"YYYYMMDD\"))","v":""},{"$f":"IF('Broker Sheet'!AC339=\"\",\"\",TEXT('Broker Sheet'!AC339,\"YYYYMMDD\"))","v":""},{"$f":"IF('Broker Sheet'!AD339=\"\",\"\",TEXT('Broker Sheet'!AD339,\"YYYYMMDD\"))","v":""},{"$f":"IF('Broker Sheet'!AE339=\"\",\"\",'Broker Sheet'!AE339)","v":""},{"$f":"IF('Broker Sheet'!AF339=\"\",\"\",TEXT('Broker Sheet'!AF339,\"YYYYMMDD\"))","v":""},{"$f":"IF('Broker Sheet'!AG339=\"\",\"\",TEXT('Broker Sheet'!AG339,\"YYYYMMDD\"))","v":""}]
[null,null,null,null,null,{"$f":"IF('Broker Sheet'!C340=\"\",\"\",'Broker Sheet'!C340)","v":""},{"$f":"IF('Broker Sheet'!D340=\"\",\"\",'Broker Sheet'!D340)","v":""},{"$f":"IF('Broker Sheet'!E340=\"\",\"\",'Broker Sheet'!E340)","v":""},{"$f":"IF('Broker Sheet'!F340=\"\",\"\",'Broker Sheet'!F340)","v":""},{"$f":"IF('Broker Sheet'!G340=\"\",\"\",TEXT('Broker Sheet'!G340,\"YYYYMMDD\"))","v":""},{"$f":"IF('Broker Sheet'!H340=\"\",\"\",'Broker Sheet'!H340)","v":""},{"$f":"IF('Broker Sheet'!I340=\"\",\"\",'Broker Sheet'!I340)","v":""},{"$f":"IF('Broker Sheet'!J340=\"\",\"\",VLOOKUP('Broker Sheet'!J340,(Reference!$E$4:$F$9),2,FALSE))","v":""},{"$f":"IF('Broker Sheet'!K340=\"\",\"\",'Broker Sheet'!K340)","v":""},{"$f":"IF('Broker Sheet'!R340=\"\",\"\",'Broker Sheet'!R340)","v":""},{"$f":"IF('Broker Sheet'!S340=\"\",\"\",'Broker Sheet'!S340)","v":""},{"$f":"IF('Broker Sheet'!T340=\"\",\"\",'Broker Sheet'!T340)","v":""},{"$f":"IF('Broker Sheet'!U340=\"\",\"\",'Broker Sheet'!U340)","v":""},{"$f":"IF('Broker Sheet'!V340=\"\",\"\",'Broker Sheet'!V340)","v":""},{"$f":"IF('Broker Sheet'!W340=\"\",\"\",'Broker Sheet'!W340)","v":""},{"$f":"IF('Broker Sheet'!Y340=\"\",\"\",'Broker Sheet'!Y340)","v":""},{"$f":"IF('Broker Sheet'!AA340=\"\",\"\",'Broker Sheet'!AA340)","v":""},{"$f":"IF('Broker Sheet'!Z340=\"\",\"\",'Broker Sheet'!Z340)","v":""},{"$f":"IF('Broker Sheet'!AB340=\"\",\"\",'Broker Sheet'!AB340)","v":""},null,null,{"$f":"IF('Broker Sheet'!L340=\"\",\"\",TEXT('Broker Sheet'!L340,\"YYYYMMDD\"))","v":""},{"$f":"IF('Broker Sheet'!AC340=\"\",\"\",TEXT('Broker Sheet'!AC340,\"YYYYMMDD\"))","v":""},{"$f":"IF('Broker Sheet'!AD340=\"\",\"\",TEXT('Broker Sheet'!AD340,\"YYYYMMDD\"))","v":""},{"$f":"IF('Broker Sheet'!AE340=\"\",\"\",'Broker Sheet'!AE340)","v":""},{"$f":"IF('Broker Sheet'!AF340=\"\",\"\",TEXT('Broker Sheet'!AF340,\"YYYYMMDD\"))","v":""},{"$f":"IF('Broker Sheet'!AG340=\"\",\"\",TEXT('Broker Sheet'!AG340,\"YYYYMMDD\"))","v":""}]
[null,null,null,null,null,{"$f":"IF('Broker Sheet'!C341=\"\",\"\",'Broker Sheet'!C341)","v":""},{"$f":"IF('Broker Sheet'!D341=\"\",\"\",'Broker Sheet'!D341)","v":""},{"$f":"IF('Broker Sheet'!E341=\"\",\"\",'Broker Sheet'!E341)","v":""},{"$f":"IF('Broker Sheet'!F341=\"\",\"\",'Broker Sheet'!F341)","v":""},{"$f":"IF('Broker Sheet'!G341=\"\",\"\",TEXT('Broker Sheet'!G341,\"YYYYMMDD\"))","v":""},{"$f":"IF('Broker Sheet'!H341=\"\",\"\",'Broker Sheet'!H341)","v":""},{"$f":"IF('Broker Sheet'!I341=\"\",\"\",'Broker Sheet'!I341)","v":""},{"$f":"IF('Broker Sheet'!J341=\"\",\"\",VLOOKUP('Broker Sheet'!J341,(Reference!$E$4:$F$9),2,FALSE))","v":""},{"$f":"IF('Broker Sheet'!K341=\"\",\"\",'Broker Sheet'!K341)","v":""},{"$f":"IF('Broker Sheet'!R341=\"\",\"\",'Broker Sheet'!R341)","v":""},{"$f":"IF('Broker Sheet'!S341=\"\",\"\",'Broker Sheet'!S341)","v":""},{"$f":"IF('Broker Sheet'!T341=\"\",\"\",'Broker Sheet'!T341)","v":""},{"$f":"IF('Broker Sheet'!U341=\"\",\"\",'Broker Sheet'!U341)","v":""},{"$f":"IF('Broker Sheet'!V341=\"\",\"\",'Broker Sheet'!V341)","v":""},{"$f":"IF('Broker Sheet'!W341=\"\",\"\",'Broker Sheet'!W341)","v":""},{"$f":"IF('Broker Sheet'!Y341=\"\",\"\",'Broker Sheet'!Y341)","v":""},{"$f":"IF('Broker Sheet'!AA341=\"\",\"\",'Broker Sheet'!AA341)","v":""},{"$f":"IF('Broker Sheet'!Z341=\"\",\"\",'Broker Sheet'!Z341)","v":""},{"$f":"IF('Broker Sheet'!AB341=\"\",\"\",'Broker Sheet'!AB341)","v":""},null,null,{"$f":"IF('Broker Sheet'!L341=\"\",\"\",TEXT('Broker Sheet'!L341,\"YYYYMMDD\"))","v":""},{"$f":"IF('Broker Sheet'!AC341=\"\",\"\",TEXT('Broker Sheet'!AC341,\"YYYYMMDD\"))","v":""},{"$f":"IF('Broker Sheet'!AD341=\"\",\"\",TEXT('Broker Sheet'!AD341,\"YYYYMMDD\"))","v":""},{"$f":"IF('Broker Sheet'!AE341=\"\",\"\",'Broker Sheet'!AE341)","v":""},{"$f":"IF('Broker Sheet'!AF341=\"\",\"\",TEXT('Broker Sheet'!AF341,\"YYYYMMDD\"))","v":""},{"$f":"IF('Broker Sheet'!AG341=\"\",\"\",TEXT('Broker Sheet'!AG341,\"YYYYMMDD\"))","v":""}]
[null,null,null,null,null,{"$f":"IF('Broker Sheet'!C342=\"\",\"\",'Broker Sheet'!C342)","v":""},{"$f":"IF('Broker Sheet'!D342=\"\",\"\",'Broker Sheet'!D342)","v":""},{"$f":"IF('Broker Sheet'!E342=\"\",\"\",'Broker Sheet'!E342)","v":""},{"$f":"IF('Broker Sheet'!F342=\"\",\"\",'Broker Sheet'!F342)","v":""},{"$f":"IF('Broker Sheet'!G342=\"\",\"\",TEXT('Broker Sheet'!G342,\"YYYYMMDD\"))","v":""},{"$f":"IF('Broker Sheet'!H342=\"\",\"\",'Broker Sheet'!H342)","v":""},{"$f":"IF('Broker Sheet'!I342=\"\",\"\",'Broker Sheet'!I342)","v":""},{"$f":"IF('Broker Sheet'!J342=\"\",\"\",VLOOKUP('Broker Sheet'!J342,(Reference!$E$4:$F$9),2,FALSE))","v":""},{"$f":"IF('Broker Sheet'!K342=\"\",\"\",'Broker Sheet'!K342)","v":""},{"$f":"IF('Broker Sheet'!R342=\"\",\"\",'Broker Sheet'!R342)","v":""},{"$f":"IF('Broker Sheet'!S342=\"\",\"\",'Broker Sheet'!S342)","v":""},{"$f":"IF('Broker Sheet'!T342=\"\",\"\",'Broker Sheet'!T342)","v":""},{"$f":"IF('Broker Sheet'!U342=\"\",\"\",'Broker Sheet'!U342)","v":""},{"$f":"IF('Broker Sheet'!V342=\"\",\"\",'Broker Sheet'!V342)","v":""},{"$f":"IF('Broker Sheet'!W342=\"\",\"\",'Broker Sheet'!W342)","v":""},{"$f":"IF('Broker Sheet'!Y342=\"\",\"\",'Broker Sheet'!Y342)","v":""},{"$f":"IF('Broker Sheet'!AA342=\"\",\"\",'Broker Sheet'!AA342)","v":""},{"$f":"IF('Broker Sheet'!Z342=\"\",\"\",'Broker Sheet'!Z342)","v":""},{"$f":"IF('Broker Sheet'!AB342=\"\",\"\",'Broker Sheet'!AB342)","v":""},null,null,{"$f":"IF('Broker Sheet'!L342=\"\",\"\",TEXT('Broker Sheet'!L342,\"YYYYMMDD\"))","v":""},{"$f":"IF('Broker Sheet'!AC342=\"\",\"\",TEXT('Broker Sheet'!AC342,\"YYYYMMDD\"))","v":""},{"$f":"IF('Broker Sheet'!AD342=\"\",\"\",TEXT('Broker Sheet'!AD342,\"YYYYMMDD\"))","v":""},{"$f":"IF('Broker Sheet'!AE342=\"\",\"\",'Broker Sheet'!AE342)","v":""},{"$f":"IF('Broker Sheet'!AF342=\"\",\"\",TEXT('Broker Sheet'!AF342,\"YYYYMMDD\"))","v":""},{"$f":"IF('Broker Sheet'!AG342=\"\",\"\",TEXT('Broker Sheet'!AG342,\"YYYYMMDD\"))","v":""}]
[null,null,null,null,null,{"$f":"IF('Broker Sheet'!C343=\"\",\"\",'Broker Sheet'!C343)","v":""},{"$f":"IF('Broker Sheet'!D343=\"\",\"\",'Broker Sheet'!D343)","v":""},{"$f":"IF('Broker Sheet'!E343=\"\",\"\",'Broker Sheet'!E343)","v":""},{"$f":"IF('Broker Sheet'!F343=\"\",\"\",'Broker Sheet'!F343)","v":""},{"$f":"IF('Broker Sheet'!G343=\"\",\"\",TEXT('Broker Sheet'!G343,\"YYYYMMDD\"))","v":""},{"$f":"IF('Broker Sheet'!H343=\"\",\"\",'Broker Sheet'!H343)","v":""},{"$f":"IF('Broker Sheet'!I343=\"\",\"\",'Broker Sheet'!I343)","v":""},{"$f":"IF('Broker Sheet'!J343=\"\",\"\",VLOOKUP('Broker Sheet'!J343,(Reference!$E$4:$F$9),2,FALSE))","v":""},{"$f":"IF('Broker Sheet'!K343=\"\",\"\",'Broker Sheet'!K343)","v":""},{"$f":"IF('Broker Sheet'!R343=\"\",\"\",'Broker Sheet'!R343)","v":""},{"$f":"IF('Broker Sheet'!S343=\"\",\"\",'Broker Sheet'!S343)","v":""},{"$f":"IF('Broker Sheet'!T343=\"\",\"\",'Broker Sheet'!T343)","v":""},{"$f":"IF('Broker Sheet'!U343=\"\",\"\",'Broker Sheet'!U343)","v":""},{"$f":"IF('Broker Sheet'!V343=\"\",\"\",'Broker Sheet'!V343)","v":""},{"$f":"IF('Broker Sheet'!W343=\"\",\"\",'Broker Sheet'!W343)","v":""},{"$f":"IF('Broker Sheet'!Y343=\"\",\"\",'Broker Sheet'!Y343)","v":""},{"$f":"IF('Broker Sheet'!AA343=\"\",\"\",'Broker Sheet'!AA343)","v":""},{"$f":"IF('Broker Sheet'!Z343=\"\",\"\",'Broker Sheet'!Z343)","v":""},{"$f":"IF('Broker Sheet'!AB343=\"\",\"\",'Broker Sheet'!AB343)","v":""},null,null,{"$f":"IF('Broker Sheet'!L343=\"\",\"\",TEXT('Broker Sheet'!L343,\"YYYYMMDD\"))","v":""},{"$f":"IF('Broker Sheet'!AC343=\"\",\"\",TEXT('Broker Sheet'!AC343,\"YYYYMMDD\"))","v":""},{"$f":"IF('Broker Sheet'!AD343=\"\",\"\",TEXT('Broker Sheet'!AD343,\"YYYYMMDD\"))","v":""},{"$f":"IF('Broker Sheet'!AE343=\"\",\"\",'Broker Sheet'!AE343)","v":""},{"$f":"IF('Broker Sheet'!AF343=\"\",\"\",TEXT('Broker Sheet'!AF343,\"YYYYMMDD\"))","v":""},{"$f":"IF('Broker Sheet'!AG343=\"\",\"\",TEXT('Broker Sheet'!AG343,\"YYYYMMDD\"))","v":""}]
[null,null,null,null,null,{"$f":"IF('Broker Sheet'!C344=\"\",\"\",'Broker Sheet'!C344)","v":""},{"$f":"IF('Broker Sheet'!D344=\"\",\"\",'Broker Sheet'!D344)","v":""},{"$f":"IF('Broker Sheet'!E344=\"\",\"\",'Broker Sheet'!E344)","v":""},{"$f":"IF('Broker Sheet'!F344=\"\",\"\",'Broker Sheet'!F344)","v":""},{"$f":"IF('Broker Sheet'!G344=\"\",\"\",TEXT('Broker Sheet'!G344,\"YYYYMMDD\"))","v":""},{"$f":"IF('Broker Sheet'!H344=\"\",\"\",'Broker Sheet'!H344)","v":""},{"$f":"IF('Broker Sheet'!I344=\"\",\"\",'Broker Sheet'!I344)","v":""},{"$f":"IF('Broker Sheet'!J344=\"\",\"\",VLOOKUP('Broker Sheet'!J344,(Reference!$E$4:$F$9),2,FALSE))","v":""},{"$f":"IF('Broker Sheet'!K344=\"\",\"\",'Broker Sheet'!K344)","v":""},{"$f":"IF('Broker Sheet'!R344=\"\",\"\",'Broker Sheet'!R344)","v":""},{"$f":"IF('Broker Sheet'!S344=\"\",\"\",'Broker Sheet'!S344)","v":""},{"$f":"IF('Broker Sheet'!T344=\"\",\"\",'Broker Sheet'!T344)","v":""},{"$f":"IF('Broker Sheet'!U344=\"\",\"\",'Broker Sheet'!U344)","v":""},{"$f":"IF('Broker Sheet'!V344=\"\",\"\",'Broker Sheet'!V344)","v":""},{"$f":"IF('Broker Sheet'!W344=\"\",\"\",'Broker Sheet'!W344)","v":""},{"$f":"IF('Broker Sheet'!Y344=\"\",\"\",'Broker Sheet'!Y344)","v":""},{"$f":"IF('Broker Sheet'!AA344=\"\",\"\",'Broker Sheet'!AA344)","v":""},{"$f":"IF('Broker Sheet'!Z344=\"\",\"\",'Broker Sheet'!Z344)","v":""},{"$f":"IF('Broker Sheet'!AB344=\"\",\"\",'Broker Sheet'!AB344)","v":""},null,null,{"$f":"IF('Broker Sheet'!L344=\"\",\"\",TEXT('Broker Sheet'!L344,\"YYYYMMDD\"))","v":""},{"$f":"IF('Broker Sheet'!AC344=\"\",\"\",TEXT('Broker Sheet'!AC344,\"YYYYMMDD\"))","v":""},{"$f":"IF('Broker Sheet'!AD344=\"\",\"\",TEXT('Broker Sheet'!AD344,\"YYYYMMDD\"))","v":""},{"$f":"IF('Broker Sheet'!AE344=\"\",\"\",'Broker Sheet'!AE344)","v":""},{"$f":"IF('Broker Sheet'!AF344=\"\",\"\",TEXT('Broker Sheet'!AF344,\"YYYYMMDD\"))","v":""},{"$f":"IF('Broker Sheet'!AG344=\"\",\"\",TEXT('Broker Sheet'!AG344,\"YYYYMMDD\"))","v":""}]
[null,null,null,null,null,{"$f":"IF('Broker Sheet'!C345=\"\",\"\",'Broker Sheet'!C345)","v":""},{"$f":"IF('Broker Sheet'!D345=\"\",\"\",'Broker Sheet'!D345)","v":""},{"$f":"IF('Broker Sheet'!E345=\"\",\"\",'Broker Sheet'!E345)","v":""},{"$f":"IF('Broker Sheet'!F345=\"\",\"\",'Broker Sheet'!F345)","v":""},{"$f":"IF('Broker Sheet'!G345=\"\",\"\",TEXT('Broker Sheet'!G345,\"YYYYMMDD\"))","v":""},{"$f":"IF('Broker Sheet'!H345=\"\",\"\",'Broker Sheet'!H345)","v":""},{"$f":"IF('Broker Sheet'!I345=\"\",\"\",'Broker Sheet'!I345)","v":""},{"$f":"IF('Broker Sheet'!J345=\"\",\"\",VLOOKUP('Broker Sheet'!J345,(Reference!$E$4:$F$9),2,FALSE))","v":""},{"$f":"IF('Broker Sheet'!K345=\"\",\"\",'Broker Sheet'!K345)","v":""},{"$f":"IF('Broker Sheet'!R345=\"\",\"\",'Broker Sheet'!R345)","v":""},{"$f":"IF('Broker Sheet'!S345=\"\",\"\",'Broker Sheet'!S345)","v":""},{"$f":"IF('Broker Sheet'!T345=\"\",\"\",'Broker Sheet'!T345)","v":""},{"$f":"IF('Broker Sheet'!U345=\"\",\"\",'Broker Sheet'!U345)","v":""},{"$f":"IF('Broker Sheet'!V345=\"\",\"\",'Broker Sheet'!V345)","v":""},{"$f":"IF('Broker Sheet'!W345=\"\",\"\",'Broker Sheet'!W345)","v":""},{"$f":"IF('Broker Sheet'!Y345=\"\",\"\",'Broker Sheet'!Y345)","v":""},{"$f":"IF('Broker Sheet'!AA345=\"\",\"\",'Broker Sheet'!AA345)","v":""},{"$f":"IF('Broker Sheet'!Z345=\"\",\"\",'Broker Sheet'!Z345)","v":""},{"$f":"IF('Broker Sheet'!AB345=\"\",\"\",'Broker Sheet'!AB345)","v":""},null,null,{"$f":"IF('Broker Sheet'!L345=\"\",\"\",TEXT('Broker Sheet'!L345,\"YYYYMMDD\"))","v":""},{"$f":"IF('Broker Sheet'!AC345=\"\",\"\",TEXT('Broker Sheet'!AC345,\"YYYYMMDD\"))","v":""},{"$f":"IF('Broker Sheet'!AD345=\"\",\"\",TEXT('Broker Sheet'!AD345,\"YYYYMMDD\"))","v":""},{"$f":"IF('Broker Sheet'!AE345=\"\",\"\",'Broker Sheet'!AE345)","v":""},{"$f":"IF('Broker Sheet'!AF345=\"\",\"\",TEXT('Broker Sheet'!AF345,\"YYYYMMDD\"))","v":""},{"$f":"IF('Broker Sheet'!AG345=\"\",\"\",TEXT('Broker Sheet'!AG345,\"YYYYMMDD\"))","v":""}]
[null,null,null,null,null,{"$f":"IF('Broker Sheet'!C346=\"\",\"\",'Broker Sheet'!C346)","v":""},{"$f":"IF('Broker Sheet'!D346=\"\",\"\",'Broker Sheet'!D346)","v":""},{"$f":"IF('Broker Sheet'!E346=\"\",\"\",'Broker Sheet'!E346)","v":""},{"$f":"IF('Broker Sheet'!F346=\"\",\"\",'Broker Sheet'!F346)","v":""},{"$f":"IF('Broker Sheet'!G346=\"\",\"\",TEXT('Broker Sheet'!G346,\"YYYYMMDD\"))","v":""},{"$f":"IF('Broker Sheet'!H346=\"\",\"\",'Broker Sheet'!H346)","v":""},{"$f":"IF('Broker Sheet'!I346=\"\",\"\",'Broker Sheet'!I346)","v":""},{"$f":"IF('Broker Sheet'!J346=\"\",\"\",VLOOKUP('Broker Sheet'!J346,(Reference!$E$4:$F$9),2,FALSE))","v":""},{"$f":"IF('Broker Sheet'!K346=\"\",\"\",'Broker Sheet'!K346)","v":""},{"$f":"IF('Broker Sheet'!R346=\"\",\"\",'Broker Sheet'!R346)","v":""},{"$f":"IF('Broker Sheet'!S346=\"\",\"\",'Broker Sheet'!S346)","v":""},{"$f":"IF('Broker Sheet'!T346=\"\",\"\",'Broker Sheet'!T346)","v":""},{"$f":"IF('Broker Sheet'!U346=\"\",\"\",'Broker Sheet'!U346)","v":""},{"$f":"IF('Broker Sheet'!V346=\"\",\"\",'Broker Sheet'!V346)","v":""},{"$f":"IF('Broker Sheet'!W346=\"\",\"\",'Broker Sheet'!W346)","v":""},{"$f":"IF('Broker Sheet'!Y346=\"\",\"\",'Broker Sheet'!Y346)","v":""},{"$f":"IF('Broker Sheet'!AA346=\"\",\"\",'Broker Sheet'!AA346)","v":""},{"$f":"IF('Broker Sheet'!Z346=\"\",\"\",'Broker Sheet'!Z346)","v":""},{"$f":"IF('Broker Sheet'!AB346=\"\",\"\",'Broker Sheet'!AB346)","v":""},null,null,{"$f":"IF('Broker Sheet'!L346=\"\",\"\",TEXT('Broker Sheet'!L346,\"YYYYMMDD\"))","v":""},{"$f":"IF('Broker Sheet'!AC346=\"\",\"\",TEXT('Broker Sheet'!AC346,\"YYYYMMDD\"))","v":""},{"$f":"IF('Broker Sheet'!AD346=\"\",\"\",TEXT('Broker Sheet'!AD346,\"YYYYMMDD\"))","v":""},{"$f":"IF('Broker Sheet'!AE346=\"\",\"\",'Broker Sheet'!AE346)","v":""},{"$f":"IF('Broker Sheet'!AF346=\"\",\"\",TEXT('Broker Sheet'!AF346,\"YYYYMMDD\"))","v":""},{"$f":"IF('Broker Sheet'!AG346=\"\",\"\",TEXT('Broker Sheet'!AG346,\"YYYYMMDD\"))","v":""}]
[null,null,null,null,null,{"$f":"IF('Broker Sheet'!C347=\"\",\"\",'Broker Sheet'!C347)","v":""},{"$f":"IF('Broker Sheet'!D347=\"\",\"\",'Broker Sheet'!D347)","v":""},{"$f":"IF('Broker Sheet'!E347=\"\",\"\",'Broker Sheet'!E347)","v":""},{"$f":"IF('Broker Sheet'!F347=\"\",\"\",'Broker Sheet'!F347)","v":""},{"$f":"IF('Broker Sheet'!G347=\"\",\"\",TEXT('Broker Sheet'!G347,\"YYYYMMDD\"))","v":""},{"$f":"IF('Broker Sheet'!H347=\"\",\"\",'Broker Sheet'!H347)","v":""},{"$f":"IF('Broker Sheet'!I347=\"\",\"\",'Broker Sheet'!I347)","v":""},{"$f":"IF('Broker Sheet'!J347=\"\",\"\",VLOOKUP('Broker Sheet'!J347,(Reference!$E$4:$F$9),2,FALSE))","v":""},{"$f":"IF('Broker Sheet'!K347=\"\",\"\",'Broker Sheet'!K347)","v":""},{"$f":"IF('Broker Sheet'!R347=\"\",\"\",'Broker Sheet'!R347)","v":""},{"$f":"IF('Broker Sheet'!S347=\"\",\"\",'Broker Sheet'!S347)","v":""},{"$f":"IF('Broker Sheet'!T347=\"\",\"\",'Broker Sheet'!T347)","v":""},{"$f":"IF('Broker Sheet'!U347=\"\",\"\",'Broker Sheet'!U347)","v":""},{"$f":"IF('Broker Sheet'!V347=\"\",\"\",'Broker Sheet'!V347)","v":""},{"$f":"IF('Broker Sheet'!W347=\"\",\"\",'Broker Sheet'!W347)","v":""},{"$f":"IF('Broker Sheet'!Y347=\"\",\"\",'Broker Sheet'!Y347)","v":""},{"$f":"IF('Broker Sheet'!AA347=\"\",\"\",'Broker Sheet'!AA347)","v":""},{"$f":"IF('Broker Sheet'!Z347=\"\",\"\",'Broker Sheet'!Z347)","v":""},{"$f":"IF('Broker Sheet'!AB347=\"\",\"\",'Broker Sheet'!AB347)","v":""},null,null,{"$f":"IF('Broker Sheet'!L347=\"\",\"\",TEXT('Broker Sheet'!L347,\"YYYYMMDD\"))","v":""},{"$f":"IF('Broker Sheet'!AC347=\"\",\"\",TEXT('Broker Sheet'!AC347,\"YYYYMMDD\"))","v":""},{"$f":"IF('Broker Sheet'!AD347=\"\",\"\",TEXT('Broker Sheet'!AD347,\"YYYYMMDD\"))","v":""},{"$f":"IF('Broker Sheet'!AE347=\"\",\"\",'Broker Sheet'!AE347)","v":""},{"$f":"IF('Broker Sheet'!AF347=\"\",\"\",TEXT('Broker Sheet'!AF347,\"YYYYMMDD\"))","v":""},{"$f":"IF('Broker Sheet'!AG347=\"\",\"\",TEXT('Broker Sheet'!AG347,\"YYYYMMDD\"))","v":""}]
[null,null,null,null,null,{"$f":"IF('Broker Sheet'!C348=\"\",\"\",'Broker Sheet'!C348)","v":""},{"$f":"IF('Broker Sheet'!D348=\"\",\"\",'Broker Sheet'!D348)","v":""},{"$f":"IF('Broker Sheet'!E348=\"\",\"\",'Broker Sheet'!E348)","v":""},{"$f":"IF('Broker Sheet'!F348=\"\",\"\",'Broker Sheet'!F348)","v":""},{"$f":"IF('Broker Sheet'!G348=\"\",\"\",TEXT('Broker Sheet'!G348,\"YYYYMMDD\"))","v":""},{"$f":"IF('Broker Sheet'!H348=\"\",\"\",'Broker Sheet'!H348)","v":""},{"$f":"IF('Broker Sheet'!I348=\"\",\"\",'Broker Sheet'!I348)","v":""},{"$f":"IF('Broker Sheet'!J348=\"\",\"\",VLOOKUP('Broker Sheet'!J348,(Reference!$E$4:$F$9),2,FALSE))","v":""},{"$f":"IF('Broker Sheet'!K348=\"\",\"\",'Broker Sheet'!K348)","v":""},{"$f":"IF('Broker Sheet'!R348=\"\",\"\",'Broker Sheet'!R348)","v":""},{"$f":"IF('Broker Sheet'!S348=\"\",\"\",'Broker Sheet'!S348)","v":""},{"$f":"IF('Broker Sheet'!T348=\"\",\"\",'Broker Sheet'!T348)","v":""},{"$f":"IF('Broker Sheet'!U348=\"\",\"\",'Broker Sheet'!U348)","v":""},{"$f":"IF('Broker Sheet'!V348=\"\",\"\",'Broker Sheet'!V348)","v":""},{"$f":"IF('Broker Sheet'!W348=\"\",\"\",'Broker Sheet'!W348)","v":""},{"$f":"IF('Broker Sheet'!Y348=\"\",\"\",'Broker Sheet'!Y348)","v":""},{"$f":"IF('Broker Sheet'!AA348=\"\",\"\",'Broker Sheet'!AA348)","v":""},{"$f":"IF('Broker Sheet'!Z348=\"\",\"\",'Broker Sheet'!Z348)","v":""},{"$f":"IF('Broker Sheet'!AB348=\"\",\"\",'Broker Sheet'!AB348)","v":""},null,null,{"$f":"IF('Broker Sheet'!L348=\"\",\"\",TEXT('Broker Sheet'!L348,\"YYYYMMDD\"))","v":""},{"$f":"IF('Broker Sheet'!AC348=\"\",\"\",TEXT('Broker Sheet'!AC348,\"YYYYMMDD\"))","v":""},{"$f":"IF('Broker Sheet'!AD348=\"\",\"\",TEXT('Broker Sheet'!AD348,\"YYYYMMDD\"))","v":""},{"$f":"IF('Broker Sheet'!AE348=\"\",\"\",'Broker Sheet'!AE348)","v":""},{"$f":"IF('Broker Sheet'!AF348=\"\",\"\",TEXT('Broker Sheet'!AF348,\"YYYYMMDD\"))","v":""},{"$f":"IF('Broker Sheet'!AG348=\"\",\"\",TEXT('Broker Sheet'!AG348,\"YYYYMMDD\"))","v":""}]
[null,null,null,null,null,{"$f":"IF('Broker Sheet'!C349=\"\",\"\",'Broker Sheet'!C349)","v":""},{"$f":"IF('Broker Sheet'!D349=\"\",\"\",'Broker Sheet'!D349)","v":""},{"$f":"IF('Broker Sheet'!E349=\"\",\"\",'Broker Sheet'!E349)","v":""},{"$f":"IF('Broker Sheet'!F349=\"\",\"\",'Broker Sheet'!F349)","v":""},{"$f":"IF('Broker Sheet'!G349=\"\",\"\",TEXT('Broker Sheet'!G349,\"YYYYMMDD\"))","v":""},{"$f":"IF('Broker Sheet'!H349=\"\",\"\",'Broker Sheet'!H349)","v":""},{"$f":"IF('Broker Sheet'!I349=\"\",\"\",'Broker Sheet'!I349)","v":""},{"$f":"IF('Broker Sheet'!J349=\"\",\"\",VLOOKUP('Broker Sheet'!J349,(Reference!$E$4:$F$9),2,FALSE))","v":""},{"$f":"IF('Broker Sheet'!K349=\"\",\"\",'Broker Sheet'!K349)","v":""},{"$f":"IF('Broker Sheet'!R349=\"\",\"\",'Broker Sheet'!R349)","v":""},{"$f":"IF('Broker Sheet'!S349=\"\",\"\",'Broker Sheet'!S349)","v":""},{"$f":"IF('Broker Sheet'!T349=\"\",\"\",'Broker Sheet'!T349)","v":""},{"$f":"IF('Broker Sheet'!U349=\"\",\"\",'Broker Sheet'!U349)","v":""},{"$f":"IF('Broker Sheet'!V349=\"\",\"\",'Broker Sheet'!V349)","v":""},{"$f":"IF('Broker Sheet'!W349=\"\",\"\",'Broker Sheet'!W349)","v":""},{"$f":"IF('Broker Sheet'!Y349=\"\",\"\",'Broker Sheet'!Y349)","v":""},{"$f":"IF('Broker Sheet'!AA349=\"\",\"\",'Broker Sheet'!AA349)","v":""},{"$f":"IF('Broker Sheet'!Z349=\"\",\"\",'Broker Sheet'!Z349)","v":""},{"$f":"IF('Broker Sheet'!AB349=\"\",\"\",'Broker Sheet'!AB349)","v":""},null,null,{"$f":"IF('Broker Sheet'!L349=\"\",\"\",TEXT('Broker Sheet'!L349,\"YYYYMMDD\"))","v":""},{"$f":"IF('Broker Sheet'!AC349=\"\",\"\",TEXT('Broker Sheet'!AC349,\"YYYYMMDD\"))","v":""},{"$f":"IF('Broker Sheet'!AD349=\"\",\"\",TEXT('Broker Sheet'!AD349,\"YYYYMMDD\"))","v":""},{"$f":"IF('Broker Sheet'!AE349=\"\",\"\",'Broker Sheet'!AE349)","v":""},{"$f":"IF('Broker Sheet'!AF349=\"\",\"\",TEXT('Broker Sheet'!AF349,\"YYYYMMDD\"))","v":""},{"$f":"IF('Broker Sheet'!AG349=\"\",\"\",TEXT('Broker Sheet'!AG349,\"YYYYMMDD\"))","v":""}]
[null,null,null,null,null,{"$f":"IF('Broker Sheet'!C350=\"\",\"\",'Broker Sheet'!C350)","v":""},{"$f":"IF('Broker Sheet'!D350=\"\",\"\",'Broker Sheet'!D350)","v":""},{"$f":"IF('Broker Sheet'!E350=\"\",\"\",'Broker Sheet'!E350)","v":""},{"$f":"IF('Broker Sheet'!F350=\"\",\"\",'Broker Sheet'!F350)","v":""},{"$f":"IF('Broker Sheet'!G350=\"\",\"\",TEXT('Broker Sheet'!G350,\"YYYYMMDD\"))","v":""},{"$f":"IF('Broker Sheet'!H350=\"\",\"\",'Broker Sheet'!H350)","v":""},{"$f":"IF('Broker Sheet'!I350=\"\",\"\",'Broker Sheet'!I350)","v":""},{"$f":"IF('Broker Sheet'!J350=\"\",\"\",VLOOKUP('Broker Sheet'!J350,(Reference!$E$4:$F$9),2,FALSE))","v":""},{"$f":"IF('Broker Sheet'!K350=\"\",\"\",'Broker Sheet'!K350)","v":""},{"$f":"IF('Broker Sheet'!R350=\"\",\"\",'Broker Sheet'!R350)","v":""},{"$f":"IF('Broker Sheet'!S350=\"\",\"\",'Broker Sheet'!S350)","v":""},{"$f":"IF('Broker Sheet'!T350=\"\",\"\",'Broker Sheet'!T350)","v":""},{"$f":"IF('Broker Sheet'!U350=\"\",\"\",'Broker Sheet'!U350)","v":""},{"$f":"IF('Broker Sheet'!V350=\"\",\"\",'Broker Sheet'!V350)","v":""},{"$f":"IF('Broker Sheet'!W350=\"\",\"\",'Broker Sheet'!W350)","v":""},{"$f":"IF('Broker Sheet'!Y350=\"\",\"\",'Broker Sheet'!Y350)","v":""},{"$f":"IF('Broker Sheet'!AA350=\"\",\"\",'Broker Sheet'!AA350)","v":""},{"$f":"IF('Broker Sheet'!Z350=\"\",\"\",'Broker Sheet'!Z350)","v":""},{"$f":"IF('Broker Sheet'!AB350=\"\",\"\",'Broker Sheet'!AB350)","v":""},null,null,{"$f":"IF('Broker Sheet'!L350=\"\",\"\",TEXT('Broker Sheet'!L350,\"YYYYMMDD\"))","v":""},{"$f":"IF('Broker Sheet'!AC350=\"\",\"\",TEXT('Broker Sheet'!AC350,\"YYYYMMDD\"))","v":""},{"$f":"IF('Broker Sheet'!AD350=\"\",\"\",TEXT('Broker Sheet'!AD350,\"YYYYMMDD\"))","v":""},{"$f":"IF('Broker Sheet'!AE350=\"\",\"\",'Broker Sheet'!AE350)","v":""},{"$f":"IF('Broker Sheet'!AF350=\"\",\"\",TEXT('Broker Sheet'!AF350,\"YYYYMMDD\"))","v":""},{"$f":"IF('Broker Sheet'!AG350=\"\",\"\",TEXT('Broker Sheet'!AG350,\"YYYYMMDD\"))","v":""}]
[null,null,null,null,null,{"$f":"IF('Broker Sheet'!C351=\"\",\"\",'Broker Sheet'!C351)","v":""},{"$f":"IF('Broker Sheet'!D351=\"\",\"\",'Broker Sheet'!D351)","v":""},{"$f":"IF('Broker Sheet'!E351=\"\",\"\",'Broker Sheet'!E351)","v":""},{"$f":"IF('Broker Sheet'!F351=\"\",\"\",'Broker Sheet'!F351)","v":""},{"$f":"IF('Broker Sheet'!G351=\"\",\"\",TEXT('Broker Sheet'!G351,\"YYYYMMDD\"))","v":""},{"$f":"IF('Broker Sheet'!H351=\"\",\"\",'Broker Sheet'!H351)","v":""},{"$f":"IF('Broker Sheet'!I351=\"\",\"\",'Broker Sheet'!I351)","v":""},{"$f":"IF('Broker Sheet'!J351=\"\",\"\",VLOOKUP('Broker Sheet'!J351,(Reference!$E$4:$F$9),2,FALSE))","v":""},{"$f":"IF('Broker Sheet'!K351=\"\",\"\",'Broker Sheet'!K351)","v":""},{"$f":"IF('Broker Sheet'!R351=\"\",\"\",'Broker Sheet'!R351)","v":""},{"$f":"IF('Broker Sheet'!S351=\"\",\"\",'Broker Sheet'!S351)","v":""},{"$f":"IF('Broker Sheet'!T351=\"\",\"\",'Broker Sheet'!T351)","v":""},{"$f":"IF('Broker Sheet'!U351=\"\",\"\",'Broker Sheet'!U351)","v":""},{"$f":"IF('Broker Sheet'!V351=\"\",\"\",'Broker Sheet'!V351)","v":""},{"$f":"IF('Broker Sheet'!W351=\"\",\"\",'Broker Sheet'!W351)","v":""},{"$f":"IF('Broker Sheet'!Y351=\"\",\"\",'Broker Sheet'!Y351)","v":""},{"$f":"IF('Broker Sheet'!AA351=\"\",\"\",'Broker Sheet'!AA351)","v":""},{"$f":"IF('Broker Sheet'!Z351=\"\",\"\",'Broker Sheet'!Z351)","v":""},{"$f":"IF('Broker Sheet'!AB351=\"\",\"\",'Broker Sheet'!AB351)","v":""},null,null,{"$f":"IF('Broker Sheet'!L351=\"\",\"\",TEXT('Broker Sheet'!L351,\"YYYYMMDD\"))","v":""},{"$f":"IF('Broker Sheet'!AC351=\"\",\"\",TEXT('Broker Sheet'!AC351,\"YYYYMMDD\"))","v":""},{"$f":"IF('Broker Sheet'!AD351=\"\",\"\",TEXT('Broker Sheet'!AD351,\"YYYYMMDD\"))","v":""},{"$f":"IF('Broker Sheet'!AE351=\"\",\"\",'Broker Sheet'!AE351)","v":""},{"$f":"IF('Broker Sheet'!AF351=\"\",\"\",TEXT('Broker Sheet'!AF351,\"YYYYMMDD\"))","v":""},{"$f":"IF('Broker Sheet'!AG351=\"\",\"\",TEXT('Broker Sheet'!AG351,\"YYYYMMDD\"))","v":""}]
[null,null,null,null,null,{"$f":"IF('Broker Sheet'!C352=\"\",\"\",'Broker Sheet'!C352)","v":""},{"$f":"IF('Broker Sheet'!D352=\"\",\"\",'Broker Sheet'!D352)","v":""},{"$f":"IF('Broker Sheet'!E352=\"\",\"\",'Broker Sheet'!E352)","v":""},{"$f":"IF('Broker Sheet'!F352=\"\",\"\",'Broker Sheet'!F352)","v":""},{"$f":"IF('Broker Sheet'!G352=\"\",\"\",TEXT('Broker Sheet'!G352,\"YYYYMMDD\"))","v":""},{"$f":"IF('Broker Sheet'!H352=\"\",\"\",'Broker Sheet'!H352)","v":""},{"$f":"IF('Broker Sheet'!I352=\"\",\"\",'Broker Sheet'!I352)","v":""},{"$f":"IF('Broker Sheet'!J352=\"\",\"\",VLOOKUP('Broker Sheet'!J352,(Reference!$E$4:$F$9),2,FALSE))","v":""},{"$f":"IF('Broker Sheet'!K352=\"\",\"\",'Broker Sheet'!K352)","v":""},{"$f":"IF('Broker Sheet'!R352=\"\",\"\",'Broker Sheet'!R352)","v":""},{"$f":"IF('Broker Sheet'!S352=\"\",\"\",'Broker Sheet'!S352)","v":""},{"$f":"IF('Broker Sheet'!T352=\"\",\"\",'Broker Sheet'!T352)","v":""},{"$f":"IF('Broker Sheet'!U352=\"\",\"\",'Broker Sheet'!U352)","v":""},{"$f":"IF('Broker Sheet'!V352=\"\",\"\",'Broker Sheet'!V352)","v":""},{"$f":"IF('Broker Sheet'!W352=\"\",\"\",'Broker Sheet'!W352)","v":""},{"$f":"IF('Broker Sheet'!Y352=\"\",\"\",'Broker Sheet'!Y352)","v":""},{"$f":"IF('Broker Sheet'!AA352=\"\",\"\",'Broker Sheet'!AA352)","v":""},{"$f":"IF('Broker Sheet'!Z352=\"\",\"\",'Broker Sheet'!Z352)","v":""},{"$f":"IF('Broker Sheet'!AB352=\"\",\"\",'Broker Sheet'!AB352)","v":""},null,null,{"$f":"IF('Broker Sheet'!L352=\"\",\"\",TEXT('Broker Sheet'!L352,\"YYYYMMDD\"))","v":""},{"$f":"IF('Broker Sheet'!AC352=\"\",\"\",TEXT('Broker Sheet'!AC352,\"YYYYMMDD\"))","v":""},{"$f":"IF('Broker Sheet'!AD352=\"\",\"\",TEXT('Broker Sheet'!AD352,\"YYYYMMDD\"))","v":""},{"$f":"IF('Broker Sheet'!AE352=\"\",\"\",'Broker Sheet'!AE352)","v":""},{"$f":"IF('Broker Sheet'!AF352=\"\",\"\",TEXT('Broker Sheet'!AF352,\"YYYYMMDD\"))","v":""},{"$f":"IF('Broker Sheet'!AG352=\"\",\"\",TEXT('Broker Sheet'!AG352,\"YYYYMMDD\"))","v":""}]
[null,null,null,null,null,{"$f":"IF('Broker Sheet'!C353=\"\",\"\",'Broker Sheet'!C353)","v":""},{"$f":"IF('Broker Sheet'!D353=\"\",\"\",'Broker Sheet'!D353)","v":""},{"$f":"IF('Broker Sheet'!E353=\"\",\"\",'Broker Sheet'!E353)","v":""},{"$f":"IF('Broker Sheet'!F353=\"\",\"\",'Broker Sheet'!F353)","v":""},{"$f":"IF('Broker Sheet'!G353=\"\",\"\",TEXT('Broker Sheet'!G353,\"YYYYMMDD\"))","v":""},{"$f":"IF('Broker Sheet'!H353=\"\",\"\",'Broker Sheet'!H353)","v":""},{"$f":"IF('Broker Sheet'!I353=\"\",\"\",'Broker Sheet'!I353)","v":""},{"$f":"IF('Broker Sheet'!J353=\"\",\"\",VLOOKUP('Broker Sheet'!J353,(Reference!$E$4:$F$9),2,FALSE))","v":""},{"$f":"IF('Broker Sheet'!K353=\"\",\"\",'Broker Sheet'!K353)","v":""},{"$f":"IF('Broker Sheet'!R353=\"\",\"\",'Broker Sheet'!R353)","v":""},{"$f":"IF('Broker Sheet'!S353=\"\",\"\",'Broker Sheet'!S353)","v":""},{"$f":"IF('Broker Sheet'!T353=\"\",\"\",'Broker Sheet'!T353)","v":""},{"$f":"IF('Broker Sheet'!U353=\"\",\"\",'Broker Sheet'!U353)","v":""},{"$f":"IF('Broker Sheet'!V353=\"\",\"\",'Broker Sheet'!V353)","v":""},{"$f":"IF('Broker Sheet'!W353=\"\",\"\",'Broker Sheet'!W353)","v":""},{"$f":"IF('Broker Sheet'!Y353=\"\",\"\",'Broker Sheet'!Y353)","v":""},{"$f":"IF('Broker Sheet'!AA353=\"\",\"\",'Broker Sheet'!AA353)","v":""},{"$f":"IF('Broker Sheet'!Z353=\"\",\"\",'Broker Sheet'!Z353)","v":""},{"$f":"IF('Broker Sheet'!AB353=\"\",\"\",'Broker Sheet'!AB353)","v":""},null,null,{"$f":"IF('Broker Sheet'!L353=\"\",\"\",TEXT('Broker Sheet'!L353,\"YYYYMMDD\"))","v":""},{"$f":"IF('Broker Sheet'!AC353=\"\",\"\",TEXT('Broker Sheet'!AC353,\"YYYYMMDD\"))","v":""},{"$f":"IF('Broker Sheet'!AD353=\"\",\"\",TEXT('Broker Sheet'!AD353,\"YYYYMMDD\"))","v":""},{"$f":"IF('Broker Sheet'!AE353=\"\",\"\",'Broker Sheet'!AE353)","v":""},{"$f":"IF('Broker Sheet'!AF353=\"\",\"\",TEXT('Broker Sheet'!AF353,\"YYYYMMDD\"))","v":""},{"$f":"IF('Broker Sheet'!AG353=\"\",\"\",TEXT('Broker Sheet'!AG353,\"YYYYMMDD\"))","v":""}]
[null,null,null,null,null,{"$f":"IF('Broker Sheet'!C354=\"\",\"\",'Broker Sheet'!C354)","v":""},{"$f":"IF('Broker Sheet'!D354=\"\",\"\",'Broker Sheet'!D354)","v":""},{"$f":"IF('Broker Sheet'!E354=\"\",\"\",'Broker Sheet'!E354)","v":""},{"$f":"IF('Broker Sheet'!F354=\"\",\"\",'Broker Sheet'!F354)","v":""},{"$f":"IF('Broker Sheet'!G354=\"\",\"\",TEXT('Broker Sheet'!G354,\"YYYYMMDD\"))","v":""},{"$f":"IF('Broker Sheet'!H354=\"\",\"\",'Broker Sheet'!H354)","v":""},{"$f":"IF('Broker Sheet'!I354=\"\",\"\",'Broker Sheet'!I354)","v":""},{"$f":"IF('Broker Sheet'!J354=\"\",\"\",VLOOKUP('Broker Sheet'!J354,(Reference!$E$4:$F$9),2,FALSE))","v":""},{"$f":"IF('Broker Sheet'!K354=\"\",\"\",'Broker Sheet'!K354)","v":""},{"$f":"IF('Broker Sheet'!R354=\"\",\"\",'Broker Sheet'!R354)","v":""},{"$f":"IF('Broker Sheet'!S354=\"\",\"\",'Broker Sheet'!S354)","v":""},{"$f":"IF('Broker Sheet'!T354=\"\",\"\",'Broker Sheet'!T354)","v":""},{"$f":"IF('Broker Sheet'!U354=\"\",\"\",'Broker Sheet'!U354)","v":""},{"$f":"IF('Broker Sheet'!V354=\"\",\"\",'Broker Sheet'!V354)","v":""},{"$f":"IF('Broker Sheet'!W354=\"\",\"\",'Broker Sheet'!W354)","v":""},{"$f":"IF('Broker Sheet'!Y354=\"\",\"\",'Broker Sheet'!Y354)","v":""},{"$f":"IF('Broker Sheet'!AA354=\"\",\"\",'Broker Sheet'!AA354)","v":""},{"$f":"IF('Broker Sheet'!Z354=\"\",\"\",'Broker Sheet'!Z354)","v":""},{"$f":"IF('Broker Sheet'!AB354=\"\",\"\",'Broker Sheet'!AB354)","v":""},null,null,{"$f":"IF('Broker Sheet'!L354=\"\",\"\",TEXT('Broker Sheet'!L354,\"YYYYMMDD\"))","v":""},{"$f":"IF('Broker Sheet'!AC354=\"\",\"\",TEXT('Broker Sheet'!AC354,\"YYYYMMDD\"))","v":""},{"$f":"IF('Broker Sheet'!AD354=\"\",\"\",TEXT('Broker Sheet'!AD354,\"YYYYMMDD\"))","v":""},{"$f":"IF('Broker Sheet'!AE354=\"\",\"\",'Broker Sheet'!AE354)","v":""},{"$f":"IF('Broker Sheet'!AF354=\"\",\"\",TEXT('Broker Sheet'!AF354,\"YYYYMMDD\"))","v":""},{"$f":"IF('Broker Sheet'!AG354=\"\",\"\",TEXT('Broker Sheet'!AG354,\"YYYYMMDD\"))","v":""}]
[null,null,null,null,null,{"$f":"IF('Broker Sheet'!C355=\"\",\"\",'Broker Sheet'!C355)","v":""},{"$f":"IF('Broker Sheet'!D355=\"\",\"\",'Broker Sheet'!D355)","v":""},{"$f":"IF('Broker Sheet'!E355=\"\",\"\",'Broker Sheet'!E355)","v":""},{"$f":"IF('Broker Sheet'!F355=\"\",\"\",'Broker Sheet'!F355)","v":""},{"$f":"IF('Broker Sheet'!G355=\"\",\"\",TEXT('Broker Sheet'!G355,\"YYYYMMDD\"))","v":""},{"$f":"IF('Broker Sheet'!H355=\"\",\"\",'Broker Sheet'!H355)","v":""},{"$f":"IF('Broker Sheet'!I355=\"\",\"\",'Broker Sheet'!I355)","v":""},{"$f":"IF('Broker Sheet'!J355=\"\",\"\",VLOOKUP('Broker Sheet'!J355,(Reference!$E$4:$F$9),2,FALSE))","v":""},{"$f":"IF('Broker Sheet'!K355=\"\",\"\",'Broker Sheet'!K355)","v":""},{"$f":"IF('Broker Sheet'!R355=\"\",\"\",'Broker Sheet'!R355)","v":""},{"$f":"IF('Broker Sheet'!S355=\"\",\"\",'Broker Sheet'!S355)","v":""},{"$f":"IF('Broker Sheet'!T355=\"\",\"\",'Broker Sheet'!T355)","v":""},{"$f":"IF('Broker Sheet'!U355=\"\",\"\",'Broker Sheet'!U355)","v":""},{"$f":"IF('Broker Sheet'!V355=\"\",\"\",'Broker Sheet'!V355)","v":""},{"$f":"IF('Broker Sheet'!W355=\"\",\"\",'Broker Sheet'!W355)","v":""},{"$f":"IF('Broker Sheet'!Y355=\"\",\"\",'Broker Sheet'!Y355)","v":""},{"$f":"IF('Broker Sheet'!AA355=\"\",\"\",'Broker Sheet'!AA355)","v":""},{"$f":"IF('Broker Sheet'!Z355=\"\",\"\",'Broker Sheet'!Z355)","v":""},{"$f":"IF('Broker Sheet'!AB355=\"\",\"\",'Broker Sheet'!AB355)","v":""},null,null,{"$f":"IF('Broker Sheet'!L355=\"\",\"\",TEXT('Broker Sheet'!L355,\"YYYYMMDD\"))","v":""},{"$f":"IF('Broker Sheet'!AC355=\"\",\"\",TEXT('Broker Sheet'!AC355,\"YYYYMMDD\"))","v":""},{"$f":"IF('Broker Sheet'!AD355=\"\",\"\",TEXT('Broker Sheet'!AD355,\"YYYYMMDD\"))","v":""},{"$f":"IF('Broker Sheet'!AE355=\"\",\"\",'Broker Sheet'!AE355)","v":""},{"$f":"IF('Broker Sheet'!AF355=\"\",\"\",TEXT('Broker Sheet'!AF355,\"YYYYMMDD\"))","v":""},{"$f":"IF('Broker Sheet'!AG355=\"\",\"\",TEXT('Broker Sheet'!AG355,\"YYYYMMDD\"))","v":""}]
[null,null,null,null,null,{"$f":"IF('Broker Sheet'!C356=\"\",\"\",'Broker Sheet'!C356)","v":""},{"$f":"IF('Broker Sheet'!D356=\"\",\"\",'Broker Sheet'!D356)","v":""},{"$f":"IF('Broker Sheet'!E356=\"\",\"\",'Broker Sheet'!E356)","v":""},{"$f":"IF('Broker Sheet'!F356=\"\",\"\",'Broker Sheet'!F356)","v":""},{"$f":"IF('Broker Sheet'!G356=\"\",\"\",TEXT('Broker Sheet'!G356,\"YYYYMMDD\"))","v":""},{"$f":"IF('Broker Sheet'!H356=\"\",\"\",'Broker Sheet'!H356)","v":""},{"$f":"IF('Broker Sheet'!I356=\"\",\"\",'Broker Sheet'!I356)","v":""},{"$f":"IF('Broker Sheet'!J356=\"\",\"\",VLOOKUP('Broker Sheet'!J356,(Reference!$E$4:$F$9),2,FALSE))","v":""},{"$f":"IF('Broker Sheet'!K356=\"\",\"\",'Broker Sheet'!K356)","v":""},{"$f":"IF('Broker Sheet'!R356=\"\",\"\",'Broker Sheet'!R356)","v":""},{"$f":"IF('Broker Sheet'!S356=\"\",\"\",'Broker Sheet'!S356)","v":""},{"$f":"IF('Broker Sheet'!T356=\"\",\"\",'Broker Sheet'!T356)","v":""},{"$f":"IF('Broker Sheet'!U356=\"\",\"\",'Broker Sheet'!U356)","v":""},{"$f":"IF('Broker Sheet'!V356=\"\",\"\",'Broker Sheet'!V356)","v":""},{"$f":"IF('Broker Sheet'!W356=\"\",\"\",'Broker Sheet'!W356)","v":""},{"$f":"IF('Broker Sheet'!Y356=\"\",\"\",'Broker Sheet'!Y356)","v":""},{"$f":"IF('Broker Sheet'!AA356=\"\",\"\",'Broker Sheet'!AA356)","v":""},{"$f":"IF('Broker Sheet'!Z356=\"\",\"\",'Broker Sheet'!Z356)","v":""},{"$f":"IF('Broker Sheet'!AB356=\"\",\"\",'Broker Sheet'!AB356)","v":""},null,null,{"$f":"IF('Broker Sheet'!L356=\"\",\"\",TEXT('Broker Sheet'!L356,\"YYYYMMDD\"))","v":""},{"$f":"IF('Broker Sheet'!AC356=\"\",\"\",TEXT('Broker Sheet'!AC356,\"YYYYMMDD\"))","v":""},{"$f":"IF('Broker Sheet'!AD356=\"\",\"\",TEXT('Broker Sheet'!AD356,\"YYYYMMDD\"))","v":""},{"$f":"IF('Broker Sheet'!AE356=\"\",\"\",'Broker Sheet'!AE356)","v":""},{"$f":"IF('Broker Sheet'!AF356=\"\",\"\",TEXT('Broker Sheet'!AF356,\"YYYYMMDD\"))","v":""},{"$f":"IF('Broker Sheet'!AG356=\"\",\"\",TEXT('Broker Sheet'!AG356,\"YYYYMMDD\"))","v":""}]
[null,null,null,null,null,{"$f":"IF('Broker Sheet'!C357=\"\",\"\",'Broker Sheet'!C357)","v":""},{"$f":"IF('Broker Sheet'!D357=\"\",\"\",'Broker Sheet'!D357)","v":""},{"$f":"IF('Broker Sheet'!E357=\"\",\"\",'Broker Sheet'!E357)","v":""},{"$f":"IF('Broker Sheet'!F357=\"\",\"\",'Broker Sheet'!F357)","v":""},{"$f":"IF('Broker Sheet'!G357=\"\",\"\",TEXT('Broker Sheet'!G357,\"YYYYMMDD\"))","v":""},{"$f":"IF('Broker Sheet'!H357=\"\",\"\",'Broker Sheet'!H357)","v":""},{"$f":"IF('Broker Sheet'!I357=\"\",\"\",'Broker Sheet'!I357)","v":""},{"$f":"IF('Broker Sheet'!J357=\"\",\"\",VLOOKUP('Broker Sheet'!J357,(Reference!$E$4:$F$9),2,FALSE))","v":""},{"$f":"IF('Broker Sheet'!K357=\"\",\"\",'Broker Sheet'!K357)","v":""},{"$f":"IF('Broker Sheet'!R357=\"\",\"\",'Broker Sheet'!R357)","v":""},{"$f":"IF('Broker Sheet'!S357=\"\",\"\",'Broker Sheet'!S357)","v":""},{"$f":"IF('Broker Sheet'!T357=\"\",\"\",'Broker Sheet'!T357)","v":""},{"$f":"IF('Broker Sheet'!U357=\"\",\"\",'Broker Sheet'!U357)","v":""},{"$f":"IF('Broker Sheet'!V357=\"\",\"\",'Broker Sheet'!V357)","v":""},{"$f":"IF('Broker Sheet'!W357=\"\",\"\",'Broker Sheet'!W357)","v":""},{"$f":"IF('Broker Sheet'!Y357=\"\",\"\",'Broker Sheet'!Y357)","v":""},{"$f":"IF('Broker Sheet'!AA357=\"\",\"\",'Broker Sheet'!AA357)","v":""},{"$f":"IF('Broker Sheet'!Z357=\"\",\"\",'Broker Sheet'!Z357)","v":""},{"$f":"IF('Broker Sheet'!AB357=\"\",\"\",'Broker Sheet'!AB357)","v":""},null,null,{"$f":"IF('Broker Sheet'!L357=\"\",\"\",TEXT('Broker Sheet'!L357,\"YYYYMMDD\"))","v":""},{"$f":"IF('Broker Sheet'!AC357=\"\",\"\",TEXT('Broker Sheet'!AC357,\"YYYYMMDD\"))","v":""},{"$f":"IF('Broker Sheet'!AD357=\"\",\"\",TEXT('Broker Sheet'!AD357,\"YYYYMMDD\"))","v":""},{"$f":"IF('Broker Sheet'!AE357=\"\",\"\",'Broker Sheet'!AE357)","v":""},{"$f":"IF('Broker Sheet'!AF357=\"\",\"\",TEXT('Broker Sheet'!AF357,\"YYYYMMDD\"))","v":""},{"$f":"IF('Broker Sheet'!AG357=\"\",\"\",TEXT('Broker Sheet'!AG357,\"YYYYMMDD\"))","v":""}]
[null,null,null,null,null,{"$f":"IF('Broker Sheet'!C358=\"\",\"\",'Broker Sheet'!C358)","v":""},{"$f":"IF('Broker Sheet'!D358=\"\",\"\",'Broker Sheet'!D358)","v":""},{"$f":"IF('Broker Sheet'!E358=\"\",\"\",'Broker Sheet'!E358)","v":""},{"$f":"IF('Broker Sheet'!F358=\"\",\"\",'Broker Sheet'!F358)","v":""},{"$f":"IF('Broker Sheet'!G358=\"\",\"\",TEXT('Broker Sheet'!G358,\"YYYYMMDD\"))","v":""},{"$f":"IF('Broker Sheet'!H358=\"\",\"\",'Broker Sheet'!H358)","v":""},{"$f":"IF('Broker Sheet'!I358=\"\",\"\",'Broker Sheet'!I358)","v":""},{"$f":"IF('Broker Sheet'!J358=\"\",\"\",VLOOKUP('Broker Sheet'!J358,(Reference!$E$4:$F$9),2,FALSE))","v":""},{"$f":"IF('Broker Sheet'!K358=\"\",\"\",'Broker Sheet'!K358)","v":""},{"$f":"IF('Broker Sheet'!R358=\"\",\"\",'Broker Sheet'!R358)","v":""},{"$f":"IF('Broker Sheet'!S358=\"\",\"\",'Broker Sheet'!S358)","v":""},{"$f":"IF('Broker Sheet'!T358=\"\",\"\",'Broker Sheet'!T358)","v":""},{"$f":"IF('Broker Sheet'!U358=\"\",\"\",'Broker Sheet'!U358)","v":""},{"$f":"IF('Broker Sheet'!V358=\"\",\"\",'Broker Sheet'!V358)","v":""},{"$f":"IF('Broker Sheet'!W358=\"\",\"\",'Broker Sheet'!W358)","v":""},{"$f":"IF('Broker Sheet'!Y358=\"\",\"\",'Broker Sheet'!Y358)","v":""},{"$f":"IF('Broker Sheet'!AA358=\"\",\"\",'Broker Sheet'!AA358)","v":""},{"$f":"IF('Broker Sheet'!Z358=\"\",\"\",'Broker Sheet'!Z358)","v":""},{"$f":"IF('Broker Sheet'!AB358=\"\",\"\",'Broker Sheet'!AB358)","v":""},null,null,{"$f":"IF('Broker Sheet'!L358=\"\",\"\",TEXT('Broker Sheet'!L358,\"YYYYMMDD\"))","v":""},{"$f":"IF('Broker Sheet'!AC358=\"\",\"\",TEXT('Broker Sheet'!AC358,\"YYYYMMDD\"))","v":""},{"$f":"IF('Broker Sheet'!AD358=\"\",\"\",TEXT('Broker Sheet'!AD358,\"YYYYMMDD\"))","v":""},{"$f":"IF('Broker Sheet'!AE358=\"\",\"\",'Broker Sheet'!AE358)","v":""},{"$f":"IF('Broker Sheet'!AF358=\"\",\"\",TEXT('Broker Sheet'!AF358,\"YYYYMMDD\"))","v":""},{"$f":"IF('Broker Sheet'!AG358=\"\",\"\",TEXT('Broker Sheet'!AG358,\"YYYYMMDD\"))","v":""}]
[null,null,null,null,null,{"$f":"IF('Broker Sheet'!C359=\"\",\"\",'Broker Sheet'!C359)","v":""},{"$f":"IF('Broker Sheet'!D359=\"\",\"\",'Broker Sheet'!D359)","v":""},{"$f":"IF('Broker Sheet'!E359=\"\",\"\",'Broker Sheet'!E359)","v":""},{"$f":"IF('Broker Sheet'!F359=\"\",\"\",'Broker Sheet'!F359)","v":""},{"$f":"IF('Broker Sheet'!G359=\"\",\"\",TEXT('Broker Sheet'!G359,\"YYYYMMDD\"))","v":""},{"$f":"IF('Broker Sheet'!H359=\"\",\"\",'Broker Sheet'!H359)","v":""},{"$f":"IF('Broker Sheet'!I359=\"\",\"\",'Broker Sheet'!I359)","v":""},{"$f":"IF('Broker Sheet'!J359=\"\",\"\",VLOOKUP('Broker Sheet'!J359,(Reference!$E$4:$F$9),2,FALSE))","v":""},{"$f":"IF('Broker Sheet'!K359=\"\",\"\",'Broker Sheet'!K359)","v":""},{"$f":"IF('Broker Sheet'!R359=\"\",\"\",'Broker Sheet'!R359)","v":""},{"$f":"IF('Broker Sheet'!S359=\"\",\"\",'Broker Sheet'!S359)","v":""},{"$f":"IF('Broker Sheet'!T359=\"\",\"\",'Broker Sheet'!T359)","v":""},{"$f":"IF('Broker Sheet'!U359=\"\",\"\",'Broker Sheet'!U359)","v":""},{"$f":"IF('Broker Sheet'!V359=\"\",\"\",'Broker Sheet'!V359)","v":""},{"$f":"IF('Broker Sheet'!W359=\"\",\"\",'Broker Sheet'!W359)","v":""},{"$f":"IF('Broker Sheet'!Y359=\"\",\"\",'Broker Sheet'!Y359)","v":""},{"$f":"IF('Broker Sheet'!AA359=\"\",\"\",'Broker Sheet'!AA359)","v":""},{"$f":"IF('Broker Sheet'!Z359=\"\",\"\",'Broker Sheet'!Z359)","v":""},{"$f":"IF('Broker Sheet'!AB359=\"\",\"\",'Broker Sheet'!AB359)","v":""},null,null,{"$f":"IF('Broker Sheet'!L359=\"\",\"\",TEXT('Broker Sheet'!L359,\"YYYYMMDD\"))","v":""},{"$f":"IF('Broker Sheet'!AC359=\"\",\"\",TEXT('Broker Sheet'!AC359,\"YYYYMMDD\"))","v":""},{"$f":"IF('Broker Sheet'!AD359=\"\",\"\",TEXT('Broker Sheet'!AD359,\"YYYYMMDD\"))","v":""},{"$f":"IF('Broker Sheet'!AE359=\"\",\"\",'Broker Sheet'!AE359)","v":""},{"$f":"IF('Broker Sheet'!AF359=\"\",\"\",TEXT('Broker Sheet'!AF359,\"YYYYMMDD\"))","v":""},{"$f":"IF('Broker Sheet'!AG359=\"\",\"\",TEXT('Broker Sheet'!AG359,\"YYYYMMDD\"))","v":""}]
[null,null,null,null,null,{"$f":"IF('Broker Sheet'!C360=\"\",\"\",'Broker Sheet'!C360)","v":""},{"$f":"IF('Broker Sheet'!D360=\"\",\"\",'Broker Sheet'!D360)","v":""},{"$f":"IF('Broker Sheet'!E360=\"\",\"\",'Broker Sheet'!E360)","v":""},{"$f":"IF('Broker Sheet'!F360=\"\",\"\",'Broker Sheet'!F360)","v":""},{"$f":"IF('Broker Sheet'!G360=\"\",\"\",TEXT('Broker Sheet'!G360,\"YYYYMMDD\"))","v":""},{"$f":"IF('Broker Sheet'!H360=\"\",\"\",'Broker Sheet'!H360)","v":""},{"$f":"IF('Broker Sheet'!I360=\"\",\"\",'Broker Sheet'!I360)","v":""},{"$f":"IF('Broker Sheet'!J360=\"\",\"\",VLOOKUP('Broker Sheet'!J360,(Reference!$E$4:$F$9),2,FALSE))","v":""},{"$f":"IF('Broker Sheet'!K360=\"\",\"\",'Broker Sheet'!K360)","v":""},{"$f":"IF('Broker Sheet'!R360=\"\",\"\",'Broker Sheet'!R360)","v":""},{"$f":"IF('Broker Sheet'!S360=\"\",\"\",'Broker Sheet'!S360)","v":""},{"$f":"IF('Broker Sheet'!T360=\"\",\"\",'Broker Sheet'!T360)","v":""},{"$f":"IF('Broker Sheet'!U360=\"\",\"\",'Broker Sheet'!U360)","v":""},{"$f":"IF('Broker Sheet'!V360=\"\",\"\",'Broker Sheet'!V360)","v":""},{"$f":"IF('Broker Sheet'!W360=\"\",\"\",'Broker Sheet'!W360)","v":""},{"$f":"IF('Broker Sheet'!Y360=\"\",\"\",'Broker Sheet'!Y360)","v":""},{"$f":"IF('Broker Sheet'!AA360=\"\",\"\",'Broker Sheet'!AA360)","v":""},{"$f":"IF('Broker Sheet'!Z360=\"\",\"\",'Broker Sheet'!Z360)","v":""},{"$f":"IF('Broker Sheet'!AB360=\"\",\"\",'Broker Sheet'!AB360)","v":""},null,null,{"$f":"IF('Broker Sheet'!L360=\"\",\"\",TEXT('Broker Sheet'!L360,\"YYYYMMDD\"))","v":""},{"$f":"IF('Broker Sheet'!AC360=\"\",\"\",TEXT('Broker Sheet'!AC360,\"YYYYMMDD\"))","v":""},{"$f":"IF('Broker Sheet'!AD360=\"\",\"\",TEXT('Broker Sheet'!AD360,\"YYYYMMDD\"))","v":""},{"$f":"IF('Broker Sheet'!AE360=\"\",\"\",'Broker Sheet'!AE360)","v":""},{"$f":"IF('Broker Sheet'!AF360=\"\",\"\",TEXT('Broker Sheet'!AF360,\"YYYYMMDD\"))","v":""},{"$f":"IF('Broker Sheet'!AG360=\"\",\"\",TEXT('Broker Sheet'!AG360,\"YYYYMMDD\"))","v":""}]
[null,null,null,null,null,{"$f":"IF('Broker Sheet'!C361=\"\",\"\",'Broker Sheet'!C361)","v":""},{"$f":"IF('Broker Sheet'!D361=\"\",\"\",'Broker Sheet'!D361)","v":""},{"$f":"IF('Broker Sheet'!E361=\"\",\"\",'Broker Sheet'!E361)","v":""},{"$f":"IF('Broker Sheet'!F361=\"\",\"\",'Broker Sheet'!F361)","v":""},{"$f":"IF('Broker Sheet'!G361=\"\",\"\",TEXT('Broker Sheet'!G361,\"YYYYMMDD\"))","v":""},{"$f":"IF('Broker Sheet'!H361=\"\",\"\",'Broker Sheet'!H361)","v":""},{"$f":"IF('Broker Sheet'!I361=\"\",\"\",'Broker Sheet'!I361)","v":""},{"$f":"IF('Broker Sheet'!J361=\"\",\"\",VLOOKUP('Broker Sheet'!J361,(Reference!$E$4:$F$9),2,FALSE))","v":""},{"$f":"IF('Broker Sheet'!K361=\"\",\"\",'Broker Sheet'!K361)","v":""},{"$f":"IF('Broker Sheet'!R361=\"\",\"\",'Broker Sheet'!R361)","v":""},{"$f":"IF('Broker Sheet'!S361=\"\",\"\",'Broker Sheet'!S361)","v":""},{"$f":"IF('Broker Sheet'!T361=\"\",\"\",'Broker Sheet'!T361)","v":""},{"$f":"IF('Broker Sheet'!U361=\"\",\"\",'Broker Sheet'!U361)","v":""},{"$f":"IF('Broker Sheet'!V361=\"\",\"\",'Broker Sheet'!V361)","v":""},{"$f":"IF('Broker Sheet'!W361=\"\",\"\",'Broker Sheet'!W361)","v":""},{"$f":"IF('Broker Sheet'!Y361=\"\",\"\",'Broker Sheet'!Y361)","v":""},{"$f":"IF('Broker Sheet'!AA361=\"\",\"\",'Broker Sheet'!AA361)","v":""},{"$f":"IF('Broker Sheet'!Z361=\"\",\"\",'Broker Sheet'!Z361)","v":""},{"$f":"IF('Broker Sheet'!AB361=\"\",\"\",'Broker Sheet'!AB361)","v":""},null,null,{"$f":"IF('Broker Sheet'!L361=\"\",\"\",TEXT('Broker Sheet'!L361,\"YYYYMMDD\"))","v":""},{"$f":"IF('Broker Sheet'!AC361=\"\",\"\",TEXT('Broker Sheet'!AC361,\"YYYYMMDD\"))","v":""},{"$f":"IF('Broker Sheet'!AD361=\"\",\"\",TEXT('Broker Sheet'!AD361,\"YYYYMMDD\"))","v":""},{"$f":"IF('Broker Sheet'!AE361=\"\",\"\",'Broker Sheet'!AE361)","v":""},{"$f":"IF('Broker Sheet'!AF361=\"\",\"\",TEXT('Broker Sheet'!AF361,\"YYYYMMDD\"))","v":""},{"$f":"IF('Broker Sheet'!AG361=\"\",\"\",TEXT('Broker Sheet'!AG361,\"YYYYMMDD\"))","v":""}]
[null,null,null,null,null,{"$f":"IF('Broker Sheet'!C362=\"\",\"\",'Broker Sheet'!C362)","v":""},{"$f":"IF('Broker Sheet'!D362=\"\",\"\",'Broker Sheet'!D362)","v":""},{"$f":"IF('Broker Sheet'!E362=\"\",\"\",'Broker Sheet'!E362)","v":""},{"$f":"IF('Broker Sheet'!F362=\"\",\"\",'Broker Sheet'!F362)","v":""},{"$f":"IF('Broker Sheet'!G362=\"\",\"\",TEXT('Broker Sheet'!G362,\"YYYYMMDD\"))","v":""},{"$f":"IF('Broker Sheet'!H362=\"\",\"\",'Broker Sheet'!H362)","v":""},{"$f":"IF('Broker Sheet'!I362=\"\",\"\",'Broker Sheet'!I362)","v":""},{"$f":"IF('Broker Sheet'!J362=\"\",\"\",VLOOKUP('Broker Sheet'!J362,(Reference!$E$4:$F$9),2,FALSE))","v":""},{"$f":"IF('Broker Sheet'!K362=\"\",\"\",'Broker Sheet'!K362)","v":""},{"$f":"IF('Broker Sheet'!R362=\"\",\"\",'Broker Sheet'!R362)","v":""},{"$f":"IF('Broker Sheet'!S362=\"\",\"\",'Broker Sheet'!S362)","v":""},{"$f":"IF('Broker Sheet'!T362=\"\",\"\",'Broker Sheet'!T362)","v":""},{"$f":"IF('Broker Sheet'!U362=\"\",\"\",'Broker Sheet'!U362)","v":""},{"$f":"IF('Broker Sheet'!V362=\"\",\"\",'Broker Sheet'!V362)","v":""},{"$f":"IF('Broker Sheet'!W362=\"\",\"\",'Broker Sheet'!W362)","v":""},{"$f":"IF('Broker Sheet'!Y362=\"\",\"\",'Broker Sheet'!Y362)","v":""},{"$f":"IF('Broker Sheet'!AA362=\"\",\"\",'Broker Sheet'!AA362)","v":""},{"$f":"IF('Broker Sheet'!Z362=\"\",\"\",'Broker Sheet'!Z362)","v":""},{"$f":"IF('Broker Sheet'!AB362=\"\",\"\",'Broker Sheet'!AB362)","v":""},null,null,{"$f":"IF('Broker Sheet'!L362=\"\",\"\",TEXT('Broker Sheet'!L362,\"YYYYMMDD\"))","v":""},{"$f":"IF('Broker Sheet'!AC362=\"\",\"\",TEXT('Broker Sheet'!AC362,\"YYYYMMDD\"))","v":""},{"$f":"IF('Broker Sheet'!AD362=\"\",\"\",TEXT('Broker Sheet'!AD362,\"YYYYMMDD\"))","v":""},{"$f":"IF('Broker Sheet'!AE362=\"\",\"\",'Broker Sheet'!AE362)","v":""},{"$f":"IF('Broker Sheet'!AF362=\"\",\"\",TEXT('Broker Sheet'!AF362,\"YYYYMMDD\"))","v":""},{"$f":"IF('Broker Sheet'!AG362=\"\",\"\",TEXT('Broker Sheet'!AG362,\"YYYYMMDD\"))","v":""}]
[null,null,null,null,null,{"$f":"IF('Broker Sheet'!C363=\"\",\"\",'Broker Sheet'!C363)","v":""},{"$f":"IF('Broker Sheet'!D363=\"\",\"\",'Broker Sheet'!D363)","v":""},{"$f":"IF('Broker Sheet'!E363=\"\",\"\",'Broker Sheet'!E363)","v":""},{"$f":"IF('Broker Sheet'!F363=\"\",\"\",'Broker Sheet'!F363)","v":""},{"$f":"IF('Broker Sheet'!G363=\"\",\"\",TEXT('Broker Sheet'!G363,\"YYYYMMDD\"))","v":""},{"$f":"IF('Broker Sheet'!H363=\"\",\"\",'Broker Sheet'!H363)","v":""},{"$f":"IF('Broker Sheet'!I363=\"\",\"\",'Broker Sheet'!I363)","v":""},{"$f":"IF('Broker Sheet'!J363=\"\",\"\",VLOOKUP('Broker Sheet'!J363,(Reference!$E$4:$F$9),2,FALSE))","v":""},{"$f":"IF('Broker Sheet'!K363=\"\",\"\",'Broker Sheet'!K363)","v":""},{"$f":"IF('Broker Sheet'!R363=\"\",\"\",'Broker Sheet'!R363)","v":""},{"$f":"IF('Broker Sheet'!S363=\"\",\"\",'Broker Sheet'!S363)","v":""},{"$f":"IF('Broker Sheet'!T363=\"\",\"\",'Broker Sheet'!T363)","v":""},{"$f":"IF('Broker Sheet'!U363=\"\",\"\",'Broker Sheet'!U363)","v":""},{"$f":"IF('Broker Sheet'!V363=\"\",\"\",'Broker Sheet'!V363)","v":""},{"$f":"IF('Broker Sheet'!W363=\"\",\"\",'Broker Sheet'!W363)","v":""},{"$f":"IF('Broker Sheet'!Y363=\"\",\"\",'Broker Sheet'!Y363)","v":""},{"$f":"IF('Broker Sheet'!AA363=\"\",\"\",'Broker Sheet'!AA363)","v":""},{"$f":"IF('Broker Sheet'!Z363=\"\",\"\",'Broker Sheet'!Z363)","v":""},{"$f":"IF('Broker Sheet'!AB363=\"\",\"\",'Broker Sheet'!AB363)","v":""},null,null,{"$f":"IF('Broker Sheet'!L363=\"\",\"\",TEXT('Broker Sheet'!L363,\"YYYYMMDD\"))","v":""},{"$f":"IF('Broker Sheet'!AC363=\"\",\"\",TEXT('Broker Sheet'!AC363,\"YYYYMMDD\"))","v":""},{"$f":"IF('Broker Sheet'!AD363=\"\",\"\",TEXT('Broker Sheet'!AD363,\"YYYYMMDD\"))","v":""},{"$f":"IF('Broker Sheet'!AE363=\"\",\"\",'Broker Sheet'!AE363)","v":""},{"$f":"IF('Broker Sheet'!AF363=\"\",\"\",TEXT('Broker Sheet'!AF363,\"YYYYMMDD\"))","v":""},{"$f":"IF('Broker Sheet'!AG363=\"\",\"\",TEXT('Broker Sheet'!AG363,\"YYYYMMDD\"))","v":""}]
[null,null,null,null,null,{"$f":"IF('Broker Sheet'!C364=\"\",\"\",'Broker Sheet'!C364)","v":""},{"$f":"IF('Broker Sheet'!D364=\"\",\"\",'Broker Sheet'!D364)","v":""},{"$f":"IF('Broker Sheet'!E364=\"\",\"\",'Broker Sheet'!E364)","v":""},{"$f":"IF('Broker Sheet'!F364=\"\",\"\",'Broker Sheet'!F364)","v":""},{"$f":"IF('Broker Sheet'!G364=\"\",\"\",TEXT('Broker Sheet'!G364,\"YYYYMMDD\"))","v":""},{"$f":"IF('Broker Sheet'!H364=\"\",\"\",'Broker Sheet'!H364)","v":""},{"$f":"IF('Broker Sheet'!I364=\"\",\"\",'Broker Sheet'!I364)","v":""},{"$f":"IF('Broker Sheet'!J364=\"\",\"\",VLOOKUP('Broker Sheet'!J364,(Reference!$E$4:$F$9),2,FALSE))","v":""},{"$f":"IF('Broker Sheet'!K364=\"\",\"\",'Broker Sheet'!K364)","v":""},{"$f":"IF('Broker Sheet'!R364=\"\",\"\",'Broker Sheet'!R364)","v":""},{"$f":"IF('Broker Sheet'!S364=\"\",\"\",'Broker Sheet'!S364)","v":""},{"$f":"IF('Broker Sheet'!T364=\"\",\"\",'Broker Sheet'!T364)","v":""},{"$f":"IF('Broker Sheet'!U364=\"\",\"\",'Broker Sheet'!U364)","v":""},{"$f":"IF('Broker Sheet'!V364=\"\",\"\",'Broker Sheet'!V364)","v":""},{"$f":"IF('Broker Sheet'!W364=\"\",\"\",'Broker Sheet'!W364)","v":""},{"$f":"IF('Broker Sheet'!Y364=\"\",\"\",'Broker Sheet'!Y364)","v":""},{"$f":"IF('Broker Sheet'!AA364=\"\",\"\",'Broker Sheet'!AA364)","v":""},{"$f":"IF('Broker Sheet'!Z364=\"\",\"\",'Broker Sheet'!Z364)","v":""},{"$f":"IF('Broker Sheet'!AB364=\"\",\"\",'Broker Sheet'!AB364)","v":""},null,null,{"$f":"IF('Broker Sheet'!L364=\"\",\"\",TEXT('Broker Sheet'!L364,\"YYYYMMDD\"))","v":""},{"$f":"IF('Broker Sheet'!AC364=\"\",\"\",TEXT('Broker Sheet'!AC364,\"YYYYMMDD\"))","v":""},{"$f":"IF('Broker Sheet'!AD364=\"\",\"\",TEXT('Broker Sheet'!AD364,\"YYYYMMDD\"))","v":""},{"$f":"IF('Broker Sheet'!AE364=\"\",\"\",'Broker Sheet'!AE364)","v":""},{"$f":"IF('Broker Sheet'!AF364=\"\",\"\",TEXT('Broker Sheet'!AF364,\"YYYYMMDD\"))","v":""},{"$f":"IF('Broker Sheet'!AG364=\"\",\"\",TEXT('Broker Sheet'!AG364,\"YYYYMMDD\"))","v":""}]
[null,null,null,null,null,{"$f":"IF('Broker Sheet'!C365=\"\",\"\",'Broker Sheet'!C365)","v":""},{"$f":"IF('Broker Sheet'!D365=\"\",\"\",'Broker Sheet'!D365)","v":""},{"$f":"IF('Broker Sheet'!E365=\"\",\"\",'Broker Sheet'!E365)","v":""},{"$f":"IF('Broker Sheet'!F365=\"\",\"\",'Broker Sheet'!F365)","v":""},{"$f":"IF('Broker Sheet'!G365=\"\",\"\",TEXT('Broker Sheet'!G365,\"YYYYMMDD\"))","v":""},{"$f":"IF('Broker Sheet'!H365=\"\",\"\",'Broker Sheet'!H365)","v":""},{"$f":"IF('Broker Sheet'!I365=\"\",\"\",'Broker Sheet'!I365)","v":""},{"$f":"IF('Broker Sheet'!J365=\"\",\"\",VLOOKUP('Broker Sheet'!J365,(Reference!$E$4:$F$9),2,FALSE))","v":""},{"$f":"IF('Broker Sheet'!K365=\"\",\"\",'Broker Sheet'!K365)","v":""},{"$f":"IF('Broker Sheet'!R365=\"\",\"\",'Broker Sheet'!R365)","v":""},{"$f":"IF('Broker Sheet'!S365=\"\",\"\",'Broker Sheet'!S365)","v":""},{"$f":"IF('Broker Sheet'!T365=\"\",\"\",'Broker Sheet'!T365)","v":""},{"$f":"IF('Broker Sheet'!U365=\"\",\"\",'Broker Sheet'!U365)","v":""},{"$f":"IF('Broker Sheet'!V365=\"\",\"\",'Broker Sheet'!V365)","v":""},{"$f":"IF('Broker Sheet'!W365=\"\",\"\",'Broker Sheet'!W365)","v":""},{"$f":"IF('Broker Sheet'!Y365=\"\",\"\",'Broker Sheet'!Y365)","v":""},{"$f":"IF('Broker Sheet'!AA365=\"\",\"\",'Broker Sheet'!AA365)","v":""},{"$f":"IF('Broker Sheet'!Z365=\"\",\"\",'Broker Sheet'!Z365)","v":""},{"$f":"IF('Broker Sheet'!AB365=\"\",\"\",'Broker Sheet'!AB365)","v":""},null,null,{"$f":"IF('Broker Sheet'!L365=\"\",\"\",TEXT('Broker Sheet'!L365,\"YYYYMMDD\"))","v":""},{"$f":"IF('Broker Sheet'!AC365=\"\",\"\",TEXT('Broker Sheet'!AC365,\"YYYYMMDD\"))","v":""},{"$f":"IF('Broker Sheet'!AD365=\"\",\"\",TEXT('Broker Sheet'!AD365,\"YYYYMMDD\"))","v":""},{"$f":"IF('Broker Sheet'!AE365=\"\",\"\",'Broker Sheet'!AE365)","v":""},{"$f":"IF('Broker Sheet'!AF365=\"\",\"\",TEXT('Broker Sheet'!AF365,\"YYYYMMDD\"))","v":""},{"$f":"IF('Broker Sheet'!AG365=\"\",\"\",TEXT('Broker Sheet'!AG365,\"YYYYMMDD\"))","v":""}]
[null,null,null,null,null,{"$f":"IF('Broker Sheet'!C366=\"\",\"\",'Broker Sheet'!C366)","v":""},{"$f":"IF('Broker Sheet'!D366=\"\",\"\",'Broker Sheet'!D366)","v":""},{"$f":"IF('Broker Sheet'!E366=\"\",\"\",'Broker Sheet'!E366)","v":""},{"$f":"IF('Broker Sheet'!F366=\"\",\"\",'Broker Sheet'!F366)","v":""},{"$f":"IF('Broker Sheet'!G366=\"\",\"\",TEXT('Broker Sheet'!G366,\"YYYYMMDD\"))","v":""},{"$f":"IF('Broker Sheet'!H366=\"\",\"\",'Broker Sheet'!H366)","v":""},{"$f":"IF('Broker Sheet'!I366=\"\",\"\",'Broker Sheet'!I366)","v":""},{"$f":"IF('Broker Sheet'!J366=\"\",\"\",VLOOKUP('Broker Sheet'!J366,(Reference!$E$4:$F$9),2,FALSE))","v":""},{"$f":"IF('Broker Sheet'!K366=\"\",\"\",'Broker Sheet'!K366)","v":""},{"$f":"IF('Broker Sheet'!R366=\"\",\"\",'Broker Sheet'!R366)","v":""},{"$f":"IF('Broker Sheet'!S366=\"\",\"\",'Broker Sheet'!S366)","v":""},{"$f":"IF('Broker Sheet'!T366=\"\",\"\",'Broker Sheet'!T366)","v":""},{"$f":"IF('Broker Sheet'!U366=\"\",\"\",'Broker Sheet'!U366)","v":""},{"$f":"IF('Broker Sheet'!V366=\"\",\"\",'Broker Sheet'!V366)","v":""},{"$f":"IF('Broker Sheet'!W366=\"\",\"\",'Broker Sheet'!W366)","v":""},{"$f":"IF('Broker Sheet'!Y366=\"\",\"\",'Broker Sheet'!Y366)","v":""},{"$f":"IF('Broker Sheet'!AA366=\"\",\"\",'Broker Sheet'!AA366)","v":""},{"$f":"IF('Broker Sheet'!Z366=\"\",\"\",'Broker Sheet'!Z366)","v":""},{"$f":"IF('Broker Sheet'!AB366=\"\",\"\",'Broker Sheet'!AB366)","v":""},null,null,{"$f":"IF('Broker Sheet'!L366=\"\",\"\",TEXT('Broker Sheet'!L366,\"YYYYMMDD\"))","v":""},{"$f":"IF('Broker Sheet'!AC366=\"\",\"\",TEXT('Broker Sheet'!AC366,\"YYYYMMDD\"))","v":""},{"$f":"IF('Broker Sheet'!AD366=\"\",\"\",TEXT('Broker Sheet'!AD366,\"YYYYMMDD\"))","v":""},{"$f":"IF('Broker Sheet'!AE366=\"\",\"\",'Broker Sheet'!AE366)","v":""},{"$f":"IF('Broker Sheet'!AF366=\"\",\"\",TEXT('Broker Sheet'!AF366,\"YYYYMMDD\"))","v":""},{"$f":"IF('Broker Sheet'!AG366=\"\",\"\",TEXT('Broker Sheet'!AG366,\"YYYYMMDD\"))","v":""}]
[null,null,null,null,null,{"$f":"IF('Broker Sheet'!C367=\"\",\"\",'Broker Sheet'!C367)","v":""},{"$f":"IF('Broker Sheet'!D367=\"\",\"\",'Broker Sheet'!D367)","v":""},{"$f":"IF('Broker Sheet'!E367=\"\",\"\",'Broker Sheet'!E367)","v":""},{"$f":"IF('Broker Sheet'!F367=\"\",\"\",'Broker Sheet'!F367)","v":""},{"$f":"IF('Broker Sheet'!G367=\"\",\"\",TEXT('Broker Sheet'!G367,\"YYYYMMDD\"))","v":""},{"$f":"IF('Broker Sheet'!H367=\"\",\"\",'Broker Sheet'!H367)","v":""},{"$f":"IF('Broker Sheet'!I367=\"\",\"\",'Broker Sheet'!I367)","v":""},{"$f":"IF('Broker Sheet'!J367=\"\",\"\",VLOOKUP('Broker Sheet'!J367,(Reference!$E$4:$F$9),2,FALSE))","v":""},{"$f":"IF('Broker Sheet'!K367=\"\",\"\",'Broker Sheet'!K367)","v":""},{"$f":"IF('Broker Sheet'!R367=\"\",\"\",'Broker Sheet'!R367)","v":""},{"$f":"IF('Broker Sheet'!S367=\"\",\"\",'Broker Sheet'!S367)","v":""},{"$f":"IF('Broker Sheet'!T367=\"\",\"\",'Broker Sheet'!T367)","v":""},{"$f":"IF('Broker Sheet'!U367=\"\",\"\",'Broker Sheet'!U367)","v":""},{"$f":"IF('Broker Sheet'!V367=\"\",\"\",'Broker Sheet'!V367)","v":""},{"$f":"IF('Broker Sheet'!W367=\"\",\"\",'Broker Sheet'!W367)","v":""},{"$f":"IF('Broker Sheet'!Y367=\"\",\"\",'Broker Sheet'!Y367)","v":""},{"$f":"IF('Broker Sheet'!AA367=\"\",\"\",'Broker Sheet'!AA367)","v":""},{"$f":"IF('Broker Sheet'!Z367=\"\",\"\",'Broker Sheet'!Z367)","v":""},{"$f":"IF('Broker Sheet'!AB367=\"\",\"\",'Broker Sheet'!AB367)","v":""},null,null,{"$f":"IF('Broker Sheet'!L367=\"\",\"\",TEXT('Broker Sheet'!L367,\"YYYYMMDD\"))","v":""},{"$f":"IF('Broker Sheet'!AC367=\"\",\"\",TEXT('Broker Sheet'!AC367,\"YYYYMMDD\"))","v":""},{"$f":"IF('Broker Sheet'!AD367=\"\",\"\",TEXT('Broker Sheet'!AD367,\"YYYYMMDD\"))","v":""},{"$f":"IF('Broker Sheet'!AE367=\"\",\"\",'Broker Sheet'!AE367)","v":""},{"$f":"IF('Broker Sheet'!AF367=\"\",\"\",TEXT('Broker Sheet'!AF367,\"YYYYMMDD\"))","v":""},{"$f":"IF('Broker Sheet'!AG367=\"\",\"\",TEXT('Broker Sheet'!AG367,\"YYYYMMDD\"))","v":""}]
[null,null,null,null,null,{"$f":"IF('Broker Sheet'!C368=\"\",\"\",'Broker Sheet'!C368)","v":""},{"$f":"IF('Broker Sheet'!D368=\"\",\"\",'Broker Sheet'!D368)","v":""},{"$f":"IF('Broker Sheet'!E368=\"\",\"\",'Broker Sheet'!E368)","v":""},{"$f":"IF('Broker Sheet'!F368=\"\",\"\",'Broker Sheet'!F368)","v":""},{"$f":"IF('Broker Sheet'!G368=\"\",\"\",TEXT('Broker Sheet'!G368,\"YYYYMMDD\"))","v":""},{"$f":"IF('Broker Sheet'!H368=\"\",\"\",'Broker Sheet'!H368)","v":""},{"$f":"IF('Broker Sheet'!I368=\"\",\"\",'Broker Sheet'!I368)","v":""},{"$f":"IF('Broker Sheet'!J368=\"\",\"\",VLOOKUP('Broker Sheet'!J368,(Reference!$E$4:$F$9),2,FALSE))","v":""},{"$f":"IF('Broker Sheet'!K368=\"\",\"\",'Broker Sheet'!K368)","v":""},{"$f":"IF('Broker Sheet'!R368=\"\",\"\",'Broker Sheet'!R368)","v":""},{"$f":"IF('Broker Sheet'!S368=\"\",\"\",'Broker Sheet'!S368)","v":""},{"$f":"IF('Broker Sheet'!T368=\"\",\"\",'Broker Sheet'!T368)","v":""},{"$f":"IF('Broker Sheet'!U368=\"\",\"\",'Broker Sheet'!U368)","v":""},{"$f":"IF('Broker Sheet'!V368=\"\",\"\",'Broker Sheet'!V368)","v":""},{"$f":"IF('Broker Sheet'!W368=\"\",\"\",'Broker Sheet'!W368)","v":""},{"$f":"IF('Broker Sheet'!Y368=\"\",\"\",'Broker Sheet'!Y368)","v":""},{"$f":"IF('Broker Sheet'!AA368=\"\",\"\",'Broker Sheet'!AA368)","v":""},{"$f":"IF('Broker Sheet'!Z368=\"\",\"\",'Broker Sheet'!Z368)","v":""},{"$f":"IF('Broker Sheet'!AB368=\"\",\"\",'Broker Sheet'!AB368)","v":""},null,null,{"$f":"IF('Broker Sheet'!L368=\"\",\"\",TEXT('Broker Sheet'!L368,\"YYYYMMDD\"))","v":""},{"$f":"IF('Broker Sheet'!AC368=\"\",\"\",TEXT('Broker Sheet'!AC368,\"YYYYMMDD\"))","v":""},{"$f":"IF('Broker Sheet'!AD368=\"\",\"\",TEXT('Broker Sheet'!AD368,\"YYYYMMDD\"))","v":""},{"$f":"IF('Broker Sheet'!AE368=\"\",\"\",'Broker Sheet'!AE368)","v":""},{"$f":"IF('Broker Sheet'!AF368=\"\",\"\",TEXT('Broker Sheet'!AF368,\"YYYYMMDD\"))","v":""},{"$f":"IF('Broker Sheet'!AG368=\"\",\"\",TEXT('Broker Sheet'!AG368,\"YYYYMMDD\"))","v":""}]
[null,null,null,null,null,{"$f":"IF('Broker Sheet'!C369=\"\",\"\",'Broker Sheet'!C369)","v":""},{"$f":"IF('Broker Sheet'!D369=\"\",\"\",'Broker Sheet'!D369)","v":""},{"$f":"IF('Broker Sheet'!E369=\"\",\"\",'Broker Sheet'!E369)","v":""},{"$f":"IF('Broker Sheet'!F369=\"\",\"\",'Broker Sheet'!F369)","v":""},{"$f":"IF('Broker Sheet'!G369=\"\",\"\",TEXT('Broker Sheet'!G369,\"YYYYMMDD\"))","v":""},{"$f":"IF('Broker Sheet'!H369=\"\",\"\",'Broker Sheet'!H369)","v":""},{"$f":"IF('Broker Sheet'!I369=\"\",\"\",'Broker Sheet'!I369)","v":""},{"$f":"IF('Broker Sheet'!J369=\"\",\"\",VLOOKUP('Broker Sheet'!J369,(Reference!$E$4:$F$9),2,FALSE))","v":""},{"$f":"IF('Broker Sheet'!K369=\"\",\"\",'Broker Sheet'!K369)","v":""},{"$f":"IF('Broker Sheet'!R369=\"\",\"\",'Broker Sheet'!R369)","v":""},{"$f":"IF('Broker Sheet'!S369=\"\",\"\",'Broker Sheet'!S369)","v":""},{"$f":"IF('Broker Sheet'!T369=\"\",\"\",'Broker Sheet'!T369)","v":""},{"$f":"IF('Broker Sheet'!U369=\"\",\"\",'Broker Sheet'!U369)","v":""},{"$f":"IF('Broker Sheet'!V369=\"\",\"\",'Broker Sheet'!V369)","v":""},{"$f":"IF('Broker Sheet'!W369=\"\",\"\",'Broker Sheet'!W369)","v":""},{"$f":"IF('Broker Sheet'!Y369=\"\",\"\",'Broker Sheet'!Y369)","v":""},{"$f":"IF('Broker Sheet'!AA369=\"\",\"\",'Broker Sheet'!AA369)","v":""},{"$f":"IF('Broker Sheet'!Z369=\"\",\"\",'Broker Sheet'!Z369)","v":""},{"$f":"IF('Broker Sheet'!AB369=\"\",\"\",'Broker Sheet'!AB369)","v":""},null,null,{"$f":"IF('Broker Sheet'!L369=\"\",\"\",TEXT('Broker Sheet'!L369,\"YYYYMMDD\"))","v":""},{"$f":"IF('Broker Sheet'!AC369=\"\",\"\",TEXT('Broker Sheet'!AC369,\"YYYYMMDD\"))","v":""},{"$f":"IF('Broker Sheet'!AD369=\"\",\"\",TEXT('Broker Sheet'!AD369,\"YYYYMMDD\"))","v":""},{"$f":"IF('Broker Sheet'!AE369=\"\",\"\",'Broker Sheet'!AE369)","v":""},{"$f":"IF('Broker Sheet'!AF369=\"\",\"\",TEXT('Broker Sheet'!AF369,\"YYYYMMDD\"))","v":""},{"$f":"IF('Broker Sheet'!AG369=\"\",\"\",TEXT('Broker Sheet'!AG369,\"YYYYMMDD\"))","v":""}]
[null,null,null,null,null,{"$f":"IF('Broker Sheet'!C370=\"\",\"\",'Broker Sheet'!C370)","v":""},{"$f":"IF('Broker Sheet'!D370=\"\",\"\",'Broker Sheet'!D370)","v":""},{"$f":"IF('Broker Sheet'!E370=\"\",\"\",'Broker Sheet'!E370)","v":""},{"$f":"IF('Broker Sheet'!F370=\"\",\"\",'Broker Sheet'!F370)","v":""},{"$f":"IF('Broker Sheet'!G370=\"\",\"\",TEXT('Broker Sheet'!G370,\"YYYYMMDD\"))","v":""},{"$f":"IF('Broker Sheet'!H370=\"\",\"\",'Broker Sheet'!H370)","v":""},{"$f":"IF('Broker Sheet'!I370=\"\",\"\",'Broker Sheet'!I370)","v":""},{"$f":"IF('Broker Sheet'!J370=\"\",\"\",VLOOKUP('Broker Sheet'!J370,(Reference!$E$4:$F$9),2,FALSE))","v":""},{"$f":"IF('Broker Sheet'!K370=\"\",\"\",'Broker Sheet'!K370)","v":""},{"$f":"IF('Broker Sheet'!R370=\"\",\"\",'Broker Sheet'!R370)","v":""},{"$f":"IF('Broker Sheet'!S370=\"\",\"\",'Broker Sheet'!S370)","v":""},{"$f":"IF('Broker Sheet'!T370=\"\",\"\",'Broker Sheet'!T370)","v":""},{"$f":"IF('Broker Sheet'!U370=\"\",\"\",'Broker Sheet'!U370)","v":""},{"$f":"IF('Broker Sheet'!V370=\"\",\"\",'Broker Sheet'!V370)","v":""},{"$f":"IF('Broker Sheet'!W370=\"\",\"\",'Broker Sheet'!W370)","v":""},{"$f":"IF('Broker Sheet'!Y370=\"\",\"\",'Broker Sheet'!Y370)","v":""},{"$f":"IF('Broker Sheet'!AA370=\"\",\"\",'Broker Sheet'!AA370)","v":""},{"$f":"IF('Broker Sheet'!Z370=\"\",\"\",'Broker Sheet'!Z370)","v":""},{"$f":"IF('Broker Sheet'!AB370=\"\",\"\",'Broker Sheet'!AB370)","v":""},null,null,{"$f":"IF('Broker Sheet'!L370=\"\",\"\",TEXT('Broker Sheet'!L370,\"YYYYMMDD\"))","v":""},{"$f":"IF('Broker Sheet'!AC370=\"\",\"\",TEXT('Broker Sheet'!AC370,\"YYYYMMDD\"))","v":""},{"$f":"IF('Broker Sheet'!AD370=\"\",\"\",TEXT('Broker Sheet'!AD370,\"YYYYMMDD\"))","v":""},{"$f":"IF('Broker Sheet'!AE370=\"\",\"\",'Broker Sheet'!AE370)","v":""},{"$f":"IF('Broker Sheet'!AF370=\"\",\"\",TEXT('Broker Sheet'!AF370,\"YYYYMMDD\"))","v":""},{"$f":"IF('Broker Sheet'!AG370=\"\",\"\",TEXT('Broker Sheet'!AG370,\"YYYYMMDD\"))","v":""}]
[null,null,null,null,null,{"$f":"IF('Broker Sheet'!C371=\"\",\"\",'Broker Sheet'!C371)","v":""},{"$f":"IF('Broker Sheet'!D371=\"\",\"\",'Broker Sheet'!D371)","v":""},{"$f":"IF('Broker Sheet'!E371=\"\",\"\",'Broker Sheet'!E371)","v":""},{"$f":"IF('Broker Sheet'!F371=\"\",\"\",'Broker Sheet'!F371)","v":""},{"$f":"IF('Broker Sheet'!G371=\"\",\"\",TEXT('Broker Sheet'!G371,\"YYYYMMDD\"))","v":""},{"$f":"IF('Broker Sheet'!H371=\"\",\"\",'Broker Sheet'!H371)","v":""},{"$f":"IF('Broker Sheet'!I371=\"\",\"\",'Broker Sheet'!I371)","v":""},{"$f":"IF('Broker Sheet'!J371=\"\",\"\",VLOOKUP('Broker Sheet'!J371,(Reference!$E$4:$F$9),2,FALSE))","v":""},{"$f":"IF('Broker Sheet'!K371=\"\",\"\",'Broker Sheet'!K371)","v":""},{"$f":"IF('Broker Sheet'!R371=\"\",\"\",'Broker Sheet'!R371)","v":""},{"$f":"IF('Broker Sheet'!S371=\"\",\"\",'Broker Sheet'!S371)","v":""},{"$f":"IF('Broker Sheet'!T371=\"\",\"\",'Broker Sheet'!T371)","v":""},{"$f":"IF('Broker Sheet'!U371=\"\",\"\",'Broker Sheet'!U371)","v":""},{"$f":"IF('Broker Sheet'!V371=\"\",\"\",'Broker Sheet'!V371)","v":""},{"$f":"IF('Broker Sheet'!W371=\"\",\"\",'Broker Sheet'!W371)","v":""},{"$f":"IF('Broker Sheet'!Y371=\"\",\"\",'Broker Sheet'!Y371)","v":""},{"$f":"IF('Broker Sheet'!AA371=\"\",\"\",'Broker Sheet'!AA371)","v":""},{"$f":"IF('Broker Sheet'!Z371=\"\",\"\",'Broker Sheet'!Z371)","v":""},{"$f":"IF('Broker Sheet'!AB371=\"\",\"\",'Broker Sheet'!AB371)","v":""},null,null,{"$f":"IF('Broker Sheet'!L371=\"\",\"\",TEXT('Broker Sheet'!L371,\"YYYYMMDD\"))","v":""},{"$f":"IF('Broker Sheet'!AC371=\"\",\"\",TEXT('Broker Sheet'!AC371,\"YYYYMMDD\"))","v":""},{"$f":"IF('Broker Sheet'!AD371=\"\",\"\",TEXT('Broker Sheet'!AD371,\"YYYYMMDD\"))","v":""},{"$f":"IF('Broker Sheet'!AE371=\"\",\"\",'Broker Sheet'!AE371)","v":""},{"$f":"IF('Broker Sheet'!AF371=\"\",\"\",TEXT('Broker Sheet'!AF371,\"YYYYMMDD\"))","v":""},{"$f":"IF('Broker Sheet'!AG371=\"\",\"\",TEXT('Broker Sheet'!AG371,\"YYYYMMDD\"))","v":""}]
[null,null,null,null,null,{"$f":"IF('Broker Sheet'!C372=\"\",\"\",'Broker Sheet'!C372)","v":""},{"$f":"IF('Broker Sheet'!D372=\"\",\"\",'Broker Sheet'!D372)","v":""},{"$f":"IF('Broker Sheet'!E372=\"\",\"\",'Broker Sheet'!E372)","v":""},{"$f":"IF('Broker Sheet'!F372=\"\",\"\",'Broker Sheet'!F372)","v":""},{"$f":"IF('Broker Sheet'!G372=\"\",\"\",TEXT('Broker Sheet'!G372,\"YYYYMMDD\"))","v":""},{"$f":"IF('Broker Sheet'!H372=\"\",\"\",'Broker Sheet'!H372)","v":""},{"$f":"IF('Broker Sheet'!I372=\"\",\"\",'Broker Sheet'!I372)","v":""},{"$f":"IF('Broker Sheet'!J372=\"\",\"\",VLOOKUP('Broker Sheet'!J372,(Reference!$E$4:$F$9),2,FALSE))","v":""},{"$f":"IF('Broker Sheet'!K372=\"\",\"\",'Broker Sheet'!K372)","v":""},{"$f":"IF('Broker Sheet'!R372=\"\",\"\",'Broker Sheet'!R372)","v":""},{"$f":"IF('Broker Sheet'!S372=\"\",\"\",'Broker Sheet'!S372)","v":""},{"$f":"IF('Broker Sheet'!T372=\"\",\"\",'Broker Sheet'!T372)","v":""},{"$f":"IF('Broker Sheet'!U372=\"\",\"\",'Broker Sheet'!U372)","v":""},{"$f":"IF('Broker Sheet'!V372=\"\",\"\",'Broker Sheet'!V372)","v":""},{"$f":"IF('Broker Sheet'!W372=\"\",\"\",'Broker Sheet'!W372)","v":""},{"$f":"IF('Broker Sheet'!Y372=\"\",\"\",'Broker Sheet'!Y372)","v":""},{"$f":"IF('Broker Sheet'!AA372=\"\",\"\",'Broker Sheet'!AA372)","v":""},{"$f":"IF('Broker Sheet'!Z372=\"\",\"\",'Broker Sheet'!Z372)","v":""},{"$f":"IF('Broker Sheet'!AB372=\"\",\"\",'Broker Sheet'!AB372)","v":""},null,null,{"$f":"IF('Broker Sheet'!L372=\"\",\"\",TEXT('Broker Sheet'!L372,\"YYYYMMDD\"))","v":""},{"$f":"IF('Broker Sheet'!AC372=\"\",\"\",TEXT('Broker Sheet'!AC372,\"YYYYMMDD\"))","v":""},{"$f":"IF('Broker Sheet'!AD372=\"\",\"\",TEXT('Broker Sheet'!AD372,\"YYYYMMDD\"))","v":""},{"$f":"IF('Broker Sheet'!AE372=\"\",\"\",'Broker Sheet'!AE372)","v":""},{"$f":"IF('Broker Sheet'!AF372=\"\",\"\",TEXT('Broker Sheet'!AF372,\"YYYYMMDD\"))","v":""},{"$f":"IF('Broker Sheet'!AG372=\"\",\"\",TEXT('Broker Sheet'!AG372,\"YYYYMMDD\"))","v":""}]
[null,null,null,null,null,{"$f":"IF('Broker Sheet'!C373=\"\",\"\",'Broker Sheet'!C373)","v":""},{"$f":"IF('Broker Sheet'!D373=\"\",\"\",'Broker Sheet'!D373)","v":""},{"$f":"IF('Broker Sheet'!E373=\"\",\"\",'Broker Sheet'!E373)","v":""},{"$f":"IF('Broker Sheet'!F373=\"\",\"\",'Broker Sheet'!F373)","v":""},{"$f":"IF('Broker Sheet'!G373=\"\",\"\",TEXT('Broker Sheet'!G373,\"YYYYMMDD\"))","v":""},{"$f":"IF('Broker Sheet'!H373=\"\",\"\",'Broker Sheet'!H373)","v":""},{"$f":"IF('Broker Sheet'!I373=\"\",\"\",'Broker Sheet'!I373)","v":""},{"$f":"IF('Broker Sheet'!J373=\"\",\"\",VLOOKUP('Broker Sheet'!J373,(Reference!$E$4:$F$9),2,FALSE))","v":""},{"$f":"IF('Broker Sheet'!K373=\"\",\"\",'Broker Sheet'!K373)","v":""},{"$f":"IF('Broker Sheet'!R373=\"\",\"\",'Broker Sheet'!R373)","v":""},{"$f":"IF('Broker Sheet'!S373=\"\",\"\",'Broker Sheet'!S373)","v":""},{"$f":"IF('Broker Sheet'!T373=\"\",\"\",'Broker Sheet'!T373)","v":""},{"$f":"IF('Broker Sheet'!U373=\"\",\"\",'Broker Sheet'!U373)","v":""},{"$f":"IF('Broker Sheet'!V373=\"\",\"\",'Broker Sheet'!V373)","v":""},{"$f":"IF('Broker Sheet'!W373=\"\",\"\",'Broker Sheet'!W373)","v":""},{"$f":"IF('Broker Sheet'!Y373=\"\",\"\",'Broker Sheet'!Y373)","v":""},{"$f":"IF('Broker Sheet'!AA373=\"\",\"\",'Broker Sheet'!AA373)","v":""},{"$f":"IF('Broker Sheet'!Z373=\"\",\"\",'Broker Sheet'!Z373)","v":""},{"$f":"IF('Broker Sheet'!AB373=\"\",\"\",'Broker Sheet'!AB373)","v":""},null,null,{"$f":"IF('Broker Sheet'!L373=\"\",\"\",TEXT('Broker Sheet'!L373,\"YYYYMMDD\"))","v":""},{"$f":"IF('Broker Sheet'!AC373=\"\",\"\",TEXT('Broker Sheet'!AC373,\"YYYYMMDD\"))","v":""},{"$f":"IF('Broker Sheet'!AD373=\"\",\"\",TEXT('Broker Sheet'!AD373,\"YYYYMMDD\"))","v":""},{"$f":"IF('Broker Sheet'!AE373=\"\",\"\",'Broker Sheet'!AE373)","v":""},{"$f":"IF('Broker Sheet'!AF373=\"\",\"\",TEXT('Broker Sheet'!AF373,\"YYYYMMDD\"))","v":""},{"$f":"IF('Broker Sheet'!AG373=\"\",\"\",TEXT('Broker Sheet'!AG373,\"YYYYMMDD\"))","v":""}]
[null,null,null,null,null,{"$f":"IF('Broker Sheet'!C374=\"\",\"\",'Broker Sheet'!C374)","v":""},{"$f":"IF('Broker Sheet'!D374=\"\",\"\",'Broker Sheet'!D374)","v":""},{"$f":"IF('Broker Sheet'!E374=\"\",\"\",'Broker Sheet'!E374)","v":""},{"$f":"IF('Broker Sheet'!F374=\"\",\"\",'Broker Sheet'!F374)","v":""},{"$f":"IF('Broker Sheet'!G374=\"\",\"\",TEXT('Broker Sheet'!G374,\"YYYYMMDD\"))","v":""},{"$f":"IF('Broker Sheet'!H374=\"\",\"\",'Broker Sheet'!H374)","v":""},{"$f":"IF('Broker Sheet'!I374=\"\",\"\",'Broker Sheet'!I374)","v":""},{"$f":"IF('Broker Sheet'!J374=\"\",\"\",VLOOKUP('Broker Sheet'!J374,(Reference!$E$4:$F$9),2,FALSE))","v":""},{"$f":"IF('Broker Sheet'!K374=\"\",\"\",'Broker Sheet'!K374)","v":""},{"$f":"IF('Broker Sheet'!R374=\"\",\"\",'Broker Sheet'!R374)","v":""},{"$f":"IF('Broker Sheet'!S374=\"\",\"\",'Broker Sheet'!S374)","v":""},{"$f":"IF('Broker Sheet'!T374=\"\",\"\",'Broker Sheet'!T374)","v":""},{"$f":"IF('Broker Sheet'!U374=\"\",\"\",'Broker Sheet'!U374)","v":""},{"$f":"IF('Broker Sheet'!V374=\"\",\"\",'Broker Sheet'!V374)","v":""},{"$f":"IF('Broker Sheet'!W374=\"\",\"\",'Broker Sheet'!W374)","v":""},{"$f":"IF('Broker Sheet'!Y374=\"\",\"\",'Broker Sheet'!Y374)","v":""},{"$f":"IF('Broker Sheet'!AA374=\"\",\"\",'Broker Sheet'!AA374)","v":""},{"$f":"IF('Broker Sheet'!Z374=\"\",\"\",'Broker Sheet'!Z374)","v":""},{"$f":"IF('Broker Sheet'!AB374=\"\",\"\",'Broker Sheet'!AB374)","v":""},null,null,{"$f":"IF('Broker Sheet'!L374=\"\",\"\",TEXT('Broker Sheet'!L374,\"YYYYMMDD\"))","v":""},{"$f":"IF('Broker Sheet'!AC374=\"\",\"\",TEXT('Broker Sheet'!AC374,\"YYYYMMDD\"))","v":""},{"$f":"IF('Broker Sheet'!AD374=\"\",\"\",TEXT('Broker Sheet'!AD374,\"YYYYMMDD\"))","v":""},{"$f":"IF('Broker Sheet'!AE374=\"\",\"\",'Broker Sheet'!AE374)","v":""},{"$f":"IF('Broker Sheet'!AF374=\"\",\"\",TEXT('Broker Sheet'!AF374,\"YYYYMMDD\"))","v":""},{"$f":"IF('Broker Sheet'!AG374=\"\",\"\",TEXT('Broker Sheet'!AG374,\"YYYYMMDD\"))","v":""}]
[null,null,null,null,null,{"$f":"IF('Broker Sheet'!C375=\"\",\"\",'Broker Sheet'!C375)","v":""},{"$f":"IF('Broker Sheet'!D375=\"\",\"\",'Broker Sheet'!D375)","v":""},{"$f":"IF('Broker Sheet'!E375=\"\",\"\",'Broker Sheet'!E375)","v":""},{"$f":"IF('Broker Sheet'!F375=\"\",\"\",'Broker Sheet'!F375)","v":""},{"$f":"IF('Broker Sheet'!G375=\"\",\"\",TEXT('Broker Sheet'!G375,\"YYYYMMDD\"))","v":""},{"$f":"IF('Broker Sheet'!H375=\"\",\"\",'Broker Sheet'!H375)","v":""},{"$f":"IF('Broker Sheet'!I375=\"\",\"\",'Broker Sheet'!I375)","v":""},{"$f":"IF('Broker Sheet'!J375=\"\",\"\",VLOOKUP('Broker Sheet'!J375,(Reference!$E$4:$F$9),2,FALSE))","v":""},{"$f":"IF('Broker Sheet'!K375=\"\",\"\",'Broker Sheet'!K375)","v":""},{"$f":"IF('Broker Sheet'!R375=\"\",\"\",'Broker Sheet'!R375)","v":""},{"$f":"IF('Broker Sheet'!S375=\"\",\"\",'Broker Sheet'!S375)","v":""},{"$f":"IF('Broker Sheet'!T375=\"\",\"\",'Broker Sheet'!T375)","v":""},{"$f":"IF('Broker Sheet'!U375=\"\",\"\",'Broker Sheet'!U375)","v":""},{"$f":"IF('Broker Sheet'!V375=\"\",\"\",'Broker Sheet'!V375)","v":""},{"$f":"IF('Broker Sheet'!W375=\"\",\"\",'Broker Sheet'!W375)","v":""},{"$f":"IF('Broker Sheet'!Y375=\"\",\"\",'Broker Sheet'!Y375)","v":""},{"$f":"IF('Broker Sheet'!AA375=\"\",\"\",'Broker Sheet'!AA375)","v":""},{"$f":"IF('Broker Sheet'!Z375=\"\",\"\",'Broker Sheet'!Z375)","v":""},{"$f":"IF('Broker Sheet'!AB375=\"\",\"\",'Broker Sheet'!AB375)","v":""},null,null,{"$f":"IF('Broker Sheet'!L375=\"\",\"\",TEXT('Broker Sheet'!L375,\"YYYYMMDD\"))","v":""},{"$f":"IF('Broker Sheet'!AC375=\"\",\"\",TEXT('Broker Sheet'!AC375,\"YYYYMMDD\"))","v":""},{"$f":"IF('Broker Sheet'!AD375=\"\",\"\",TEXT('Broker Sheet'!AD375,\"YYYYMMDD\"))","v":""},{"$f":"IF('Broker Sheet'!AE375=\"\",\"\",'Broker Sheet'!AE375)","v":""},{"$f":"IF('Broker Sheet'!AF375=\"\",\"\",TEXT('Broker Sheet'!AF375,\"YYYYMMDD\"))","v":""},{"$f":"IF('Broker Sheet'!AG375=\"\",\"\",TEXT('Broker Sheet'!AG375,\"YYYYMMDD\"))","v":""}]
[null,null,null,null,null,{"$f":"IF('Broker Sheet'!C376=\"\",\"\",'Broker Sheet'!C376)","v":""},{"$f":"IF('Broker Sheet'!D376=\"\",\"\",'Broker Sheet'!D376)","v":""},{"$f":"IF('Broker Sheet'!E376=\"\",\"\",'Broker Sheet'!E376)","v":""},{"$f":"IF('Broker Sheet'!F376=\"\",\"\",'Broker Sheet'!F376)","v":""},{"$f":"IF('Broker Sheet'!G376=\"\",\"\",TEXT('Broker Sheet'!G376,\"YYYYMMDD\"))","v":""},{"$f":"IF('Broker Sheet'!H376=\"\",\"\",'Broker Sheet'!H376)","v":""},{"$f":"IF('Broker Sheet'!I376=\"\",\"\",'Broker Sheet'!I376)","v":""},{"$f":"IF('Broker Sheet'!J376=\"\",\"\",VLOOKUP('Broker Sheet'!J376,(Reference!$E$4:$F$9),2,FALSE))","v":""},{"$f":"IF('Broker Sheet'!K376=\"\",\"\",'Broker Sheet'!K376)","v":""},{"$f":"IF('Broker Sheet'!R376=\"\",\"\",'Broker Sheet'!R376)","v":""},{"$f":"IF('Broker Sheet'!S376=\"\",\"\",'Broker Sheet'!S376)","v":""},{"$f":"IF('Broker Sheet'!T376=\"\",\"\",'Broker Sheet'!T376)","v":""},{"$f":"IF('Broker Sheet'!U376=\"\",\"\",'Broker Sheet'!U376)","v":""},{"$f":"IF('Broker Sheet'!V376=\"\",\"\",'Broker Sheet'!V376)","v":""},{"$f":"IF('Broker Sheet'!W376=\"\",\"\",'Broker Sheet'!W376)","v":""},{"$f":"IF('Broker Sheet'!Y376=\"\",\"\",'Broker Sheet'!Y376)","v":""},{"$f":"IF('Broker Sheet'!AA376=\"\",\"\",'Broker Sheet'!AA376)","v":""},{"$f":"IF('Broker Sheet'!Z376=\"\",\"\",'Broker Sheet'!Z376)","v":""},{"$f":"IF('Broker Sheet'!AB376=\"\",\"\",'Broker Sheet'!AB376)","v":""},null,null,{"$f":"IF('Broker Sheet'!L376=\"\",\"\",TEXT('Broker Sheet'!L376,\"YYYYMMDD\"))","v":""},{"$f":"IF('Broker Sheet'!AC376=\"\",\"\",TEXT('Broker Sheet'!AC376,\"YYYYMMDD\"))","v":""},{"$f":"IF('Broker Sheet'!AD376=\"\",\"\",TEXT('Broker Sheet'!AD376,\"YYYYMMDD\"))","v":""},{"$f":"IF('Broker Sheet'!AE376=\"\",\"\",'Broker Sheet'!AE376)","v":""},{"$f":"IF('Broker Sheet'!AF376=\"\",\"\",TEXT('Broker Sheet'!AF376,\"YYYYMMDD\"))","v":""},{"$f":"IF('Broker Sheet'!AG376=\"\",\"\",TEXT('Broker Sheet'!AG376,\"YYYYMMDD\"))","v":""}]
[null,null,null,null,null,{"$f":"IF('Broker Sheet'!C377=\"\",\"\",'Broker Sheet'!C377)","v":""},{"$f":"IF('Broker Sheet'!D377=\"\",\"\",'Broker Sheet'!D377)","v":""},{"$f":"IF('Broker Sheet'!E377=\"\",\"\",'Broker Sheet'!E377)","v":""},{"$f":"IF('Broker Sheet'!F377=\"\",\"\",'Broker Sheet'!F377)","v":""},{"$f":"IF('Broker Sheet'!G377=\"\",\"\",TEXT('Broker Sheet'!G377,\"YYYYMMDD\"))","v":""},{"$f":"IF('Broker Sheet'!H377=\"\",\"\",'Broker Sheet'!H377)","v":""},{"$f":"IF('Broker Sheet'!I377=\"\",\"\",'Broker Sheet'!I377)","v":""},{"$f":"IF('Broker Sheet'!J377=\"\",\"\",VLOOKUP('Broker Sheet'!J377,(Reference!$E$4:$F$9),2,FALSE))","v":""},{"$f":"IF('Broker Sheet'!K377=\"\",\"\",'Broker Sheet'!K377)","v":""},{"$f":"IF('Broker Sheet'!R377=\"\",\"\",'Broker Sheet'!R377)","v":""},{"$f":"IF('Broker Sheet'!S377=\"\",\"\",'Broker Sheet'!S377)","v":""},{"$f":"IF('Broker Sheet'!T377=\"\",\"\",'Broker Sheet'!T377)","v":""},{"$f":"IF('Broker Sheet'!U377=\"\",\"\",'Broker Sheet'!U377)","v":""},{"$f":"IF('Broker Sheet'!V377=\"\",\"\",'Broker Sheet'!V377)","v":""},{"$f":"IF('Broker Sheet'!W377=\"\",\"\",'Broker Sheet'!W377)","v":""},{"$f":"IF('Broker Sheet'!Y377=\"\",\"\",'Broker Sheet'!Y377)","v":""},{"$f":"IF('Broker Sheet'!AA377=\"\",\"\",'Broker Sheet'!AA377)","v":""},{"$f":"IF('Broker Sheet'!Z377=\"\",\"\",'Broker Sheet'!Z377)","v":""},{"$f":"IF('Broker Sheet'!AB377=\"\",\"\",'Broker Sheet'!AB377)","v":""},null,null,{"$f":"IF('Broker Sheet'!L377=\"\",\"\",TEXT('Broker Sheet'!L377,\"YYYYMMDD\"))","v":""},{"$f":"IF('Broker Sheet'!AC377=\"\",\"\",TEXT('Broker Sheet'!AC377,\"YYYYMMDD\"))","v":""},{"$f":"IF('Broker Sheet'!AD377=\"\",\"\",TEXT('Broker Sheet'!AD377,\"YYYYMMDD\"))","v":""},{"$f":"IF('Broker Sheet'!AE377=\"\",\"\",'Broker Sheet'!AE377)","v":""},{"$f":"IF('Broker Sheet'!AF377=\"\",\"\",TEXT('Broker Sheet'!AF377,\"YYYYMMDD\"))","v":""},{"$f":"IF('Broker Sheet'!AG377=\"\",\"\",TEXT('Broker Sheet'!AG377,\"YYYYMMDD\"))","v":""}]
[null,null,null,null,null,{"$f":"IF('Broker Sheet'!C378=\"\",\"\",'Broker Sheet'!C378)","v":""},{"$f":"IF('Broker Sheet'!D378=\"\",\"\",'Broker Sheet'!D378)","v":""},{"$f":"IF('Broker Sheet'!E378=\"\",\"\",'Broker Sheet'!E378)","v":""},{"$f":"IF('Broker Sheet'!F378=\"\",\"\",'Broker Sheet'!F378)","v":""},{"$f":"IF('Broker Sheet'!G378=\"\",\"\",TEXT('Broker Sheet'!G378,\"YYYYMMDD\"))","v":""},{"$f":"IF('Broker Sheet'!H378=\"\",\"\",'Broker Sheet'!H378)","v":""},{"$f":"IF('Broker Sheet'!I378=\"\",\"\",'Broker Sheet'!I378)","v":""},{"$f":"IF('Broker Sheet'!J378=\"\",\"\",VLOOKUP('Broker Sheet'!J378,(Reference!$E$4:$F$9),2,FALSE))","v":""},{"$f":"IF('Broker Sheet'!K378=\"\",\"\",'Broker Sheet'!K378)","v":""},{"$f":"IF('Broker Sheet'!R378=\"\",\"\",'Broker Sheet'!R378)","v":""},{"$f":"IF('Broker Sheet'!S378=\"\",\"\",'Broker Sheet'!S378)","v":""},{"$f":"IF('Broker Sheet'!T378=\"\",\"\",'Broker Sheet'!T378)","v":""},{"$f":"IF('Broker Sheet'!U378=\"\",\"\",'Broker Sheet'!U378)","v":""},{"$f":"IF('Broker Sheet'!V378=\"\",\"\",'Broker Sheet'!V378)","v":""},{"$f":"IF('Broker Sheet'!W378=\"\",\"\",'Broker Sheet'!W378)","v":""},{"$f":"IF('Broker Sheet'!Y378=\"\",\"\",'Broker Sheet'!Y378)","v":""},{"$f":"IF('Broker Sheet'!AA378=\"\",\"\",'Broker Sheet'!AA378)","v":""},{"$f":"IF('Broker Sheet'!Z378=\"\",\"\",'Broker Sheet'!Z378)","v":""},{"$f":"IF('Broker Sheet'!AB378=\"\",\"\",'Broker Sheet'!AB378)","v":""},null,null,{"$f":"IF('Broker Sheet'!L378=\"\",\"\",TEXT('Broker Sheet'!L378,\"YYYYMMDD\"))","v":""},{"$f":"IF('Broker Sheet'!AC378=\"\",\"\",TEXT('Broker Sheet'!AC378,\"YYYYMMDD\"))","v":""},{"$f":"IF('Broker Sheet'!AD378=\"\",\"\",TEXT('Broker Sheet'!AD378,\"YYYYMMDD\"))","v":""},{"$f":"IF('Broker Sheet'!AE378=\"\",\"\",'Broker Sheet'!AE378)","v":""},{"$f":"IF('Broker Sheet'!AF378=\"\",\"\",TEXT('Broker Sheet'!AF378,\"YYYYMMDD\"))","v":""},{"$f":"IF('Broker Sheet'!AG378=\"\",\"\",TEXT('Broker Sheet'!AG378,\"YYYYMMDD\"))","v":""}]
[null,null,null,null,null,{"$f":"IF('Broker Sheet'!C379=\"\",\"\",'Broker Sheet'!C379)","v":""},{"$f":"IF('Broker Sheet'!D379=\"\",\"\",'Broker Sheet'!D379)","v":""},{"$f":"IF('Broker Sheet'!E379=\"\",\"\",'Broker Sheet'!E379)","v":""},{"$f":"IF('Broker Sheet'!F379=\"\",\"\",'Broker Sheet'!F379)","v":""},{"$f":"IF('Broker Sheet'!G379=\"\",\"\",TEXT('Broker Sheet'!G379,\"YYYYMMDD\"))","v":""},{"$f":"IF('Broker Sheet'!H379=\"\",\"\",'Broker Sheet'!H379)","v":""},{"$f":"IF('Broker Sheet'!I379=\"\",\"\",'Broker Sheet'!I379)","v":""},{"$f":"IF('Broker Sheet'!J379=\"\",\"\",VLOOKUP('Broker Sheet'!J379,(Reference!$E$4:$F$9),2,FALSE))","v":""},{"$f":"IF('Broker Sheet'!K379=\"\",\"\",'Broker Sheet'!K379)","v":""},{"$f":"IF('Broker Sheet'!R379=\"\",\"\",'Broker Sheet'!R379)","v":""},{"$f":"IF('Broker Sheet'!S379=\"\",\"\",'Broker Sheet'!S379)","v":""},{"$f":"IF('Broker Sheet'!T379=\"\",\"\",'Broker Sheet'!T379)","v":""},{"$f":"IF('Broker Sheet'!U379=\"\",\"\",'Broker Sheet'!U379)","v":""},{"$f":"IF('Broker Sheet'!V379=\"\",\"\",'Broker Sheet'!V379)","v":""},{"$f":"IF('Broker Sheet'!W379=\"\",\"\",'Broker Sheet'!W379)","v":""},{"$f":"IF('Broker Sheet'!Y379=\"\",\"\",'Broker Sheet'!Y379)","v":""},{"$f":"IF('Broker Sheet'!AA379=\"\",\"\",'Broker Sheet'!AA379)","v":""},{"$f":"IF('Broker Sheet'!Z379=\"\",\"\",'Broker Sheet'!Z379)","v":""},{"$f":"IF('Broker Sheet'!AB379=\"\",\"\",'Broker Sheet'!AB379)","v":""},null,null,{"$f":"IF('Broker Sheet'!L379=\"\",\"\",TEXT('Broker Sheet'!L379,\"YYYYMMDD\"))","v":""},{"$f":"IF('Broker Sheet'!AC379=\"\",\"\",TEXT('Broker Sheet'!AC379,\"YYYYMMDD\"))","v":""},{"$f":"IF('Broker Sheet'!AD379=\"\",\"\",TEXT('Broker Sheet'!AD379,\"YYYYMMDD\"))","v":""},{"$f":"IF('Broker Sheet'!AE379=\"\",\"\",'Broker Sheet'!AE379)","v":""},{"$f":"IF('Broker Sheet'!AF379=\"\",\"\",TEXT('Broker Sheet'!AF379,\"YYYYMMDD\"))","v":""},{"$f":"IF('Broker Sheet'!AG379=\"\",\"\",TEXT('Broker Sheet'!AG379,\"YYYYMMDD\"))","v":""}]
[null,null,null,null,null,{"$f":"IF('Broker Sheet'!C380=\"\",\"\",'Broker Sheet'!C380)","v":""},{"$f":"IF('Broker Sheet'!D380=\"\",\"\",'Broker Sheet'!D380)","v":""},{"$f":"IF('Broker Sheet'!E380=\"\",\"\",'Broker Sheet'!E380)","v":""},{"$f":"IF('Broker Sheet'!F380=\"\",\"\",'Broker Sheet'!F380)","v":""},{"$f":"IF('Broker Sheet'!G380=\"\",\"\",TEXT('Broker Sheet'!G380,\"YYYYMMDD\"))","v":""},{"$f":"IF('Broker Sheet'!H380=\"\",\"\",'Broker Sheet'!H380)","v":""},{"$f":"IF('Broker Sheet'!I380=\"\",\"\",'Broker Sheet'!I380)","v":""},{"$f":"IF('Broker Sheet'!J380=\"\",\"\",VLOOKUP('Broker Sheet'!J380,(Reference!$E$4:$F$9),2,FALSE))","v":""},{"$f":"IF('Broker Sheet'!K380=\"\",\"\",'Broker Sheet'!K380)","v":""},{"$f":"IF('Broker Sheet'!R380=\"\",\"\",'Broker Sheet'!R380)","v":""},{"$f":"IF('Broker Sheet'!S380=\"\",\"\",'Broker Sheet'!S380)","v":""},{"$f":"IF('Broker Sheet'!T380=\"\",\"\",'Broker Sheet'!T380)","v":""},{"$f":"IF('Broker Sheet'!U380=\"\",\"\",'Broker Sheet'!U380)","v":""},{"$f":"IF('Broker Sheet'!V380=\"\",\"\",'Broker Sheet'!V380)","v":""},{"$f":"IF('Broker Sheet'!W380=\"\",\"\",'Broker Sheet'!W380)","v":""},{"$f":"IF('Broker Sheet'!Y380=\"\",\"\",'Broker Sheet'!Y380)","v":""},{"$f":"IF('Broker Sheet'!AA380=\"\",\"\",'Broker Sheet'!AA380)","v":""},{"$f":"IF('Broker Sheet'!Z380=\"\",\"\",'Broker Sheet'!Z380)","v":""},{"$f":"IF('Broker Sheet'!AB380=\"\",\"\",'Broker Sheet'!AB380)","v":""},null,null,{"$f":"IF('Broker Sheet'!L380=\"\",\"\",TEXT('Broker Sheet'!L380,\"YYYYMMDD\"))","v":""},{"$f":"IF('Broker Sheet'!AC380=\"\",\"\",TEXT('Broker Sheet'!AC380,\"YYYYMMDD\"))","v":""},{"$f":"IF('Broker Sheet'!AD380=\"\",\"\",TEXT('Broker Sheet'!AD380,\"YYYYMMDD\"))","v":""},{"$f":"IF('Broker Sheet'!AE380=\"\",\"\",'Broker Sheet'!AE380)","v":""},{"$f":"IF('Broker Sheet'!AF380=\"\",\"\",TEXT('Broker Sheet'!AF380,\"YYYYMMDD\"))","v":""},{"$f":"IF('Broker Sheet'!AG380=\"\",\"\",TEXT('Broker Sheet'!AG380,\"YYYYMMDD\"))","v":""}]
[null,null,null,null,null,{"$f":"IF('Broker Sheet'!C381=\"\",\"\",'Broker Sheet'!C381)","v":""},{"$f":"IF('Broker Sheet'!D381=\"\",\"\",'Broker Sheet'!D381)","v":""},{"$f":"IF('Broker Sheet'!E381=\"\",\"\",'Broker Sheet'!E381)","v":""},{"$f":"IF('Broker Sheet'!F381=\"\",\"\",'Broker Sheet'!F381)","v":""},{"$f":"IF('Broker Sheet'!G381=\"\",\"\",TEXT('Broker Sheet'!G381,\"YYYYMMDD\"))","v":""},{"$f":"IF('Broker Sheet'!H381=\"\",\"\",'Broker Sheet'!H381)","v":""},{"$f":"IF('Broker Sheet'!I381=\"\",\"\",'Broker Sheet'!I381)","v":""},{"$f":"IF('Broker Sheet'!J381=\"\",\"\",VLOOKUP('Broker Sheet'!J381,(Reference!$E$4:$F$9),2,FALSE))","v":""},{"$f":"IF('Broker Sheet'!K381=\"\",\"\",'Broker Sheet'!K381)","v":""},{"$f":"IF('Broker Sheet'!R381=\"\",\"\",'Broker Sheet'!R381)","v":""},{"$f":"IF('Broker Sheet'!S381=\"\",\"\",'Broker Sheet'!S381)","v":""},{"$f":"IF('Broker Sheet'!T381=\"\",\"\",'Broker Sheet'!T381)","v":""},{"$f":"IF('Broker Sheet'!U381=\"\",\"\",'Broker Sheet'!U381)","v":""},{"$f":"IF('Broker Sheet'!V381=\"\",\"\",'Broker Sheet'!V381)","v":""},{"$f":"IF('Broker Sheet'!W381=\"\",\"\",'Broker Sheet'!W381)","v":""},{"$f":"IF('Broker Sheet'!Y381=\"\",\"\",'Broker Sheet'!Y381)","v":""},{"$f":"IF('Broker Sheet'!AA381=\"\",\"\",'Broker Sheet'!AA381)","v":""},{"$f":"IF('Broker Sheet'!Z381=\"\",\"\",'Broker Sheet'!Z381)","v":""},{"$f":"IF('Broker Sheet'!AB381=\"\",\"\",'Broker Sheet'!AB381)","v":""},null,null,{"$f":"IF('Broker Sheet'!L381=\"\",\"\",TEXT('Broker Sheet'!L381,\"YYYYMMDD\"))","v":""},{"$f":"IF('Broker Sheet'!AC381=\"\",\"\",TEXT('Broker Sheet'!AC381,\"YYYYMMDD\"))","v":""},{"$f":"IF('Broker Sheet'!AD381=\"\",\"\",TEXT('Broker Sheet'!AD381,\"YYYYMMDD\"))","v":""},{"$f":"IF('Broker Sheet'!AE381=\"\",\"\",'Broker Sheet'!AE381)","v":""},{"$f":"IF('Broker Sheet'!AF381=\"\",\"\",TEXT('Broker Sheet'!AF381,\"YYYYMMDD\"))","v":""},{"$f":"IF('Broker Sheet'!AG381=\"\",\"\",TEXT('Broker Sheet'!AG381,\"YYYYMMDD\"))","v":""}]
[null,null,null,null,null,{"$f":"IF('Broker Sheet'!C382=\"\",\"\",'Broker Sheet'!C382)","v":""},{"$f":"IF('Broker Sheet'!D382=\"\",\"\",'Broker Sheet'!D382)","v":""},{"$f":"IF('Broker Sheet'!E382=\"\",\"\",'Broker Sheet'!E382)","v":""},{"$f":"IF('Broker Sheet'!F382=\"\",\"\",'Broker Sheet'!F382)","v":""},{"$f":"IF('Broker Sheet'!G382=\"\",\"\",TEXT('Broker Sheet'!G382,\"YYYYMMDD\"))","v":""},{"$f":"IF('Broker Sheet'!H382=\"\",\"\",'Broker Sheet'!H382)","v":""},{"$f":"IF('Broker Sheet'!I382=\"\",\"\",'Broker Sheet'!I382)","v":""},{"$f":"IF('Broker Sheet'!J382=\"\",\"\",VLOOKUP('Broker Sheet'!J382,(Reference!$E$4:$F$9),2,FALSE))","v":""},{"$f":"IF('Broker Sheet'!K382=\"\",\"\",'Broker Sheet'!K382)","v":""},{"$f":"IF('Broker Sheet'!R382=\"\",\"\",'Broker Sheet'!R382)","v":""},{"$f":"IF('Broker Sheet'!S382=\"\",\"\",'Broker Sheet'!S382)","v":""},{"$f":"IF('Broker Sheet'!T382=\"\",\"\",'Broker Sheet'!T382)","v":""},{"$f":"IF('Broker Sheet'!U382=\"\",\"\",'Broker Sheet'!U382)","v":""},{"$f":"IF('Broker Sheet'!V382=\"\",\"\",'Broker Sheet'!V382)","v":""},{"$f":"IF('Broker Sheet'!W382=\"\",\"\",'Broker Sheet'!W382)","v":""},{"$f":"IF('Broker Sheet'!Y382=\"\",\"\",'Broker Sheet'!Y382)","v":""},{"$f":"IF('Broker Sheet'!AA382=\"\",\"\",'Broker Sheet'!AA382)","v":""},{"$f":"IF('Broker Sheet'!Z382=\"\",\"\",'Broker Sheet'!Z382)","v":""},{"$f":"IF('Broker Sheet'!AB382=\"\",\"\",'Broker Sheet'!AB382)","v":""},null,null,{"$f":"IF('Broker Sheet'!L382=\"\",\"\",TEXT('Broker Sheet'!L382,\"YYYYMMDD\"))","v":""},{"$f":"IF('Broker Sheet'!AC382=\"\",\"\",TEXT('Broker Sheet'!AC382,\"YYYYMMDD\"))","v":""},{"$f":"IF('Broker Sheet'!AD382=\"\",\"\",TEXT('Broker Sheet'!AD382,\"YYYYMMDD\"))","v":""},{"$f":"IF('Broker Sheet'!AE382=\"\",\"\",'Broker Sheet'!AE382)","v":""},{"$f":"IF('Broker Sheet'!AF382=\"\",\"\",TEXT('Broker Sheet'!AF382,\"YYYYMMDD\"))","v":""},{"$f":"IF('Broker Sheet'!AG382=\"\",\"\",TEXT('Broker Sheet'!AG382,\"YYYYMMDD\"))","v":""}]
[null,null,null,null,null,{"$f":"IF('Broker Sheet'!C383=\"\",\"\",'Broker Sheet'!C383)","v":""},{"$f":"IF('Broker Sheet'!D383=\"\",\"\",'Broker Sheet'!D383)","v":""},{"$f":"IF('Broker Sheet'!E383=\"\",\"\",'Broker Sheet'!E383)","v":""},{"$f":"IF('Broker Sheet'!F383=\"\",\"\",'Broker Sheet'!F383)","v":""},{"$f":"IF('Broker Sheet'!G383=\"\",\"\",TEXT('Broker Sheet'!G383,\"YYYYMMDD\"))","v":""},{"$f":"IF('Broker Sheet'!H383=\"\",\"\",'Broker Sheet'!H383)","v":""},{"$f":"IF('Broker Sheet'!I383=\"\",\"\",'Broker Sheet'!I383)","v":""},{"$f":"IF('Broker Sheet'!J383=\"\",\"\",VLOOKUP('Broker Sheet'!J383,(Reference!$E$4:$F$9),2,FALSE))","v":""},{"$f":"IF('Broker Sheet'!K383=\"\",\"\",'Broker Sheet'!K383)","v":""},{"$f":"IF('Broker Sheet'!R383=\"\",\"\",'Broker Sheet'!R383)","v":""},{"$f":"IF('Broker Sheet'!S383=\"\",\"\",'Broker Sheet'!S383)","v":""},{"$f":"IF('Broker Sheet'!T383=\"\",\"\",'Broker Sheet'!T383)","v":""},{"$f":"IF('Broker Sheet'!U383=\"\",\"\",'Broker Sheet'!U383)","v":""},{"$f":"IF('Broker Sheet'!V383=\"\",\"\",'Broker Sheet'!V383)","v":""},{"$f":"IF('Broker Sheet'!W383=\"\",\"\",'Broker Sheet'!W383)","v":""},{"$f":"IF('Broker Sheet'!Y383=\"\",\"\",'Broker Sheet'!Y383)","v":""},{"$f":"IF('Broker Sheet'!AA383=\"\",\"\",'Broker Sheet'!AA383)","v":""},{"$f":"IF('Broker Sheet'!Z383=\"\",\"\",'Broker Sheet'!Z383)","v":""},{"$f":"IF('Broker Sheet'!AB383=\"\",\"\",'Broker Sheet'!AB383)","v":""},null,null,{"$f":"IF('Broker Sheet'!L383=\"\",\"\",TEXT('Broker Sheet'!L383,\"YYYYMMDD\"))","v":""},{"$f":"IF('Broker Sheet'!AC383=\"\",\"\",TEXT('Broker Sheet'!AC383,\"YYYYMMDD\"))","v":""},{"$f":"IF('Broker Sheet'!AD383=\"\",\"\",TEXT('Broker Sheet'!AD383,\"YYYYMMDD\"))","v":""},{"$f":"IF('Broker Sheet'!AE383=\"\",\"\",'Broker Sheet'!AE383)","v":""},{"$f":"IF('Broker Sheet'!AF383=\"\",\"\",TEXT('Broker Sheet'!AF383,\"YYYYMMDD\"))","v":""},{"$f":"IF('Broker Sheet'!AG383=\"\",\"\",TEXT('Broker Sheet'!AG383,\"YYYYMMDD\"))","v":""}]
[null,null,null,null,null,{"$f":"IF('Broker Sheet'!C384=\"\",\"\",'Broker Sheet'!C384)","v":""},{"$f":"IF('Broker Sheet'!D384=\"\",\"\",'Broker Sheet'!D384)","v":""},{"$f":"IF('Broker Sheet'!E384=\"\",\"\",'Broker Sheet'!E384)","v":""},{"$f":"IF('Broker Sheet'!F384=\"\",\"\",'Broker Sheet'!F384)","v":""},{"$f":"IF('Broker Sheet'!G384=\"\",\"\",TEXT('Broker Sheet'!G384,\"YYYYMMDD\"))","v":""},{"$f":"IF('Broker Sheet'!H384=\"\",\"\",'Broker Sheet'!H384)","v":""},{"$f":"IF('Broker Sheet'!I384=\"\",\"\",'Broker Sheet'!I384)","v":""},{"$f":"IF('Broker Sheet'!J384=\"\",\"\",VLOOKUP('Broker Sheet'!J384,(Reference!$E$4:$F$9),2,FALSE))","v":""},{"$f":"IF('Broker Sheet'!K384=\"\",\"\",'Broker Sheet'!K384)","v":""},{"$f":"IF('Broker Sheet'!R384=\"\",\"\",'Broker Sheet'!R384)","v":""},{"$f":"IF('Broker Sheet'!S384=\"\",\"\",'Broker Sheet'!S384)","v":""},{"$f":"IF('Broker Sheet'!T384=\"\",\"\",'Broker Sheet'!T384)","v":""},{"$f":"IF('Broker Sheet'!U384=\"\",\"\",'Broker Sheet'!U384)","v":""},{"$f":"IF('Broker Sheet'!V384=\"\",\"\",'Broker Sheet'!V384)","v":""},{"$f":"IF('Broker Sheet'!W384=\"\",\"\",'Broker Sheet'!W384)","v":""},{"$f":"IF('Broker Sheet'!Y384=\"\",\"\",'Broker Sheet'!Y384)","v":""},{"$f":"IF('Broker Sheet'!AA384=\"\",\"\",'Broker Sheet'!AA384)","v":""},{"$f":"IF('Broker Sheet'!Z384=\"\",\"\",'Broker Sheet'!Z384)","v":""},{"$f":"IF('Broker Sheet'!AB384=\"\",\"\",'Broker Sheet'!AB384)","v":""},null,null,{"$f":"IF('Broker Sheet'!L384=\"\",\"\",TEXT('Broker Sheet'!L384,\"YYYYMMDD\"))","v":""},{"$f":"IF('Broker Sheet'!AC384=\"\",\"\",TEXT('Broker Sheet'!AC384,\"YYYYMMDD\"))","v":""},{"$f":"IF('Broker Sheet'!AD384=\"\",\"\",TEXT('Broker Sheet'!AD384,\"YYYYMMDD\"))","v":""},{"$f":"IF('Broker Sheet'!AE384=\"\",\"\",'Broker Sheet'!AE384)","v":""},{"$f":"IF('Broker Sheet'!AF384=\"\",\"\",TEXT('Broker Sheet'!AF384,\"YYYYMMDD\"))","v":""},{"$f":"IF('Broker Sheet'!AG384=\"\",\"\",TEXT('Broker Sheet'!AG384,\"YYYYMMDD\"))","v":""}]
[null,null,null,null,null,{"$f":"IF('Broker Sheet'!C385=\"\",\"\",'Broker Sheet'!C385)","v":""},{"$f":"IF('Broker Sheet'!D385=\"\",\"\",'Broker Sheet'!D385)","v":""},{"$f":"IF('Broker Sheet'!E385=\"\",\"\",'Broker Sheet'!E385)","v":""},{"$f":"IF('Broker Sheet'!F385=\"\",\"\",'Broker Sheet'!F385)","v":""},{"$f":"IF('Broker Sheet'!G385=\"\",\"\",TEXT('Broker Sheet'!G385,\"YYYYMMDD\"))","v":""},{"$f":"IF('Broker Sheet'!H385=\"\",\"\",'Broker Sheet'!H385)","v":""},{"$f":"IF('Broker Sheet'!I385=\"\",\"\",'Broker Sheet'!I385)","v":""},{"$f":"IF('Broker Sheet'!J385=\"\",\"\",VLOOKUP('Broker Sheet'!J385,(Reference!$E$4:$F$9),2,FALSE))","v":""},{"$f":"IF('Broker Sheet'!K385=\"\",\"\",'Broker Sheet'!K385)","v":""},{"$f":"IF('Broker Sheet'!R385=\"\",\"\",'Broker Sheet'!R385)","v":""},{"$f":"IF('Broker Sheet'!S385=\"\",\"\",'Broker Sheet'!S385)","v":""},{"$f":"IF('Broker Sheet'!T385=\"\",\"\",'Broker Sheet'!T385)","v":""},{"$f":"IF('Broker Sheet'!U385=\"\",\"\",'Broker Sheet'!U385)","v":""},{"$f":"IF('Broker Sheet'!V385=\"\",\"\",'Broker Sheet'!V385)","v":""},{"$f":"IF('Broker Sheet'!W385=\"\",\"\",'Broker Sheet'!W385)","v":""},{"$f":"IF('Broker Sheet'!Y385=\"\",\"\",'Broker Sheet'!Y385)","v":""},{"$f":"IF('Broker Sheet'!AA385=\"\",\"\",'Broker Sheet'!AA385)","v":""},{"$f":"IF('Broker Sheet'!Z385=\"\",\"\",'Broker Sheet'!Z385)","v":""},{"$f":"IF('Broker Sheet'!AB385=\"\",\"\",'Broker Sheet'!AB385)","v":""},null,null,{"$f":"IF('Broker Sheet'!L385=\"\",\"\",TEXT('Broker Sheet'!L385,\"YYYYMMDD\"))","v":""},{"$f":"IF('Broker Sheet'!AC385=\"\",\"\",TEXT('Broker Sheet'!AC385,\"YYYYMMDD\"))","v":""},{"$f":"IF('Broker Sheet'!AD385=\"\",\"\",TEXT('Broker Sheet'!AD385,\"YYYYMMDD\"))","v":""},{"$f":"IF('Broker Sheet'!AE385=\"\",\"\",'Broker Sheet'!AE385)","v":""},{"$f":"IF('Broker Sheet'!AF385=\"\",\"\",TEXT('Broker Sheet'!AF385,\"YYYYMMDD\"))","v":""},{"$f":"IF('Broker Sheet'!AG385=\"\",\"\",TEXT('Broker Sheet'!AG385,\"YYYYMMDD\"))","v":""}]
[null,null,null,null,null,{"$f":"IF('Broker Sheet'!C386=\"\",\"\",'Broker Sheet'!C386)","v":""},{"$f":"IF('Broker Sheet'!D386=\"\",\"\",'Broker Sheet'!D386)","v":""},{"$f":"IF('Broker Sheet'!E386=\"\",\"\",'Broker Sheet'!E386)","v":""},{"$f":"IF('Broker Sheet'!F386=\"\",\"\",'Broker Sheet'!F386)","v":""},{"$f":"IF('Broker Sheet'!G386=\"\",\"\",TEXT('Broker Sheet'!G386,\"YYYYMMDD\"))","v":""},{"$f":"IF('Broker Sheet'!H386=\"\",\"\",'Broker Sheet'!H386)","v":""},{"$f":"IF('Broker Sheet'!I386=\"\",\"\",'Broker Sheet'!I386)","v":""},{"$f":"IF('Broker Sheet'!J386=\"\",\"\",VLOOKUP('Broker Sheet'!J386,(Reference!$E$4:$F$9),2,FALSE))","v":""},{"$f":"IF('Broker Sheet'!K386=\"\",\"\",'Broker Sheet'!K386)","v":""},{"$f":"IF('Broker Sheet'!R386=\"\",\"\",'Broker Sheet'!R386)","v":""},{"$f":"IF('Broker Sheet'!S386=\"\",\"\",'Broker Sheet'!S386)","v":""},{"$f":"IF('Broker Sheet'!T386=\"\",\"\",'Broker Sheet'!T386)","v":""},{"$f":"IF('Broker Sheet'!U386=\"\",\"\",'Broker Sheet'!U386)","v":""},{"$f":"IF('Broker Sheet'!V386=\"\",\"\",'Broker Sheet'!V386)","v":""},{"$f":"IF('Broker Sheet'!W386=\"\",\"\",'Broker Sheet'!W386)","v":""},{"$f":"IF('Broker Sheet'!Y386=\"\",\"\",'Broker Sheet'!Y386)","v":""},{"$f":"IF('Broker Sheet'!AA386=\"\",\"\",'Broker Sheet'!AA386)","v":""},{"$f":"IF('Broker Sheet'!Z386=\"\",\"\",'Broker Sheet'!Z386)","v":""},{"$f":"IF('Broker Sheet'!AB386=\"\",\"\",'Broker Sheet'!AB386)","v":""},null,null,{"$f":"IF('Broker Sheet'!L386=\"\",\"\",TEXT('Broker Sheet'!L386,\"YYYYMMDD\"))","v":""},{"$f":"IF('Broker Sheet'!AC386=\"\",\"\",TEXT('Broker Sheet'!AC386,\"YYYYMMDD\"))","v":""},{"$f":"IF('Broker Sheet'!AD386=\"\",\"\",TEXT('Broker Sheet'!AD386,\"YYYYMMDD\"))","v":""},{"$f":"IF('Broker Sheet'!AE386=\"\",\"\",'Broker Sheet'!AE386)","v":""},{"$f":"IF('Broker Sheet'!AF386=\"\",\"\",TEXT('Broker Sheet'!AF386,\"YYYYMMDD\"))","v":""},{"$f":"IF('Broker Sheet'!AG386=\"\",\"\",TEXT('Broker Sheet'!AG386,\"YYYYMMDD\"))","v":""}]
[null,null,null,null,null,{"$f":"IF('Broker Sheet'!C387=\"\",\"\",'Broker Sheet'!C387)","v":""},{"$f":"IF('Broker Sheet'!D387=\"\",\"\",'Broker Sheet'!D387)","v":""},{"$f":"IF('Broker Sheet'!E387=\"\",\"\",'Broker Sheet'!E387)","v":""},{"$f":"IF('Broker Sheet'!F387=\"\",\"\",'Broker Sheet'!F387)","v":""},{"$f":"IF('Broker Sheet'!G387=\"\",\"\",TEXT('Broker Sheet'!G387,\"YYYYMMDD\"))","v":""},{"$f":"IF('Broker Sheet'!H387=\"\",\"\",'Broker Sheet'!H387)","v":""},{"$f":"IF('Broker Sheet'!I387=\"\",\"\",'Broker Sheet'!I387)","v":""},{"$f":"IF('Broker Sheet'!J387=\"\",\"\",VLOOKUP('Broker Sheet'!J387,(Reference!$E$4:$F$9),2,FALSE))","v":""},{"$f":"IF('Broker Sheet'!K387=\"\",\"\",'Broker Sheet'!K387)","v":""},{"$f":"IF('Broker Sheet'!R387=\"\",\"\",'Broker Sheet'!R387)","v":""},{"$f":"IF('Broker Sheet'!S387=\"\",\"\",'Broker Sheet'!S387)","v":""},{"$f":"IF('Broker Sheet'!T387=\"\",\"\",'Broker Sheet'!T387)","v":""},{"$f":"IF('Broker Sheet'!U387=\"\",\"\",'Broker Sheet'!U387)","v":""},{"$f":"IF('Broker Sheet'!V387=\"\",\"\",'Broker Sheet'!V387)","v":""},{"$f":"IF('Broker Sheet'!W387=\"\",\"\",'Broker Sheet'!W387)","v":""},{"$f":"IF('Broker Sheet'!Y387=\"\",\"\",'Broker Sheet'!Y387)","v":""},{"$f":"IF('Broker Sheet'!AA387=\"\",\"\",'Broker Sheet'!AA387)","v":""},{"$f":"IF('Broker Sheet'!Z387=\"\",\"\",'Broker Sheet'!Z387)","v":""},{"$f":"IF('Broker Sheet'!AB387=\"\",\"\",'Broker Sheet'!AB387)","v":""},null,null,{"$f":"IF('Broker Sheet'!L387=\"\",\"\",TEXT('Broker Sheet'!L387,\"YYYYMMDD\"))","v":""},{"$f":"IF('Broker Sheet'!AC387=\"\",\"\",TEXT('Broker Sheet'!AC387,\"YYYYMMDD\"))","v":""},{"$f":"IF('Broker Sheet'!AD387=\"\",\"\",TEXT('Broker Sheet'!AD387,\"YYYYMMDD\"))","v":""},{"$f":"IF('Broker Sheet'!AE387=\"\",\"\",'Broker Sheet'!AE387)","v":""},{"$f":"IF('Broker Sheet'!AF387=\"\",\"\",TEXT('Broker Sheet'!AF387,\"YYYYMMDD\"))","v":""},{"$f":"IF('Broker Sheet'!AG387=\"\",\"\",TEXT('Broker Sheet'!AG387,\"YYYYMMDD\"))","v":""}]
[null,null,null,null,null,{"$f":"IF('Broker Sheet'!C388=\"\",\"\",'Broker Sheet'!C388)","v":""},{"$f":"IF('Broker Sheet'!D388=\"\",\"\",'Broker Sheet'!D388)","v":""},{"$f":"IF('Broker Sheet'!E388=\"\",\"\",'Broker Sheet'!E388)","v":""},{"$f":"IF('Broker Sheet'!F388=\"\",\"\",'Broker Sheet'!F388)","v":""},{"$f":"IF('Broker Sheet'!G388=\"\",\"\",TEXT('Broker Sheet'!G388,\"YYYYMMDD\"))","v":""},{"$f":"IF('Broker Sheet'!H388=\"\",\"\",'Broker Sheet'!H388)","v":""},{"$f":"IF('Broker Sheet'!I388=\"\",\"\",'Broker Sheet'!I388)","v":""},{"$f":"IF('Broker Sheet'!J388=\"\",\"\",VLOOKUP('Broker Sheet'!J388,(Reference!$E$4:$F$9),2,FALSE))","v":""},{"$f":"IF('Broker Sheet'!K388=\"\",\"\",'Broker Sheet'!K388)","v":""},{"$f":"IF('Broker Sheet'!R388=\"\",\"\",'Broker Sheet'!R388)","v":""},{"$f":"IF('Broker Sheet'!S388=\"\",\"\",'Broker Sheet'!S388)","v":""},{"$f":"IF('Broker Sheet'!T388=\"\",\"\",'Broker Sheet'!T388)","v":""},{"$f":"IF('Broker Sheet'!U388=\"\",\"\",'Broker Sheet'!U388)","v":""},{"$f":"IF('Broker Sheet'!V388=\"\",\"\",'Broker Sheet'!V388)","v":""},{"$f":"IF('Broker Sheet'!W388=\"\",\"\",'Broker Sheet'!W388)","v":""},{"$f":"IF('Broker Sheet'!Y388=\"\",\"\",'Broker Sheet'!Y388)","v":""},{"$f":"IF('Broker Sheet'!AA388=\"\",\"\",'Broker Sheet'!AA388)","v":""},{"$f":"IF('Broker Sheet'!Z388=\"\",\"\",'Broker Sheet'!Z388)","v":""},{"$f":"IF('Broker Sheet'!AB388=\"\",\"\",'Broker Sheet'!AB388)","v":""},null,null,{"$f":"IF('Broker Sheet'!L388=\"\",\"\",TEXT('Broker Sheet'!L388,\"YYYYMMDD\"))","v":""},{"$f":"IF('Broker Sheet'!AC388=\"\",\"\",TEXT('Broker Sheet'!AC388,\"YYYYMMDD\"))","v":""},{"$f":"IF('Broker Sheet'!AD388=\"\",\"\",TEXT('Broker Sheet'!AD388,\"YYYYMMDD\"))","v":""},{"$f":"IF('Broker Sheet'!AE388=\"\",\"\",'Broker Sheet'!AE388)","v":""},{"$f":"IF('Broker Sheet'!AF388=\"\",\"\",TEXT('Broker Sheet'!AF388,\"YYYYMMDD\"))","v":""},{"$f":"IF('Broker Sheet'!AG388=\"\",\"\",TEXT('Broker Sheet'!AG388,\"YYYYMMDD\"))","v":""}]
[null,null,null,null,null,{"$f":"IF('Broker Sheet'!C389=\"\",\"\",'Broker Sheet'!C389)","v":""},{"$f":"IF('Broker Sheet'!D389=\"\",\"\",'Broker Sheet'!D389)","v":""},{"$f":"IF('Broker Sheet'!E389=\"\",\"\",'Broker Sheet'!E389)","v":""},{"$f":"IF('Broker Sheet'!F389=\"\",\"\",'Broker Sheet'!F389)","v":""},{"$f":"IF('Broker Sheet'!G389=\"\",\"\",TEXT('Broker Sheet'!G389,\"YYYYMMDD\"))","v":""},{"$f":"IF('Broker Sheet'!H389=\"\",\"\",'Broker Sheet'!H389)","v":""},{"$f":"IF('Broker Sheet'!I389=\"\",\"\",'Broker Sheet'!I389)","v":""},{"$f":"IF('Broker Sheet'!J389=\"\",\"\",VLOOKUP('Broker Sheet'!J389,(Reference!$E$4:$F$9),2,FALSE))","v":""},{"$f":"IF('Broker Sheet'!K389=\"\",\"\",'Broker Sheet'!K389)","v":""},{"$f":"IF('Broker Sheet'!R389=\"\",\"\",'Broker Sheet'!R389)","v":""},{"$f":"IF('Broker Sheet'!S389=\"\",\"\",'Broker Sheet'!S389)","v":""},{"$f":"IF('Broker Sheet'!T389=\"\",\"\",'Broker Sheet'!T389)","v":""},{"$f":"IF('Broker Sheet'!U389=\"\",\"\",'Broker Sheet'!U389)","v":""},{"$f":"IF('Broker Sheet'!V389=\"\",\"\",'Broker Sheet'!V389)","v":""},{"$f":"IF('Broker Sheet'!W389=\"\",\"\",'Broker Sheet'!W389)","v":""},{"$f":"IF('Broker Sheet'!Y389=\"\",\"\",'Broker Sheet'!Y389)","v":""},{"$f":"IF('Broker Sheet'!AA389=\"\",\"\",'Broker Sheet'!AA389)","v":""},{"$f":"IF('Broker Sheet'!Z389=\"\",\"\",'Broker Sheet'!Z389)","v":""},{"$f":"IF('Broker Sheet'!AB389=\"\",\"\",'Broker Sheet'!AB389)","v":""},null,null,{"$f":"IF('Broker Sheet'!L389=\"\",\"\",TEXT('Broker Sheet'!L389,\"YYYYMMDD\"))","v":""},{"$f":"IF('Broker Sheet'!AC389=\"\",\"\",TEXT('Broker Sheet'!AC389,\"YYYYMMDD\"))","v":""},{"$f":"IF('Broker Sheet'!AD389=\"\",\"\",TEXT('Broker Sheet'!AD389,\"YYYYMMDD\"))","v":""},{"$f":"IF('Broker Sheet'!AE389=\"\",\"\",'Broker Sheet'!AE389)","v":""},{"$f":"IF('Broker Sheet'!AF389=\"\",\"\",TEXT('Broker Sheet'!AF389,\"YYYYMMDD\"))","v":""},{"$f":"IF('Broker Sheet'!AG389=\"\",\"\",TEXT('Broker Sheet'!AG389,\"YYYYMMDD\"))","v":""}]
[null,null,null,null,null,{"$f":"IF('Broker Sheet'!C390=\"\",\"\",'Broker Sheet'!C390)","v":""},{"$f":"IF('Broker Sheet'!D390=\"\",\"\",'Broker Sheet'!D390)","v":""},{"$f":"IF('Broker Sheet'!E390=\"\",\"\",'Broker Sheet'!E390)","v":""},{"$f":"IF('Broker Sheet'!F390=\"\",\"\",'Broker Sheet'!F390)","v":""},{"$f":"IF('Broker Sheet'!G390=\"\",\"\",TEXT('Broker Sheet'!G390,\"YYYYMMDD\"))","v":""},{"$f":"IF('Broker Sheet'!H390=\"\",\"\",'Broker Sheet'!H390)","v":""},{"$f":"IF('Broker Sheet'!I390=\"\",\"\",'Broker Sheet'!I390)","v":""},{"$f":"IF('Broker Sheet'!J390=\"\",\"\",VLOOKUP('Broker Sheet'!J390,(Reference!$E$4:$F$9),2,FALSE))","v":""},{"$f":"IF('Broker Sheet'!K390=\"\",\"\",'Broker Sheet'!K390)","v":""},{"$f":"IF('Broker Sheet'!R390=\"\",\"\",'Broker Sheet'!R390)","v":""},{"$f":"IF('Broker Sheet'!S390=\"\",\"\",'Broker Sheet'!S390)","v":""},{"$f":"IF('Broker Sheet'!T390=\"\",\"\",'Broker Sheet'!T390)","v":""},{"$f":"IF('Broker Sheet'!U390=\"\",\"\",'Broker Sheet'!U390)","v":""},{"$f":"IF('Broker Sheet'!V390=\"\",\"\",'Broker Sheet'!V390)","v":""},{"$f":"IF('Broker Sheet'!W390=\"\",\"\",'Broker Sheet'!W390)","v":""},{"$f":"IF('Broker Sheet'!Y390=\"\",\"\",'Broker Sheet'!Y390)","v":""},{"$f":"IF('Broker Sheet'!AA390=\"\",\"\",'Broker Sheet'!AA390)","v":""},{"$f":"IF('Broker Sheet'!Z390=\"\",\"\",'Broker Sheet'!Z390)","v":""},{"$f":"IF('Broker Sheet'!AB390=\"\",\"\",'Broker Sheet'!AB390)","v":""},null,null,{"$f":"IF('Broker Sheet'!L390=\"\",\"\",TEXT('Broker Sheet'!L390,\"YYYYMMDD\"))","v":""},{"$f":"IF('Broker Sheet'!AC390=\"\",\"\",TEXT('Broker Sheet'!AC390,\"YYYYMMDD\"))","v":""},{"$f":"IF('Broker Sheet'!AD390=\"\",\"\",TEXT('Broker Sheet'!AD390,\"YYYYMMDD\"))","v":""},{"$f":"IF('Broker Sheet'!AE390=\"\",\"\",'Broker Sheet'!AE390)","v":""},{"$f":"IF('Broker Sheet'!AF390=\"\",\"\",TEXT('Broker Sheet'!AF390,\"YYYYMMDD\"))","v":""},{"$f":"IF('Broker Sheet'!AG390=\"\",\"\",TEXT('Broker Sheet'!AG390,\"YYYYMMDD\"))","v":""}]
[null,null,null,null,null,{"$f":"IF('Broker Sheet'!C391=\"\",\"\",'Broker Sheet'!C391)","v":""},{"$f":"IF('Broker Sheet'!D391=\"\",\"\",'Broker Sheet'!D391)","v":""},{"$f":"IF('Broker Sheet'!E391=\"\",\"\",'Broker Sheet'!E391)","v":""},{"$f":"IF('Broker Sheet'!F391=\"\",\"\",'Broker Sheet'!F391)","v":""},{"$f":"IF('Broker Sheet'!G391=\"\",\"\",TEXT('Broker Sheet'!G391,\"YYYYMMDD\"))","v":""},{"$f":"IF('Broker Sheet'!H391=\"\",\"\",'Broker Sheet'!H391)","v":""},{"$f":"IF('Broker Sheet'!I391=\"\",\"\",'Broker Sheet'!I391)","v":""},{"$f":"IF('Broker Sheet'!J391=\"\",\"\",VLOOKUP('Broker Sheet'!J391,(Reference!$E$4:$F$9),2,FALSE))","v":""},{"$f":"IF('Broker Sheet'!K391=\"\",\"\",'Broker Sheet'!K391)","v":""},{"$f":"IF('Broker Sheet'!R391=\"\",\"\",'Broker Sheet'!R391)","v":""},{"$f":"IF('Broker Sheet'!S391=\"\",\"\",'Broker Sheet'!S391)","v":""},{"$f":"IF('Broker Sheet'!T391=\"\",\"\",'Broker Sheet'!T391)","v":""},{"$f":"IF('Broker Sheet'!U391=\"\",\"\",'Broker Sheet'!U391)","v":""},{"$f":"IF('Broker Sheet'!V391=\"\",\"\",'Broker Sheet'!V391)","v":""},{"$f":"IF('Broker Sheet'!W391=\"\",\"\",'Broker Sheet'!W391)","v":""},{"$f":"IF('Broker Sheet'!Y391=\"\",\"\",'Broker Sheet'!Y391)","v":""},{"$f":"IF('Broker Sheet'!AA391=\"\",\"\",'Broker Sheet'!AA391)","v":""},{"$f":"IF('Broker Sheet'!Z391=\"\",\"\",'Broker Sheet'!Z391)","v":""},{"$f":"IF('Broker Sheet'!AB391=\"\",\"\",'Broker Sheet'!AB391)","v":""},null,null,{"$f":"IF('Broker Sheet'!L391=\"\",\"\",TEXT('Broker Sheet'!L391,\"YYYYMMDD\"))","v":""},{"$f":"IF('Broker Sheet'!AC391=\"\",\"\",TEXT('Broker Sheet'!AC391,\"YYYYMMDD\"))","v":""},{"$f":"IF('Broker Sheet'!AD391=\"\",\"\",TEXT('Broker Sheet'!AD391,\"YYYYMMDD\"))","v":""},{"$f":"IF('Broker Sheet'!AE391=\"\",\"\",'Broker Sheet'!AE391)","v":""},{"$f":"IF('Broker Sheet'!AF391=\"\",\"\",TEXT('Broker Sheet'!AF391,\"YYYYMMDD\"))","v":""},{"$f":"IF('Broker Sheet'!AG391=\"\",\"\",TEXT('Broker Sheet'!AG391,\"YYYYMMDD\"))","v":""}]
[null,null,null,null,null,{"$f":"IF('Broker Sheet'!C392=\"\",\"\",'Broker Sheet'!C392)","v":""},{"$f":"IF('Broker Sheet'!D392=\"\",\"\",'Broker Sheet'!D392)","v":""},{"$f":"IF('Broker Sheet'!E392=\"\",\"\",'Broker Sheet'!E392)","v":""},{"$f":"IF('Broker Sheet'!F392=\"\",\"\",'Broker Sheet'!F392)","v":""},{"$f":"IF('Broker Sheet'!G392=\"\",\"\",TEXT('Broker Sheet'!G392,\"YYYYMMDD\"))","v":""},{"$f":"IF('Broker Sheet'!H392=\"\",\"\",'Broker Sheet'!H392)","v":""},{"$f":"IF('Broker Sheet'!I392=\"\",\"\",'Broker Sheet'!I392)","v":""},{"$f":"IF('Broker Sheet'!J392=\"\",\"\",VLOOKUP('Broker Sheet'!J392,(Reference!$E$4:$F$9),2,FALSE))","v":""},{"$f":"IF('Broker Sheet'!K392=\"\",\"\",'Broker Sheet'!K392)","v":""},{"$f":"IF('Broker Sheet'!R392=\"\",\"\",'Broker Sheet'!R392)","v":""},{"$f":"IF('Broker Sheet'!S392=\"\",\"\",'Broker Sheet'!S392)","v":""},{"$f":"IF('Broker Sheet'!T392=\"\",\"\",'Broker Sheet'!T392)","v":""},{"$f":"IF('Broker Sheet'!U392=\"\",\"\",'Broker Sheet'!U392)","v":""},{"$f":"IF('Broker Sheet'!V392=\"\",\"\",'Broker Sheet'!V392)","v":""},{"$f":"IF('Broker Sheet'!W392=\"\",\"\",'Broker Sheet'!W392)","v":""},{"$f":"IF('Broker Sheet'!Y392=\"\",\"\",'Broker Sheet'!Y392)","v":""},{"$f":"IF('Broker Sheet'!AA392=\"\",\"\",'Broker Sheet'!AA392)","v":""},{"$f":"IF('Broker Sheet'!Z392=\"\",\"\",'Broker Sheet'!Z392)","v":""},{"$f":"IF('Broker Sheet'!AB392=\"\",\"\",'Broker Sheet'!AB392)","v":""},null,null,{"$f":"IF('Broker Sheet'!L392=\"\",\"\",TEXT('Broker Sheet'!L392,\"YYYYMMDD\"))","v":""},{"$f":"IF('Broker Sheet'!AC392=\"\",\"\",TEXT('Broker Sheet'!AC392,\"YYYYMMDD\"))","v":""},{"$f":"IF('Broker Sheet'!AD392=\"\",\"\",TEXT('Broker Sheet'!AD392,\"YYYYMMDD\"))","v":""},{"$f":"IF('Broker Sheet'!AE392=\"\",\"\",'Broker Sheet'!AE392)","v":""},{"$f":"IF('Broker Sheet'!AF392=\"\",\"\",TEXT('Broker Sheet'!AF392,\"YYYYMMDD\"))","v":""},{"$f":"IF('Broker Sheet'!AG392=\"\",\"\",TEXT('Broker Sheet'!AG392,\"YYYYMMDD\"))","v":""}]
[null,null,null,null,null,{"$f":"IF('Broker Sheet'!C393=\"\",\"\",'Broker Sheet'!C393)","v":""},{"$f":"IF('Broker Sheet'!D393=\"\",\"\",'Broker Sheet'!D393)","v":""},{"$f":"IF('Broker Sheet'!E393=\"\",\"\",'Broker Sheet'!E393)","v":""},{"$f":"IF('Broker Sheet'!F393=\"\",\"\",'Broker Sheet'!F393)","v":""},{"$f":"IF('Broker Sheet'!G393=\"\",\"\",TEXT('Broker Sheet'!G393,\"YYYYMMDD\"))","v":""},{"$f":"IF('Broker Sheet'!H393=\"\",\"\",'Broker Sheet'!H393)","v":""},{"$f":"IF('Broker Sheet'!I393=\"\",\"\",'Broker Sheet'!I393)","v":""},{"$f":"IF('Broker Sheet'!J393=\"\",\"\",VLOOKUP('Broker Sheet'!J393,(Reference!$E$4:$F$9),2,FALSE))","v":""},{"$f":"IF('Broker Sheet'!K393=\"\",\"\",'Broker Sheet'!K393)","v":""},{"$f":"IF('Broker Sheet'!R393=\"\",\"\",'Broker Sheet'!R393)","v":""},{"$f":"IF('Broker Sheet'!S393=\"\",\"\",'Broker Sheet'!S393)","v":""},{"$f":"IF('Broker Sheet'!T393=\"\",\"\",'Broker Sheet'!T393)","v":""},{"$f":"IF('Broker Sheet'!U393=\"\",\"\",'Broker Sheet'!U393)","v":""},{"$f":"IF('Broker Sheet'!V393=\"\",\"\",'Broker Sheet'!V393)","v":""},{"$f":"IF('Broker Sheet'!W393=\"\",\"\",'Broker Sheet'!W393)","v":""},{"$f":"IF('Broker Sheet'!Y393=\"\",\"\",'Broker Sheet'!Y393)","v":""},{"$f":"IF('Broker Sheet'!AA393=\"\",\"\",'Broker Sheet'!AA393)","v":""},{"$f":"IF('Broker Sheet'!Z393=\"\",\"\",'Broker Sheet'!Z393)","v":""},{"$f":"IF('Broker Sheet'!AB393=\"\",\"\",'Broker Sheet'!AB393)","v":""},null,null,{"$f":"IF('Broker Sheet'!L393=\"\",\"\",TEXT('Broker Sheet'!L393,\"YYYYMMDD\"))","v":""},{"$f":"IF('Broker Sheet'!AC393=\"\",\"\",TEXT('Broker Sheet'!AC393,\"YYYYMMDD\"))","v":""},{"$f":"IF('Broker Sheet'!AD393=\"\",\"\",TEXT('Broker Sheet'!AD393,\"YYYYMMDD\"))","v":""},{"$f":"IF('Broker Sheet'!AE393=\"\",\"\",'Broker Sheet'!AE393)","v":""},{"$f":"IF('Broker Sheet'!AF393=\"\",\"\",TEXT('Broker Sheet'!AF393,\"YYYYMMDD\"))","v":""},{"$f":"IF('Broker Sheet'!AG393=\"\",\"\",TEXT('Broker Sheet'!AG393,\"YYYYMMDD\"))","v":""}]
[null,null,null,null,null,{"$f":"IF('Broker Sheet'!C394=\"\",\"\",'Broker Sheet'!C394)","v":""},{"$f":"IF('Broker Sheet'!D394=\"\",\"\",'Broker Sheet'!D394)","v":""},{"$f":"IF('Broker Sheet'!E394=\"\",\"\",'Broker Sheet'!E394)","v":""},{"$f":"IF('Broker Sheet'!F394=\"\",\"\",'Broker Sheet'!F394)","v":""},{"$f":"IF('Broker Sheet'!G394=\"\",\"\",TEXT('Broker Sheet'!G394,\"YYYYMMDD\"))","v":""},{"$f":"IF('Broker Sheet'!H394=\"\",\"\",'Broker Sheet'!H394)","v":""},{"$f":"IF('Broker Sheet'!I394=\"\",\"\",'Broker Sheet'!I394)","v":""},{"$f":"IF('Broker Sheet'!J394=\"\",\"\",VLOOKUP('Broker Sheet'!J394,(Reference!$E$4:$F$9),2,FALSE))","v":""},{"$f":"IF('Broker Sheet'!K394=\"\",\"\",'Broker Sheet'!K394)","v":""},{"$f":"IF('Broker Sheet'!R394=\"\",\"\",'Broker Sheet'!R394)","v":""},{"$f":"IF('Broker Sheet'!S394=\"\",\"\",'Broker Sheet'!S394)","v":""},{"$f":"IF('Broker Sheet'!T394=\"\",\"\",'Broker Sheet'!T394)","v":""},{"$f":"IF('Broker Sheet'!U394=\"\",\"\",'Broker Sheet'!U394)","v":""},{"$f":"IF('Broker Sheet'!V394=\"\",\"\",'Broker Sheet'!V394)","v":""},{"$f":"IF('Broker Sheet'!W394=\"\",\"\",'Broker Sheet'!W394)","v":""},{"$f":"IF('Broker Sheet'!Y394=\"\",\"\",'Broker Sheet'!Y394)","v":""},{"$f":"IF('Broker Sheet'!AA394=\"\",\"\",'Broker Sheet'!AA394)","v":""},{"$f":"IF('Broker Sheet'!Z394=\"\",\"\",'Broker Sheet'!Z394)","v":""},{"$f":"IF('Broker Sheet'!AB394=\"\",\"\",'Broker Sheet'!AB394)","v":""},null,null,{"$f":"IF('Broker Sheet'!L394=\"\",\"\",TEXT('Broker Sheet'!L394,\"YYYYMMDD\"))","v":""},{"$f":"IF('Broker Sheet'!AC394=\"\",\"\",TEXT('Broker Sheet'!AC394,\"YYYYMMDD\"))","v":""},{"$f":"IF('Broker Sheet'!AD394=\"\",\"\",TEXT('Broker Sheet'!AD394,\"YYYYMMDD\"))","v":""},{"$f":"IF('Broker Sheet'!AE394=\"\",\"\",'Broker Sheet'!AE394)","v":""},{"$f":"IF('Broker Sheet'!AF394=\"\",\"\",TEXT('Broker Sheet'!AF394,\"YYYYMMDD\"))","v":""},{"$f":"IF('Broker Sheet'!AG394=\"\",\"\",TEXT('Broker Sheet'!AG394,\"YYYYMMDD\"))","v":""}]
[null,null,null,null,null,{"$f":"IF('Broker Sheet'!C395=\"\",\"\",'Broker Sheet'!C395)","v":""},{"$f":"IF('Broker Sheet'!D395=\"\",\"\",'Broker Sheet'!D395)","v":""},{"$f":"IF('Broker Sheet'!E395=\"\",\"\",'Broker Sheet'!E395)","v":""},{"$f":"IF('Broker Sheet'!F395=\"\",\"\",'Broker Sheet'!F395)","v":""},{"$f":"IF('Broker Sheet'!G395=\"\",\"\",TEXT('Broker Sheet'!G395,\"YYYYMMDD\"))","v":""},{"$f":"IF('Broker Sheet'!H395=\"\",\"\",'Broker Sheet'!H395)","v":""},{"$f":"IF('Broker Sheet'!I395=\"\",\"\",'Broker Sheet'!I395)","v":""},{"$f":"IF('Broker Sheet'!J395=\"\",\"\",VLOOKUP('Broker Sheet'!J395,(Reference!$E$4:$F$9),2,FALSE))","v":""},{"$f":"IF('Broker Sheet'!K395=\"\",\"\",'Broker Sheet'!K395)","v":""},{"$f":"IF('Broker Sheet'!R395=\"\",\"\",'Broker Sheet'!R395)","v":""},{"$f":"IF('Broker Sheet'!S395=\"\",\"\",'Broker Sheet'!S395)","v":""},{"$f":"IF('Broker Sheet'!T395=\"\",\"\",'Broker Sheet'!T395)","v":""},{"$f":"IF('Broker Sheet'!U395=\"\",\"\",'Broker Sheet'!U395)","v":""},{"$f":"IF('Broker Sheet'!V395=\"\",\"\",'Broker Sheet'!V395)","v":""},{"$f":"IF('Broker Sheet'!W395=\"\",\"\",'Broker Sheet'!W395)","v":""},{"$f":"IF('Broker Sheet'!Y395=\"\",\"\",'Broker Sheet'!Y395)","v":""},{"$f":"IF('Broker Sheet'!AA395=\"\",\"\",'Broker Sheet'!AA395)","v":""},{"$f":"IF('Broker Sheet'!Z395=\"\",\"\",'Broker Sheet'!Z395)","v":""},{"$f":"IF('Broker Sheet'!AB395=\"\",\"\",'Broker Sheet'!AB395)","v":""},null,null,{"$f":"IF('Broker Sheet'!L395=\"\",\"\",TEXT('Broker Sheet'!L395,\"YYYYMMDD\"))","v":""},{"$f":"IF('Broker Sheet'!AC395=\"\",\"\",TEXT('Broker Sheet'!AC395,\"YYYYMMDD\"))","v":""},{"$f":"IF('Broker Sheet'!AD395=\"\",\"\",TEXT('Broker Sheet'!AD395,\"YYYYMMDD\"))","v":""},{"$f":"IF('Broker Sheet'!AE395=\"\",\"\",'Broker Sheet'!AE395)","v":""},{"$f":"IF('Broker Sheet'!AF395=\"\",\"\",TEXT('Broker Sheet'!AF395,\"YYYYMMDD\"))","v":""},{"$f":"IF('Broker Sheet'!AG395=\"\",\"\",TEXT('Broker Sheet'!AG395,\"YYYYMMDD\"))","v":""}]
[null,null,null,null,null,{"$f":"IF('Broker Sheet'!C396=\"\",\"\",'Broker Sheet'!C396)","v":""},{"$f":"IF('Broker Sheet'!D396=\"\",\"\",'Broker Sheet'!D396)","v":""},{"$f":"IF('Broker Sheet'!E396=\"\",\"\",'Broker Sheet'!E396)","v":""},{"$f":"IF('Broker Sheet'!F396=\"\",\"\",'Broker Sheet'!F396)","v":""},{"$f":"IF('Broker Sheet'!G396=\"\",\"\",TEXT('Broker Sheet'!G396,\"YYYYMMDD\"))","v":""},{"$f":"IF('Broker Sheet'!H396=\"\",\"\",'Broker Sheet'!H396)","v":""},{"$f":"IF('Broker Sheet'!I396=\"\",\"\",'Broker Sheet'!I396)","v":""},{"$f":"IF('Broker Sheet'!J396=\"\",\"\",VLOOKUP('Broker Sheet'!J396,(Reference!$E$4:$F$9),2,FALSE))","v":""},{"$f":"IF('Broker Sheet'!K396=\"\",\"\",'Broker Sheet'!K396)","v":""},{"$f":"IF('Broker Sheet'!R396=\"\",\"\",'Broker Sheet'!R396)","v":""},{"$f":"IF('Broker Sheet'!S396=\"\",\"\",'Broker Sheet'!S396)","v":""},{"$f":"IF('Broker Sheet'!T396=\"\",\"\",'Broker Sheet'!T396)","v":""},{"$f":"IF('Broker Sheet'!U396=\"\",\"\",'Broker Sheet'!U396)","v":""},{"$f":"IF('Broker Sheet'!V396=\"\",\"\",'Broker Sheet'!V396)","v":""},{"$f":"IF('Broker Sheet'!W396=\"\",\"\",'Broker Sheet'!W396)","v":""},{"$f":"IF('Broker Sheet'!Y396=\"\",\"\",'Broker Sheet'!Y396)","v":""},{"$f":"IF('Broker Sheet'!AA396=\"\",\"\",'Broker Sheet'!AA396)","v":""},{"$f":"IF('Broker Sheet'!Z396=\"\",\"\",'Broker Sheet'!Z396)","v":""},{"$f":"IF('Broker Sheet'!AB396=\"\",\"\",'Broker Sheet'!AB396)","v":""},null,null,{"$f":"IF('Broker Sheet'!L396=\"\",\"\",TEXT('Broker Sheet'!L396,\"YYYYMMDD\"))","v":""},{"$f":"IF('Broker Sheet'!AC396=\"\",\"\",TEXT('Broker Sheet'!AC396,\"YYYYMMDD\"))","v":""},{"$f":"IF('Broker Sheet'!AD396=\"\",\"\",TEXT('Broker Sheet'!AD396,\"YYYYMMDD\"))","v":""},{"$f":"IF('Broker Sheet'!AE396=\"\",\"\",'Broker Sheet'!AE396)","v":""},{"$f":"IF('Broker Sheet'!AF396=\"\",\"\",TEXT('Broker Sheet'!AF396,\"YYYYMMDD\"))","v":""},{"$f":"IF('Broker Sheet'!AG396=\"\",\"\",TEXT('Broker Sheet'!AG396,\"YYYYMMDD\"))","v":""}]
[null,null,null,null,null,{"$f":"IF('Broker Sheet'!C397=\"\",\"\",'Broker Sheet'!C397)","v":""},{"$f":"IF('Broker Sheet'!D397=\"\",\"\",'Broker Sheet'!D397)","v":""},{"$f":"IF('Broker Sheet'!E397=\"\",\"\",'Broker Sheet'!E397)","v":""},{"$f":"IF('Broker Sheet'!F397=\"\",\"\",'Broker Sheet'!F397)","v":""},{"$f":"IF('Broker Sheet'!G397=\"\",\"\",TEXT('Broker Sheet'!G397,\"YYYYMMDD\"))","v":""},{"$f":"IF('Broker Sheet'!H397=\"\",\"\",'Broker Sheet'!H397)","v":""},{"$f":"IF('Broker Sheet'!I397=\"\",\"\",'Broker Sheet'!I397)","v":""},{"$f":"IF('Broker Sheet'!J397=\"\",\"\",VLOOKUP('Broker Sheet'!J397,(Reference!$E$4:$F$9),2,FALSE))","v":""},{"$f":"IF('Broker Sheet'!K397=\"\",\"\",'Broker Sheet'!K397)","v":""},{"$f":"IF('Broker Sheet'!R397=\"\",\"\",'Broker Sheet'!R397)","v":""},{"$f":"IF('Broker Sheet'!S397=\"\",\"\",'Broker Sheet'!S397)","v":""},{"$f":"IF('Broker Sheet'!T397=\"\",\"\",'Broker Sheet'!T397)","v":""},{"$f":"IF('Broker Sheet'!U397=\"\",\"\",'Broker Sheet'!U397)","v":""},{"$f":"IF('Broker Sheet'!V397=\"\",\"\",'Broker Sheet'!V397)","v":""},{"$f":"IF('Broker Sheet'!W397=\"\",\"\",'Broker Sheet'!W397)","v":""},{"$f":"IF('Broker Sheet'!Y397=\"\",\"\",'Broker Sheet'!Y397)","v":""},{"$f":"IF('Broker Sheet'!AA397=\"\",\"\",'Broker Sheet'!AA397)","v":""},{"$f":"IF('Broker Sheet'!Z397=\"\",\"\",'Broker Sheet'!Z397)","v":""},{"$f":"IF('Broker Sheet'!AB397=\"\",\"\",'Broker Sheet'!AB397)","v":""},null,null,{"$f":"IF('Broker Sheet'!L397=\"\",\"\",TEXT('Broker Sheet'!L397,\"YYYYMMDD\"))","v":""},{"$f":"IF('Broker Sheet'!AC397=\"\",\"\",TEXT('Broker Sheet'!AC397,\"YYYYMMDD\"))","v":""},{"$f":"IF('Broker Sheet'!AD397=\"\",\"\",TEXT('Broker Sheet'!AD397,\"YYYYMMDD\"))","v":""},{"$f":"IF('Broker Sheet'!AE397=\"\",\"\",'Broker Sheet'!AE397)","v":""},{"$f":"IF('Broker Sheet'!AF397=\"\",\"\",TEXT('Broker Sheet'!AF397,\"YYYYMMDD\"))","v":""},{"$f":"IF('Broker Sheet'!AG397=\"\",\"\",TEXT('Broker Sheet'!AG397,\"YYYYMMDD\"))","v":""}]
[null,null,null,null,null,{"$f":"IF('Broker Sheet'!C398=\"\",\"\",'Broker Sheet'!C398)","v":""},{"$f":"IF('Broker Sheet'!D398=\"\",\"\",'Broker Sheet'!D398)","v":""},{"$f":"IF('Broker Sheet'!E398=\"\",\"\",'Broker Sheet'!E398)","v":""},{"$f":"IF('Broker Sheet'!F398=\"\",\"\",'Broker Sheet'!F398)","v":""},{"$f":"IF('Broker Sheet'!G398=\"\",\"\",TEXT('Broker Sheet'!G398,\"YYYYMMDD\"))","v":""},{"$f":"IF('Broker Sheet'!H398=\"\",\"\",'Broker Sheet'!H398)","v":""},{"$f":"IF('Broker Sheet'!I398=\"\",\"\",'Broker Sheet'!I398)","v":""},{"$f":"IF('Broker Sheet'!J398=\"\",\"\",VLOOKUP('Broker Sheet'!J398,(Reference!$E$4:$F$9),2,FALSE))","v":""},{"$f":"IF('Broker Sheet'!K398=\"\",\"\",'Broker Sheet'!K398)","v":""},{"$f":"IF('Broker Sheet'!R398=\"\",\"\",'Broker Sheet'!R398)","v":""},{"$f":"IF('Broker Sheet'!S398=\"\",\"\",'Broker Sheet'!S398)","v":""},{"$f":"IF('Broker Sheet'!T398=\"\",\"\",'Broker Sheet'!T398)","v":""},{"$f":"IF('Broker Sheet'!U398=\"\",\"\",'Broker Sheet'!U398)","v":""},{"$f":"IF('Broker Sheet'!V398=\"\",\"\",'Broker Sheet'!V398)","v":""},{"$f":"IF('Broker Sheet'!W398=\"\",\"\",'Broker Sheet'!W398)","v":""},{"$f":"IF('Broker Sheet'!Y398=\"\",\"\",'Broker Sheet'!Y398)","v":""},{"$f":"IF('Broker Sheet'!AA398=\"\",\"\",'Broker Sheet'!AA398)","v":""},{"$f":"IF('Broker Sheet'!Z398=\"\",\"\",'Broker Sheet'!Z398)","v":""},{"$f":"IF('Broker Sheet'!AB398=\"\",\"\",'Broker Sheet'!AB398)","v":""},null,null,{"$f":"IF('Broker Sheet'!L398=\"\",\"\",TEXT('Broker Sheet'!L398,\"YYYYMMDD\"))","v":""},{"$f":"IF('Broker Sheet'!AC398=\"\",\"\",TEXT('Broker Sheet'!AC398,\"YYYYMMDD\"))","v":""},{"$f":"IF('Broker Sheet'!AD398=\"\",\"\",TEXT('Broker Sheet'!AD398,\"YYYYMMDD\"))","v":""},{"$f":"IF('Broker Sheet'!AE398=\"\",\"\",'Broker Sheet'!AE398)","v":""},{"$f":"IF('Broker Sheet'!AF398=\"\",\"\",TEXT('Broker Sheet'!AF398,\"YYYYMMDD\"))","v":""},{"$f":"IF('Broker Sheet'!AG398=\"\",\"\",TEXT('Broker Sheet'!AG398,\"YYYYMMDD\"))","v":""}]
[null,null,null,null,null,{"$f":"IF('Broker Sheet'!C399=\"\",\"\",'Broker Sheet'!C399)","v":""},{"$f":"IF('Broker Sheet'!D399=\"\",\"\",'Broker Sheet'!D399)","v":""},{"$f":"IF('Broker Sheet'!E399=\"\",\"\",'Broker Sheet'!E399)","v":""},{"$f":"IF('Broker Sheet'!F399=\"\",\"\",'Broker Sheet'!F399)","v":""},{"$f":"IF('Broker Sheet'!G399=\"\",\"\",TEXT('Broker Sheet'!G399,\"YYYYMMDD\"))","v":""},{"$f":"IF('Broker Sheet'!H399=\"\",\"\",'Broker Sheet'!H399)","v":""},{"$f":"IF('Broker Sheet'!I399=\"\",\"\",'Broker Sheet'!I399)","v":""},{"$f":"IF('Broker Sheet'!J399=\"\",\"\",VLOOKUP('Broker Sheet'!J399,(Reference!$E$4:$F$9),2,FALSE))","v":""},{"$f":"IF('Broker Sheet'!K399=\"\",\"\",'Broker Sheet'!K399)","v":""},{"$f":"IF('Broker Sheet'!R399=\"\",\"\",'Broker Sheet'!R399)","v":""},{"$f":"IF('Broker Sheet'!S399=\"\",\"\",'Broker Sheet'!S399)","v":""},{"$f":"IF('Broker Sheet'!T399=\"\",\"\",'Broker Sheet'!T399)","v":""},{"$f":"IF('Broker Sheet'!U399=\"\",\"\",'Broker Sheet'!U399)","v":""},{"$f":"IF('Broker Sheet'!V399=\"\",\"\",'Broker Sheet'!V399)","v":""},{"$f":"IF('Broker Sheet'!W399=\"\",\"\",'Broker Sheet'!W399)","v":""},{"$f":"IF('Broker Sheet'!Y399=\"\",\"\",'Broker Sheet'!Y399)","v":""},{"$f":"IF('Broker Sheet'!AA399=\"\",\"\",'Broker Sheet'!AA399)","v":""},{"$f":"IF('Broker Sheet'!Z399=\"\",\"\",'Broker Sheet'!Z399)","v":""},{"$f":"IF('Broker Sheet'!AB399=\"\",\"\",'Broker Sheet'!AB399)","v":""},null,null,{"$f":"IF('Broker Sheet'!L399=\"\",\"\",TEXT('Broker Sheet'!L399,\"YYYYMMDD\"))","v":""},{"$f":"IF('Broker Sheet'!AC399=\"\",\"\",TEXT('Broker Sheet'!AC399,\"YYYYMMDD\"))","v":""},{"$f":"IF('Broker Sheet'!AD399=\"\",\"\",TEXT('Broker Sheet'!AD399,\"YYYYMMDD\"))","v":""},{"$f":"IF('Broker Sheet'!AE399=\"\",\"\",'Broker Sheet'!AE399)","v":""},{"$f":"IF('Broker Sheet'!AF399=\"\",\"\",TEXT('Broker Sheet'!AF399,\"YYYYMMDD\"))","v":""},{"$f":"IF('Broker Sheet'!AG399=\"\",\"\",TEXT('Broker Sheet'!AG399,\"YYYYMMDD\"))","v":""}]
[null,null,null,null,null,{"$f":"IF('Broker Sheet'!C400=\"\",\"\",'Broker Sheet'!C400)","v":""},{"$f":"IF('Broker Sheet'!D400=\"\",\"\",'Broker Sheet'!D400)","v":""},{"$f":"IF('Broker Sheet'!E400=\"\",\"\",'Broker Sheet'!E400)","v":""},{"$f":"IF('Broker Sheet'!F400=\"\",\"\",'Broker Sheet'!F400)","v":""},{"$f":"IF('Broker Sheet'!G400=\"\",\"\",TEXT('Broker Sheet'!G400,\"YYYYMMDD\"))","v":""},{"$f":"IF('Broker Sheet'!H400=\"\",\"\",'Broker Sheet'!H400)","v":""},{"$f":"IF('Broker Sheet'!I400=\"\",\"\",'Broker Sheet'!I400)","v":""},{"$f":"IF('Broker Sheet'!J400=\"\",\"\",VLOOKUP('Broker Sheet'!J400,(Reference!$E$4:$F$9),2,FALSE))","v":""},{"$f":"IF('Broker Sheet'!K400=\"\",\"\",'Broker Sheet'!K400)","v":""},{"$f":"IF('Broker Sheet'!R400=\"\",\"\",'Broker Sheet'!R400)","v":""},{"$f":"IF('Broker Sheet'!S400=\"\",\"\",'Broker Sheet'!S400)","v":""},{"$f":"IF('Broker Sheet'!T400=\"\",\"\",'Broker Sheet'!T400)","v":""},{"$f":"IF('Broker Sheet'!U400=\"\",\"\",'Broker Sheet'!U400)","v":""},{"$f":"IF('Broker Sheet'!V400=\"\",\"\",'Broker Sheet'!V400)","v":""},{"$f":"IF('Broker Sheet'!W400=\"\",\"\",'Broker Sheet'!W400)","v":""},{"$f":"IF('Broker Sheet'!Y400=\"\",\"\",'Broker Sheet'!Y400)","v":""},{"$f":"IF('Broker Sheet'!AA400=\"\",\"\",'Broker Sheet'!AA400)","v":""},{"$f":"IF('Broker Sheet'!Z400=\"\",\"\",'Broker Sheet'!Z400)","v":""},{"$f":"IF('Broker Sheet'!AB400=\"\",\"\",'Broker Sheet'!AB400)","v":""},null,null,{"$f":"IF('Broker Sheet'!L400=\"\",\"\",TEXT('Broker Sheet'!L400,\"YYYYMMDD\"))","v":""},{"$f":"IF('Broker Sheet'!AC400=\"\",\"\",TEXT('Broker Sheet'!AC400,\"YYYYMMDD\"))","v":""},{"$f":"IF('Broker Sheet'!AD400=\"\",\"\",TEXT('Broker Sheet'!AD400,\"YYYYMMDD\"))","v":""},{"$f":"IF('Broker Sheet'!AE400=\"\",\"\",'Broker Sheet'!AE400)","v":""},{"$f":"IF('Broker Sheet'!AF400=\"\",\"\",TEXT('Broker Sheet'!AF400,\"YYYYMMDD\"))","v":""},{"$f":"IF('Broker Sheet'!AG400=\"\",\"\",TEXT('Broker Sheet'!AG400,\"YYYYMMDD\"))","v":""}]
[null,null,null,null,null,{"$f":"IF('Broker Sheet'!C401=\"\",\"\",'Broker Sheet'!C401)","v":""},{"$f":"IF('Broker Sheet'!D401=\"\",\"\",'Broker Sheet'!D401)","v":""},{"$f":"IF('Broker Sheet'!E401=\"\",\"\",'Broker Sheet'!E401)","v":""},{"$f":"IF('Broker Sheet'!F401=\"\",\"\",'Broker Sheet'!F401)","v":""},{"$f":"IF('Broker Sheet'!G401=\"\",\"\",TEXT('Broker Sheet'!G401,\"YYYYMMDD\"))","v":""},{"$f":"IF('Broker Sheet'!H401=\"\",\"\",'Broker Sheet'!H401)","v":""},{"$f":"IF('Broker Sheet'!I401=\"\",\"\",'Broker Sheet'!I401)","v":""},{"$f":"IF('Broker Sheet'!J401=\"\",\"\",VLOOKUP('Broker Sheet'!J401,(Reference!$E$4:$F$9),2,FALSE))","v":""},{"$f":"IF('Broker Sheet'!K401=\"\",\"\",'Broker Sheet'!K401)","v":""},{"$f":"IF('Broker Sheet'!R401=\"\",\"\",'Broker Sheet'!R401)","v":""},{"$f":"IF('Broker Sheet'!S401=\"\",\"\",'Broker Sheet'!S401)","v":""},{"$f":"IF('Broker Sheet'!T401=\"\",\"\",'Broker Sheet'!T401)","v":""},{"$f":"IF('Broker Sheet'!U401=\"\",\"\",'Broker Sheet'!U401)","v":""},{"$f":"IF('Broker Sheet'!V401=\"\",\"\",'Broker Sheet'!V401)","v":""},{"$f":"IF('Broker Sheet'!W401=\"\",\"\",'Broker Sheet'!W401)","v":""},{"$f":"IF('Broker Sheet'!Y401=\"\",\"\",'Broker Sheet'!Y401)","v":""},{"$f":"IF('Broker Sheet'!AA401=\"\",\"\",'Broker Sheet'!AA401)","v":""},{"$f":"IF('Broker Sheet'!Z401=\"\",\"\",'Broker Sheet'!Z401)","v":""},{"$f":"IF('Broker Sheet'!AB401=\"\",\"\",'Broker Sheet'!AB401)","v":""},null,null,{"$f":"IF('Broker Sheet'!L401=\"\",\"\",TEXT('Broker Sheet'!L401,\"YYYYMMDD\"))","v":""},{"$f":"IF('Broker Sheet'!AC401=\"\",\"\",TEXT('Broker Sheet'!AC401,\"YYYYMMDD\"))","v":""},{"$f":"IF('Broker Sheet'!AD401=\"\",\"\",TEXT('Broker Sheet'!AD401,\"YYYYMMDD\"))","v":""},{"$f":"IF('Broker Sheet'!AE401=\"\",\"\",'Broker Sheet'!AE401)","v":""},{"$f":"IF('Broker Sheet'!AF401=\"\",\"\",TEXT('Broker Sheet'!AF401,\"YYYYMMDD\"))","v":""},{"$f":"IF('Broker Sheet'!AG401=\"\",\"\",TEXT('Broker Sheet'!AG401,\"YYYYMMDD\"))","v":""}]
[null,null,null,null,null,{"$f":"IF('Broker Sheet'!C402=\"\",\"\",'Broker Sheet'!C402)","v":""},{"$f":"IF('Broker Sheet'!D402=\"\",\"\",'Broker Sheet'!D402)","v":""},{"$f":"IF('Broker Sheet'!E402=\"\",\"\",'Broker Sheet'!E402)","v":""},{"$f":"IF('Broker Sheet'!F402=\"\",\"\",'Broker Sheet'!F402)","v":""},{"$f":"IF('Broker Sheet'!G402=\"\",\"\",TEXT('Broker Sheet'!G402,\"YYYYMMDD\"))","v":""},{"$f":"IF('Broker Sheet'!H402=\"\",\"\",'Broker Sheet'!H402)","v":""},{"$f":"IF('Broker Sheet'!I402=\"\",\"\",'Broker Sheet'!I402)","v":""},{"$f":"IF('Broker Sheet'!J402=\"\",\"\",VLOOKUP('Broker Sheet'!J402,(Reference!$E$4:$F$9),2,FALSE))","v":""},{"$f":"IF('Broker Sheet'!K402=\"\",\"\",'Broker Sheet'!K402)","v":""},{"$f":"IF('Broker Sheet'!R402=\"\",\"\",'Broker Sheet'!R402)","v":""},{"$f":"IF('Broker Sheet'!S402=\"\",\"\",'Broker Sheet'!S402)","v":""},{"$f":"IF('Broker Sheet'!T402=\"\",\"\",'Broker Sheet'!T402)","v":""},{"$f":"IF('Broker Sheet'!U402=\"\",\"\",'Broker Sheet'!U402)","v":""},{"$f":"IF('Broker Sheet'!V402=\"\",\"\",'Broker Sheet'!V402)","v":""},{"$f":"IF('Broker Sheet'!W402=\"\",\"\",'Broker Sheet'!W402)","v":""},{"$f":"IF('Broker Sheet'!Y402=\"\",\"\",'Broker Sheet'!Y402)","v":""},{"$f":"IF('Broker Sheet'!AA402=\"\",\"\",'Broker Sheet'!AA402)","v":""},{"$f":"IF('Broker Sheet'!Z402=\"\",\"\",'Broker Sheet'!Z402)","v":""},{"$f":"IF('Broker Sheet'!AB402=\"\",\"\",'Broker Sheet'!AB402)","v":""},null,null,{"$f":"IF('Broker Sheet'!L402=\"\",\"\",TEXT('Broker Sheet'!L402,\"YYYYMMDD\"))","v":""},{"$f":"IF('Broker Sheet'!AC402=\"\",\"\",TEXT('Broker Sheet'!AC402,\"YYYYMMDD\"))","v":""},{"$f":"IF('Broker Sheet'!AD402=\"\",\"\",TEXT('Broker Sheet'!AD402,\"YYYYMMDD\"))","v":""},{"$f":"IF('Broker Sheet'!AE402=\"\",\"\",'Broker Sheet'!AE402)","v":""},{"$f":"IF('Broker Sheet'!AF402=\"\",\"\",TEXT('Broker Sheet'!AF402,\"YYYYMMDD\"))","v":""},{"$f":"IF('Broker Sheet'!AG402=\"\",\"\",TEXT('Broker Sheet'!AG402,\"YYYYMMDD\"))","v":""}]
[null,null,null,null,null,{"$f":"IF('Broker Sheet'!C403=\"\",\"\",'Broker Sheet'!C403)","v":""},{"$f":"IF('Broker Sheet'!D403=\"\",\"\",'Broker Sheet'!D403)","v":""},{"$f":"IF('Broker Sheet'!E403=\"\",\"\",'Broker Sheet'!E403)","v":""},{"$f":"IF('Broker Sheet'!F403=\"\",\"\",'Broker Sheet'!F403)","v":""},{"$f":"IF('Broker Sheet'!G403=\"\",\"\",TEXT('Broker Sheet'!G403,\"YYYYMMDD\"))","v":""},{"$f":"IF('Broker Sheet'!H403=\"\",\"\",'Broker Sheet'!H403)","v":""},{"$f":"IF('Broker Sheet'!I403=\"\",\"\",'Broker Sheet'!I403)","v":""},{"$f":"IF('Broker Sheet'!J403=\"\",\"\",VLOOKUP('Broker Sheet'!J403,(Reference!$E$4:$F$9),2,FALSE))","v":""},{"$f":"IF('Broker Sheet'!K403=\"\",\"\",'Broker Sheet'!K403)","v":""},{"$f":"IF('Broker Sheet'!R403=\"\",\"\",'Broker Sheet'!R403)","v":""},{"$f":"IF('Broker Sheet'!S403=\"\",\"\",'Broker Sheet'!S403)","v":""},{"$f":"IF('Broker Sheet'!T403=\"\",\"\",'Broker Sheet'!T403)","v":""},{"$f":"IF('Broker Sheet'!U403=\"\",\"\",'Broker Sheet'!U403)","v":""},{"$f":"IF('Broker Sheet'!V403=\"\",\"\",'Broker Sheet'!V403)","v":""},{"$f":"IF('Broker Sheet'!W403=\"\",\"\",'Broker Sheet'!W403)","v":""},{"$f":"IF('Broker Sheet'!Y403=\"\",\"\",'Broker Sheet'!Y403)","v":""},{"$f":"IF('Broker Sheet'!AA403=\"\",\"\",'Broker Sheet'!AA403)","v":""},{"$f":"IF('Broker Sheet'!Z403=\"\",\"\",'Broker Sheet'!Z403)","v":""},{"$f":"IF('Broker Sheet'!AB403=\"\",\"\",'Broker Sheet'!AB403)","v":""},null,null,{"$f":"IF('Broker Sheet'!L403=\"\",\"\",TEXT('Broker Sheet'!L403,\"YYYYMMDD\"))","v":""},{"$f":"IF('Broker Sheet'!AC403=\"\",\"\",TEXT('Broker Sheet'!AC403,\"YYYYMMDD\"))","v":""},{"$f":"IF('Broker Sheet'!AD403=\"\",\"\",TEXT('Broker Sheet'!AD403,\"YYYYMMDD\"))","v":""},{"$f":"IF('Broker Sheet'!AE403=\"\",\"\",'Broker Sheet'!AE403)","v":""},{"$f":"IF('Broker Sheet'!AF403=\"\",\"\",TEXT('Broker Sheet'!AF403,\"YYYYMMDD\"))","v":""},{"$f":"IF('Broker Sheet'!AG403=\"\",\"\",TEXT('Broker Sheet'!AG403,\"YYYYMMDD\"))","v":""}]
[null,null,null,null,null,{"$f":"IF('Broker Sheet'!C404=\"\",\"\",'Broker Sheet'!C404)","v":""},{"$f":"IF('Broker Sheet'!D404=\"\",\"\",'Broker Sheet'!D404)","v":""},{"$f":"IF('Broker Sheet'!E404=\"\",\"\",'Broker Sheet'!E404)","v":""},{"$f":"IF('Broker Sheet'!F404=\"\",\"\",'Broker Sheet'!F404)","v":""},{"$f":"IF('Broker Sheet'!G404=\"\",\"\",TEXT('Broker Sheet'!G404,\"YYYYMMDD\"))","v":""},{"$f":"IF('Broker Sheet'!H404=\"\",\"\",'Broker Sheet'!H404)","v":""},{"$f":"IF('Broker Sheet'!I404=\"\",\"\",'Broker Sheet'!I404)","v":""},{"$f":"IF('Broker Sheet'!J404=\"\",\"\",VLOOKUP('Broker Sheet'!J404,(Reference!$E$4:$F$9),2,FALSE))","v":""},{"$f":"IF('Broker Sheet'!K404=\"\",\"\",'Broker Sheet'!K404)","v":""},{"$f":"IF('Broker Sheet'!R404=\"\",\"\",'Broker Sheet'!R404)","v":""},{"$f":"IF('Broker Sheet'!S404=\"\",\"\",'Broker Sheet'!S404)","v":""},{"$f":"IF('Broker Sheet'!T404=\"\",\"\",'Broker Sheet'!T404)","v":""},{"$f":"IF('Broker Sheet'!U404=\"\",\"\",'Broker Sheet'!U404)","v":""},{"$f":"IF('Broker Sheet'!V404=\"\",\"\",'Broker Sheet'!V404)","v":""},{"$f":"IF('Broker Sheet'!W404=\"\",\"\",'Broker Sheet'!W404)","v":""},{"$f":"IF('Broker Sheet'!Y404=\"\",\"\",'Broker Sheet'!Y404)","v":""},{"$f":"IF('Broker Sheet'!AA404=\"\",\"\",'Broker Sheet'!AA404)","v":""},{"$f":"IF('Broker Sheet'!Z404=\"\",\"\",'Broker Sheet'!Z404)","v":""},{"$f":"IF('Broker Sheet'!AB404=\"\",\"\",'Broker Sheet'!AB404)","v":""},null,null,{"$f":"IF('Broker Sheet'!L404=\"\",\"\",TEXT('Broker Sheet'!L404,\"YYYYMMDD\"))","v":""},{"$f":"IF('Broker Sheet'!AC404=\"\",\"\",TEXT('Broker Sheet'!AC404,\"YYYYMMDD\"))","v":""},{"$f":"IF('Broker Sheet'!AD404=\"\",\"\",TEXT('Broker Sheet'!AD404,\"YYYYMMDD\"))","v":""},{"$f":"IF('Broker Sheet'!AE404=\"\",\"\",'Broker Sheet'!AE404)","v":""},{"$f":"IF('Broker Sheet'!AF404=\"\",\"\",TEXT('Broker Sheet'!AF404,\"YYYYMMDD\"))","v":""},{"$f":"IF('Broker Sheet'!AG404=\"\",\"\",TEXT('Broker Sheet'!AG404,\"YYYYMMDD\"))","v":""}]
[null,null,null,null,null,{"$f":"IF('Broker Sheet'!C405=\"\",\"\",'Broker Sheet'!C405)","v":""},{"$f":"IF('Broker Sheet'!D405=\"\",\"\",'Broker Sheet'!D405)","v":""},{"$f":"IF('Broker Sheet'!E405=\"\",\"\",'Broker Sheet'!E405)","v":""},{"$f":"IF('Broker Sheet'!F405=\"\",\"\",'Broker Sheet'!F405)","v":""},{"$f":"IF('Broker Sheet'!G405=\"\",\"\",TEXT('Broker Sheet'!G405,\"YYYYMMDD\"))","v":""},{"$f":"IF('Broker Sheet'!H405=\"\",\"\",'Broker Sheet'!H405)","v":""},{"$f":"IF('Broker Sheet'!I405=\"\",\"\",'Broker Sheet'!I405)","v":""},{"$f":"IF('Broker Sheet'!J405=\"\",\"\",VLOOKUP('Broker Sheet'!J405,(Reference!$E$4:$F$9),2,FALSE))","v":""},{"$f":"IF('Broker Sheet'!K405=\"\",\"\",'Broker Sheet'!K405)","v":""},{"$f":"IF('Broker Sheet'!R405=\"\",\"\",'Broker Sheet'!R405)","v":""},{"$f":"IF('Broker Sheet'!S405=\"\",\"\",'Broker Sheet'!S405)","v":""},{"$f":"IF('Broker Sheet'!T405=\"\",\"\",'Broker Sheet'!T405)","v":""},{"$f":"IF('Broker Sheet'!U405=\"\",\"\",'Broker Sheet'!U405)","v":""},{"$f":"IF('Broker Sheet'!V405=\"\",\"\",'Broker Sheet'!V405)","v":""},{"$f":"IF('Broker Sheet'!W405=\"\",\"\",'Broker Sheet'!W405)","v":""},{"$f":"IF('Broker Sheet'!Y405=\"\",\"\",'Broker Sheet'!Y405)","v":""},{"$f":"IF('Broker Sheet'!AA405=\"\",\"\",'Broker Sheet'!AA405)","v":""},{"$f":"IF('Broker Sheet'!Z405=\"\",\"\",'Broker Sheet'!Z405)","v":""},{"$f":"IF('Broker Sheet'!AB405=\"\",\"\",'Broker Sheet'!AB405)","v":""},null,null,{"$f":"IF('Broker Sheet'!L405=\"\",\"\",TEXT('Broker Sheet'!L405,\"YYYYMMDD\"))","v":""},{"$f":"IF('Broker Sheet'!AC405=\"\",\"\",TEXT('Broker Sheet'!AC405,\"YYYYMMDD\"))","v":""},{"$f":"IF('Broker Sheet'!AD405=\"\",\"\",TEXT('Broker Sheet'!AD405,\"YYYYMMDD\"))","v":""},{"$f":"IF('Broker Sheet'!AE405=\"\",\"\",'Broker Sheet'!AE405)","v":""},{"$f":"IF('Broker Sheet'!AF405=\"\",\"\",TEXT('Broker Sheet'!AF405,\"YYYYMMDD\"))","v":""},{"$f":"IF('Broker Sheet'!AG405=\"\",\"\",TEXT('Broker Sheet'!AG405,\"YYYYMMDD\"))","v":""}]
[null,null,null,null,null,{"$f":"IF('Broker Sheet'!C406=\"\",\"\",'Broker Sheet'!C406)","v":""},{"$f":"IF('Broker Sheet'!D406=\"\",\"\",'Broker Sheet'!D406)","v":""},{"$f":"IF('Broker Sheet'!E406=\"\",\"\",'Broker Sheet'!E406)","v":""},{"$f":"IF('Broker Sheet'!F406=\"\",\"\",'Broker Sheet'!F406)","v":""},{"$f":"IF('Broker Sheet'!G406=\"\",\"\",TEXT('Broker Sheet'!G406,\"YYYYMMDD\"))","v":""},{"$f":"IF('Broker Sheet'!H406=\"\",\"\",'Broker Sheet'!H406)","v":""},{"$f":"IF('Broker Sheet'!I406=\"\",\"\",'Broker Sheet'!I406)","v":""},{"$f":"IF('Broker Sheet'!J406=\"\",\"\",VLOOKUP('Broker Sheet'!J406,(Reference!$E$4:$F$9),2,FALSE))","v":""},{"$f":"IF('Broker Sheet'!K406=\"\",\"\",'Broker Sheet'!K406)","v":""},{"$f":"IF('Broker Sheet'!R406=\"\",\"\",'Broker Sheet'!R406)","v":""},{"$f":"IF('Broker Sheet'!S406=\"\",\"\",'Broker Sheet'!S406)","v":""},{"$f":"IF('Broker Sheet'!T406=\"\",\"\",'Broker Sheet'!T406)","v":""},{"$f":"IF('Broker Sheet'!U406=\"\",\"\",'Broker Sheet'!U406)","v":""},{"$f":"IF('Broker Sheet'!V406=\"\",\"\",'Broker Sheet'!V406)","v":""},{"$f":"IF('Broker Sheet'!W406=\"\",\"\",'Broker Sheet'!W406)","v":""},{"$f":"IF('Broker Sheet'!Y406=\"\",\"\",'Broker Sheet'!Y406)","v":""},{"$f":"IF('Broker Sheet'!AA406=\"\",\"\",'Broker Sheet'!AA406)","v":""},{"$f":"IF('Broker Sheet'!Z406=\"\",\"\",'Broker Sheet'!Z406)","v":""},{"$f":"IF('Broker Sheet'!AB406=\"\",\"\",'Broker Sheet'!AB406)","v":""},null,null,{"$f":"IF('Broker Sheet'!L406=\"\",\"\",TEXT('Broker Sheet'!L406,\"YYYYMMDD\"))","v":""},{"$f":"IF('Broker Sheet'!AC406=\"\",\"\",TEXT('Broker Sheet'!AC406,\"YYYYMMDD\"))","v":""},{"$f":"IF('Broker Sheet'!AD406=\"\",\"\",TEXT('Broker Sheet'!AD406,\"YYYYMMDD\"))","v":""},{"$f":"IF('Broker Sheet'!AE406=\"\",\"\",'Broker Sheet'!AE406)","v":""},{"$f":"IF('Broker Sheet'!AF406=\"\",\"\",TEXT('Broker Sheet'!AF406,\"YYYYMMDD\"))","v":""},{"$f":"IF('Broker Sheet'!AG406=\"\",\"\",TEXT('Broker Sheet'!AG406,\"YYYYMMDD\"))","v":""}]
[null,null,null,null,null,{"$f":"IF('Broker Sheet'!C407=\"\",\"\",'Broker Sheet'!C407)","v":""},{"$f":"IF('Broker Sheet'!D407=\"\",\"\",'Broker Sheet'!D407)","v":""},{"$f":"IF('Broker Sheet'!E407=\"\",\"\",'Broker Sheet'!E407)","v":""},{"$f":"IF('Broker Sheet'!F407=\"\",\"\",'Broker Sheet'!F407)","v":""},{"$f":"IF('Broker Sheet'!G407=\"\",\"\",TEXT('Broker Sheet'!G407,\"YYYYMMDD\"))","v":""},{"$f":"IF('Broker Sheet'!H407=\"\",\"\",'Broker Sheet'!H407)","v":""},{"$f":"IF('Broker Sheet'!I407=\"\",\"\",'Broker Sheet'!I407)","v":""},{"$f":"IF('Broker Sheet'!J407=\"\",\"\",VLOOKUP('Broker Sheet'!J407,(Reference!$E$4:$F$9),2,FALSE))","v":""},{"$f":"IF('Broker Sheet'!K407=\"\",\"\",'Broker Sheet'!K407)","v":""},{"$f":"IF('Broker Sheet'!R407=\"\",\"\",'Broker Sheet'!R407)","v":""},{"$f":"IF('Broker Sheet'!S407=\"\",\"\",'Broker Sheet'!S407)","v":""},{"$f":"IF('Broker Sheet'!T407=\"\",\"\",'Broker Sheet'!T407)","v":""},{"$f":"IF('Broker Sheet'!U407=\"\",\"\",'Broker Sheet'!U407)","v":""},{"$f":"IF('Broker Sheet'!V407=\"\",\"\",'Broker Sheet'!V407)","v":""},{"$f":"IF('Broker Sheet'!W407=\"\",\"\",'Broker Sheet'!W407)","v":""},{"$f":"IF('Broker Sheet'!Y407=\"\",\"\",'Broker Sheet'!Y407)","v":""},{"$f":"IF('Broker Sheet'!AA407=\"\",\"\",'Broker Sheet'!AA407)","v":""},{"$f":"IF('Broker Sheet'!Z407=\"\",\"\",'Broker Sheet'!Z407)","v":""},{"$f":"IF('Broker Sheet'!AB407=\"\",\"\",'Broker Sheet'!AB407)","v":""},null,null,{"$f":"IF('Broker Sheet'!L407=\"\",\"\",TEXT('Broker Sheet'!L407,\"YYYYMMDD\"))","v":""},{"$f":"IF('Broker Sheet'!AC407=\"\",\"\",TEXT('Broker Sheet'!AC407,\"YYYYMMDD\"))","v":""},{"$f":"IF('Broker Sheet'!AD407=\"\",\"\",TEXT('Broker Sheet'!AD407,\"YYYYMMDD\"))","v":""},{"$f":"IF('Broker Sheet'!AE407=\"\",\"\",'Broker Sheet'!AE407)","v":""},{"$f":"IF('Broker Sheet'!AF407=\"\",\"\",TEXT('Broker Sheet'!AF407,\"YYYYMMDD\"))","v":""},{"$f":"IF('Broker Sheet'!AG407=\"\",\"\",TEXT('Broker Sheet'!AG407,\"YYYYMMDD\"))","v":""}]
[null,null,null,null,null,{"$f":"IF('Broker Sheet'!C408=\"\",\"\",'Broker Sheet'!C408)","v":""},{"$f":"IF('Broker Sheet'!D408=\"\",\"\",'Broker Sheet'!D408)","v":""},{"$f":"IF('Broker Sheet'!E408=\"\",\"\",'Broker Sheet'!E408)","v":""},{"$f":"IF('Broker Sheet'!F408=\"\",\"\",'Broker Sheet'!F408)","v":""},{"$f":"IF('Broker Sheet'!G408=\"\",\"\",TEXT('Broker Sheet'!G408,\"YYYYMMDD\"))","v":""},{"$f":"IF('Broker Sheet'!H408=\"\",\"\",'Broker Sheet'!H408)","v":""},{"$f":"IF('Broker Sheet'!I408=\"\",\"\",'Broker Sheet'!I408)","v":""},{"$f":"IF('Broker Sheet'!J408=\"\",\"\",VLOOKUP('Broker Sheet'!J408,(Reference!$E$4:$F$9),2,FALSE))","v":""},{"$f":"IF('Broker Sheet'!K408=\"\",\"\",'Broker Sheet'!K408)","v":""},{"$f":"IF('Broker Sheet'!R408=\"\",\"\",'Broker Sheet'!R408)","v":""},{"$f":"IF('Broker Sheet'!S408=\"\",\"\",'Broker Sheet'!S408)","v":""},{"$f":"IF('Broker Sheet'!T408=\"\",\"\",'Broker Sheet'!T408)","v":""},{"$f":"IF('Broker Sheet'!U408=\"\",\"\",'Broker Sheet'!U408)","v":""},{"$f":"IF('Broker Sheet'!V408=\"\",\"\",'Broker Sheet'!V408)","v":""},{"$f":"IF('Broker Sheet'!W408=\"\",\"\",'Broker Sheet'!W408)","v":""},{"$f":"IF('Broker Sheet'!Y408=\"\",\"\",'Broker Sheet'!Y408)","v":""},{"$f":"IF('Broker Sheet'!AA408=\"\",\"\",'Broker Sheet'!AA408)","v":""},{"$f":"IF('Broker Sheet'!Z408=\"\",\"\",'Broker Sheet'!Z408)","v":""},{"$f":"IF('Broker Sheet'!AB408=\"\",\"\",'Broker Sheet'!AB408)","v":""},null,null,{"$f":"IF('Broker Sheet'!L408=\"\",\"\",TEXT('Broker Sheet'!L408,\"YYYYMMDD\"))","v":""},{"$f":"IF('Broker Sheet'!AC408=\"\",\"\",TEXT('Broker Sheet'!AC408,\"YYYYMMDD\"))","v":""},{"$f":"IF('Broker Sheet'!AD408=\"\",\"\",TEXT('Broker Sheet'!AD408,\"YYYYMMDD\"))","v":""},{"$f":"IF('Broker Sheet'!AE408=\"\",\"\",'Broker Sheet'!AE408)","v":""},{"$f":"IF('Broker Sheet'!AF408=\"\",\"\",TEXT('Broker Sheet'!AF408,\"YYYYMMDD\"))","v":""},{"$f":"IF('Broker Sheet'!AG408=\"\",\"\",TEXT('Broker Sheet'!AG408,\"YYYYMMDD\"))","v":""}]
[null,null,null,null,null,{"$f":"IF('Broker Sheet'!C409=\"\",\"\",'Broker Sheet'!C409)","v":""},{"$f":"IF('Broker Sheet'!D409=\"\",\"\",'Broker Sheet'!D409)","v":""},{"$f":"IF('Broker Sheet'!E409=\"\",\"\",'Broker Sheet'!E409)","v":""},{"$f":"IF('Broker Sheet'!F409=\"\",\"\",'Broker Sheet'!F409)","v":""},{"$f":"IF('Broker Sheet'!G409=\"\",\"\",TEXT('Broker Sheet'!G409,\"YYYYMMDD\"))","v":""},{"$f":"IF('Broker Sheet'!H409=\"\",\"\",'Broker Sheet'!H409)","v":""},{"$f":"IF('Broker Sheet'!I409=\"\",\"\",'Broker Sheet'!I409)","v":""},{"$f":"IF('Broker Sheet'!J409=\"\",\"\",VLOOKUP('Broker Sheet'!J409,(Reference!$E$4:$F$9),2,FALSE))","v":""},{"$f":"IF('Broker Sheet'!K409=\"\",\"\",'Broker Sheet'!K409)","v":""},{"$f":"IF('Broker Sheet'!R409=\"\",\"\",'Broker Sheet'!R409)","v":""},{"$f":"IF('Broker Sheet'!S409=\"\",\"\",'Broker Sheet'!S409)","v":""},{"$f":"IF('Broker Sheet'!T409=\"\",\"\",'Broker Sheet'!T409)","v":""},{"$f":"IF('Broker Sheet'!U409=\"\",\"\",'Broker Sheet'!U409)","v":""},{"$f":"IF('Broker Sheet'!V409=\"\",\"\",'Broker Sheet'!V409)","v":""},{"$f":"IF('Broker Sheet'!W409=\"\",\"\",'Broker Sheet'!W409)","v":""},{"$f":"IF('Broker Sheet'!Y409=\"\",\"\",'Broker Sheet'!Y409)","v":""},{"$f":"IF('Broker Sheet'!AA409=\"\",\"\",'Broker Sheet'!AA409)","v":""},{"$f":"IF('Broker Sheet'!Z409=\"\",\"\",'Broker Sheet'!Z409)","v":""},{"$f":"IF('Broker Sheet'!AB409=\"\",\"\",'Broker Sheet'!AB409)","v":""},null,null,{"$f":"IF('Broker Sheet'!L409=\"\",\"\",TEXT('Broker Sheet'!L409,\"YYYYMMDD\"))","v":""},{"$f":"IF('Broker Sheet'!AC409=\"\",\"\",TEXT('Broker Sheet'!AC409,\"YYYYMMDD\"))","v":""},{"$f":"IF('Broker Sheet'!AD409=\"\",\"\",TEXT('Broker Sheet'!AD409,\"YYYYMMDD\"))","v":""},{"$f":"IF('Broker Sheet'!AE409=\"\",\"\",'Broker Sheet'!AE409)","v":""},{"$f":"IF('Broker Sheet'!AF409=\"\",\"\",TEXT('Broker Sheet'!AF409,\"YYYYMMDD\"))","v":""},{"$f":"IF('Broker Sheet'!AG409=\"\",\"\",TEXT('Broker Sheet'!AG409,\"YYYYMMDD\"))","v":""}]
[null,null,null,null,null,{"$f":"IF('Broker Sheet'!C410=\"\",\"\",'Broker Sheet'!C410)","v":""},{"$f":"IF('Broker Sheet'!D410=\"\",\"\",'Broker Sheet'!D410)","v":""},{"$f":"IF('Broker Sheet'!E410=\"\",\"\",'Broker Sheet'!E410)","v":""},{"$f":"IF('Broker Sheet'!F410=\"\",\"\",'Broker Sheet'!F410)","v":""},{"$f":"IF('Broker Sheet'!G410=\"\",\"\",TEXT('Broker Sheet'!G410,\"YYYYMMDD\"))","v":""},{"$f":"IF('Broker Sheet'!H410=\"\",\"\",'Broker Sheet'!H410)","v":""},{"$f":"IF('Broker Sheet'!I410=\"\",\"\",'Broker Sheet'!I410)","v":""},{"$f":"IF('Broker Sheet'!J410=\"\",\"\",VLOOKUP('Broker Sheet'!J410,(Reference!$E$4:$F$9),2,FALSE))","v":""},{"$f":"IF('Broker Sheet'!K410=\"\",\"\",'Broker Sheet'!K410)","v":""},{"$f":"IF('Broker Sheet'!R410=\"\",\"\",'Broker Sheet'!R410)","v":""},{"$f":"IF('Broker Sheet'!S410=\"\",\"\",'Broker Sheet'!S410)","v":""},{"$f":"IF('Broker Sheet'!T410=\"\",\"\",'Broker Sheet'!T410)","v":""},{"$f":"IF('Broker Sheet'!U410=\"\",\"\",'Broker Sheet'!U410)","v":""},{"$f":"IF('Broker Sheet'!V410=\"\",\"\",'Broker Sheet'!V410)","v":""},{"$f":"IF('Broker Sheet'!W410=\"\",\"\",'Broker Sheet'!W410)","v":""},{"$f":"IF('Broker Sheet'!Y410=\"\",\"\",'Broker Sheet'!Y410)","v":""},{"$f":"IF('Broker Sheet'!AA410=\"\",\"\",'Broker Sheet'!AA410)","v":""},{"$f":"IF('Broker Sheet'!Z410=\"\",\"\",'Broker Sheet'!Z410)","v":""},{"$f":"IF('Broker Sheet'!AB410=\"\",\"\",'Broker Sheet'!AB410)","v":""},null,null,{"$f":"IF('Broker Sheet'!L410=\"\",\"\",TEXT('Broker Sheet'!L410,\"YYYYMMDD\"))","v":""},{"$f":"IF('Broker Sheet'!AC410=\"\",\"\",TEXT('Broker Sheet'!AC410,\"YYYYMMDD\"))","v":""},{"$f":"IF('Broker Sheet'!AD410=\"\",\"\",TEXT('Broker Sheet'!AD410,\"YYYYMMDD\"))","v":""},{"$f":"IF('Broker Sheet'!AE410=\"\",\"\",'Broker Sheet'!AE410)","v":""},{"$f":"IF('Broker Sheet'!AF410=\"\",\"\",TEXT('Broker Sheet'!AF410,\"YYYYMMDD\"))","v":""},{"$f":"IF('Broker Sheet'!AG410=\"\",\"\",TEXT('Broker Sheet'!AG410,\"YYYYMMDD\"))","v":""}]
[null,null,null,null,null,{"$f":"IF('Broker Sheet'!C411=\"\",\"\",'Broker Sheet'!C411)","v":""},{"$f":"IF('Broker Sheet'!D411=\"\",\"\",'Broker Sheet'!D411)","v":""},{"$f":"IF('Broker Sheet'!E411=\"\",\"\",'Broker Sheet'!E411)","v":""},{"$f":"IF('Broker Sheet'!F411=\"\",\"\",'Broker Sheet'!F411)","v":""},{"$f":"IF('Broker Sheet'!G411=\"\",\"\",TEXT('Broker Sheet'!G411,\"YYYYMMDD\"))","v":""},{"$f":"IF('Broker Sheet'!H411=\"\",\"\",'Broker Sheet'!H411)","v":""},{"$f":"IF('Broker Sheet'!I411=\"\",\"\",'Broker Sheet'!I411)","v":""},{"$f":"IF('Broker Sheet'!J411=\"\",\"\",VLOOKUP('Broker Sheet'!J411,(Reference!$E$4:$F$9),2,FALSE))","v":""},{"$f":"IF('Broker Sheet'!K411=\"\",\"\",'Broker Sheet'!K411)","v":""},{"$f":"IF('Broker Sheet'!R411=\"\",\"\",'Broker Sheet'!R411)","v":""},{"$f":"IF('Broker Sheet'!S411=\"\",\"\",'Broker Sheet'!S411)","v":""},{"$f":"IF('Broker Sheet'!T411=\"\",\"\",'Broker Sheet'!T411)","v":""},{"$f":"IF('Broker Sheet'!U411=\"\",\"\",'Broker Sheet'!U411)","v":""},{"$f":"IF('Broker Sheet'!V411=\"\",\"\",'Broker Sheet'!V411)","v":""},{"$f":"IF('Broker Sheet'!W411=\"\",\"\",'Broker Sheet'!W411)","v":""},{"$f":"IF('Broker Sheet'!Y411=\"\",\"\",'Broker Sheet'!Y411)","v":""},{"$f":"IF('Broker Sheet'!AA411=\"\",\"\",'Broker Sheet'!AA411)","v":""},{"$f":"IF('Broker Sheet'!Z411=\"\",\"\",'Broker Sheet'!Z411)","v":""},{"$f":"IF('Broker Sheet'!AB411=\"\",\"\",'Broker Sheet'!AB411)","v":""},null,null,{"$f":"IF('Broker Sheet'!L411=\"\",\"\",TEXT('Broker Sheet'!L411,\"YYYYMMDD\"))","v":""},{"$f":"IF('Broker Sheet'!AC411=\"\",\"\",TEXT('Broker Sheet'!AC411,\"YYYYMMDD\"))","v":""},{"$f":"IF('Broker Sheet'!AD411=\"\",\"\",TEXT('Broker Sheet'!AD411,\"YYYYMMDD\"))","v":""},{"$f":"IF('Broker Sheet'!AE411=\"\",\"\",'Broker Sheet'!AE411)","v":""},{"$f":"IF('Broker Sheet'!AF411=\"\",\"\",TEXT('Broker Sheet'!AF411,\"YYYYMMDD\"))","v":""},{"$f":"IF('Broker Sheet'!AG411=\"\",\"\",TEXT('Broker Sheet'!AG411,\"YYYYMMDD\"))","v":""}]
[null,null,null,null,null,{"$f":"IF('Broker Sheet'!C412=\"\",\"\",'Broker Sheet'!C412)","v":""},{"$f":"IF('Broker Sheet'!D412=\"\",\"\",'Broker Sheet'!D412)","v":""},{"$f":"IF('Broker Sheet'!E412=\"\",\"\",'Broker Sheet'!E412)","v":""},{"$f":"IF('Broker Sheet'!F412=\"\",\"\",'Broker Sheet'!F412)","v":""},{"$f":"IF('Broker Sheet'!G412=\"\",\"\",TEXT('Broker Sheet'!G412,\"YYYYMMDD\"))","v":""},{"$f":"IF('Broker Sheet'!H412=\"\",\"\",'Broker Sheet'!H412)","v":""},{"$f":"IF('Broker Sheet'!I412=\"\",\"\",'Broker Sheet'!I412)","v":""},{"$f":"IF('Broker Sheet'!J412=\"\",\"\",VLOOKUP('Broker Sheet'!J412,(Reference!$E$4:$F$9),2,FALSE))","v":""},{"$f":"IF('Broker Sheet'!K412=\"\",\"\",'Broker Sheet'!K412)","v":""},{"$f":"IF('Broker Sheet'!R412=\"\",\"\",'Broker Sheet'!R412)","v":""},{"$f":"IF('Broker Sheet'!S412=\"\",\"\",'Broker Sheet'!S412)","v":""},{"$f":"IF('Broker Sheet'!T412=\"\",\"\",'Broker Sheet'!T412)","v":""},{"$f":"IF('Broker Sheet'!U412=\"\",\"\",'Broker Sheet'!U412)","v":""},{"$f":"IF('Broker Sheet'!V412=\"\",\"\",'Broker Sheet'!V412)","v":""},{"$f":"IF('Broker Sheet'!W412=\"\",\"\",'Broker Sheet'!W412)","v":""},{"$f":"IF('Broker Sheet'!Y412=\"\",\"\",'Broker Sheet'!Y412)","v":""},{"$f":"IF('Broker Sheet'!AA412=\"\",\"\",'Broker Sheet'!AA412)","v":""},{"$f":"IF('Broker Sheet'!Z412=\"\",\"\",'Broker Sheet'!Z412)","v":""},{"$f":"IF('Broker Sheet'!AB412=\"\",\"\",'Broker Sheet'!AB412)","v":""},null,null,{"$f":"IF('Broker Sheet'!L412=\"\",\"\",TEXT('Broker Sheet'!L412,\"YYYYMMDD\"))","v":""},{"$f":"IF('Broker Sheet'!AC412=\"\",\"\",TEXT('Broker Sheet'!AC412,\"YYYYMMDD\"))","v":""},{"$f":"IF('Broker Sheet'!AD412=\"\",\"\",TEXT('Broker Sheet'!AD412,\"YYYYMMDD\"))","v":""},{"$f":"IF('Broker Sheet'!AE412=\"\",\"\",'Broker Sheet'!AE412)","v":""},{"$f":"IF('Broker Sheet'!AF412=\"\",\"\",TEXT('Broker Sheet'!AF412,\"YYYYMMDD\"))","v":""},{"$f":"IF('Broker Sheet'!AG412=\"\",\"\",TEXT('Broker Sheet'!AG412,\"YYYYMMDD\"))","v":""}]
[null,null,null,null,null,{"$f":"IF('Broker Sheet'!C413=\"\",\"\",'Broker Sheet'!C413)","v":""},{"$f":"IF('Broker Sheet'!D413=\"\",\"\",'Broker Sheet'!D413)","v":""},{"$f":"IF('Broker Sheet'!E413=\"\",\"\",'Broker Sheet'!E413)","v":""},{"$f":"IF('Broker Sheet'!F413=\"\",\"\",'Broker Sheet'!F413)","v":""},{"$f":"IF('Broker Sheet'!G413=\"\",\"\",TEXT('Broker Sheet'!G413,\"YYYYMMDD\"))","v":""},{"$f":"IF('Broker Sheet'!H413=\"\",\"\",'Broker Sheet'!H413)","v":""},{"$f":"IF('Broker Sheet'!I413=\"\",\"\",'Broker Sheet'!I413)","v":""},{"$f":"IF('Broker Sheet'!J413=\"\",\"\",VLOOKUP('Broker Sheet'!J413,(Reference!$E$4:$F$9),2,FALSE))","v":""},{"$f":"IF('Broker Sheet'!K413=\"\",\"\",'Broker Sheet'!K413)","v":""},{"$f":"IF('Broker Sheet'!R413=\"\",\"\",'Broker Sheet'!R413)","v":""},{"$f":"IF('Broker Sheet'!S413=\"\",\"\",'Broker Sheet'!S413)","v":""},{"$f":"IF('Broker Sheet'!T413=\"\",\"\",'Broker Sheet'!T413)","v":""},{"$f":"IF('Broker Sheet'!U413=\"\",\"\",'Broker Sheet'!U413)","v":""},{"$f":"IF('Broker Sheet'!V413=\"\",\"\",'Broker Sheet'!V413)","v":""},{"$f":"IF('Broker Sheet'!W413=\"\",\"\",'Broker Sheet'!W413)","v":""},{"$f":"IF('Broker Sheet'!Y413=\"\",\"\",'Broker Sheet'!Y413)","v":""},{"$f":"IF('Broker Sheet'!AA413=\"\",\"\",'Broker Sheet'!AA413)","v":""},{"$f":"IF('Broker Sheet'!Z413=\"\",\"\",'Broker Sheet'!Z413)","v":""},{"$f":"IF('Broker Sheet'!AB413=\"\",\"\",'Broker Sheet'!AB413)","v":""},null,null,{"$f":"IF('Broker Sheet'!L413=\"\",\"\",TEXT('Broker Sheet'!L413,\"YYYYMMDD\"))","v":""},{"$f":"IF('Broker Sheet'!AC413=\"\",\"\",TEXT('Broker Sheet'!AC413,\"YYYYMMDD\"))","v":""},{"$f":"IF('Broker Sheet'!AD413=\"\",\"\",TEXT('Broker Sheet'!AD413,\"YYYYMMDD\"))","v":""},{"$f":"IF('Broker Sheet'!AE413=\"\",\"\",'Broker Sheet'!AE413)","v":""},{"$f":"IF('Broker Sheet'!AF413=\"\",\"\",TEXT('Broker Sheet'!AF413,\"YYYYMMDD\"))","v":""},{"$f":"IF('Broker Sheet'!AG413=\"\",\"\",TEXT('Broker Sheet'!AG413,\"YYYYMMDD\"))","v":""}]
[null,null,null,null,null,{"$f":"IF('Broker Sheet'!C414=\"\",\"\",'Broker Sheet'!C414)","v":""},{"$f":"IF('Broker Sheet'!D414=\"\",\"\",'Broker Sheet'!D414)","v":""},{"$f":"IF('Broker Sheet'!E414=\"\",\"\",'Broker Sheet'!E414)","v":""},{"$f":"IF('Broker Sheet'!F414=\"\",\"\",'Broker Sheet'!F414)","v":""},{"$f":"IF('Broker Sheet'!G414=\"\",\"\",TEXT('Broker Sheet'!G414,\"YYYYMMDD\"))","v":""},{"$f":"IF('Broker Sheet'!H414=\"\",\"\",'Broker Sheet'!H414)","v":""},{"$f":"IF('Broker Sheet'!I414=\"\",\"\",'Broker Sheet'!I414)","v":""},{"$f":"IF('Broker Sheet'!J414=\"\",\"\",VLOOKUP('Broker Sheet'!J414,(Reference!$E$4:$F$9),2,FALSE))","v":""},{"$f":"IF('Broker Sheet'!K414=\"\",\"\",'Broker Sheet'!K414)","v":""},{"$f":"IF('Broker Sheet'!R414=\"\",\"\",'Broker Sheet'!R414)","v":""},{"$f":"IF('Broker Sheet'!S414=\"\",\"\",'Broker Sheet'!S414)","v":""},{"$f":"IF('Broker Sheet'!T414=\"\",\"\",'Broker Sheet'!T414)","v":""},{"$f":"IF('Broker Sheet'!U414=\"\",\"\",'Broker Sheet'!U414)","v":""},{"$f":"IF('Broker Sheet'!V414=\"\",\"\",'Broker Sheet'!V414)","v":""},{"$f":"IF('Broker Sheet'!W414=\"\",\"\",'Broker Sheet'!W414)","v":""},{"$f":"IF('Broker Sheet'!Y414=\"\",\"\",'Broker Sheet'!Y414)","v":""},{"$f":"IF('Broker Sheet'!AA414=\"\",\"\",'Broker Sheet'!AA414)","v":""},{"$f":"IF('Broker Sheet'!Z414=\"\",\"\",'Broker Sheet'!Z414)","v":""},{"$f":"IF('Broker Sheet'!AB414=\"\",\"\",'Broker Sheet'!AB414)","v":""},null,null,{"$f":"IF('Broker Sheet'!L414=\"\",\"\",TEXT('Broker Sheet'!L414,\"YYYYMMDD\"))","v":""},{"$f":"IF('Broker Sheet'!AC414=\"\",\"\",TEXT('Broker Sheet'!AC414,\"YYYYMMDD\"))","v":""},{"$f":"IF('Broker Sheet'!AD414=\"\",\"\",TEXT('Broker Sheet'!AD414,\"YYYYMMDD\"))","v":""},{"$f":"IF('Broker Sheet'!AE414=\"\",\"\",'Broker Sheet'!AE414)","v":""},{"$f":"IF('Broker Sheet'!AF414=\"\",\"\",TEXT('Broker Sheet'!AF414,\"YYYYMMDD\"))","v":""},{"$f":"IF('Broker Sheet'!AG414=\"\",\"\",TEXT('Broker Sheet'!AG414,\"YYYYMMDD\"))","v":""}]
[null,null,null,null,null,{"$f":"IF('Broker Sheet'!C415=\"\",\"\",'Broker Sheet'!C415)","v":""},{"$f":"IF('Broker Sheet'!D415=\"\",\"\",'Broker Sheet'!D415)","v":""},{"$f":"IF('Broker Sheet'!E415=\"\",\"\",'Broker Sheet'!E415)","v":""},{"$f":"IF('Broker Sheet'!F415=\"\",\"\",'Broker Sheet'!F415)","v":""},{"$f":"IF('Broker Sheet'!G415=\"\",\"\",TEXT('Broker Sheet'!G415,\"YYYYMMDD\"))","v":""},{"$f":"IF('Broker Sheet'!H415=\"\",\"\",'Broker Sheet'!H415)","v":""},{"$f":"IF('Broker Sheet'!I415=\"\",\"\",'Broker Sheet'!I415)","v":""},{"$f":"IF('Broker Sheet'!J415=\"\",\"\",VLOOKUP('Broker Sheet'!J415,(Reference!$E$4:$F$9),2,FALSE))","v":""},{"$f":"IF('Broker Sheet'!K415=\"\",\"\",'Broker Sheet'!K415)","v":""},{"$f":"IF('Broker Sheet'!R415=\"\",\"\",'Broker Sheet'!R415)","v":""},{"$f":"IF('Broker Sheet'!S415=\"\",\"\",'Broker Sheet'!S415)","v":""},{"$f":"IF('Broker Sheet'!T415=\"\",\"\",'Broker Sheet'!T415)","v":""},{"$f":"IF('Broker Sheet'!U415=\"\",\"\",'Broker Sheet'!U415)","v":""},{"$f":"IF('Broker Sheet'!V415=\"\",\"\",'Broker Sheet'!V415)","v":""},{"$f":"IF('Broker Sheet'!W415=\"\",\"\",'Broker Sheet'!W415)","v":""},{"$f":"IF('Broker Sheet'!Y415=\"\",\"\",'Broker Sheet'!Y415)","v":""},{"$f":"IF('Broker Sheet'!AA415=\"\",\"\",'Broker Sheet'!AA415)","v":""},{"$f":"IF('Broker Sheet'!Z415=\"\",\"\",'Broker Sheet'!Z415)","v":""},{"$f":"IF('Broker Sheet'!AB415=\"\",\"\",'Broker Sheet'!AB415)","v":""},null,null,{"$f":"IF('Broker Sheet'!L415=\"\",\"\",TEXT('Broker Sheet'!L415,\"YYYYMMDD\"))","v":""},{"$f":"IF('Broker Sheet'!AC415=\"\",\"\",TEXT('Broker Sheet'!AC415,\"YYYYMMDD\"))","v":""},{"$f":"IF('Broker Sheet'!AD415=\"\",\"\",TEXT('Broker Sheet'!AD415,\"YYYYMMDD\"))","v":""},{"$f":"IF('Broker Sheet'!AE415=\"\",\"\",'Broker Sheet'!AE415)","v":""},{"$f":"IF('Broker Sheet'!AF415=\"\",\"\",TEXT('Broker Sheet'!AF415,\"YYYYMMDD\"))","v":""},{"$f":"IF('Broker Sheet'!AG415=\"\",\"\",TEXT('Broker Sheet'!AG415,\"YYYYMMDD\"))","v":""}]
[null,null,null,null,null,{"$f":"IF('Broker Sheet'!C416=\"\",\"\",'Broker Sheet'!C416)","v":""},{"$f":"IF('Broker Sheet'!D416=\"\",\"\",'Broker Sheet'!D416)","v":""},{"$f":"IF('Broker Sheet'!E416=\"\",\"\",'Broker Sheet'!E416)","v":""},{"$f":"IF('Broker Sheet'!F416=\"\",\"\",'Broker Sheet'!F416)","v":""},{"$f":"IF('Broker Sheet'!G416=\"\",\"\",TEXT('Broker Sheet'!G416,\"YYYYMMDD\"))","v":""},{"$f":"IF('Broker Sheet'!H416=\"\",\"\",'Broker Sheet'!H416)","v":""},{"$f":"IF('Broker Sheet'!I416=\"\",\"\",'Broker Sheet'!I416)","v":""},{"$f":"IF('Broker Sheet'!J416=\"\",\"\",VLOOKUP('Broker Sheet'!J416,(Reference!$E$4:$F$9),2,FALSE))","v":""},{"$f":"IF('Broker Sheet'!K416=\"\",\"\",'Broker Sheet'!K416)","v":""},{"$f":"IF('Broker Sheet'!R416=\"\",\"\",'Broker Sheet'!R416)","v":""},{"$f":"IF('Broker Sheet'!S416=\"\",\"\",'Broker Sheet'!S416)","v":""},{"$f":"IF('Broker Sheet'!T416=\"\",\"\",'Broker Sheet'!T416)","v":""},{"$f":"IF('Broker Sheet'!U416=\"\",\"\",'Broker Sheet'!U416)","v":""},{"$f":"IF('Broker Sheet'!V416=\"\",\"\",'Broker Sheet'!V416)","v":""},{"$f":"IF('Broker Sheet'!W416=\"\",\"\",'Broker Sheet'!W416)","v":""},{"$f":"IF('Broker Sheet'!Y416=\"\",\"\",'Broker Sheet'!Y416)","v":""},{"$f":"IF('Broker Sheet'!AA416=\"\",\"\",'Broker Sheet'!AA416)","v":""},{"$f":"IF('Broker Sheet'!Z416=\"\",\"\",'Broker Sheet'!Z416)","v":""},{"$f":"IF('Broker Sheet'!AB416=\"\",\"\",'Broker Sheet'!AB416)","v":""},null,null,{"$f":"IF('Broker Sheet'!L416=\"\",\"\",TEXT('Broker Sheet'!L416,\"YYYYMMDD\"))","v":""},{"$f":"IF('Broker Sheet'!AC416=\"\",\"\",TEXT('Broker Sheet'!AC416,\"YYYYMMDD\"))","v":""},{"$f":"IF('Broker Sheet'!AD416=\"\",\"\",TEXT('Broker Sheet'!AD416,\"YYYYMMDD\"))","v":""},{"$f":"IF('Broker Sheet'!AE416=\"\",\"\",'Broker Sheet'!AE416)","v":""},{"$f":"IF('Broker Sheet'!AF416=\"\",\"\",TEXT('Broker Sheet'!AF416,\"YYYYMMDD\"))","v":""},{"$f":"IF('Broker Sheet'!AG416=\"\",\"\",TEXT('Broker Sheet'!AG416,\"YYYYMMDD\"))","v":""}]
[null,null,null,null,null,{"$f":"IF('Broker Sheet'!C417=\"\",\"\",'Broker Sheet'!C417)","v":""},{"$f":"IF('Broker Sheet'!D417=\"\",\"\",'Broker Sheet'!D417)","v":""},{"$f":"IF('Broker Sheet'!E417=\"\",\"\",'Broker Sheet'!E417)","v":""},{"$f":"IF('Broker Sheet'!F417=\"\",\"\",'Broker Sheet'!F417)","v":""},{"$f":"IF('Broker Sheet'!G417=\"\",\"\",TEXT('Broker Sheet'!G417,\"YYYYMMDD\"))","v":""},{"$f":"IF('Broker Sheet'!H417=\"\",\"\",'Broker Sheet'!H417)","v":""},{"$f":"IF('Broker Sheet'!I417=\"\",\"\",'Broker Sheet'!I417)","v":""},{"$f":"IF('Broker Sheet'!J417=\"\",\"\",VLOOKUP('Broker Sheet'!J417,(Reference!$E$4:$F$9),2,FALSE))","v":""},{"$f":"IF('Broker Sheet'!K417=\"\",\"\",'Broker Sheet'!K417)","v":""},{"$f":"IF('Broker Sheet'!R417=\"\",\"\",'Broker Sheet'!R417)","v":""},{"$f":"IF('Broker Sheet'!S417=\"\",\"\",'Broker Sheet'!S417)","v":""},{"$f":"IF('Broker Sheet'!T417=\"\",\"\",'Broker Sheet'!T417)","v":""},{"$f":"IF('Broker Sheet'!U417=\"\",\"\",'Broker Sheet'!U417)","v":""},{"$f":"IF('Broker Sheet'!V417=\"\",\"\",'Broker Sheet'!V417)","v":""},{"$f":"IF('Broker Sheet'!W417=\"\",\"\",'Broker Sheet'!W417)","v":""},{"$f":"IF('Broker Sheet'!Y417=\"\",\"\",'Broker Sheet'!Y417)","v":""},{"$f":"IF('Broker Sheet'!AA417=\"\",\"\",'Broker Sheet'!AA417)","v":""},{"$f":"IF('Broker Sheet'!Z417=\"\",\"\",'Broker Sheet'!Z417)","v":""},{"$f":"IF('Broker Sheet'!AB417=\"\",\"\",'Broker Sheet'!AB417)","v":""},null,null,{"$f":"IF('Broker Sheet'!L417=\"\",\"\",TEXT('Broker Sheet'!L417,\"YYYYMMDD\"))","v":""},{"$f":"IF('Broker Sheet'!AC417=\"\",\"\",TEXT('Broker Sheet'!AC417,\"YYYYMMDD\"))","v":""},{"$f":"IF('Broker Sheet'!AD417=\"\",\"\",TEXT('Broker Sheet'!AD417,\"YYYYMMDD\"))","v":""},{"$f":"IF('Broker Sheet'!AE417=\"\",\"\",'Broker Sheet'!AE417)","v":""},{"$f":"IF('Broker Sheet'!AF417=\"\",\"\",TEXT('Broker Sheet'!AF417,\"YYYYMMDD\"))","v":""},{"$f":"IF('Broker Sheet'!AG417=\"\",\"\",TEXT('Broker Sheet'!AG417,\"YYYYMMDD\"))","v":""}]
[null,null,null,null,null,{"$f":"IF('Broker Sheet'!C418=\"\",\"\",'Broker Sheet'!C418)","v":""},{"$f":"IF('Broker Sheet'!D418=\"\",\"\",'Broker Sheet'!D418)","v":""},{"$f":"IF('Broker Sheet'!E418=\"\",\"\",'Broker Sheet'!E418)","v":""},{"$f":"IF('Broker Sheet'!F418=\"\",\"\",'Broker Sheet'!F418)","v":""},{"$f":"IF('Broker Sheet'!G418=\"\",\"\",TEXT('Broker Sheet'!G418,\"YYYYMMDD\"))","v":""},{"$f":"IF('Broker Sheet'!H418=\"\",\"\",'Broker Sheet'!H418)","v":""},{"$f":"IF('Broker Sheet'!I418=\"\",\"\",'Broker Sheet'!I418)","v":""},{"$f":"IF('Broker Sheet'!J418=\"\",\"\",VLOOKUP('Broker Sheet'!J418,(Reference!$E$4:$F$9),2,FALSE))","v":""},{"$f":"IF('Broker Sheet'!K418=\"\",\"\",'Broker Sheet'!K418)","v":""},{"$f":"IF('Broker Sheet'!R418=\"\",\"\",'Broker Sheet'!R418)","v":""},{"$f":"IF('Broker Sheet'!S418=\"\",\"\",'Broker Sheet'!S418)","v":""},{"$f":"IF('Broker Sheet'!T418=\"\",\"\",'Broker Sheet'!T418)","v":""},{"$f":"IF('Broker Sheet'!U418=\"\",\"\",'Broker Sheet'!U418)","v":""},{"$f":"IF('Broker Sheet'!V418=\"\",\"\",'Broker Sheet'!V418)","v":""},{"$f":"IF('Broker Sheet'!W418=\"\",\"\",'Broker Sheet'!W418)","v":""},{"$f":"IF('Broker Sheet'!Y418=\"\",\"\",'Broker Sheet'!Y418)","v":""},{"$f":"IF('Broker Sheet'!AA418=\"\",\"\",'Broker Sheet'!AA418)","v":""},{"$f":"IF('Broker Sheet'!Z418=\"\",\"\",'Broker Sheet'!Z418)","v":""},{"$f":"IF('Broker Sheet'!AB418=\"\",\"\",'Broker Sheet'!AB418)","v":""},null,null,{"$f":"IF('Broker Sheet'!L418=\"\",\"\",TEXT('Broker Sheet'!L418,\"YYYYMMDD\"))","v":""},{"$f":"IF('Broker Sheet'!AC418=\"\",\"\",TEXT('Broker Sheet'!AC418,\"YYYYMMDD\"))","v":""},{"$f":"IF('Broker Sheet'!AD418=\"\",\"\",TEXT('Broker Sheet'!AD418,\"YYYYMMDD\"))","v":""},{"$f":"IF('Broker Sheet'!AE418=\"\",\"\",'Broker Sheet'!AE418)","v":""},{"$f":"IF('Broker Sheet'!AF418=\"\",\"\",TEXT('Broker Sheet'!AF418,\"YYYYMMDD\"))","v":""},{"$f":"IF('Broker Sheet'!AG418=\"\",\"\",TEXT('Broker Sheet'!AG418,\"YYYYMMDD\"))","v":""}]
[null,null,null,null,null,{"$f":"IF('Broker Sheet'!C419=\"\",\"\",'Broker Sheet'!C419)","v":""},{"$f":"IF('Broker Sheet'!D419=\"\",\"\",'Broker Sheet'!D419)","v":""},{"$f":"IF('Broker Sheet'!E419=\"\",\"\",'Broker Sheet'!E419)","v":""},{"$f":"IF('Broker Sheet'!F419=\"\",\"\",'Broker Sheet'!F419)","v":""},{"$f":"IF('Broker Sheet'!G419=\"\",\"\",TEXT('Broker Sheet'!G419,\"YYYYMMDD\"))","v":""},{"$f":"IF('Broker Sheet'!H419=\"\",\"\",'Broker Sheet'!H419)","v":""},{"$f":"IF('Broker Sheet'!I419=\"\",\"\",'Broker Sheet'!I419)","v":""},{"$f":"IF('Broker Sheet'!J419=\"\",\"\",VLOOKUP('Broker Sheet'!J419,(Reference!$E$4:$F$9),2,FALSE))","v":""},{"$f":"IF('Broker Sheet'!K419=\"\",\"\",'Broker Sheet'!K419)","v":""},{"$f":"IF('Broker Sheet'!R419=\"\",\"\",'Broker Sheet'!R419)","v":""},{"$f":"IF('Broker Sheet'!S419=\"\",\"\",'Broker Sheet'!S419)","v":""},{"$f":"IF('Broker Sheet'!T419=\"\",\"\",'Broker Sheet'!T419)","v":""},{"$f":"IF('Broker Sheet'!U419=\"\",\"\",'Broker Sheet'!U419)","v":""},{"$f":"IF('Broker Sheet'!V419=\"\",\"\",'Broker Sheet'!V419)","v":""},{"$f":"IF('Broker Sheet'!W419=\"\",\"\",'Broker Sheet'!W419)","v":""},{"$f":"IF('Broker Sheet'!Y419=\"\",\"\",'Broker Sheet'!Y419)","v":""},{"$f":"IF('Broker Sheet'!AA419=\"\",\"\",'Broker Sheet'!AA419)","v":""},{"$f":"IF('Broker Sheet'!Z419=\"\",\"\",'Broker Sheet'!Z419)","v":""},{"$f":"IF('Broker Sheet'!AB419=\"\",\"\",'Broker Sheet'!AB419)","v":""},null,null,{"$f":"IF('Broker Sheet'!L419=\"\",\"\",TEXT('Broker Sheet'!L419,\"YYYYMMDD\"))","v":""},{"$f":"IF('Broker Sheet'!AC419=\"\",\"\",TEXT('Broker Sheet'!AC419,\"YYYYMMDD\"))","v":""},{"$f":"IF('Broker Sheet'!AD419=\"\",\"\",TEXT('Broker Sheet'!AD419,\"YYYYMMDD\"))","v":""},{"$f":"IF('Broker Sheet'!AE419=\"\",\"\",'Broker Sheet'!AE419)","v":""},{"$f":"IF('Broker Sheet'!AF419=\"\",\"\",TEXT('Broker Sheet'!AF419,\"YYYYMMDD\"))","v":""},{"$f":"IF('Broker Sheet'!AG419=\"\",\"\",TEXT('Broker Sheet'!AG419,\"YYYYMMDD\"))","v":""}]
[null,null,null,null,null,{"$f":"IF('Broker Sheet'!C420=\"\",\"\",'Broker Sheet'!C420)","v":""},{"$f":"IF('Broker Sheet'!D420=\"\",\"\",'Broker Sheet'!D420)","v":""},{"$f":"IF('Broker Sheet'!E420=\"\",\"\",'Broker Sheet'!E420)","v":""},{"$f":"IF('Broker Sheet'!F420=\"\",\"\",'Broker Sheet'!F420)","v":""},{"$f":"IF('Broker Sheet'!G420=\"\",\"\",TEXT('Broker Sheet'!G420,\"YYYYMMDD\"))","v":""},{"$f":"IF('Broker Sheet'!H420=\"\",\"\",'Broker Sheet'!H420)","v":""},{"$f":"IF('Broker Sheet'!I420=\"\",\"\",'Broker Sheet'!I420)","v":""},{"$f":"IF('Broker Sheet'!J420=\"\",\"\",VLOOKUP('Broker Sheet'!J420,(Reference!$E$4:$F$9),2,FALSE))","v":""},{"$f":"IF('Broker Sheet'!K420=\"\",\"\",'Broker Sheet'!K420)","v":""},{"$f":"IF('Broker Sheet'!R420=\"\",\"\",'Broker Sheet'!R420)","v":""},{"$f":"IF('Broker Sheet'!S420=\"\",\"\",'Broker Sheet'!S420)","v":""},{"$f":"IF('Broker Sheet'!T420=\"\",\"\",'Broker Sheet'!T420)","v":""},{"$f":"IF('Broker Sheet'!U420=\"\",\"\",'Broker Sheet'!U420)","v":""},{"$f":"IF('Broker Sheet'!V420=\"\",\"\",'Broker Sheet'!V420)","v":""},{"$f":"IF('Broker Sheet'!W420=\"\",\"\",'Broker Sheet'!W420)","v":""},{"$f":"IF('Broker Sheet'!Y420=\"\",\"\",'Broker Sheet'!Y420)","v":""},{"$f":"IF('Broker Sheet'!AA420=\"\",\"\",'Broker Sheet'!AA420)","v":""},{"$f":"IF('Broker Sheet'!Z420=\"\",\"\",'Broker Sheet'!Z420)","v":""},{"$f":"IF('Broker Sheet'!AB420=\"\",\"\",'Broker Sheet'!AB420)","v":""},null,null,{"$f":"IF('Broker Sheet'!L420=\"\",\"\",TEXT('Broker Sheet'!L420,\"YYYYMMDD\"))","v":""},{"$f":"IF('Broker Sheet'!AC420=\"\",\"\",TEXT('Broker Sheet'!AC420,\"YYYYMMDD\"))","v":""},{"$f":"IF('Broker Sheet'!AD420=\"\",\"\",TEXT('Broker Sheet'!AD420,\"YYYYMMDD\"))","v":""},{"$f":"IF('Broker Sheet'!AE420=\"\",\"\",'Broker Sheet'!AE420)","v":""},{"$f":"IF('Broker Sheet'!AF420=\"\",\"\",TEXT('Broker Sheet'!AF420,\"YYYYMMDD\"))","v":""},{"$f":"IF('Broker Sheet'!AG420=\"\",\"\",TEXT('Broker Sheet'!AG420,\"YYYYMMDD\"))","v":""}]
[null,null,null,null,null,{"$f":"IF('Broker Sheet'!C421=\"\",\"\",'Broker Sheet'!C421)","v":""},{"$f":"IF('Broker Sheet'!D421=\"\",\"\",'Broker Sheet'!D421)","v":""},{"$f":"IF('Broker Sheet'!E421=\"\",\"\",'Broker Sheet'!E421)","v":""},{"$f":"IF('Broker Sheet'!F421=\"\",\"\",'Broker Sheet'!F421)","v":""},{"$f":"IF('Broker Sheet'!G421=\"\",\"\",TEXT('Broker Sheet'!G421,\"YYYYMMDD\"))","v":""},{"$f":"IF('Broker Sheet'!H421=\"\",\"\",'Broker Sheet'!H421)","v":""},{"$f":"IF('Broker Sheet'!I421=\"\",\"\",'Broker Sheet'!I421)","v":""},{"$f":"IF('Broker Sheet'!J421=\"\",\"\",VLOOKUP('Broker Sheet'!J421,(Reference!$E$4:$F$9),2,FALSE))","v":""},{"$f":"IF('Broker Sheet'!K421=\"\",\"\",'Broker Sheet'!K421)","v":""},{"$f":"IF('Broker Sheet'!R421=\"\",\"\",'Broker Sheet'!R421)","v":""},{"$f":"IF('Broker Sheet'!S421=\"\",\"\",'Broker Sheet'!S421)","v":""},{"$f":"IF('Broker Sheet'!T421=\"\",\"\",'Broker Sheet'!T421)","v":""},{"$f":"IF('Broker Sheet'!U421=\"\",\"\",'Broker Sheet'!U421)","v":""},{"$f":"IF('Broker Sheet'!V421=\"\",\"\",'Broker Sheet'!V421)","v":""},{"$f":"IF('Broker Sheet'!W421=\"\",\"\",'Broker Sheet'!W421)","v":""},{"$f":"IF('Broker Sheet'!Y421=\"\",\"\",'Broker Sheet'!Y421)","v":""},{"$f":"IF('Broker Sheet'!AA421=\"\",\"\",'Broker Sheet'!AA421)","v":""},{"$f":"IF('Broker Sheet'!Z421=\"\",\"\",'Broker Sheet'!Z421)","v":""},{"$f":"IF('Broker Sheet'!AB421=\"\",\"\",'Broker Sheet'!AB421)","v":""},null,null,{"$f":"IF('Broker Sheet'!L421=\"\",\"\",TEXT('Broker Sheet'!L421,\"YYYYMMDD\"))","v":""},{"$f":"IF('Broker Sheet'!AC421=\"\",\"\",TEXT('Broker Sheet'!AC421,\"YYYYMMDD\"))","v":""},{"$f":"IF('Broker Sheet'!AD421=\"\",\"\",TEXT('Broker Sheet'!AD421,\"YYYYMMDD\"))","v":""},{"$f":"IF('Broker Sheet'!AE421=\"\",\"\",'Broker Sheet'!AE421)","v":""},{"$f":"IF('Broker Sheet'!AF421=\"\",\"\",TEXT('Broker Sheet'!AF421,\"YYYYMMDD\"))","v":""},{"$f":"IF('Broker Sheet'!AG421=\"\",\"\",TEXT('Broker Sheet'!AG421,\"YYYYMMDD\"))","v":""}]
[null,null,null,null,null,{"$f":"IF('Broker Sheet'!C422=\"\",\"\",'Broker Sheet'!C422)","v":""},{"$f":"IF('Broker Sheet'!D422=\"\",\"\",'Broker Sheet'!D422)","v":""},{"$f":"IF('Broker Sheet'!E422=\"\",\"\",'Broker Sheet'!E422)","v":""},{"$f":"IF('Broker Sheet'!F422=\"\",\"\",'Broker Sheet'!F422)","v":""},{"$f":"IF('Broker Sheet'!G422=\"\",\"\",TEXT('Broker Sheet'!G422,\"YYYYMMDD\"))","v":""},{"$f":"IF('Broker Sheet'!H422=\"\",\"\",'Broker Sheet'!H422)","v":""},{"$f":"IF('Broker Sheet'!I422=\"\",\"\",'Broker Sheet'!I422)","v":""},{"$f":"IF('Broker Sheet'!J422=\"\",\"\",VLOOKUP('Broker Sheet'!J422,(Reference!$E$4:$F$9),2,FALSE))","v":""},{"$f":"IF('Broker Sheet'!K422=\"\",\"\",'Broker Sheet'!K422)","v":""},{"$f":"IF('Broker Sheet'!R422=\"\",\"\",'Broker Sheet'!R422)","v":""},{"$f":"IF('Broker Sheet'!S422=\"\",\"\",'Broker Sheet'!S422)","v":""},{"$f":"IF('Broker Sheet'!T422=\"\",\"\",'Broker Sheet'!T422)","v":""},{"$f":"IF('Broker Sheet'!U422=\"\",\"\",'Broker Sheet'!U422)","v":""},{"$f":"IF('Broker Sheet'!V422=\"\",\"\",'Broker Sheet'!V422)","v":""},{"$f":"IF('Broker Sheet'!W422=\"\",\"\",'Broker Sheet'!W422)","v":""},{"$f":"IF('Broker Sheet'!Y422=\"\",\"\",'Broker Sheet'!Y422)","v":""},{"$f":"IF('Broker Sheet'!AA422=\"\",\"\",'Broker Sheet'!AA422)","v":""},{"$f":"IF('Broker Sheet'!Z422=\"\",\"\",'Broker Sheet'!Z422)","v":""},{"$f":"IF('Broker Sheet'!AB422=\"\",\"\",'Broker Sheet'!AB422)","v":""},null,null,{"$f":"IF('Broker Sheet'!L422=\"\",\"\",TEXT('Broker Sheet'!L422,\"YYYYMMDD\"))","v":""},{"$f":"IF('Broker Sheet'!AC422=\"\",\"\",TEXT('Broker Sheet'!AC422,\"YYYYMMDD\"))","v":""},{"$f":"IF('Broker Sheet'!AD422=\"\",\"\",TEXT('Broker Sheet'!AD422,\"YYYYMMDD\"))","v":""},{"$f":"IF('Broker Sheet'!AE422=\"\",\"\",'Broker Sheet'!AE422)","v":""},{"$f":"IF('Broker Sheet'!AF422=\"\",\"\",TEXT('Broker Sheet'!AF422,\"YYYYMMDD\"))","v":""},{"$f":"IF('Broker Sheet'!AG422=\"\",\"\",TEXT('Broker Sheet'!AG422,\"YYYYMMDD\"))","v":""}]
[null,null,null,null,null,{"$f":"IF('Broker Sheet'!C423=\"\",\"\",'Broker Sheet'!C423)","v":""},{"$f":"IF('Broker Sheet'!D423=\"\",\"\",'Broker Sheet'!D423)","v":""},{"$f":"IF('Broker Sheet'!E423=\"\",\"\",'Broker Sheet'!E423)","v":""},{"$f":"IF('Broker Sheet'!F423=\"\",\"\",'Broker Sheet'!F423)","v":""},{"$f":"IF('Broker Sheet'!G423=\"\",\"\",TEXT('Broker Sheet'!G423,\"YYYYMMDD\"))","v":""},{"$f":"IF('Broker Sheet'!H423=\"\",\"\",'Broker Sheet'!H423)","v":""},{"$f":"IF('Broker Sheet'!I423=\"\",\"\",'Broker Sheet'!I423)","v":""},{"$f":"IF('Broker Sheet'!J423=\"\",\"\",VLOOKUP('Broker Sheet'!J423,(Reference!$E$4:$F$9),2,FALSE))","v":""},{"$f":"IF('Broker Sheet'!K423=\"\",\"\",'Broker Sheet'!K423)","v":""},{"$f":"IF('Broker Sheet'!R423=\"\",\"\",'Broker Sheet'!R423)","v":""},{"$f":"IF('Broker Sheet'!S423=\"\",\"\",'Broker Sheet'!S423)","v":""},{"$f":"IF('Broker Sheet'!T423=\"\",\"\",'Broker Sheet'!T423)","v":""},{"$f":"IF('Broker Sheet'!U423=\"\",\"\",'Broker Sheet'!U423)","v":""},{"$f":"IF('Broker Sheet'!V423=\"\",\"\",'Broker Sheet'!V423)","v":""},{"$f":"IF('Broker Sheet'!W423=\"\",\"\",'Broker Sheet'!W423)","v":""},{"$f":"IF('Broker Sheet'!Y423=\"\",\"\",'Broker Sheet'!Y423)","v":""},{"$f":"IF('Broker Sheet'!AA423=\"\",\"\",'Broker Sheet'!AA423)","v":""},{"$f":"IF('Broker Sheet'!Z423=\"\",\"\",'Broker Sheet'!Z423)","v":""},{"$f":"IF('Broker Sheet'!AB423=\"\",\"\",'Broker Sheet'!AB423)","v":""},null,null,{"$f":"IF('Broker Sheet'!L423=\"\",\"\",TEXT('Broker Sheet'!L423,\"YYYYMMDD\"))","v":""},{"$f":"IF('Broker Sheet'!AC423=\"\",\"\",TEXT('Broker Sheet'!AC423,\"YYYYMMDD\"))","v":""},{"$f":"IF('Broker Sheet'!AD423=\"\",\"\",TEXT('Broker Sheet'!AD423,\"YYYYMMDD\"))","v":""},{"$f":"IF('Broker Sheet'!AE423=\"\",\"\",'Broker Sheet'!AE423)","v":""},{"$f":"IF('Broker Sheet'!AF423=\"\",\"\",TEXT('Broker Sheet'!AF423,\"YYYYMMDD\"))","v":""},{"$f":"IF('Broker Sheet'!AG423=\"\",\"\",TEXT('Broker Sheet'!AG423,\"YYYYMMDD\"))","v":""}]
[null,null,null,null,null,{"$f":"IF('Broker Sheet'!C424=\"\",\"\",'Broker Sheet'!C424)","v":""},{"$f":"IF('Broker Sheet'!D424=\"\",\"\",'Broker Sheet'!D424)","v":""},{"$f":"IF('Broker Sheet'!E424=\"\",\"\",'Broker Sheet'!E424)","v":""},{"$f":"IF('Broker Sheet'!F424=\"\",\"\",'Broker Sheet'!F424)","v":""},{"$f":"IF('Broker Sheet'!G424=\"\",\"\",TEXT('Broker Sheet'!G424,\"YYYYMMDD\"))","v":""},{"$f":"IF('Broker Sheet'!H424=\"\",\"\",'Broker Sheet'!H424)","v":""},{"$f":"IF('Broker Sheet'!I424=\"\",\"\",'Broker Sheet'!I424)","v":""},{"$f":"IF('Broker Sheet'!J424=\"\",\"\",VLOOKUP('Broker Sheet'!J424,(Reference!$E$4:$F$9),2,FALSE))","v":""},{"$f":"IF('Broker Sheet'!K424=\"\",\"\",'Broker Sheet'!K424)","v":""},{"$f":"IF('Broker Sheet'!R424=\"\",\"\",'Broker Sheet'!R424)","v":""},{"$f":"IF('Broker Sheet'!S424=\"\",\"\",'Broker Sheet'!S424)","v":""},{"$f":"IF('Broker Sheet'!T424=\"\",\"\",'Broker Sheet'!T424)","v":""},{"$f":"IF('Broker Sheet'!U424=\"\",\"\",'Broker Sheet'!U424)","v":""},{"$f":"IF('Broker Sheet'!V424=\"\",\"\",'Broker Sheet'!V424)","v":""},{"$f":"IF('Broker Sheet'!W424=\"\",\"\",'Broker Sheet'!W424)","v":""},{"$f":"IF('Broker Sheet'!Y424=\"\",\"\",'Broker Sheet'!Y424)","v":""},{"$f":"IF('Broker Sheet'!AA424=\"\",\"\",'Broker Sheet'!AA424)","v":""},{"$f":"IF('Broker Sheet'!Z424=\"\",\"\",'Broker Sheet'!Z424)","v":""},{"$f":"IF('Broker Sheet'!AB424=\"\",\"\",'Broker Sheet'!AB424)","v":""},null,null,{"$f":"IF('Broker Sheet'!L424=\"\",\"\",TEXT('Broker Sheet'!L424,\"YYYYMMDD\"))","v":""},{"$f":"IF('Broker Sheet'!AC424=\"\",\"\",TEXT('Broker Sheet'!AC424,\"YYYYMMDD\"))","v":""},{"$f":"IF('Broker Sheet'!AD424=\"\",\"\",TEXT('Broker Sheet'!AD424,\"YYYYMMDD\"))","v":""},{"$f":"IF('Broker Sheet'!AE424=\"\",\"\",'Broker Sheet'!AE424)","v":""},{"$f":"IF('Broker Sheet'!AF424=\"\",\"\",TEXT('Broker Sheet'!AF424,\"YYYYMMDD\"))","v":""},{"$f":"IF('Broker Sheet'!AG424=\"\",\"\",TEXT('Broker Sheet'!AG424,\"YYYYMMDD\"))","v":""}]
[null,null,null,null,null,{"$f":"IF('Broker Sheet'!C425=\"\",\"\",'Broker Sheet'!C425)","v":""},{"$f":"IF('Broker Sheet'!D425=\"\",\"\",'Broker Sheet'!D425)","v":""},{"$f":"IF('Broker Sheet'!E425=\"\",\"\",'Broker Sheet'!E425)","v":""},{"$f":"IF('Broker Sheet'!F425=\"\",\"\",'Broker Sheet'!F425)","v":""},{"$f":"IF('Broker Sheet'!G425=\"\",\"\",TEXT('Broker Sheet'!G425,\"YYYYMMDD\"))","v":""},{"$f":"IF('Broker Sheet'!H425=\"\",\"\",'Broker Sheet'!H425)","v":""},{"$f":"IF('Broker Sheet'!I425=\"\",\"\",'Broker Sheet'!I425)","v":""},{"$f":"IF('Broker Sheet'!J425=\"\",\"\",VLOOKUP('Broker Sheet'!J425,(Reference!$E$4:$F$9),2,FALSE))","v":""},{"$f":"IF('Broker Sheet'!K425=\"\",\"\",'Broker Sheet'!K425)","v":""},{"$f":"IF('Broker Sheet'!R425=\"\",\"\",'Broker Sheet'!R425)","v":""},{"$f":"IF('Broker Sheet'!S425=\"\",\"\",'Broker Sheet'!S425)","v":""},{"$f":"IF('Broker Sheet'!T425=\"\",\"\",'Broker Sheet'!T425)","v":""},{"$f":"IF('Broker Sheet'!U425=\"\",\"\",'Broker Sheet'!U425)","v":""},{"$f":"IF('Broker Sheet'!V425=\"\",\"\",'Broker Sheet'!V425)","v":""},{"$f":"IF('Broker Sheet'!W425=\"\",\"\",'Broker Sheet'!W425)","v":""},{"$f":"IF('Broker Sheet'!Y425=\"\",\"\",'Broker Sheet'!Y425)","v":""},{"$f":"IF('Broker Sheet'!AA425=\"\",\"\",'Broker Sheet'!AA425)","v":""},{"$f":"IF('Broker Sheet'!Z425=\"\",\"\",'Broker Sheet'!Z425)","v":""},{"$f":"IF('Broker Sheet'!AB425=\"\",\"\",'Broker Sheet'!AB425)","v":""},null,null,{"$f":"IF('Broker Sheet'!L425=\"\",\"\",TEXT('Broker Sheet'!L425,\"YYYYMMDD\"))","v":""},{"$f":"IF('Broker Sheet'!AC425=\"\",\"\",TEXT('Broker Sheet'!AC425,\"YYYYMMDD\"))","v":""},{"$f":"IF('Broker Sheet'!AD425=\"\",\"\",TEXT('Broker Sheet'!AD425,\"YYYYMMDD\"))","v":""},{"$f":"IF('Broker Sheet'!AE425=\"\",\"\",'Broker Sheet'!AE425)","v":""},{"$f":"IF('Broker Sheet'!AF425=\"\",\"\",TEXT('Broker Sheet'!AF425,\"YYYYMMDD\"))","v":""},{"$f":"IF('Broker Sheet'!AG425=\"\",\"\",TEXT('Broker Sheet'!AG425,\"YYYYMMDD\"))","v":""}]
[null,null,null,null,null,{"$f":"IF('Broker Sheet'!C426=\"\",\"\",'Broker Sheet'!C426)","v":""},{"$f":"IF('Broker Sheet'!D426=\"\",\"\",'Broker Sheet'!D426)","v":""},{"$f":"IF('Broker Sheet'!E426=\"\",\"\",'Broker Sheet'!E426)","v":""},{"$f":"IF('Broker Sheet'!F426=\"\",\"\",'Broker Sheet'!F426)","v":""},{"$f":"IF('Broker Sheet'!G426=\"\",\"\",TEXT('Broker Sheet'!G426,\"YYYYMMDD\"))","v":""},{"$f":"IF('Broker Sheet'!H426=\"\",\"\",'Broker Sheet'!H426)","v":""},{"$f":"IF('Broker Sheet'!I426=\"\",\"\",'Broker Sheet'!I426)","v":""},{"$f":"IF('Broker Sheet'!J426=\"\",\"\",VLOOKUP('Broker Sheet'!J426,(Reference!$E$4:$F$9),2,FALSE))","v":""},{"$f":"IF('Broker Sheet'!K426=\"\",\"\",'Broker Sheet'!K426)","v":""},{"$f":"IF('Broker Sheet'!R426=\"\",\"\",'Broker Sheet'!R426)","v":""},{"$f":"IF('Broker Sheet'!S426=\"\",\"\",'Broker Sheet'!S426)","v":""},{"$f":"IF('Broker Sheet'!T426=\"\",\"\",'Broker Sheet'!T426)","v":""},{"$f":"IF('Broker Sheet'!U426=\"\",\"\",'Broker Sheet'!U426)","v":""},{"$f":"IF('Broker Sheet'!V426=\"\",\"\",'Broker Sheet'!V426)","v":""},{"$f":"IF('Broker Sheet'!W426=\"\",\"\",'Broker Sheet'!W426)","v":""},{"$f":"IF('Broker Sheet'!Y426=\"\",\"\",'Broker Sheet'!Y426)","v":""},{"$f":"IF('Broker Sheet'!AA426=\"\",\"\",'Broker Sheet'!AA426)","v":""},{"$f":"IF('Broker Sheet'!Z426=\"\",\"\",'Broker Sheet'!Z426)","v":""},{"$f":"IF('Broker Sheet'!AB426=\"\",\"\",'Broker Sheet'!AB426)","v":""},null,null,{"$f":"IF('Broker Sheet'!L426=\"\",\"\",TEXT('Broker Sheet'!L426,\"YYYYMMDD\"))","v":""},{"$f":"IF('Broker Sheet'!AC426=\"\",\"\",TEXT('Broker Sheet'!AC426,\"YYYYMMDD\"))","v":""},{"$f":"IF('Broker Sheet'!AD426=\"\",\"\",TEXT('Broker Sheet'!AD426,\"YYYYMMDD\"))","v":""},{"$f":"IF('Broker Sheet'!AE426=\"\",\"\",'Broker Sheet'!AE426)","v":""},{"$f":"IF('Broker Sheet'!AF426=\"\",\"\",TEXT('Broker Sheet'!AF426,\"YYYYMMDD\"))","v":""},{"$f":"IF('Broker Sheet'!AG426=\"\",\"\",TEXT('Broker Sheet'!AG426,\"YYYYMMDD\"))","v":""}]
[null,null,null,null,null,{"$f":"IF('Broker Sheet'!C427=\"\",\"\",'Broker Sheet'!C427)","v":""},{"$f":"IF('Broker Sheet'!D427=\"\",\"\",'Broker Sheet'!D427)","v":""},{"$f":"IF('Broker Sheet'!E427=\"\",\"\",'Broker Sheet'!E427)","v":""},{"$f":"IF('Broker Sheet'!F427=\"\",\"\",'Broker Sheet'!F427)","v":""},{"$f":"IF('Broker Sheet'!G427=\"\",\"\",TEXT('Broker Sheet'!G427,\"YYYYMMDD\"))","v":""},{"$f":"IF('Broker Sheet'!H427=\"\",\"\",'Broker Sheet'!H427)","v":""},{"$f":"IF('Broker Sheet'!I427=\"\",\"\",'Broker Sheet'!I427)","v":""},{"$f":"IF('Broker Sheet'!J427=\"\",\"\",VLOOKUP('Broker Sheet'!J427,(Reference!$E$4:$F$9),2,FALSE))","v":""},{"$f":"IF('Broker Sheet'!K427=\"\",\"\",'Broker Sheet'!K427)","v":""},{"$f":"IF('Broker Sheet'!R427=\"\",\"\",'Broker Sheet'!R427)","v":""},{"$f":"IF('Broker Sheet'!S427=\"\",\"\",'Broker Sheet'!S427)","v":""},{"$f":"IF('Broker Sheet'!T427=\"\",\"\",'Broker Sheet'!T427)","v":""},{"$f":"IF('Broker Sheet'!U427=\"\",\"\",'Broker Sheet'!U427)","v":""},{"$f":"IF('Broker Sheet'!V427=\"\",\"\",'Broker Sheet'!V427)","v":""},{"$f":"IF('Broker Sheet'!W427=\"\",\"\",'Broker Sheet'!W427)","v":""},{"$f":"IF('Broker Sheet'!Y427=\"\",\"\",'Broker Sheet'!Y427)","v":""},{"$f":"IF('Broker Sheet'!AA427=\"\",\"\",'Broker Sheet'!AA427)","v":""},{"$f":"IF('Broker Sheet'!Z427=\"\",\"\",'Broker Sheet'!Z427)","v":""},{"$f":"IF('Broker Sheet'!AB427=\"\",\"\",'Broker Sheet'!AB427)","v":""},null,null,{"$f":"IF('Broker Sheet'!L427=\"\",\"\",TEXT('Broker Sheet'!L427,\"YYYYMMDD\"))","v":""},{"$f":"IF('Broker Sheet'!AC427=\"\",\"\",TEXT('Broker Sheet'!AC427,\"YYYYMMDD\"))","v":""},{"$f":"IF('Broker Sheet'!AD427=\"\",\"\",TEXT('Broker Sheet'!AD427,\"YYYYMMDD\"))","v":""},{"$f":"IF('Broker Sheet'!AE427=\"\",\"\",'Broker Sheet'!AE427)","v":""},{"$f":"IF('Broker Sheet'!AF427=\"\",\"\",TEXT('Broker Sheet'!AF427,\"YYYYMMDD\"))","v":""},{"$f":"IF('Broker Sheet'!AG427=\"\",\"\",TEXT('Broker Sheet'!AG427,\"YYYYMMDD\"))","v":""}]
[null,null,null,null,null,{"$f":"IF('Broker Sheet'!C428=\"\",\"\",'Broker Sheet'!C428)","v":""},{"$f":"IF('Broker Sheet'!D428=\"\",\"\",'Broker Sheet'!D428)","v":""},{"$f":"IF('Broker Sheet'!E428=\"\",\"\",'Broker Sheet'!E428)","v":""},{"$f":"IF('Broker Sheet'!F428=\"\",\"\",'Broker Sheet'!F428)","v":""},{"$f":"IF('Broker Sheet'!G428=\"\",\"\",TEXT('Broker Sheet'!G428,\"YYYYMMDD\"))","v":""},{"$f":"IF('Broker Sheet'!H428=\"\",\"\",'Broker Sheet'!H428)","v":""},{"$f":"IF('Broker Sheet'!I428=\"\",\"\",'Broker Sheet'!I428)","v":""},{"$f":"IF('Broker Sheet'!J428=\"\",\"\",VLOOKUP('Broker Sheet'!J428,(Reference!$E$4:$F$9),2,FALSE))","v":""},{"$f":"IF('Broker Sheet'!K428=\"\",\"\",'Broker Sheet'!K428)","v":""},{"$f":"IF('Broker Sheet'!R428=\"\",\"\",'Broker Sheet'!R428)","v":""},{"$f":"IF('Broker Sheet'!S428=\"\",\"\",'Broker Sheet'!S428)","v":""},{"$f":"IF('Broker Sheet'!T428=\"\",\"\",'Broker Sheet'!T428)","v":""},{"$f":"IF('Broker Sheet'!U428=\"\",\"\",'Broker Sheet'!U428)","v":""},{"$f":"IF('Broker Sheet'!V428=\"\",\"\",'Broker Sheet'!V428)","v":""},{"$f":"IF('Broker Sheet'!W428=\"\",\"\",'Broker Sheet'!W428)","v":""},{"$f":"IF('Broker Sheet'!Y428=\"\",\"\",'Broker Sheet'!Y428)","v":""},{"$f":"IF('Broker Sheet'!AA428=\"\",\"\",'Broker Sheet'!AA428)","v":""},{"$f":"IF('Broker Sheet'!Z428=\"\",\"\",'Broker Sheet'!Z428)","v":""},{"$f":"IF('Broker Sheet'!AB428=\"\",\"\",'Broker Sheet'!AB428)","v":""},null,null,{"$f":"IF('Broker Sheet'!L428=\"\",\"\",TEXT('Broker Sheet'!L428,\"YYYYMMDD\"))","v":""},{"$f":"IF('Broker Sheet'!AC428=\"\",\"\",TEXT('Broker Sheet'!AC428,\"YYYYMMDD\"))","v":""},{"$f":"IF('Broker Sheet'!AD428=\"\",\"\",TEXT('Broker Sheet'!AD428,\"YYYYMMDD\"))","v":""},{"$f":"IF('Broker Sheet'!AE428=\"\",\"\",'Broker Sheet'!AE428)","v":""},{"$f":"IF('Broker Sheet'!AF428=\"\",\"\",TEXT('Broker Sheet'!AF428,\"YYYYMMDD\"))","v":""},{"$f":"IF('Broker Sheet'!AG428=\"\",\"\",TEXT('Broker Sheet'!AG428,\"YYYYMMDD\"))","v":""}]
[null,null,null,null,null,{"$f":"IF('Broker Sheet'!C429=\"\",\"\",'Broker Sheet'!C429)","v":""},{"$f":"IF('Broker Sheet'!D429=\"\",\"\",'Broker Sheet'!D429)","v":""},{"$f":"IF('Broker Sheet'!E429=\"\",\"\",'Broker Sheet'!E429)","v":""},{"$f":"IF('Broker Sheet'!F429=\"\",\"\",'Broker Sheet'!F429)","v":""},{"$f":"IF('Broker Sheet'!G429=\"\",\"\",TEXT('Broker Sheet'!G429,\"YYYYMMDD\"))","v":""},{"$f":"IF('Broker Sheet'!H429=\"\",\"\",'Broker Sheet'!H429)","v":""},{"$f":"IF('Broker Sheet'!I429=\"\",\"\",'Broker Sheet'!I429)","v":""},{"$f":"IF('Broker Sheet'!J429=\"\",\"\",VLOOKUP('Broker Sheet'!J429,(Reference!$E$4:$F$9),2,FALSE))","v":""},{"$f":"IF('Broker Sheet'!K429=\"\",\"\",'Broker Sheet'!K429)","v":""},{"$f":"IF('Broker Sheet'!R429=\"\",\"\",'Broker Sheet'!R429)","v":""},{"$f":"IF('Broker Sheet'!S429=\"\",\"\",'Broker Sheet'!S429)","v":""},{"$f":"IF('Broker Sheet'!T429=\"\",\"\",'Broker Sheet'!T429)","v":""},{"$f":"IF('Broker Sheet'!U429=\"\",\"\",'Broker Sheet'!U429)","v":""},{"$f":"IF('Broker Sheet'!V429=\"\",\"\",'Broker Sheet'!V429)","v":""},{"$f":"IF('Broker Sheet'!W429=\"\",\"\",'Broker Sheet'!W429)","v":""},{"$f":"IF('Broker Sheet'!Y429=\"\",\"\",'Broker Sheet'!Y429)","v":""},{"$f":"IF('Broker Sheet'!AA429=\"\",\"\",'Broker Sheet'!AA429)","v":""},{"$f":"IF('Broker Sheet'!Z429=\"\",\"\",'Broker Sheet'!Z429)","v":""},{"$f":"IF('Broker Sheet'!AB429=\"\",\"\",'Broker Sheet'!AB429)","v":""},null,null,{"$f":"IF('Broker Sheet'!L429=\"\",\"\",TEXT('Broker Sheet'!L429,\"YYYYMMDD\"))","v":""},{"$f":"IF('Broker Sheet'!AC429=\"\",\"\",TEXT('Broker Sheet'!AC429,\"YYYYMMDD\"))","v":""},{"$f":"IF('Broker Sheet'!AD429=\"\",\"\",TEXT('Broker Sheet'!AD429,\"YYYYMMDD\"))","v":""},{"$f":"IF('Broker Sheet'!AE429=\"\",\"\",'Broker Sheet'!AE429)","v":""},{"$f":"IF('Broker Sheet'!AF429=\"\",\"\",TEXT('Broker Sheet'!AF429,\"YYYYMMDD\"))","v":""},{"$f":"IF('Broker Sheet'!AG429=\"\",\"\",TEXT('Broker Sheet'!AG429,\"YYYYMMDD\"))","v":""}]
[null,null,null,null,null,{"$f":"IF('Broker Sheet'!C430=\"\",\"\",'Broker Sheet'!C430)","v":""},{"$f":"IF('Broker Sheet'!D430=\"\",\"\",'Broker Sheet'!D430)","v":""},{"$f":"IF('Broker Sheet'!E430=\"\",\"\",'Broker Sheet'!E430)","v":""},{"$f":"IF('Broker Sheet'!F430=\"\",\"\",'Broker Sheet'!F430)","v":""},{"$f":"IF('Broker Sheet'!G430=\"\",\"\",TEXT('Broker Sheet'!G430,\"YYYYMMDD\"))","v":""},{"$f":"IF('Broker Sheet'!H430=\"\",\"\",'Broker Sheet'!H430)","v":""},{"$f":"IF('Broker Sheet'!I430=\"\",\"\",'Broker Sheet'!I430)","v":""},{"$f":"IF('Broker Sheet'!J430=\"\",\"\",VLOOKUP('Broker Sheet'!J430,(Reference!$E$4:$F$9),2,FALSE))","v":""},{"$f":"IF('Broker Sheet'!K430=\"\",\"\",'Broker Sheet'!K430)","v":""},{"$f":"IF('Broker Sheet'!R430=\"\",\"\",'Broker Sheet'!R430)","v":""},{"$f":"IF('Broker Sheet'!S430=\"\",\"\",'Broker Sheet'!S430)","v":""},{"$f":"IF('Broker Sheet'!T430=\"\",\"\",'Broker Sheet'!T430)","v":""},{"$f":"IF('Broker Sheet'!U430=\"\",\"\",'Broker Sheet'!U430)","v":""},{"$f":"IF('Broker Sheet'!V430=\"\",\"\",'Broker Sheet'!V430)","v":""},{"$f":"IF('Broker Sheet'!W430=\"\",\"\",'Broker Sheet'!W430)","v":""},{"$f":"IF('Broker Sheet'!Y430=\"\",\"\",'Broker Sheet'!Y430)","v":""},{"$f":"IF('Broker Sheet'!AA430=\"\",\"\",'Broker Sheet'!AA430)","v":""},{"$f":"IF('Broker Sheet'!Z430=\"\",\"\",'Broker Sheet'!Z430)","v":""},{"$f":"IF('Broker Sheet'!AB430=\"\",\"\",'Broker Sheet'!AB430)","v":""},null,null,{"$f":"IF('Broker Sheet'!L430=\"\",\"\",TEXT('Broker Sheet'!L430,\"YYYYMMDD\"))","v":""},{"$f":"IF('Broker Sheet'!AC430=\"\",\"\",TEXT('Broker Sheet'!AC430,\"YYYYMMDD\"))","v":""},{"$f":"IF('Broker Sheet'!AD430=\"\",\"\",TEXT('Broker Sheet'!AD430,\"YYYYMMDD\"))","v":""},{"$f":"IF('Broker Sheet'!AE430=\"\",\"\",'Broker Sheet'!AE430)","v":""},{"$f":"IF('Broker Sheet'!AF430=\"\",\"\",TEXT('Broker Sheet'!AF430,\"YYYYMMDD\"))","v":""},{"$f":"IF('Broker Sheet'!AG430=\"\",\"\",TEXT('Broker Sheet'!AG430,\"YYYYMMDD\"))","v":""}]
[null,null,null,null,null,{"$f":"IF('Broker Sheet'!C431=\"\",\"\",'Broker Sheet'!C431)","v":""},{"$f":"IF('Broker Sheet'!D431=\"\",\"\",'Broker Sheet'!D431)","v":""},{"$f":"IF('Broker Sheet'!E431=\"\",\"\",'Broker Sheet'!E431)","v":""},{"$f":"IF('Broker Sheet'!F431=\"\",\"\",'Broker Sheet'!F431)","v":""},{"$f":"IF('Broker Sheet'!G431=\"\",\"\",TEXT('Broker Sheet'!G431,\"YYYYMMDD\"))","v":""},{"$f":"IF('Broker Sheet'!H431=\"\",\"\",'Broker Sheet'!H431)","v":""},{"$f":"IF('Broker Sheet'!I431=\"\",\"\",'Broker Sheet'!I431)","v":""},{"$f":"IF('Broker Sheet'!J431=\"\",\"\",VLOOKUP('Broker Sheet'!J431,(Reference!$E$4:$F$9),2,FALSE))","v":""},{"$f":"IF('Broker Sheet'!K431=\"\",\"\",'Broker Sheet'!K431)","v":""},{"$f":"IF('Broker Sheet'!R431=\"\",\"\",'Broker Sheet'!R431)","v":""},{"$f":"IF('Broker Sheet'!S431=\"\",\"\",'Broker Sheet'!S431)","v":""},{"$f":"IF('Broker Sheet'!T431=\"\",\"\",'Broker Sheet'!T431)","v":""},{"$f":"IF('Broker Sheet'!U431=\"\",\"\",'Broker Sheet'!U431)","v":""},{"$f":"IF('Broker Sheet'!V431=\"\",\"\",'Broker Sheet'!V431)","v":""},{"$f":"IF('Broker Sheet'!W431=\"\",\"\",'Broker Sheet'!W431)","v":""},{"$f":"IF('Broker Sheet'!Y431=\"\",\"\",'Broker Sheet'!Y431)","v":""},{"$f":"IF('Broker Sheet'!AA431=\"\",\"\",'Broker Sheet'!AA431)","v":""},{"$f":"IF('Broker Sheet'!Z431=\"\",\"\",'Broker Sheet'!Z431)","v":""},{"$f":"IF('Broker Sheet'!AB431=\"\",\"\",'Broker Sheet'!AB431)","v":""},null,null,{"$f":"IF('Broker Sheet'!L431=\"\",\"\",TEXT('Broker Sheet'!L431,\"YYYYMMDD\"))","v":""},{"$f":"IF('Broker Sheet'!AC431=\"\",\"\",TEXT('Broker Sheet'!AC431,\"YYYYMMDD\"))","v":""},{"$f":"IF('Broker Sheet'!AD431=\"\",\"\",TEXT('Broker Sheet'!AD431,\"YYYYMMDD\"))","v":""},{"$f":"IF('Broker Sheet'!AE431=\"\",\"\",'Broker Sheet'!AE431)","v":""},{"$f":"IF('Broker Sheet'!AF431=\"\",\"\",TEXT('Broker Sheet'!AF431,\"YYYYMMDD\"))","v":""},{"$f":"IF('Broker Sheet'!AG431=\"\",\"\",TEXT('Broker Sheet'!AG431,\"YYYYMMDD\"))","v":""}]
[null,null,null,null,null,{"$f":"IF('Broker Sheet'!C432=\"\",\"\",'Broker Sheet'!C432)","v":""},{"$f":"IF('Broker Sheet'!D432=\"\",\"\",'Broker Sheet'!D432)","v":""},{"$f":"IF('Broker Sheet'!E432=\"\",\"\",'Broker Sheet'!E432)","v":""},{"$f":"IF('Broker Sheet'!F432=\"\",\"\",'Broker Sheet'!F432)","v":""},{"$f":"IF('Broker Sheet'!G432=\"\",\"\",TEXT('Broker Sheet'!G432,\"YYYYMMDD\"))","v":""},{"$f":"IF('Broker Sheet'!H432=\"\",\"\",'Broker Sheet'!H432)","v":""},{"$f":"IF('Broker Sheet'!I432=\"\",\"\",'Broker Sheet'!I432)","v":""},{"$f":"IF('Broker Sheet'!J432=\"\",\"\",VLOOKUP('Broker Sheet'!J432,(Reference!$E$4:$F$9),2,FALSE))","v":""},{"$f":"IF('Broker Sheet'!K432=\"\",\"\",'Broker Sheet'!K432)","v":""},{"$f":"IF('Broker Sheet'!R432=\"\",\"\",'Broker Sheet'!R432)","v":""},{"$f":"IF('Broker Sheet'!S432=\"\",\"\",'Broker Sheet'!S432)","v":""},{"$f":"IF('Broker Sheet'!T432=\"\",\"\",'Broker Sheet'!T432)","v":""},{"$f":"IF('Broker Sheet'!U432=\"\",\"\",'Broker Sheet'!U432)","v":""},{"$f":"IF('Broker Sheet'!V432=\"\",\"\",'Broker Sheet'!V432)","v":""},{"$f":"IF('Broker Sheet'!W432=\"\",\"\",'Broker Sheet'!W432)","v":""},{"$f":"IF('Broker Sheet'!Y432=\"\",\"\",'Broker Sheet'!Y432)","v":""},{"$f":"IF('Broker Sheet'!AA432=\"\",\"\",'Broker Sheet'!AA432)","v":""},{"$f":"IF('Broker Sheet'!Z432=\"\",\"\",'Broker Sheet'!Z432)","v":""},{"$f":"IF('Broker Sheet'!AB432=\"\",\"\",'Broker Sheet'!AB432)","v":""},null,null,{"$f":"IF('Broker Sheet'!L432=\"\",\"\",TEXT('Broker Sheet'!L432,\"YYYYMMDD\"))","v":""},{"$f":"IF('Broker Sheet'!AC432=\"\",\"\",TEXT('Broker Sheet'!AC432,\"YYYYMMDD\"))","v":""},{"$f":"IF('Broker Sheet'!AD432=\"\",\"\",TEXT('Broker Sheet'!AD432,\"YYYYMMDD\"))","v":""},{"$f":"IF('Broker Sheet'!AE432=\"\",\"\",'Broker Sheet'!AE432)","v":""},{"$f":"IF('Broker Sheet'!AF432=\"\",\"\",TEXT('Broker Sheet'!AF432,\"YYYYMMDD\"))","v":""},{"$f":"IF('Broker Sheet'!AG432=\"\",\"\",TEXT('Broker Sheet'!AG432,\"YYYYMMDD\"))","v":""}]
[null,null,null,null,null,{"$f":"IF('Broker Sheet'!C433=\"\",\"\",'Broker Sheet'!C433)","v":""},{"$f":"IF('Broker Sheet'!D433=\"\",\"\",'Broker Sheet'!D433)","v":""},{"$f":"IF('Broker Sheet'!E433=\"\",\"\",'Broker Sheet'!E433)","v":""},{"$f":"IF('Broker Sheet'!F433=\"\",\"\",'Broker Sheet'!F433)","v":""},{"$f":"IF('Broker Sheet'!G433=\"\",\"\",TEXT('Broker Sheet'!G433,\"YYYYMMDD\"))","v":""},{"$f":"IF('Broker Sheet'!H433=\"\",\"\",'Broker Sheet'!H433)","v":""},{"$f":"IF('Broker Sheet'!I433=\"\",\"\",'Broker Sheet'!I433)","v":""},{"$f":"IF('Broker Sheet'!J433=\"\",\"\",VLOOKUP('Broker Sheet'!J433,(Reference!$E$4:$F$9),2,FALSE))","v":""},{"$f":"IF('Broker Sheet'!K433=\"\",\"\",'Broker Sheet'!K433)","v":""},{"$f":"IF('Broker Sheet'!R433=\"\",\"\",'Broker Sheet'!R433)","v":""},{"$f":"IF('Broker Sheet'!S433=\"\",\"\",'Broker Sheet'!S433)","v":""},{"$f":"IF('Broker Sheet'!T433=\"\",\"\",'Broker Sheet'!T433)","v":""},{"$f":"IF('Broker Sheet'!U433=\"\",\"\",'Broker Sheet'!U433)","v":""},{"$f":"IF('Broker Sheet'!V433=\"\",\"\",'Broker Sheet'!V433)","v":""},{"$f":"IF('Broker Sheet'!W433=\"\",\"\",'Broker Sheet'!W433)","v":""},{"$f":"IF('Broker Sheet'!Y433=\"\",\"\",'Broker Sheet'!Y433)","v":""},{"$f":"IF('Broker Sheet'!AA433=\"\",\"\",'Broker Sheet'!AA433)","v":""},{"$f":"IF('Broker Sheet'!Z433=\"\",\"\",'Broker Sheet'!Z433)","v":""},{"$f":"IF('Broker Sheet'!AB433=\"\",\"\",'Broker Sheet'!AB433)","v":""},null,null,{"$f":"IF('Broker Sheet'!L433=\"\",\"\",TEXT('Broker Sheet'!L433,\"YYYYMMDD\"))","v":""},{"$f":"IF('Broker Sheet'!AC433=\"\",\"\",TEXT('Broker Sheet'!AC433,\"YYYYMMDD\"))","v":""},{"$f":"IF('Broker Sheet'!AD433=\"\",\"\",TEXT('Broker Sheet'!AD433,\"YYYYMMDD\"))","v":""},{"$f":"IF('Broker Sheet'!AE433=\"\",\"\",'Broker Sheet'!AE433)","v":""},{"$f":"IF('Broker Sheet'!AF433=\"\",\"\",TEXT('Broker Sheet'!AF433,\"YYYYMMDD\"))","v":""},{"$f":"IF('Broker Sheet'!AG433=\"\",\"\",TEXT('Broker Sheet'!AG433,\"YYYYMMDD\"))","v":""}]
[null,null,null,null,null,{"$f":"IF('Broker Sheet'!C434=\"\",\"\",'Broker Sheet'!C434)","v":""},{"$f":"IF('Broker Sheet'!D434=\"\",\"\",'Broker Sheet'!D434)","v":""},{"$f":"IF('Broker Sheet'!E434=\"\",\"\",'Broker Sheet'!E434)","v":""},{"$f":"IF('Broker Sheet'!F434=\"\",\"\",'Broker Sheet'!F434)","v":""},{"$f":"IF('Broker Sheet'!G434=\"\",\"\",TEXT('Broker Sheet'!G434,\"YYYYMMDD\"))","v":""},{"$f":"IF('Broker Sheet'!H434=\"\",\"\",'Broker Sheet'!H434)","v":""},{"$f":"IF('Broker Sheet'!I434=\"\",\"\",'Broker Sheet'!I434)","v":""},{"$f":"IF('Broker Sheet'!J434=\"\",\"\",VLOOKUP('Broker Sheet'!J434,(Reference!$E$4:$F$9),2,FALSE))","v":""},{"$f":"IF('Broker Sheet'!K434=\"\",\"\",'Broker Sheet'!K434)","v":""},{"$f":"IF('Broker Sheet'!R434=\"\",\"\",'Broker Sheet'!R434)","v":""},{"$f":"IF('Broker Sheet'!S434=\"\",\"\",'Broker Sheet'!S434)","v":""},{"$f":"IF('Broker Sheet'!T434=\"\",\"\",'Broker Sheet'!T434)","v":""},{"$f":"IF('Broker Sheet'!U434=\"\",\"\",'Broker Sheet'!U434)","v":""},{"$f":"IF('Broker Sheet'!V434=\"\",\"\",'Broker Sheet'!V434)","v":""},{"$f":"IF('Broker Sheet'!W434=\"\",\"\",'Broker Sheet'!W434)","v":""},{"$f":"IF('Broker Sheet'!Y434=\"\",\"\",'Broker Sheet'!Y434)","v":""},{"$f":"IF('Broker Sheet'!AA434=\"\",\"\",'Broker Sheet'!AA434)","v":""},{"$f":"IF('Broker Sheet'!Z434=\"\",\"\",'Broker Sheet'!Z434)","v":""},{"$f":"IF('Broker Sheet'!AB434=\"\",\"\",'Broker Sheet'!AB434)","v":""},null,null,{"$f":"IF('Broker Sheet'!L434=\"\",\"\",TEXT('Broker Sheet'!L434,\"YYYYMMDD\"))","v":""},{"$f":"IF('Broker Sheet'!AC434=\"\",\"\",TEXT('Broker Sheet'!AC434,\"YYYYMMDD\"))","v":""},{"$f":"IF('Broker Sheet'!AD434=\"\",\"\",TEXT('Broker Sheet'!AD434,\"YYYYMMDD\"))","v":""},{"$f":"IF('Broker Sheet'!AE434=\"\",\"\",'Broker Sheet'!AE434)","v":""},{"$f":"IF('Broker Sheet'!AF434=\"\",\"\",TEXT('Broker Sheet'!AF434,\"YYYYMMDD\"))","v":""},{"$f":"IF('Broker Sheet'!AG434=\"\",\"\",TEXT('Broker Sheet'!AG434,\"YYYYMMDD\"))","v":""}]
[null,null,null,null,null,{"$f":"IF('Broker Sheet'!C435=\"\",\"\",'Broker Sheet'!C435)","v":""},{"$f":"IF('Broker Sheet'!D435=\"\",\"\",'Broker Sheet'!D435)","v":""},{"$f":"IF('Broker Sheet'!E435=\"\",\"\",'Broker Sheet'!E435)","v":""},{"$f":"IF('Broker Sheet'!F435=\"\",\"\",'Broker Sheet'!F435)","v":""},{"$f":"IF('Broker Sheet'!G435=\"\",\"\",TEXT('Broker Sheet'!G435,\"YYYYMMDD\"))","v":""},{"$f":"IF('Broker Sheet'!H435=\"\",\"\",'Broker Sheet'!H435)","v":""},{"$f":"IF('Broker Sheet'!I435=\"\",\"\",'Broker Sheet'!I435)","v":""},{"$f":"IF('Broker Sheet'!J435=\"\",\"\",VLOOKUP('Broker Sheet'!J435,(Reference!$E$4:$F$9),2,FALSE))","v":""},{"$f":"IF('Broker Sheet'!K435=\"\",\"\",'Broker Sheet'!K435)","v":""},{"$f":"IF('Broker Sheet'!R435=\"\",\"\",'Broker Sheet'!R435)","v":""},{"$f":"IF('Broker Sheet'!S435=\"\",\"\",'Broker Sheet'!S435)","v":""},{"$f":"IF('Broker Sheet'!T435=\"\",\"\",'Broker Sheet'!T435)","v":""},{"$f":"IF('Broker Sheet'!U435=\"\",\"\",'Broker Sheet'!U435)","v":""},{"$f":"IF('Broker Sheet'!V435=\"\",\"\",'Broker Sheet'!V435)","v":""},{"$f":"IF('Broker Sheet'!W435=\"\",\"\",'Broker Sheet'!W435)","v":""},{"$f":"IF('Broker Sheet'!Y435=\"\",\"\",'Broker Sheet'!Y435)","v":""},{"$f":"IF('Broker Sheet'!AA435=\"\",\"\",'Broker Sheet'!AA435)","v":""},{"$f":"IF('Broker Sheet'!Z435=\"\",\"\",'Broker Sheet'!Z435)","v":""},{"$f":"IF('Broker Sheet'!AB435=\"\",\"\",'Broker Sheet'!AB435)","v":""},null,null,{"$f":"IF('Broker Sheet'!L435=\"\",\"\",TEXT('Broker Sheet'!L435,\"YYYYMMDD\"))","v":""},{"$f":"IF('Broker Sheet'!AC435=\"\",\"\",TEXT('Broker Sheet'!AC435,\"YYYYMMDD\"))","v":""},{"$f":"IF('Broker Sheet'!AD435=\"\",\"\",TEXT('Broker Sheet'!AD435,\"YYYYMMDD\"))","v":""},{"$f":"IF('Broker Sheet'!AE435=\"\",\"\",'Broker Sheet'!AE435)","v":""},{"$f":"IF('Broker Sheet'!AF435=\"\",\"\",TEXT('Broker Sheet'!AF435,\"YYYYMMDD\"))","v":""},{"$f":"IF('Broker Sheet'!AG435=\"\",\"\",TEXT('Broker Sheet'!AG435,\"YYYYMMDD\"))","v":""}]
[null,null,null,null,null,{"$f":"IF('Broker Sheet'!C436=\"\",\"\",'Broker Sheet'!C436)","v":""},{"$f":"IF('Broker Sheet'!D436=\"\",\"\",'Broker Sheet'!D436)","v":""},{"$f":"IF('Broker Sheet'!E436=\"\",\"\",'Broker Sheet'!E436)","v":""},{"$f":"IF('Broker Sheet'!F436=\"\",\"\",'Broker Sheet'!F436)","v":""},{"$f":"IF('Broker Sheet'!G436=\"\",\"\",TEXT('Broker Sheet'!G436,\"YYYYMMDD\"))","v":""},{"$f":"IF('Broker Sheet'!H436=\"\",\"\",'Broker Sheet'!H436)","v":""},{"$f":"IF('Broker Sheet'!I436=\"\",\"\",'Broker Sheet'!I436)","v":""},{"$f":"IF('Broker Sheet'!J436=\"\",\"\",VLOOKUP('Broker Sheet'!J436,(Reference!$E$4:$F$9),2,FALSE))","v":""},{"$f":"IF('Broker Sheet'!K436=\"\",\"\",'Broker Sheet'!K436)","v":""},{"$f":"IF('Broker Sheet'!R436=\"\",\"\",'Broker Sheet'!R436)","v":""},{"$f":"IF('Broker Sheet'!S436=\"\",\"\",'Broker Sheet'!S436)","v":""},{"$f":"IF('Broker Sheet'!T436=\"\",\"\",'Broker Sheet'!T436)","v":""},{"$f":"IF('Broker Sheet'!U436=\"\",\"\",'Broker Sheet'!U436)","v":""},{"$f":"IF('Broker Sheet'!V436=\"\",\"\",'Broker Sheet'!V436)","v":""},{"$f":"IF('Broker Sheet'!W436=\"\",\"\",'Broker Sheet'!W436)","v":""},{"$f":"IF('Broker Sheet'!Y436=\"\",\"\",'Broker Sheet'!Y436)","v":""},{"$f":"IF('Broker Sheet'!AA436=\"\",\"\",'Broker Sheet'!AA436)","v":""},{"$f":"IF('Broker Sheet'!Z436=\"\",\"\",'Broker Sheet'!Z436)","v":""},{"$f":"IF('Broker Sheet'!AB436=\"\",\"\",'Broker Sheet'!AB436)","v":""},null,null,{"$f":"IF('Broker Sheet'!L436=\"\",\"\",TEXT('Broker Sheet'!L436,\"YYYYMMDD\"))","v":""},{"$f":"IF('Broker Sheet'!AC436=\"\",\"\",TEXT('Broker Sheet'!AC436,\"YYYYMMDD\"))","v":""},{"$f":"IF('Broker Sheet'!AD436=\"\",\"\",TEXT('Broker Sheet'!AD436,\"YYYYMMDD\"))","v":""},{"$f":"IF('Broker Sheet'!AE436=\"\",\"\",'Broker Sheet'!AE436)","v":""},{"$f":"IF('Broker Sheet'!AF436=\"\",\"\",TEXT('Broker Sheet'!AF436,\"YYYYMMDD\"))","v":""},{"$f":"IF('Broker Sheet'!AG436=\"\",\"\",TEXT('Broker Sheet'!AG436,\"YYYYMMDD\"))","v":""}]
[null,null,null,null,null,{"$f":"IF('Broker Sheet'!C437=\"\",\"\",'Broker Sheet'!C437)","v":""},{"$f":"IF('Broker Sheet'!D437=\"\",\"\",'Broker Sheet'!D437)","v":""},{"$f":"IF('Broker Sheet'!E437=\"\",\"\",'Broker Sheet'!E437)","v":""},{"$f":"IF('Broker Sheet'!F437=\"\",\"\",'Broker Sheet'!F437)","v":""},{"$f":"IF('Broker Sheet'!G437=\"\",\"\",TEXT('Broker Sheet'!G437,\"YYYYMMDD\"))","v":""},{"$f":"IF('Broker Sheet'!H437=\"\",\"\",'Broker Sheet'!H437)","v":""},{"$f":"IF('Broker Sheet'!I437=\"\",\"\",'Broker Sheet'!I437)","v":""},{"$f":"IF('Broker Sheet'!J437=\"\",\"\",VLOOKUP('Broker Sheet'!J437,(Reference!$E$4:$F$9),2,FALSE))","v":""},{"$f":"IF('Broker Sheet'!K437=\"\",\"\",'Broker Sheet'!K437)","v":""},{"$f":"IF('Broker Sheet'!R437=\"\",\"\",'Broker Sheet'!R437)","v":""},{"$f":"IF('Broker Sheet'!S437=\"\",\"\",'Broker Sheet'!S437)","v":""},{"$f":"IF('Broker Sheet'!T437=\"\",\"\",'Broker Sheet'!T437)","v":""},{"$f":"IF('Broker Sheet'!U437=\"\",\"\",'Broker Sheet'!U437)","v":""},{"$f":"IF('Broker Sheet'!V437=\"\",\"\",'Broker Sheet'!V437)","v":""},{"$f":"IF('Broker Sheet'!W437=\"\",\"\",'Broker Sheet'!W437)","v":""},{"$f":"IF('Broker Sheet'!Y437=\"\",\"\",'Broker Sheet'!Y437)","v":""},{"$f":"IF('Broker Sheet'!AA437=\"\",\"\",'Broker Sheet'!AA437)","v":""},{"$f":"IF('Broker Sheet'!Z437=\"\",\"\",'Broker Sheet'!Z437)","v":""},{"$f":"IF('Broker Sheet'!AB437=\"\",\"\",'Broker Sheet'!AB437)","v":""},null,null,{"$f":"IF('Broker Sheet'!L437=\"\",\"\",TEXT('Broker Sheet'!L437,\"YYYYMMDD\"))","v":""},{"$f":"IF('Broker Sheet'!AC437=\"\",\"\",TEXT('Broker Sheet'!AC437,\"YYYYMMDD\"))","v":""},{"$f":"IF('Broker Sheet'!AD437=\"\",\"\",TEXT('Broker Sheet'!AD437,\"YYYYMMDD\"))","v":""},{"$f":"IF('Broker Sheet'!AE437=\"\",\"\",'Broker Sheet'!AE437)","v":""},{"$f":"IF('Broker Sheet'!AF437=\"\",\"\",TEXT('Broker Sheet'!AF437,\"YYYYMMDD\"))","v":""},{"$f":"IF('Broker Sheet'!AG437=\"\",\"\",TEXT('Broker Sheet'!AG437,\"YYYYMMDD\"))","v":""}]
[null,null,null,null,null,{"$f":"IF('Broker Sheet'!C438=\"\",\"\",'Broker Sheet'!C438)","v":""},{"$f":"IF('Broker Sheet'!D438=\"\",\"\",'Broker Sheet'!D438)","v":""},{"$f":"IF('Broker Sheet'!E438=\"\",\"\",'Broker Sheet'!E438)","v":""},{"$f":"IF('Broker Sheet'!F438=\"\",\"\",'Broker Sheet'!F438)","v":""},{"$f":"IF('Broker Sheet'!G438=\"\",\"\",TEXT('Broker Sheet'!G438,\"YYYYMMDD\"))","v":""},{"$f":"IF('Broker Sheet'!H438=\"\",\"\",'Broker Sheet'!H438)","v":""},{"$f":"IF('Broker Sheet'!I438=\"\",\"\",'Broker Sheet'!I438)","v":""},{"$f":"IF('Broker Sheet'!J438=\"\",\"\",VLOOKUP('Broker Sheet'!J438,(Reference!$E$4:$F$9),2,FALSE))","v":""},{"$f":"IF('Broker Sheet'!K438=\"\",\"\",'Broker Sheet'!K438)","v":""},{"$f":"IF('Broker Sheet'!R438=\"\",\"\",'Broker Sheet'!R438)","v":""},{"$f":"IF('Broker Sheet'!S438=\"\",\"\",'Broker Sheet'!S438)","v":""},{"$f":"IF('Broker Sheet'!T438=\"\",\"\",'Broker Sheet'!T438)","v":""},{"$f":"IF('Broker Sheet'!U438=\"\",\"\",'Broker Sheet'!U438)","v":""},{"$f":"IF('Broker Sheet'!V438=\"\",\"\",'Broker Sheet'!V438)","v":""},{"$f":"IF('Broker Sheet'!W438=\"\",\"\",'Broker Sheet'!W438)","v":""},{"$f":"IF('Broker Sheet'!Y438=\"\",\"\",'Broker Sheet'!Y438)","v":""},{"$f":"IF('Broker Sheet'!AA438=\"\",\"\",'Broker Sheet'!AA438)","v":""},{"$f":"IF('Broker Sheet'!Z438=\"\",\"\",'Broker Sheet'!Z438)","v":""},{"$f":"IF('Broker Sheet'!AB438=\"\",\"\",'Broker Sheet'!AB438)","v":""},null,null,{"$f":"IF('Broker Sheet'!L438=\"\",\"\",TEXT('Broker Sheet'!L438,\"YYYYMMDD\"))","v":""},{"$f":"IF('Broker Sheet'!AC438=\"\",\"\",TEXT('Broker Sheet'!AC438,\"YYYYMMDD\"))","v":""},{"$f":"IF('Broker Sheet'!AD438=\"\",\"\",TEXT('Broker Sheet'!AD438,\"YYYYMMDD\"))","v":""},{"$f":"IF('Broker Sheet'!AE438=\"\",\"\",'Broker Sheet'!AE438)","v":""},{"$f":"IF('Broker Sheet'!AF438=\"\",\"\",TEXT('Broker Sheet'!AF438,\"YYYYMMDD\"))","v":""},{"$f":"IF('Broker Sheet'!AG438=\"\",\"\",TEXT('Broker Sheet'!AG438,\"YYYYMMDD\"))","v":""}]
[null,null,null,null,null,{"$f":"IF('Broker Sheet'!C439=\"\",\"\",'Broker Sheet'!C439)","v":""},{"$f":"IF('Broker Sheet'!D439=\"\",\"\",'Broker Sheet'!D439)","v":""},{"$f":"IF('Broker Sheet'!E439=\"\",\"\",'Broker Sheet'!E439)","v":""},{"$f":"IF('Broker Sheet'!F439=\"\",\"\",'Broker Sheet'!F439)","v":""},{"$f":"IF('Broker Sheet'!G439=\"\",\"\",TEXT('Broker Sheet'!G439,\"YYYYMMDD\"))","v":""},{"$f":"IF('Broker Sheet'!H439=\"\",\"\",'Broker Sheet'!H439)","v":""},{"$f":"IF('Broker Sheet'!I439=\"\",\"\",'Broker Sheet'!I439)","v":""},{"$f":"IF('Broker Sheet'!J439=\"\",\"\",VLOOKUP('Broker Sheet'!J439,(Reference!$E$4:$F$9),2,FALSE))","v":""},{"$f":"IF('Broker Sheet'!K439=\"\",\"\",'Broker Sheet'!K439)","v":""},{"$f":"IF('Broker Sheet'!R439=\"\",\"\",'Broker Sheet'!R439)","v":""},{"$f":"IF('Broker Sheet'!S439=\"\",\"\",'Broker Sheet'!S439)","v":""},{"$f":"IF('Broker Sheet'!T439=\"\",\"\",'Broker Sheet'!T439)","v":""},{"$f":"IF('Broker Sheet'!U439=\"\",\"\",'Broker Sheet'!U439)","v":""},{"$f":"IF('Broker Sheet'!V439=\"\",\"\",'Broker Sheet'!V439)","v":""},{"$f":"IF('Broker Sheet'!W439=\"\",\"\",'Broker Sheet'!W439)","v":""},{"$f":"IF('Broker Sheet'!Y439=\"\",\"\",'Broker Sheet'!Y439)","v":""},{"$f":"IF('Broker Sheet'!AA439=\"\",\"\",'Broker Sheet'!AA439)","v":""},{"$f":"IF('Broker Sheet'!Z439=\"\",\"\",'Broker Sheet'!Z439)","v":""},{"$f":"IF('Broker Sheet'!AB439=\"\",\"\",'Broker Sheet'!AB439)","v":""},null,null,{"$f":"IF('Broker Sheet'!L439=\"\",\"\",TEXT('Broker Sheet'!L439,\"YYYYMMDD\"))","v":""},{"$f":"IF('Broker Sheet'!AC439=\"\",\"\",TEXT('Broker Sheet'!AC439,\"YYYYMMDD\"))","v":""},{"$f":"IF('Broker Sheet'!AD439=\"\",\"\",TEXT('Broker Sheet'!AD439,\"YYYYMMDD\"))","v":""},{"$f":"IF('Broker Sheet'!AE439=\"\",\"\",'Broker Sheet'!AE439)","v":""},{"$f":"IF('Broker Sheet'!AF439=\"\",\"\",TEXT('Broker Sheet'!AF439,\"YYYYMMDD\"))","v":""},{"$f":"IF('Broker Sheet'!AG439=\"\",\"\",TEXT('Broker Sheet'!AG439,\"YYYYMMDD\"))","v":""}]
[null,null,null,null,null,{"$f":"IF('Broker Sheet'!C440=\"\",\"\",'Broker Sheet'!C440)","v":""},{"$f":"IF('Broker Sheet'!D440=\"\",\"\",'Broker Sheet'!D440)","v":""},{"$f":"IF('Broker Sheet'!E440=\"\",\"\",'Broker Sheet'!E440)","v":""},{"$f":"IF('Broker Sheet'!F440=\"\",\"\",'Broker Sheet'!F440)","v":""},{"$f":"IF('Broker Sheet'!G440=\"\",\"\",TEXT('Broker Sheet'!G440,\"YYYYMMDD\"))","v":""},{"$f":"IF('Broker Sheet'!H440=\"\",\"\",'Broker Sheet'!H440)","v":""},{"$f":"IF('Broker Sheet'!I440=\"\",\"\",'Broker Sheet'!I440)","v":""},{"$f":"IF('Broker Sheet'!J440=\"\",\"\",VLOOKUP('Broker Sheet'!J440,(Reference!$E$4:$F$9),2,FALSE))","v":""},{"$f":"IF('Broker Sheet'!K440=\"\",\"\",'Broker Sheet'!K440)","v":""},{"$f":"IF('Broker Sheet'!R440=\"\",\"\",'Broker Sheet'!R440)","v":""},{"$f":"IF('Broker Sheet'!S440=\"\",\"\",'Broker Sheet'!S440)","v":""},{"$f":"IF('Broker Sheet'!T440=\"\",\"\",'Broker Sheet'!T440)","v":""},{"$f":"IF('Broker Sheet'!U440=\"\",\"\",'Broker Sheet'!U440)","v":""},{"$f":"IF('Broker Sheet'!V440=\"\",\"\",'Broker Sheet'!V440)","v":""},{"$f":"IF('Broker Sheet'!W440=\"\",\"\",'Broker Sheet'!W440)","v":""},{"$f":"IF('Broker Sheet'!Y440=\"\",\"\",'Broker Sheet'!Y440)","v":""},{"$f":"IF('Broker Sheet'!AA440=\"\",\"\",'Broker Sheet'!AA440)","v":""},{"$f":"IF('Broker Sheet'!Z440=\"\",\"\",'Broker Sheet'!Z440)","v":""},{"$f":"IF('Broker Sheet'!AB440=\"\",\"\",'Broker Sheet'!AB440)","v":""},null,null,{"$f":"IF('Broker Sheet'!L440=\"\",\"\",TEXT('Broker Sheet'!L440,\"YYYYMMDD\"))","v":""},{"$f":"IF('Broker Sheet'!AC440=\"\",\"\",TEXT('Broker Sheet'!AC440,\"YYYYMMDD\"))","v":""},{"$f":"IF('Broker Sheet'!AD440=\"\",\"\",TEXT('Broker Sheet'!AD440,\"YYYYMMDD\"))","v":""},{"$f":"IF('Broker Sheet'!AE440=\"\",\"\",'Broker Sheet'!AE440)","v":""},{"$f":"IF('Broker Sheet'!AF440=\"\",\"\",TEXT('Broker Sheet'!AF440,\"YYYYMMDD\"))","v":""},{"$f":"IF('Broker Sheet'!AG440=\"\",\"\",TEXT('Broker Sheet'!AG440,\"YYYYMMDD\"))","v":""}]
[null,null,null,null,null,{"$f":"IF('Broker Sheet'!C441=\"\",\"\",'Broker Sheet'!C441)","v":""},{"$f":"IF('Broker Sheet'!D441=\"\",\"\",'Broker Sheet'!D441)","v":""},{"$f":"IF('Broker Sheet'!E441=\"\",\"\",'Broker Sheet'!E441)","v":""},{"$f":"IF('Broker Sheet'!F441=\"\",\"\",'Broker Sheet'!F441)","v":""},{"$f":"IF('Broker Sheet'!G441=\"\",\"\",TEXT('Broker Sheet'!G441,\"YYYYMMDD\"))","v":""},{"$f":"IF('Broker Sheet'!H441=\"\",\"\",'Broker Sheet'!H441)","v":""},{"$f":"IF('Broker Sheet'!I441=\"\",\"\",'Broker Sheet'!I441)","v":""},{"$f":"IF('Broker Sheet'!J441=\"\",\"\",VLOOKUP('Broker Sheet'!J441,(Reference!$E$4:$F$9),2,FALSE))","v":""},{"$f":"IF('Broker Sheet'!K441=\"\",\"\",'Broker Sheet'!K441)","v":""},{"$f":"IF('Broker Sheet'!R441=\"\",\"\",'Broker Sheet'!R441)","v":""},{"$f":"IF('Broker Sheet'!S441=\"\",\"\",'Broker Sheet'!S441)","v":""},{"$f":"IF('Broker Sheet'!T441=\"\",\"\",'Broker Sheet'!T441)","v":""},{"$f":"IF('Broker Sheet'!U441=\"\",\"\",'Broker Sheet'!U441)","v":""},{"$f":"IF('Broker Sheet'!V441=\"\",\"\",'Broker Sheet'!V441)","v":""},{"$f":"IF('Broker Sheet'!W441=\"\",\"\",'Broker Sheet'!W441)","v":""},{"$f":"IF('Broker Sheet'!Y441=\"\",\"\",'Broker Sheet'!Y441)","v":""},{"$f":"IF('Broker Sheet'!AA441=\"\",\"\",'Broker Sheet'!AA441)","v":""},{"$f":"IF('Broker Sheet'!Z441=\"\",\"\",'Broker Sheet'!Z441)","v":""},{"$f":"IF('Broker Sheet'!AB441=\"\",\"\",'Broker Sheet'!AB441)","v":""},null,null,{"$f":"IF('Broker Sheet'!L441=\"\",\"\",TEXT('Broker Sheet'!L441,\"YYYYMMDD\"))","v":""},{"$f":"IF('Broker Sheet'!AC441=\"\",\"\",TEXT('Broker Sheet'!AC441,\"YYYYMMDD\"))","v":""},{"$f":"IF('Broker Sheet'!AD441=\"\",\"\",TEXT('Broker Sheet'!AD441,\"YYYYMMDD\"))","v":""},{"$f":"IF('Broker Sheet'!AE441=\"\",\"\",'Broker Sheet'!AE441)","v":""},{"$f":"IF('Broker Sheet'!AF441=\"\",\"\",TEXT('Broker Sheet'!AF441,\"YYYYMMDD\"))","v":""},{"$f":"IF('Broker Sheet'!AG441=\"\",\"\",TEXT('Broker Sheet'!AG441,\"YYYYMMDD\"))","v":""}]
[null,null,null,null,null,{"$f":"IF('Broker Sheet'!C442=\"\",\"\",'Broker Sheet'!C442)","v":""},{"$f":"IF('Broker Sheet'!D442=\"\",\"\",'Broker Sheet'!D442)","v":""},{"$f":"IF('Broker Sheet'!E442=\"\",\"\",'Broker Sheet'!E442)","v":""},{"$f":"IF('Broker Sheet'!F442=\"\",\"\",'Broker Sheet'!F442)","v":""},{"$f":"IF('Broker Sheet'!G442=\"\",\"\",TEXT('Broker Sheet'!G442,\"YYYYMMDD\"))","v":""},{"$f":"IF('Broker Sheet'!H442=\"\",\"\",'Broker Sheet'!H442)","v":""},{"$f":"IF('Broker Sheet'!I442=\"\",\"\",'Broker Sheet'!I442)","v":""},{"$f":"IF('Broker Sheet'!J442=\"\",\"\",VLOOKUP('Broker Sheet'!J442,(Reference!$E$4:$F$9),2,FALSE))","v":""},{"$f":"IF('Broker Sheet'!K442=\"\",\"\",'Broker Sheet'!K442)","v":""},{"$f":"IF('Broker Sheet'!R442=\"\",\"\",'Broker Sheet'!R442)","v":""},{"$f":"IF('Broker Sheet'!S442=\"\",\"\",'Broker Sheet'!S442)","v":""},{"$f":"IF('Broker Sheet'!T442=\"\",\"\",'Broker Sheet'!T442)","v":""},{"$f":"IF('Broker Sheet'!U442=\"\",\"\",'Broker Sheet'!U442)","v":""},{"$f":"IF('Broker Sheet'!V442=\"\",\"\",'Broker Sheet'!V442)","v":""},{"$f":"IF('Broker Sheet'!W442=\"\",\"\",'Broker Sheet'!W442)","v":""},{"$f":"IF('Broker Sheet'!Y442=\"\",\"\",'Broker Sheet'!Y442)","v":""},{"$f":"IF('Broker Sheet'!AA442=\"\",\"\",'Broker Sheet'!AA442)","v":""},{"$f":"IF('Broker Sheet'!Z442=\"\",\"\",'Broker Sheet'!Z442)","v":""},{"$f":"IF('Broker Sheet'!AB442=\"\",\"\",'Broker Sheet'!AB442)","v":""},null,null,{"$f":"IF('Broker Sheet'!L442=\"\",\"\",TEXT('Broker Sheet'!L442,\"YYYYMMDD\"))","v":""},{"$f":"IF('Broker Sheet'!AC442=\"\",\"\",TEXT('Broker Sheet'!AC442,\"YYYYMMDD\"))","v":""},{"$f":"IF('Broker Sheet'!AD442=\"\",\"\",TEXT('Broker Sheet'!AD442,\"YYYYMMDD\"))","v":""},{"$f":"IF('Broker Sheet'!AE442=\"\",\"\",'Broker Sheet'!AE442)","v":""},{"$f":"IF('Broker Sheet'!AF442=\"\",\"\",TEXT('Broker Sheet'!AF442,\"YYYYMMDD\"))","v":""},{"$f":"IF('Broker Sheet'!AG442=\"\",\"\",TEXT('Broker Sheet'!AG442,\"YYYYMMDD\"))","v":""}]
[null,null,null,null,null,{"$f":"IF('Broker Sheet'!C443=\"\",\"\",'Broker Sheet'!C443)","v":""},{"$f":"IF('Broker Sheet'!D443=\"\",\"\",'Broker Sheet'!D443)","v":""},{"$f":"IF('Broker Sheet'!E443=\"\",\"\",'Broker Sheet'!E443)","v":""},{"$f":"IF('Broker Sheet'!F443=\"\",\"\",'Broker Sheet'!F443)","v":""},{"$f":"IF('Broker Sheet'!G443=\"\",\"\",TEXT('Broker Sheet'!G443,\"YYYYMMDD\"))","v":""},{"$f":"IF('Broker Sheet'!H443=\"\",\"\",'Broker Sheet'!H443)","v":""},{"$f":"IF('Broker Sheet'!I443=\"\",\"\",'Broker Sheet'!I443)","v":""},{"$f":"IF('Broker Sheet'!J443=\"\",\"\",VLOOKUP('Broker Sheet'!J443,(Reference!$E$4:$F$9),2,FALSE))","v":""},{"$f":"IF('Broker Sheet'!K443=\"\",\"\",'Broker Sheet'!K443)","v":""},{"$f":"IF('Broker Sheet'!R443=\"\",\"\",'Broker Sheet'!R443)","v":""},{"$f":"IF('Broker Sheet'!S443=\"\",\"\",'Broker Sheet'!S443)","v":""},{"$f":"IF('Broker Sheet'!T443=\"\",\"\",'Broker Sheet'!T443)","v":""},{"$f":"IF('Broker Sheet'!U443=\"\",\"\",'Broker Sheet'!U443)","v":""},{"$f":"IF('Broker Sheet'!V443=\"\",\"\",'Broker Sheet'!V443)","v":""},{"$f":"IF('Broker Sheet'!W443=\"\",\"\",'Broker Sheet'!W443)","v":""},{"$f":"IF('Broker Sheet'!Y443=\"\",\"\",'Broker Sheet'!Y443)","v":""},{"$f":"IF('Broker Sheet'!AA443=\"\",\"\",'Broker Sheet'!AA443)","v":""},{"$f":"IF('Broker Sheet'!Z443=\"\",\"\",'Broker Sheet'!Z443)","v":""},{"$f":"IF('Broker Sheet'!AB443=\"\",\"\",'Broker Sheet'!AB443)","v":""},null,null,{"$f":"IF('Broker Sheet'!L443=\"\",\"\",TEXT('Broker Sheet'!L443,\"YYYYMMDD\"))","v":""},{"$f":"IF('Broker Sheet'!AC443=\"\",\"\",TEXT('Broker Sheet'!AC443,\"YYYYMMDD\"))","v":""},{"$f":"IF('Broker Sheet'!AD443=\"\",\"\",TEXT('Broker Sheet'!AD443,\"YYYYMMDD\"))","v":""},{"$f":"IF('Broker Sheet'!AE443=\"\",\"\",'Broker Sheet'!AE443)","v":""},{"$f":"IF('Broker Sheet'!AF443=\"\",\"\",TEXT('Broker Sheet'!AF443,\"YYYYMMDD\"))","v":""},{"$f":"IF('Broker Sheet'!AG443=\"\",\"\",TEXT('Broker Sheet'!AG443,\"YYYYMMDD\"))","v":""}]
[null,null,null,null,null,{"$f":"IF('Broker Sheet'!C444=\"\",\"\",'Broker Sheet'!C444)","v":""},{"$f":"IF('Broker Sheet'!D444=\"\",\"\",'Broker Sheet'!D444)","v":""},{"$f":"IF('Broker Sheet'!E444=\"\",\"\",'Broker Sheet'!E444)","v":""},{"$f":"IF('Broker Sheet'!F444=\"\",\"\",'Broker Sheet'!F444)","v":""},{"$f":"IF('Broker Sheet'!G444=\"\",\"\",TEXT('Broker Sheet'!G444,\"YYYYMMDD\"))","v":""},{"$f":"IF('Broker Sheet'!H444=\"\",\"\",'Broker Sheet'!H444)","v":""},{"$f":"IF('Broker Sheet'!I444=\"\",\"\",'Broker Sheet'!I444)","v":""},{"$f":"IF('Broker Sheet'!J444=\"\",\"\",VLOOKUP('Broker Sheet'!J444,(Reference!$E$4:$F$9),2,FALSE))","v":""},{"$f":"IF('Broker Sheet'!K444=\"\",\"\",'Broker Sheet'!K444)","v":""},{"$f":"IF('Broker Sheet'!R444=\"\",\"\",'Broker Sheet'!R444)","v":""},{"$f":"IF('Broker Sheet'!S444=\"\",\"\",'Broker Sheet'!S444)","v":""},{"$f":"IF('Broker Sheet'!T444=\"\",\"\",'Broker Sheet'!T444)","v":""},{"$f":"IF('Broker Sheet'!U444=\"\",\"\",'Broker Sheet'!U444)","v":""},{"$f":"IF('Broker Sheet'!V444=\"\",\"\",'Broker Sheet'!V444)","v":""},{"$f":"IF('Broker Sheet'!W444=\"\",\"\",'Broker Sheet'!W444)","v":""},{"$f":"IF('Broker Sheet'!Y444=\"\",\"\",'Broker Sheet'!Y444)","v":""},{"$f":"IF('Broker Sheet'!AA444=\"\",\"\",'Broker Sheet'!AA444)","v":""},{"$f":"IF('Broker Sheet'!Z444=\"\",\"\",'Broker Sheet'!Z444)","v":""},{"$f":"IF('Broker Sheet'!AB444=\"\",\"\",'Broker Sheet'!AB444)","v":""},null,null,{"$f":"IF('Broker Sheet'!L444=\"\",\"\",TEXT('Broker Sheet'!L444,\"YYYYMMDD\"))","v":""},{"$f":"IF('Broker Sheet'!AC444=\"\",\"\",TEXT('Broker Sheet'!AC444,\"YYYYMMDD\"))","v":""},{"$f":"IF('Broker Sheet'!AD444=\"\",\"\",TEXT('Broker Sheet'!AD444,\"YYYYMMDD\"))","v":""},{"$f":"IF('Broker Sheet'!AE444=\"\",\"\",'Broker Sheet'!AE444)","v":""},{"$f":"IF('Broker Sheet'!AF444=\"\",\"\",TEXT('Broker Sheet'!AF444,\"YYYYMMDD\"))","v":""},{"$f":"IF('Broker Sheet'!AG444=\"\",\"\",TEXT('Broker Sheet'!AG444,\"YYYYMMDD\"))","v":""}]
[null,null,null,null,null,{"$f":"IF('Broker Sheet'!C445=\"\",\"\",'Broker Sheet'!C445)","v":""},{"$f":"IF('Broker Sheet'!D445=\"\",\"\",'Broker Sheet'!D445)","v":""},{"$f":"IF('Broker Sheet'!E445=\"\",\"\",'Broker Sheet'!E445)","v":""},{"$f":"IF('Broker Sheet'!F445=\"\",\"\",'Broker Sheet'!F445)","v":""},{"$f":"IF('Broker Sheet'!G445=\"\",\"\",TEXT('Broker Sheet'!G445,\"YYYYMMDD\"))","v":""},{"$f":"IF('Broker Sheet'!H445=\"\",\"\",'Broker Sheet'!H445)","v":""},{"$f":"IF('Broker Sheet'!I445=\"\",\"\",'Broker Sheet'!I445)","v":""},{"$f":"IF('Broker Sheet'!J445=\"\",\"\",VLOOKUP('Broker Sheet'!J445,(Reference!$E$4:$F$9),2,FALSE))","v":""},{"$f":"IF('Broker Sheet'!K445=\"\",\"\",'Broker Sheet'!K445)","v":""},{"$f":"IF('Broker Sheet'!R445=\"\",\"\",'Broker Sheet'!R445)","v":""},{"$f":"IF('Broker Sheet'!S445=\"\",\"\",'Broker Sheet'!S445)","v":""},{"$f":"IF('Broker Sheet'!T445=\"\",\"\",'Broker Sheet'!T445)","v":""},{"$f":"IF('Broker Sheet'!U445=\"\",\"\",'Broker Sheet'!U445)","v":""},{"$f":"IF('Broker Sheet'!V445=\"\",\"\",'Broker Sheet'!V445)","v":""},{"$f":"IF('Broker Sheet'!W445=\"\",\"\",'Broker Sheet'!W445)","v":""},{"$f":"IF('Broker Sheet'!Y445=\"\",\"\",'Broker Sheet'!Y445)","v":""},{"$f":"IF('Broker Sheet'!AA445=\"\",\"\",'Broker Sheet'!AA445)","v":""},{"$f":"IF('Broker Sheet'!Z445=\"\",\"\",'Broker Sheet'!Z445)","v":""},{"$f":"IF('Broker Sheet'!AB445=\"\",\"\",'Broker Sheet'!AB445)","v":""},null,null,{"$f":"IF('Broker Sheet'!L445=\"\",\"\",TEXT('Broker Sheet'!L445,\"YYYYMMDD\"))","v":""},{"$f":"IF('Broker Sheet'!AC445=\"\",\"\",TEXT('Broker Sheet'!AC445,\"YYYYMMDD\"))","v":""},{"$f":"IF('Broker Sheet'!AD445=\"\",\"\",TEXT('Broker Sheet'!AD445,\"YYYYMMDD\"))","v":""},{"$f":"IF('Broker Sheet'!AE445=\"\",\"\",'Broker Sheet'!AE445)","v":""},{"$f":"IF('Broker Sheet'!AF445=\"\",\"\",TEXT('Broker Sheet'!AF445,\"YYYYMMDD\"))","v":""},{"$f":"IF('Broker Sheet'!AG445=\"\",\"\",TEXT('Broker Sheet'!AG445,\"YYYYMMDD\"))","v":""}]
[null,null,null,null,null,{"$f":"IF('Broker Sheet'!C446=\"\",\"\",'Broker Sheet'!C446)","v":""},{"$f":"IF('Broker Sheet'!D446=\"\",\"\",'Broker Sheet'!D446)","v":""},{"$f":"IF('Broker Sheet'!E446=\"\",\"\",'Broker Sheet'!E446)","v":""},{"$f":"IF('Broker Sheet'!F446=\"\",\"\",'Broker Sheet'!F446)","v":""},{"$f":"IF('Broker Sheet'!G446=\"\",\"\",TEXT('Broker Sheet'!G446,\"YYYYMMDD\"))","v":""},{"$f":"IF('Broker Sheet'!H446=\"\",\"\",'Broker Sheet'!H446)","v":""},{"$f":"IF('Broker Sheet'!I446=\"\",\"\",'Broker Sheet'!I446)","v":""},{"$f":"IF('Broker Sheet'!J446=\"\",\"\",VLOOKUP('Broker Sheet'!J446,(Reference!$E$4:$F$9),2,FALSE))","v":""},{"$f":"IF('Broker Sheet'!K446=\"\",\"\",'Broker Sheet'!K446)","v":""},{"$f":"IF('Broker Sheet'!R446=\"\",\"\",'Broker Sheet'!R446)","v":""},{"$f":"IF('Broker Sheet'!S446=\"\",\"\",'Broker Sheet'!S446)","v":""},{"$f":"IF('Broker Sheet'!T446=\"\",\"\",'Broker Sheet'!T446)","v":""},{"$f":"IF('Broker Sheet'!U446=\"\",\"\",'Broker Sheet'!U446)","v":""},{"$f":"IF('Broker Sheet'!V446=\"\",\"\",'Broker Sheet'!V446)","v":""},{"$f":"IF('Broker Sheet'!W446=\"\",\"\",'Broker Sheet'!W446)","v":""},{"$f":"IF('Broker Sheet'!Y446=\"\",\"\",'Broker Sheet'!Y446)","v":""},{"$f":"IF('Broker Sheet'!AA446=\"\",\"\",'Broker Sheet'!AA446)","v":""},{"$f":"IF('Broker Sheet'!Z446=\"\",\"\",'Broker Sheet'!Z446)","v":""},{"$f":"IF('Broker Sheet'!AB446=\"\",\"\",'Broker Sheet'!AB446)","v":""},null,null,{"$f":"IF('Broker Sheet'!L446=\"\",\"\",TEXT('Broker Sheet'!L446,\"YYYYMMDD\"))","v":""},{"$f":"IF('Broker Sheet'!AC446=\"\",\"\",TEXT('Broker Sheet'!AC446,\"YYYYMMDD\"))","v":""},{"$f":"IF('Broker Sheet'!AD446=\"\",\"\",TEXT('Broker Sheet'!AD446,\"YYYYMMDD\"))","v":""},{"$f":"IF('Broker Sheet'!AE446=\"\",\"\",'Broker Sheet'!AE446)","v":""},{"$f":"IF('Broker Sheet'!AF446=\"\",\"\",TEXT('Broker Sheet'!AF446,\"YYYYMMDD\"))","v":""},{"$f":"IF('Broker Sheet'!AG446=\"\",\"\",TEXT('Broker Sheet'!AG446,\"YYYYMMDD\"))","v":""}]
[null,null,null,null,null,{"$f":"IF('Broker Sheet'!C447=\"\",\"\",'Broker Sheet'!C447)","v":""},{"$f":"IF('Broker Sheet'!D447=\"\",\"\",'Broker Sheet'!D447)","v":""},{"$f":"IF('Broker Sheet'!E447=\"\",\"\",'Broker Sheet'!E447)","v":""},{"$f":"IF('Broker Sheet'!F447=\"\",\"\",'Broker Sheet'!F447)","v":""},{"$f":"IF('Broker Sheet'!G447=\"\",\"\",TEXT('Broker Sheet'!G447,\"YYYYMMDD\"))","v":""},{"$f":"IF('Broker Sheet'!H447=\"\",\"\",'Broker Sheet'!H447)","v":""},{"$f":"IF('Broker Sheet'!I447=\"\",\"\",'Broker Sheet'!I447)","v":""},{"$f":"IF('Broker Sheet'!J447=\"\",\"\",VLOOKUP('Broker Sheet'!J447,(Reference!$E$4:$F$9),2,FALSE))","v":""},{"$f":"IF('Broker Sheet'!K447=\"\",\"\",'Broker Sheet'!K447)","v":""},{"$f":"IF('Broker Sheet'!R447=\"\",\"\",'Broker Sheet'!R447)","v":""},{"$f":"IF('Broker Sheet'!S447=\"\",\"\",'Broker Sheet'!S447)","v":""},{"$f":"IF('Broker Sheet'!T447=\"\",\"\",'Broker Sheet'!T447)","v":""},{"$f":"IF('Broker Sheet'!U447=\"\",\"\",'Broker Sheet'!U447)","v":""},{"$f":"IF('Broker Sheet'!V447=\"\",\"\",'Broker Sheet'!V447)","v":""},{"$f":"IF('Broker Sheet'!W447=\"\",\"\",'Broker Sheet'!W447)","v":""},{"$f":"IF('Broker Sheet'!Y447=\"\",\"\",'Broker Sheet'!Y447)","v":""},{"$f":"IF('Broker Sheet'!AA447=\"\",\"\",'Broker Sheet'!AA447)","v":""},{"$f":"IF('Broker Sheet'!Z447=\"\",\"\",'Broker Sheet'!Z447)","v":""},{"$f":"IF('Broker Sheet'!AB447=\"\",\"\",'Broker Sheet'!AB447)","v":""},null,null,{"$f":"IF('Broker Sheet'!L447=\"\",\"\",TEXT('Broker Sheet'!L447,\"YYYYMMDD\"))","v":""},{"$f":"IF('Broker Sheet'!AC447=\"\",\"\",TEXT('Broker Sheet'!AC447,\"YYYYMMDD\"))","v":""},{"$f":"IF('Broker Sheet'!AD447=\"\",\"\",TEXT('Broker Sheet'!AD447,\"YYYYMMDD\"))","v":""},{"$f":"IF('Broker Sheet'!AE447=\"\",\"\",'Broker Sheet'!AE447)","v":""},{"$f":"IF('Broker Sheet'!AF447=\"\",\"\",TEXT('Broker Sheet'!AF447,\"YYYYMMDD\"))","v":""},{"$f":"IF('Broker Sheet'!AG447=\"\",\"\",TEXT('Broker Sheet'!AG447,\"YYYYMMDD\"))","v":""}]
[null,null,null,null,null,{"$f":"IF('Broker Sheet'!C448=\"\",\"\",'Broker Sheet'!C448)","v":""},{"$f":"IF('Broker Sheet'!D448=\"\",\"\",'Broker Sheet'!D448)","v":""},{"$f":"IF('Broker Sheet'!E448=\"\",\"\",'Broker Sheet'!E448)","v":""},{"$f":"IF('Broker Sheet'!F448=\"\",\"\",'Broker Sheet'!F448)","v":""},{"$f":"IF('Broker Sheet'!G448=\"\",\"\",TEXT('Broker Sheet'!G448,\"YYYYMMDD\"))","v":""},{"$f":"IF('Broker Sheet'!H448=\"\",\"\",'Broker Sheet'!H448)","v":""},{"$f":"IF('Broker Sheet'!I448=\"\",\"\",'Broker Sheet'!I448)","v":""},{"$f":"IF('Broker Sheet'!J448=\"\",\"\",VLOOKUP('Broker Sheet'!J448,(Reference!$E$4:$F$9),2,FALSE))","v":""},{"$f":"IF('Broker Sheet'!K448=\"\",\"\",'Broker Sheet'!K448)","v":""},{"$f":"IF('Broker Sheet'!R448=\"\",\"\",'Broker Sheet'!R448)","v":""},{"$f":"IF('Broker Sheet'!S448=\"\",\"\",'Broker Sheet'!S448)","v":""},{"$f":"IF('Broker Sheet'!T448=\"\",\"\",'Broker Sheet'!T448)","v":""},{"$f":"IF('Broker Sheet'!U448=\"\",\"\",'Broker Sheet'!U448)","v":""},{"$f":"IF('Broker Sheet'!V448=\"\",\"\",'Broker Sheet'!V448)","v":""},{"$f":"IF('Broker Sheet'!W448=\"\",\"\",'Broker Sheet'!W448)","v":""},{"$f":"IF('Broker Sheet'!Y448=\"\",\"\",'Broker Sheet'!Y448)","v":""},{"$f":"IF('Broker Sheet'!AA448=\"\",\"\",'Broker Sheet'!AA448)","v":""},{"$f":"IF('Broker Sheet'!Z448=\"\",\"\",'Broker Sheet'!Z448)","v":""},{"$f":"IF('Broker Sheet'!AB448=\"\",\"\",'Broker Sheet'!AB448)","v":""},null,null,{"$f":"IF('Broker Sheet'!L448=\"\",\"\",TEXT('Broker Sheet'!L448,\"YYYYMMDD\"))","v":""},{"$f":"IF('Broker Sheet'!AC448=\"\",\"\",TEXT('Broker Sheet'!AC448,\"YYYYMMDD\"))","v":""},{"$f":"IF('Broker Sheet'!AD448=\"\",\"\",TEXT('Broker Sheet'!AD448,\"YYYYMMDD\"))","v":""},{"$f":"IF('Broker Sheet'!AE448=\"\",\"\",'Broker Sheet'!AE448)","v":""},{"$f":"IF('Broker Sheet'!AF448=\"\",\"\",TEXT('Broker Sheet'!AF448,\"YYYYMMDD\"))","v":""},{"$f":"IF('Broker Sheet'!AG448=\"\",\"\",TEXT('Broker Sheet'!AG448,\"YYYYMMDD\"))","v":""}]
[null,null,null,null,null,{"$f":"IF('Broker Sheet'!C449=\"\",\"\",'Broker Sheet'!C449)","v":""},{"$f":"IF('Broker Sheet'!D449=\"\",\"\",'Broker Sheet'!D449)","v":""},{"$f":"IF('Broker Sheet'!E449=\"\",\"\",'Broker Sheet'!E449)","v":""},{"$f":"IF('Broker Sheet'!F449=\"\",\"\",'Broker Sheet'!F449)","v":""},{"$f":"IF('Broker Sheet'!G449=\"\",\"\",TEXT('Broker Sheet'!G449,\"YYYYMMDD\"))","v":""},{"$f":"IF('Broker Sheet'!H449=\"\",\"\",'Broker Sheet'!H449)","v":""},{"$f":"IF('Broker Sheet'!I449=\"\",\"\",'Broker Sheet'!I449)","v":""},{"$f":"IF('Broker Sheet'!J449=\"\",\"\",VLOOKUP('Broker Sheet'!J449,(Reference!$E$4:$F$9),2,FALSE))","v":""},{"$f":"IF('Broker Sheet'!K449=\"\",\"\",'Broker Sheet'!K449)","v":""},{"$f":"IF('Broker Sheet'!R449=\"\",\"\",'Broker Sheet'!R449)","v":""},{"$f":"IF('Broker Sheet'!S449=\"\",\"\",'Broker Sheet'!S449)","v":""},{"$f":"IF('Broker Sheet'!T449=\"\",\"\",'Broker Sheet'!T449)","v":""},{"$f":"IF('Broker Sheet'!U449=\"\",\"\",'Broker Sheet'!U449)","v":""},{"$f":"IF('Broker Sheet'!V449=\"\",\"\",'Broker Sheet'!V449)","v":""},{"$f":"IF('Broker Sheet'!W449=\"\",\"\",'Broker Sheet'!W449)","v":""},{"$f":"IF('Broker Sheet'!Y449=\"\",\"\",'Broker Sheet'!Y449)","v":""},{"$f":"IF('Broker Sheet'!AA449=\"\",\"\",'Broker Sheet'!AA449)","v":""},{"$f":"IF('Broker Sheet'!Z449=\"\",\"\",'Broker Sheet'!Z449)","v":""},{"$f":"IF('Broker Sheet'!AB449=\"\",\"\",'Broker Sheet'!AB449)","v":""},null,null,{"$f":"IF('Broker Sheet'!L449=\"\",\"\",TEXT('Broker Sheet'!L449,\"YYYYMMDD\"))","v":""},{"$f":"IF('Broker Sheet'!AC449=\"\",\"\",TEXT('Broker Sheet'!AC449,\"YYYYMMDD\"))","v":""},{"$f":"IF('Broker Sheet'!AD449=\"\",\"\",TEXT('Broker Sheet'!AD449,\"YYYYMMDD\"))","v":""},{"$f":"IF('Broker Sheet'!AE449=\"\",\"\",'Broker Sheet'!AE449)","v":""},{"$f":"IF('Broker Sheet'!AF449=\"\",\"\",TEXT('Broker Sheet'!AF449,\"YYYYMMDD\"))","v":""},{"$f":"IF('Broker Sheet'!AG449=\"\",\"\",TEXT('Broker Sheet'!AG449,\"YYYYMMDD\"))","v":""}]
[null,null,null,null,null,{"$f":"IF('Broker Sheet'!C450=\"\",\"\",'Broker Sheet'!C450)","v":""},{"$f":"IF('Broker Sheet'!D450=\"\",\"\",'Broker Sheet'!D450)","v":""},{"$f":"IF('Broker Sheet'!E450=\"\",\"\",'Broker Sheet'!E450)","v":""},{"$f":"IF('Broker Sheet'!F450=\"\",\"\",'Broker Sheet'!F450)","v":""},{"$f":"IF('Broker Sheet'!G450=\"\",\"\",TEXT('Broker Sheet'!G450,\"YYYYMMDD\"))","v":""},{"$f":"IF('Broker Sheet'!H450=\"\",\"\",'Broker Sheet'!H450)","v":""},{"$f":"IF('Broker Sheet'!I450=\"\",\"\",'Broker Sheet'!I450)","v":""},{"$f":"IF('Broker Sheet'!J450=\"\",\"\",VLOOKUP('Broker Sheet'!J450,(Reference!$E$4:$F$9),2,FALSE))","v":""},{"$f":"IF('Broker Sheet'!K450=\"\",\"\",'Broker Sheet'!K450)","v":""},{"$f":"IF('Broker Sheet'!R450=\"\",\"\",'Broker Sheet'!R450)","v":""},{"$f":"IF('Broker Sheet'!S450=\"\",\"\",'Broker Sheet'!S450)","v":""},{"$f":"IF('Broker Sheet'!T450=\"\",\"\",'Broker Sheet'!T450)","v":""},{"$f":"IF('Broker Sheet'!U450=\"\",\"\",'Broker Sheet'!U450)","v":""},{"$f":"IF('Broker Sheet'!V450=\"\",\"\",'Broker Sheet'!V450)","v":""},{"$f":"IF('Broker Sheet'!W450=\"\",\"\",'Broker Sheet'!W450)","v":""},{"$f":"IF('Broker Sheet'!Y450=\"\",\"\",'Broker Sheet'!Y450)","v":""},{"$f":"IF('Broker Sheet'!AA450=\"\",\"\",'Broker Sheet'!AA450)","v":""},{"$f":"IF('Broker Sheet'!Z450=\"\",\"\",'Broker Sheet'!Z450)","v":""},{"$f":"IF('Broker Sheet'!AB450=\"\",\"\",'Broker Sheet'!AB450)","v":""},null,null,{"$f":"IF('Broker Sheet'!L450=\"\",\"\",TEXT('Broker Sheet'!L450,\"YYYYMMDD\"))","v":""},{"$f":"IF('Broker Sheet'!AC450=\"\",\"\",TEXT('Broker Sheet'!AC450,\"YYYYMMDD\"))","v":""},{"$f":"IF('Broker Sheet'!AD450=\"\",\"\",TEXT('Broker Sheet'!AD450,\"YYYYMMDD\"))","v":""},{"$f":"IF('Broker Sheet'!AE450=\"\",\"\",'Broker Sheet'!AE450)","v":""},{"$f":"IF('Broker Sheet'!AF450=\"\",\"\",TEXT('Broker Sheet'!AF450,\"YYYYMMDD\"))","v":""},{"$f":"IF('Broker Sheet'!AG450=\"\",\"\",TEXT('Broker Sheet'!AG450,\"YYYYMMDD\"))","v":""}]
[null,null,null,null,null,{"$f":"IF('Broker Sheet'!C451=\"\",\"\",'Broker Sheet'!C451)","v":""},{"$f":"IF('Broker Sheet'!D451=\"\",\"\",'Broker Sheet'!D451)","v":""},{"$f":"IF('Broker Sheet'!E451=\"\",\"\",'Broker Sheet'!E451)","v":""},{"$f":"IF('Broker Sheet'!F451=\"\",\"\",'Broker Sheet'!F451)","v":""},{"$f":"IF('Broker Sheet'!G451=\"\",\"\",TEXT('Broker Sheet'!G451,\"YYYYMMDD\"))","v":""},{"$f":"IF('Broker Sheet'!H451=\"\",\"\",'Broker Sheet'!H451)","v":""},{"$f":"IF('Broker Sheet'!I451=\"\",\"\",'Broker Sheet'!I451)","v":""},{"$f":"IF('Broker Sheet'!J451=\"\",\"\",VLOOKUP('Broker Sheet'!J451,(Reference!$E$4:$F$9),2,FALSE))","v":""},{"$f":"IF('Broker Sheet'!K451=\"\",\"\",'Broker Sheet'!K451)","v":""},{"$f":"IF('Broker Sheet'!R451=\"\",\"\",'Broker Sheet'!R451)","v":""},{"$f":"IF('Broker Sheet'!S451=\"\",\"\",'Broker Sheet'!S451)","v":""},{"$f":"IF('Broker Sheet'!T451=\"\",\"\",'Broker Sheet'!T451)","v":""},{"$f":"IF('Broker Sheet'!U451=\"\",\"\",'Broker Sheet'!U451)","v":""},{"$f":"IF('Broker Sheet'!V451=\"\",\"\",'Broker Sheet'!V451)","v":""},{"$f":"IF('Broker Sheet'!W451=\"\",\"\",'Broker Sheet'!W451)","v":""},{"$f":"IF('Broker Sheet'!Y451=\"\",\"\",'Broker Sheet'!Y451)","v":""},{"$f":"IF('Broker Sheet'!AA451=\"\",\"\",'Broker Sheet'!AA451)","v":""},{"$f":"IF('Broker Sheet'!Z451=\"\",\"\",'Broker Sheet'!Z451)","v":""},{"$f":"IF('Broker Sheet'!AB451=\"\",\"\",'Broker Sheet'!AB451)","v":""},null,null,{"$f":"IF('Broker Sheet'!L451=\"\",\"\",TEXT('Broker Sheet'!L451,\"YYYYMMDD\"))","v":""},{"$f":"IF('Broker Sheet'!AC451=\"\",\"\",TEXT('Broker Sheet'!AC451,\"YYYYMMDD\"))","v":""},{"$f":"IF('Broker Sheet'!AD451=\"\",\"\",TEXT('Broker Sheet'!AD451,\"YYYYMMDD\"))","v":""},{"$f":"IF('Broker Sheet'!AE451=\"\",\"\",'Broker Sheet'!AE451)","v":""},{"$f":"IF('Broker Sheet'!AF451=\"\",\"\",TEXT('Broker Sheet'!AF451,\"YYYYMMDD\"))","v":""},{"$f":"IF('Broker Sheet'!AG451=\"\",\"\",TEXT('Broker Sheet'!AG451,\"YYYYMMDD\"))","v":""}]
[null,null,null,null,null,{"$f":"IF('Broker Sheet'!C452=\"\",\"\",'Broker Sheet'!C452)","v":""},{"$f":"IF('Broker Sheet'!D452=\"\",\"\",'Broker Sheet'!D452)","v":""},{"$f":"IF('Broker Sheet'!E452=\"\",\"\",'Broker Sheet'!E452)","v":""},{"$f":"IF('Broker Sheet'!F452=\"\",\"\",'Broker Sheet'!F452)","v":""},{"$f":"IF('Broker Sheet'!G452=\"\",\"\",TEXT('Broker Sheet'!G452,\"YYYYMMDD\"))","v":""},{"$f":"IF('Broker Sheet'!H452=\"\",\"\",'Broker Sheet'!H452)","v":""},{"$f":"IF('Broker Sheet'!I452=\"\",\"\",'Broker Sheet'!I452)","v":""},{"$f":"IF('Broker Sheet'!J452=\"\",\"\",VLOOKUP('Broker Sheet'!J452,(Reference!$E$4:$F$9),2,FALSE))","v":""},{"$f":"IF('Broker Sheet'!K452=\"\",\"\",'Broker Sheet'!K452)","v":""},{"$f":"IF('Broker Sheet'!R452=\"\",\"\",'Broker Sheet'!R452)","v":""},{"$f":"IF('Broker Sheet'!S452=\"\",\"\",'Broker Sheet'!S452)","v":""},{"$f":"IF('Broker Sheet'!T452=\"\",\"\",'Broker Sheet'!T452)","v":""},{"$f":"IF('Broker Sheet'!U452=\"\",\"\",'Broker Sheet'!U452)","v":""},{"$f":"IF('Broker Sheet'!V452=\"\",\"\",'Broker Sheet'!V452)","v":""},{"$f":"IF('Broker Sheet'!W452=\"\",\"\",'Broker Sheet'!W452)","v":""},{"$f":"IF('Broker Sheet'!Y452=\"\",\"\",'Broker Sheet'!Y452)","v":""},{"$f":"IF('Broker Sheet'!AA452=\"\",\"\",'Broker Sheet'!AA452)","v":""},{"$f":"IF('Broker Sheet'!Z452=\"\",\"\",'Broker Sheet'!Z452)","v":""},{"$f":"IF('Broker Sheet'!AB452=\"\",\"\",'Broker Sheet'!AB452)","v":""},null,null,{"$f":"IF('Broker Sheet'!L452=\"\",\"\",TEXT('Broker Sheet'!L452,\"YYYYMMDD\"))","v":""},{"$f":"IF('Broker Sheet'!AC452=\"\",\"\",TEXT('Broker Sheet'!AC452,\"YYYYMMDD\"))","v":""},{"$f":"IF('Broker Sheet'!AD452=\"\",\"\",TEXT('Broker Sheet'!AD452,\"YYYYMMDD\"))","v":""},{"$f":"IF('Broker Sheet'!AE452=\"\",\"\",'Broker Sheet'!AE452)","v":""},{"$f":"IF('Broker Sheet'!AF452=\"\",\"\",TEXT('Broker Sheet'!AF452,\"YYYYMMDD\"))","v":""},{"$f":"IF('Broker Sheet'!AG452=\"\",\"\",TEXT('Broker Sheet'!AG452,\"YYYYMMDD\"))","v":""}]
[null,null,null,null,null,{"$f":"IF('Broker Sheet'!C453=\"\",\"\",'Broker Sheet'!C453)","v":""},{"$f":"IF('Broker Sheet'!D453=\"\",\"\",'Broker Sheet'!D453)","v":""},{"$f":"IF('Broker Sheet'!E453=\"\",\"\",'Broker Sheet'!E453)","v":""},{"$f":"IF('Broker Sheet'!F453=\"\",\"\",'Broker Sheet'!F453)","v":""},{"$f":"IF('Broker Sheet'!G453=\"\",\"\",TEXT('Broker Sheet'!G453,\"YYYYMMDD\"))","v":""},{"$f":"IF('Broker Sheet'!H453=\"\",\"\",'Broker Sheet'!H453)","v":""},{"$f":"IF('Broker Sheet'!I453=\"\",\"\",'Broker Sheet'!I453)","v":""},{"$f":"IF('Broker Sheet'!J453=\"\",\"\",VLOOKUP('Broker Sheet'!J453,(Reference!$E$4:$F$9),2,FALSE))","v":""},{"$f":"IF('Broker Sheet'!K453=\"\",\"\",'Broker Sheet'!K453)","v":""},{"$f":"IF('Broker Sheet'!R453=\"\",\"\",'Broker Sheet'!R453)","v":""},{"$f":"IF('Broker Sheet'!S453=\"\",\"\",'Broker Sheet'!S453)","v":""},{"$f":"IF('Broker Sheet'!T453=\"\",\"\",'Broker Sheet'!T453)","v":""},{"$f":"IF('Broker Sheet'!U453=\"\",\"\",'Broker Sheet'!U453)","v":""},{"$f":"IF('Broker Sheet'!V453=\"\",\"\",'Broker Sheet'!V453)","v":""},{"$f":"IF('Broker Sheet'!W453=\"\",\"\",'Broker Sheet'!W453)","v":""},{"$f":"IF('Broker Sheet'!Y453=\"\",\"\",'Broker Sheet'!Y453)","v":""},{"$f":"IF('Broker Sheet'!AA453=\"\",\"\",'Broker Sheet'!AA453)","v":""},{"$f":"IF('Broker Sheet'!Z453=\"\",\"\",'Broker Sheet'!Z453)","v":""},{"$f":"IF('Broker Sheet'!AB453=\"\",\"\",'Broker Sheet'!AB453)","v":""},null,null,{"$f":"IF('Broker Sheet'!L453=\"\",\"\",TEXT('Broker Sheet'!L453,\"YYYYMMDD\"))","v":""},{"$f":"IF('Broker Sheet'!AC453=\"\",\"\",TEXT('Broker Sheet'!AC453,\"YYYYMMDD\"))","v":""},{"$f":"IF('Broker Sheet'!AD453=\"\",\"\",TEXT('Broker Sheet'!AD453,\"YYYYMMDD\"))","v":""},{"$f":"IF('Broker Sheet'!AE453=\"\",\"\",'Broker Sheet'!AE453)","v":""},{"$f":"IF('Broker Sheet'!AF453=\"\",\"\",TEXT('Broker Sheet'!AF453,\"YYYYMMDD\"))","v":""},{"$f":"IF('Broker Sheet'!AG453=\"\",\"\",TEXT('Broker Sheet'!AG453,\"YYYYMMDD\"))","v":""}]
[null,null,null,null,null,{"$f":"IF('Broker Sheet'!C454=\"\",\"\",'Broker Sheet'!C454)","v":""},{"$f":"IF('Broker Sheet'!D454=\"\",\"\",'Broker Sheet'!D454)","v":""},{"$f":"IF('Broker Sheet'!E454=\"\",\"\",'Broker Sheet'!E454)","v":""},{"$f":"IF('Broker Sheet'!F454=\"\",\"\",'Broker Sheet'!F454)","v":""},{"$f":"IF('Broker Sheet'!G454=\"\",\"\",TEXT('Broker Sheet'!G454,\"YYYYMMDD\"))","v":""},{"$f":"IF('Broker Sheet'!H454=\"\",\"\",'Broker Sheet'!H454)","v":""},{"$f":"IF('Broker Sheet'!I454=\"\",\"\",'Broker Sheet'!I454)","v":""},{"$f":"IF('Broker Sheet'!J454=\"\",\"\",VLOOKUP('Broker Sheet'!J454,(Reference!$E$4:$F$9),2,FALSE))","v":""},{"$f":"IF('Broker Sheet'!K454=\"\",\"\",'Broker Sheet'!K454)","v":""},{"$f":"IF('Broker Sheet'!R454=\"\",\"\",'Broker Sheet'!R454)","v":""},{"$f":"IF('Broker Sheet'!S454=\"\",\"\",'Broker Sheet'!S454)","v":""},{"$f":"IF('Broker Sheet'!T454=\"\",\"\",'Broker Sheet'!T454)","v":""},{"$f":"IF('Broker Sheet'!U454=\"\",\"\",'Broker Sheet'!U454)","v":""},{"$f":"IF('Broker Sheet'!V454=\"\",\"\",'Broker Sheet'!V454)","v":""},{"$f":"IF('Broker Sheet'!W454=\"\",\"\",'Broker Sheet'!W454)","v":""},{"$f":"IF('Broker Sheet'!Y454=\"\",\"\",'Broker Sheet'!Y454)","v":""},{"$f":"IF('Broker Sheet'!AA454=\"\",\"\",'Broker Sheet'!AA454)","v":""},{"$f":"IF('Broker Sheet'!Z454=\"\",\"\",'Broker Sheet'!Z454)","v":""},{"$f":"IF('Broker Sheet'!AB454=\"\",\"\",'Broker Sheet'!AB454)","v":""},null,null,{"$f":"IF('Broker Sheet'!L454=\"\",\"\",TEXT('Broker Sheet'!L454,\"YYYYMMDD\"))","v":""},{"$f":"IF('Broker Sheet'!AC454=\"\",\"\",TEXT('Broker Sheet'!AC454,\"YYYYMMDD\"))","v":""},{"$f":"IF('Broker Sheet'!AD454=\"\",\"\",TEXT('Broker Sheet'!AD454,\"YYYYMMDD\"))","v":""},{"$f":"IF('Broker Sheet'!AE454=\"\",\"\",'Broker Sheet'!AE454)","v":""},{"$f":"IF('Broker Sheet'!AF454=\"\",\"\",TEXT('Broker Sheet'!AF454,\"YYYYMMDD\"))","v":""},{"$f":"IF('Broker Sheet'!AG454=\"\",\"\",TEXT('Broker Sheet'!AG454,\"YYYYMMDD\"))","v":""}]
[null,null,null,null,null,{"$f":"IF('Broker Sheet'!C455=\"\",\"\",'Broker Sheet'!C455)","v":""},{"$f":"IF('Broker Sheet'!D455=\"\",\"\",'Broker Sheet'!D455)","v":""},{"$f":"IF('Broker Sheet'!E455=\"\",\"\",'Broker Sheet'!E455)","v":""},{"$f":"IF('Broker Sheet'!F455=\"\",\"\",'Broker Sheet'!F455)","v":""},{"$f":"IF('Broker Sheet'!G455=\"\",\"\",TEXT('Broker Sheet'!G455,\"YYYYMMDD\"))","v":""},{"$f":"IF('Broker Sheet'!H455=\"\",\"\",'Broker Sheet'!H455)","v":""},{"$f":"IF('Broker Sheet'!I455=\"\",\"\",'Broker Sheet'!I455)","v":""},{"$f":"IF('Broker Sheet'!J455=\"\",\"\",VLOOKUP('Broker Sheet'!J455,(Reference!$E$4:$F$9),2,FALSE))","v":""},{"$f":"IF('Broker Sheet'!K455=\"\",\"\",'Broker Sheet'!K455)","v":""},{"$f":"IF('Broker Sheet'!R455=\"\",\"\",'Broker Sheet'!R455)","v":""},{"$f":"IF('Broker Sheet'!S455=\"\",\"\",'Broker Sheet'!S455)","v":""},{"$f":"IF('Broker Sheet'!T455=\"\",\"\",'Broker Sheet'!T455)","v":""},{"$f":"IF('Broker Sheet'!U455=\"\",\"\",'Broker Sheet'!U455)","v":""},{"$f":"IF('Broker Sheet'!V455=\"\",\"\",'Broker Sheet'!V455)","v":""},{"$f":"IF('Broker Sheet'!W455=\"\",\"\",'Broker Sheet'!W455)","v":""},{"$f":"IF('Broker Sheet'!Y455=\"\",\"\",'Broker Sheet'!Y455)","v":""},{"$f":"IF('Broker Sheet'!AA455=\"\",\"\",'Broker Sheet'!AA455)","v":""},{"$f":"IF('Broker Sheet'!Z455=\"\",\"\",'Broker Sheet'!Z455)","v":""},{"$f":"IF('Broker Sheet'!AB455=\"\",\"\",'Broker Sheet'!AB455)","v":""},null,null,{"$f":"IF('Broker Sheet'!L455=\"\",\"\",TEXT('Broker Sheet'!L455,\"YYYYMMDD\"))","v":""},{"$f":"IF('Broker Sheet'!AC455=\"\",\"\",TEXT('Broker Sheet'!AC455,\"YYYYMMDD\"))","v":""},{"$f":"IF('Broker Sheet'!AD455=\"\",\"\",TEXT('Broker Sheet'!AD455,\"YYYYMMDD\"))","v":""},{"$f":"IF('Broker Sheet'!AE455=\"\",\"\",'Broker Sheet'!AE455)","v":""},{"$f":"IF('Broker Sheet'!AF455=\"\",\"\",TEXT('Broker Sheet'!AF455,\"YYYYMMDD\"))","v":""},{"$f":"IF('Broker Sheet'!AG455=\"\",\"\",TEXT('Broker Sheet'!AG455,\"YYYYMMDD\"))","v":""}]
[null,null,null,null,null,{"$f":"IF('Broker Sheet'!C456=\"\",\"\",'Broker Sheet'!C456)","v":""},{"$f":"IF('Broker Sheet'!D456=\"\",\"\",'Broker Sheet'!D456)","v":""},{"$f":"IF('Broker Sheet'!E456=\"\",\"\",'Broker Sheet'!E456)","v":""},{"$f":"IF('Broker Sheet'!F456=\"\",\"\",'Broker Sheet'!F456)","v":""},{"$f":"IF('Broker Sheet'!G456=\"\",\"\",TEXT('Broker Sheet'!G456,\"YYYYMMDD\"))","v":""},{"$f":"IF('Broker Sheet'!H456=\"\",\"\",'Broker Sheet'!H456)","v":""},{"$f":"IF('Broker Sheet'!I456=\"\",\"\",'Broker Sheet'!I456)","v":""},{"$f":"IF('Broker Sheet'!J456=\"\",\"\",VLOOKUP('Broker Sheet'!J456,(Reference!$E$4:$F$9),2,FALSE))","v":""},{"$f":"IF('Broker Sheet'!K456=\"\",\"\",'Broker Sheet'!K456)","v":""},{"$f":"IF('Broker Sheet'!R456=\"\",\"\",'Broker Sheet'!R456)","v":""},{"$f":"IF('Broker Sheet'!S456=\"\",\"\",'Broker Sheet'!S456)","v":""},{"$f":"IF('Broker Sheet'!T456=\"\",\"\",'Broker Sheet'!T456)","v":""},{"$f":"IF('Broker Sheet'!U456=\"\",\"\",'Broker Sheet'!U456)","v":""},{"$f":"IF('Broker Sheet'!V456=\"\",\"\",'Broker Sheet'!V456)","v":""},{"$f":"IF('Broker Sheet'!W456=\"\",\"\",'Broker Sheet'!W456)","v":""},{"$f":"IF('Broker Sheet'!Y456=\"\",\"\",'Broker Sheet'!Y456)","v":""},{"$f":"IF('Broker Sheet'!AA456=\"\",\"\",'Broker Sheet'!AA456)","v":""},{"$f":"IF('Broker Sheet'!Z456=\"\",\"\",'Broker Sheet'!Z456)","v":""},{"$f":"IF('Broker Sheet'!AB456=\"\",\"\",'Broker Sheet'!AB456)","v":""},null,null,{"$f":"IF('Broker Sheet'!L456=\"\",\"\",TEXT('Broker Sheet'!L456,\"YYYYMMDD\"))","v":""},{"$f":"IF('Broker Sheet'!AC456=\"\",\"\",TEXT('Broker Sheet'!AC456,\"YYYYMMDD\"))","v":""},{"$f":"IF('Broker Sheet'!AD456=\"\",\"\",TEXT('Broker Sheet'!AD456,\"YYYYMMDD\"))","v":""},{"$f":"IF('Broker Sheet'!AE456=\"\",\"\",'Broker Sheet'!AE456)","v":""},{"$f":"IF('Broker Sheet'!AF456=\"\",\"\",TEXT('Broker Sheet'!AF456,\"YYYYMMDD\"))","v":""},{"$f":"IF('Broker Sheet'!AG456=\"\",\"\",TEXT('Broker Sheet'!AG456,\"YYYYMMDD\"))","v":""}]
[null,null,null,null,null,{"$f":"IF('Broker Sheet'!C457=\"\",\"\",'Broker Sheet'!C457)","v":""},{"$f":"IF('Broker Sheet'!D457=\"\",\"\",'Broker Sheet'!D457)","v":""},{"$f":"IF('Broker Sheet'!E457=\"\",\"\",'Broker Sheet'!E457)","v":""},{"$f":"IF('Broker Sheet'!F457=\"\",\"\",'Broker Sheet'!F457)","v":""},{"$f":"IF('Broker Sheet'!G457=\"\",\"\",TEXT('Broker Sheet'!G457,\"YYYYMMDD\"))","v":""},{"$f":"IF('Broker Sheet'!H457=\"\",\"\",'Broker Sheet'!H457)","v":""},{"$f":"IF('Broker Sheet'!I457=\"\",\"\",'Broker Sheet'!I457)","v":""},{"$f":"IF('Broker Sheet'!J457=\"\",\"\",VLOOKUP('Broker Sheet'!J457,(Reference!$E$4:$F$9),2,FALSE))","v":""},{"$f":"IF('Broker Sheet'!K457=\"\",\"\",'Broker Sheet'!K457)","v":""},{"$f":"IF('Broker Sheet'!R457=\"\",\"\",'Broker Sheet'!R457)","v":""},{"$f":"IF('Broker Sheet'!S457=\"\",\"\",'Broker Sheet'!S457)","v":""},{"$f":"IF('Broker Sheet'!T457=\"\",\"\",'Broker Sheet'!T457)","v":""},{"$f":"IF('Broker Sheet'!U457=\"\",\"\",'Broker Sheet'!U457)","v":""},{"$f":"IF('Broker Sheet'!V457=\"\",\"\",'Broker Sheet'!V457)","v":""},{"$f":"IF('Broker Sheet'!W457=\"\",\"\",'Broker Sheet'!W457)","v":""},{"$f":"IF('Broker Sheet'!Y457=\"\",\"\",'Broker Sheet'!Y457)","v":""},{"$f":"IF('Broker Sheet'!AA457=\"\",\"\",'Broker Sheet'!AA457)","v":""},{"$f":"IF('Broker Sheet'!Z457=\"\",\"\",'Broker Sheet'!Z457)","v":""},{"$f":"IF('Broker Sheet'!AB457=\"\",\"\",'Broker Sheet'!AB457)","v":""},null,null,{"$f":"IF('Broker Sheet'!L457=\"\",\"\",TEXT('Broker Sheet'!L457,\"YYYYMMDD\"))","v":""},{"$f":"IF('Broker Sheet'!AC457=\"\",\"\",TEXT('Broker Sheet'!AC457,\"YYYYMMDD\"))","v":""},{"$f":"IF('Broker Sheet'!AD457=\"\",\"\",TEXT('Broker Sheet'!AD457,\"YYYYMMDD\"))","v":""},{"$f":"IF('Broker Sheet'!AE457=\"\",\"\",'Broker Sheet'!AE457)","v":""},{"$f":"IF('Broker Sheet'!AF457=\"\",\"\",TEXT('Broker Sheet'!AF457,\"YYYYMMDD\"))","v":""},{"$f":"IF('Broker Sheet'!AG457=\"\",\"\",TEXT('Broker Sheet'!AG457,\"YYYYMMDD\"))","v":""}]
[null,null,null,null,null,{"$f":"IF('Broker Sheet'!C458=\"\",\"\",'Broker Sheet'!C458)","v":""},{"$f":"IF('Broker Sheet'!D458=\"\",\"\",'Broker Sheet'!D458)","v":""},{"$f":"IF('Broker Sheet'!E458=\"\",\"\",'Broker Sheet'!E458)","v":""},{"$f":"IF('Broker Sheet'!F458=\"\",\"\",'Broker Sheet'!F458)","v":""},{"$f":"IF('Broker Sheet'!G458=\"\",\"\",TEXT('Broker Sheet'!G458,\"YYYYMMDD\"))","v":""},{"$f":"IF('Broker Sheet'!H458=\"\",\"\",'Broker Sheet'!H458)","v":""},{"$f":"IF('Broker Sheet'!I458=\"\",\"\",'Broker Sheet'!I458)","v":""},{"$f":"IF('Broker Sheet'!J458=\"\",\"\",VLOOKUP('Broker Sheet'!J458,(Reference!$E$4:$F$9),2,FALSE))","v":""},{"$f":"IF('Broker Sheet'!K458=\"\",\"\",'Broker Sheet'!K458)","v":""},{"$f":"IF('Broker Sheet'!R458=\"\",\"\",'Broker Sheet'!R458)","v":""},{"$f":"IF('Broker Sheet'!S458=\"\",\"\",'Broker Sheet'!S458)","v":""},{"$f":"IF('Broker Sheet'!T458=\"\",\"\",'Broker Sheet'!T458)","v":""},{"$f":"IF('Broker Sheet'!U458=\"\",\"\",'Broker Sheet'!U458)","v":""},{"$f":"IF('Broker Sheet'!V458=\"\",\"\",'Broker Sheet'!V458)","v":""},{"$f":"IF('Broker Sheet'!W458=\"\",\"\",'Broker Sheet'!W458)","v":""},{"$f":"IF('Broker Sheet'!Y458=\"\",\"\",'Broker Sheet'!Y458)","v":""},{"$f":"IF('Broker Sheet'!AA458=\"\",\"\",'Broker Sheet'!AA458)","v":""},{"$f":"IF('Broker Sheet'!Z458=\"\",\"\",'Broker Sheet'!Z458)","v":""},{"$f":"IF('Broker Sheet'!AB458=\"\",\"\",'Broker Sheet'!AB458)","v":""},null,null,{"$f":"IF('Broker Sheet'!L458=\"\",\"\",TEXT('Broker Sheet'!L458,\"YYYYMMDD\"))","v":""},{"$f":"IF('Broker Sheet'!AC458=\"\",\"\",TEXT('Broker Sheet'!AC458,\"YYYYMMDD\"))","v":""},{"$f":"IF('Broker Sheet'!AD458=\"\",\"\",TEXT('Broker Sheet'!AD458,\"YYYYMMDD\"))","v":""},{"$f":"IF('Broker Sheet'!AE458=\"\",\"\",'Broker Sheet'!AE458)","v":""},{"$f":"IF('Broker Sheet'!AF458=\"\",\"\",TEXT('Broker Sheet'!AF458,\"YYYYMMDD\"))","v":""},{"$f":"IF('Broker Sheet'!AG458=\"\",\"\",TEXT('Broker Sheet'!AG458,\"YYYYMMDD\"))","v":""}]
[null,null,null,null,null,{"$f":"IF('Broker Sheet'!C459=\"\",\"\",'Broker Sheet'!C459)","v":""},{"$f":"IF('Broker Sheet'!D459=\"\",\"\",'Broker Sheet'!D459)","v":""},{"$f":"IF('Broker Sheet'!E459=\"\",\"\",'Broker Sheet'!E459)","v":""},{"$f":"IF('Broker Sheet'!F459=\"\",\"\",'Broker Sheet'!F459)","v":""},{"$f":"IF('Broker Sheet'!G459=\"\",\"\",TEXT('Broker Sheet'!G459,\"YYYYMMDD\"))","v":""},{"$f":"IF('Broker Sheet'!H459=\"\",\"\",'Broker Sheet'!H459)","v":""},{"$f":"IF('Broker Sheet'!I459=\"\",\"\",'Broker Sheet'!I459)","v":""},{"$f":"IF('Broker Sheet'!J459=\"\",\"\",VLOOKUP('Broker Sheet'!J459,(Reference!$E$4:$F$9),2,FALSE))","v":""},{"$f":"IF('Broker Sheet'!K459=\"\",\"\",'Broker Sheet'!K459)","v":""},{"$f":"IF('Broker Sheet'!R459=\"\",\"\",'Broker Sheet'!R459)","v":""},{"$f":"IF('Broker Sheet'!S459=\"\",\"\",'Broker Sheet'!S459)","v":""},{"$f":"IF('Broker Sheet'!T459=\"\",\"\",'Broker Sheet'!T459)","v":""},{"$f":"IF('Broker Sheet'!U459=\"\",\"\",'Broker Sheet'!U459)","v":""},{"$f":"IF('Broker Sheet'!V459=\"\",\"\",'Broker Sheet'!V459)","v":""},{"$f":"IF('Broker Sheet'!W459=\"\",\"\",'Broker Sheet'!W459)","v":""},{"$f":"IF('Broker Sheet'!Y459=\"\",\"\",'Broker Sheet'!Y459)","v":""},{"$f":"IF('Broker Sheet'!AA459=\"\",\"\",'Broker Sheet'!AA459)","v":""},{"$f":"IF('Broker Sheet'!Z459=\"\",\"\",'Broker Sheet'!Z459)","v":""},{"$f":"IF('Broker Sheet'!AB459=\"\",\"\",'Broker Sheet'!AB459)","v":""},null,null,{"$f":"IF('Broker Sheet'!L459=\"\",\"\",TEXT('Broker Sheet'!L459,\"YYYYMMDD\"))","v":""},{"$f":"IF('Broker Sheet'!AC459=\"\",\"\",TEXT('Broker Sheet'!AC459,\"YYYYMMDD\"))","v":""},{"$f":"IF('Broker Sheet'!AD459=\"\",\"\",TEXT('Broker Sheet'!AD459,\"YYYYMMDD\"))","v":""},{"$f":"IF('Broker Sheet'!AE459=\"\",\"\",'Broker Sheet'!AE459)","v":""},{"$f":"IF('Broker Sheet'!AF459=\"\",\"\",TEXT('Broker Sheet'!AF459,\"YYYYMMDD\"))","v":""},{"$f":"IF('Broker Sheet'!AG459=\"\",\"\",TEXT('Broker Sheet'!AG459,\"YYYYMMDD\"))","v":""}]
[null,null,null,null,null,{"$f":"IF('Broker Sheet'!C460=\"\",\"\",'Broker Sheet'!C460)","v":""},{"$f":"IF('Broker Sheet'!D460=\"\",\"\",'Broker Sheet'!D460)","v":""},{"$f":"IF('Broker Sheet'!E460=\"\",\"\",'Broker Sheet'!E460)","v":""},{"$f":"IF('Broker Sheet'!F460=\"\",\"\",'Broker Sheet'!F460)","v":""},{"$f":"IF('Broker Sheet'!G460=\"\",\"\",TEXT('Broker Sheet'!G460,\"YYYYMMDD\"))","v":""},{"$f":"IF('Broker Sheet'!H460=\"\",\"\",'Broker Sheet'!H460)","v":""},{"$f":"IF('Broker Sheet'!I460=\"\",\"\",'Broker Sheet'!I460)","v":""},{"$f":"IF('Broker Sheet'!J460=\"\",\"\",VLOOKUP('Broker Sheet'!J460,(Reference!$E$4:$F$9),2,FALSE))","v":""},{"$f":"IF('Broker Sheet'!K460=\"\",\"\",'Broker Sheet'!K460)","v":""},{"$f":"IF('Broker Sheet'!R460=\"\",\"\",'Broker Sheet'!R460)","v":""},{"$f":"IF('Broker Sheet'!S460=\"\",\"\",'Broker Sheet'!S460)","v":""},{"$f":"IF('Broker Sheet'!T460=\"\",\"\",'Broker Sheet'!T460)","v":""},{"$f":"IF('Broker Sheet'!U460=\"\",\"\",'Broker Sheet'!U460)","v":""},{"$f":"IF('Broker Sheet'!V460=\"\",\"\",'Broker Sheet'!V460)","v":""},{"$f":"IF('Broker Sheet'!W460=\"\",\"\",'Broker Sheet'!W460)","v":""},{"$f":"IF('Broker Sheet'!Y460=\"\",\"\",'Broker Sheet'!Y460)","v":""},{"$f":"IF('Broker Sheet'!AA460=\"\",\"\",'Broker Sheet'!AA460)","v":""},{"$f":"IF('Broker Sheet'!Z460=\"\",\"\",'Broker Sheet'!Z460)","v":""},{"$f":"IF('Broker Sheet'!AB460=\"\",\"\",'Broker Sheet'!AB460)","v":""},null,null,{"$f":"IF('Broker Sheet'!L460=\"\",\"\",TEXT('Broker Sheet'!L460,\"YYYYMMDD\"))","v":""},{"$f":"IF('Broker Sheet'!AC460=\"\",\"\",TEXT('Broker Sheet'!AC460,\"YYYYMMDD\"))","v":""},{"$f":"IF('Broker Sheet'!AD460=\"\",\"\",TEXT('Broker Sheet'!AD460,\"YYYYMMDD\"))","v":""},{"$f":"IF('Broker Sheet'!AE460=\"\",\"\",'Broker Sheet'!AE460)","v":""},{"$f":"IF('Broker Sheet'!AF460=\"\",\"\",TEXT('Broker Sheet'!AF460,\"YYYYMMDD\"))","v":""},{"$f":"IF('Broker Sheet'!AG460=\"\",\"\",TEXT('Broker Sheet'!AG460,\"YYYYMMDD\"))","v":""}]
[null,null,null,null,null,{"$f":"IF('Broker Sheet'!C461=\"\",\"\",'Broker Sheet'!C461)","v":""},{"$f":"IF('Broker Sheet'!D461=\"\",\"\",'Broker Sheet'!D461)","v":""},{"$f":"IF('Broker Sheet'!E461=\"\",\"\",'Broker Sheet'!E461)","v":""},{"$f":"IF('Broker Sheet'!F461=\"\",\"\",'Broker Sheet'!F461)","v":""},{"$f":"IF('Broker Sheet'!G461=\"\",\"\",TEXT('Broker Sheet'!G461,\"YYYYMMDD\"))","v":""},{"$f":"IF('Broker Sheet'!H461=\"\",\"\",'Broker Sheet'!H461)","v":""},{"$f":"IF('Broker Sheet'!I461=\"\",\"\",'Broker Sheet'!I461)","v":""},{"$f":"IF('Broker Sheet'!J461=\"\",\"\",VLOOKUP('Broker Sheet'!J461,(Reference!$E$4:$F$9),2,FALSE))","v":""},{"$f":"IF('Broker Sheet'!K461=\"\",\"\",'Broker Sheet'!K461)","v":""},{"$f":"IF('Broker Sheet'!R461=\"\",\"\",'Broker Sheet'!R461)","v":""},{"$f":"IF('Broker Sheet'!S461=\"\",\"\",'Broker Sheet'!S461)","v":""},{"$f":"IF('Broker Sheet'!T461=\"\",\"\",'Broker Sheet'!T461)","v":""},{"$f":"IF('Broker Sheet'!U461=\"\",\"\",'Broker Sheet'!U461)","v":""},{"$f":"IF('Broker Sheet'!V461=\"\",\"\",'Broker Sheet'!V461)","v":""},{"$f":"IF('Broker Sheet'!W461=\"\",\"\",'Broker Sheet'!W461)","v":""},{"$f":"IF('Broker Sheet'!Y461=\"\",\"\",'Broker Sheet'!Y461)","v":""},{"$f":"IF('Broker Sheet'!AA461=\"\",\"\",'Broker Sheet'!AA461)","v":""},{"$f":"IF('Broker Sheet'!Z461=\"\",\"\",'Broker Sheet'!Z461)","v":""},{"$f":"IF('Broker Sheet'!AB461=\"\",\"\",'Broker Sheet'!AB461)","v":""},null,null,{"$f":"IF('Broker Sheet'!L461=\"\",\"\",TEXT('Broker Sheet'!L461,\"YYYYMMDD\"))","v":""},{"$f":"IF('Broker Sheet'!AC461=\"\",\"\",TEXT('Broker Sheet'!AC461,\"YYYYMMDD\"))","v":""},{"$f":"IF('Broker Sheet'!AD461=\"\",\"\",TEXT('Broker Sheet'!AD461,\"YYYYMMDD\"))","v":""},{"$f":"IF('Broker Sheet'!AE461=\"\",\"\",'Broker Sheet'!AE461)","v":""},{"$f":"IF('Broker Sheet'!AF461=\"\",\"\",TEXT('Broker Sheet'!AF461,\"YYYYMMDD\"))","v":""},{"$f":"IF('Broker Sheet'!AG461=\"\",\"\",TEXT('Broker Sheet'!AG461,\"YYYYMMDD\"))","v":""}]
[null,null,null,null,null,{"$f":"IF('Broker Sheet'!C462=\"\",\"\",'Broker Sheet'!C462)","v":""},{"$f":"IF('Broker Sheet'!D462=\"\",\"\",'Broker Sheet'!D462)","v":""},{"$f":"IF('Broker Sheet'!E462=\"\",\"\",'Broker Sheet'!E462)","v":""},{"$f":"IF('Broker Sheet'!F462=\"\",\"\",'Broker Sheet'!F462)","v":""},{"$f":"IF('Broker Sheet'!G462=\"\",\"\",TEXT('Broker Sheet'!G462,\"YYYYMMDD\"))","v":""},{"$f":"IF('Broker Sheet'!H462=\"\",\"\",'Broker Sheet'!H462)","v":""},{"$f":"IF('Broker Sheet'!I462=\"\",\"\",'Broker Sheet'!I462)","v":""},{"$f":"IF('Broker Sheet'!J462=\"\",\"\",VLOOKUP('Broker Sheet'!J462,(Reference!$E$4:$F$9),2,FALSE))","v":""},{"$f":"IF('Broker Sheet'!K462=\"\",\"\",'Broker Sheet'!K462)","v":""},{"$f":"IF('Broker Sheet'!R462=\"\",\"\",'Broker Sheet'!R462)","v":""},{"$f":"IF('Broker Sheet'!S462=\"\",\"\",'Broker Sheet'!S462)","v":""},{"$f":"IF('Broker Sheet'!T462=\"\",\"\",'Broker Sheet'!T462)","v":""},{"$f":"IF('Broker Sheet'!U462=\"\",\"\",'Broker Sheet'!U462)","v":""},{"$f":"IF('Broker Sheet'!V462=\"\",\"\",'Broker Sheet'!V462)","v":""},{"$f":"IF('Broker Sheet'!W462=\"\",\"\",'Broker Sheet'!W462)","v":""},{"$f":"IF('Broker Sheet'!Y462=\"\",\"\",'Broker Sheet'!Y462)","v":""},{"$f":"IF('Broker Sheet'!AA462=\"\",\"\",'Broker Sheet'!AA462)","v":""},{"$f":"IF('Broker Sheet'!Z462=\"\",\"\",'Broker Sheet'!Z462)","v":""},{"$f":"IF('Broker Sheet'!AB462=\"\",\"\",'Broker Sheet'!AB462)","v":""},null,null,{"$f":"IF('Broker Sheet'!L462=\"\",\"\",TEXT('Broker Sheet'!L462,\"YYYYMMDD\"))","v":""},{"$f":"IF('Broker Sheet'!AC462=\"\",\"\",TEXT('Broker Sheet'!AC462,\"YYYYMMDD\"))","v":""},{"$f":"IF('Broker Sheet'!AD462=\"\",\"\",TEXT('Broker Sheet'!AD462,\"YYYYMMDD\"))","v":""},{"$f":"IF('Broker Sheet'!AE462=\"\",\"\",'Broker Sheet'!AE462)","v":""},{"$f":"IF('Broker Sheet'!AF462=\"\",\"\",TEXT('Broker Sheet'!AF462,\"YYYYMMDD\"))","v":""},{"$f":"IF('Broker Sheet'!AG462=\"\",\"\",TEXT('Broker Sheet'!AG462,\"YYYYMMDD\"))","v":""}]
[null,null,null,null,null,{"$f":"IF('Broker Sheet'!C463=\"\",\"\",'Broker Sheet'!C463)","v":""},{"$f":"IF('Broker Sheet'!D463=\"\",\"\",'Broker Sheet'!D463)","v":""},{"$f":"IF('Broker Sheet'!E463=\"\",\"\",'Broker Sheet'!E463)","v":""},{"$f":"IF('Broker Sheet'!F463=\"\",\"\",'Broker Sheet'!F463)","v":""},{"$f":"IF('Broker Sheet'!G463=\"\",\"\",TEXT('Broker Sheet'!G463,\"YYYYMMDD\"))","v":""},{"$f":"IF('Broker Sheet'!H463=\"\",\"\",'Broker Sheet'!H463)","v":""},{"$f":"IF('Broker Sheet'!I463=\"\",\"\",'Broker Sheet'!I463)","v":""},{"$f":"IF('Broker Sheet'!J463=\"\",\"\",VLOOKUP('Broker Sheet'!J463,(Reference!$E$4:$F$9),2,FALSE))","v":""},{"$f":"IF('Broker Sheet'!K463=\"\",\"\",'Broker Sheet'!K463)","v":""},{"$f":"IF('Broker Sheet'!R463=\"\",\"\",'Broker Sheet'!R463)","v":""},{"$f":"IF('Broker Sheet'!S463=\"\",\"\",'Broker Sheet'!S463)","v":""},{"$f":"IF('Broker Sheet'!T463=\"\",\"\",'Broker Sheet'!T463)","v":""},{"$f":"IF('Broker Sheet'!U463=\"\",\"\",'Broker Sheet'!U463)","v":""},{"$f":"IF('Broker Sheet'!V463=\"\",\"\",'Broker Sheet'!V463)","v":""},{"$f":"IF('Broker Sheet'!W463=\"\",\"\",'Broker Sheet'!W463)","v":""},{"$f":"IF('Broker Sheet'!Y463=\"\",\"\",'Broker Sheet'!Y463)","v":""},{"$f":"IF('Broker Sheet'!AA463=\"\",\"\",'Broker Sheet'!AA463)","v":""},{"$f":"IF('Broker Sheet'!Z463=\"\",\"\",'Broker Sheet'!Z463)","v":""},{"$f":"IF('Broker Sheet'!AB463=\"\",\"\",'Broker Sheet'!AB463)","v":""},null,null,{"$f":"IF('Broker Sheet'!L463=\"\",\"\",TEXT('Broker Sheet'!L463,\"YYYYMMDD\"))","v":""},{"$f":"IF('Broker Sheet'!AC463=\"\",\"\",TEXT('Broker Sheet'!AC463,\"YYYYMMDD\"))","v":""},{"$f":"IF('Broker Sheet'!AD463=\"\",\"\",TEXT('Broker Sheet'!AD463,\"YYYYMMDD\"))","v":""},{"$f":"IF('Broker Sheet'!AE463=\"\",\"\",'Broker Sheet'!AE463)","v":""},{"$f":"IF('Broker Sheet'!AF463=\"\",\"\",TEXT('Broker Sheet'!AF463,\"YYYYMMDD\"))","v":""},{"$f":"IF('Broker Sheet'!AG463=\"\",\"\",TEXT('Broker Sheet'!AG463,\"YYYYMMDD\"))","v":""}]
[null,null,null,null,null,{"$f":"IF('Broker Sheet'!C464=\"\",\"\",'Broker Sheet'!C464)","v":""},{"$f":"IF('Broker Sheet'!D464=\"\",\"\",'Broker Sheet'!D464)","v":""},{"$f":"IF('Broker Sheet'!E464=\"\",\"\",'Broker Sheet'!E464)","v":""},{"$f":"IF('Broker Sheet'!F464=\"\",\"\",'Broker Sheet'!F464)","v":""},{"$f":"IF('Broker Sheet'!G464=\"\",\"\",TEXT('Broker Sheet'!G464,\"YYYYMMDD\"))","v":""},{"$f":"IF('Broker Sheet'!H464=\"\",\"\",'Broker Sheet'!H464)","v":""},{"$f":"IF('Broker Sheet'!I464=\"\",\"\",'Broker Sheet'!I464)","v":""},{"$f":"IF('Broker Sheet'!J464=\"\",\"\",VLOOKUP('Broker Sheet'!J464,(Reference!$E$4:$F$9),2,FALSE))","v":""},{"$f":"IF('Broker Sheet'!K464=\"\",\"\",'Broker Sheet'!K464)","v":""},{"$f":"IF('Broker Sheet'!R464=\"\",\"\",'Broker Sheet'!R464)","v":""},{"$f":"IF('Broker Sheet'!S464=\"\",\"\",'Broker Sheet'!S464)","v":""},{"$f":"IF('Broker Sheet'!T464=\"\",\"\",'Broker Sheet'!T464)","v":""},{"$f":"IF('Broker Sheet'!U464=\"\",\"\",'Broker Sheet'!U464)","v":""},{"$f":"IF('Broker Sheet'!V464=\"\",\"\",'Broker Sheet'!V464)","v":""},{"$f":"IF('Broker Sheet'!W464=\"\",\"\",'Broker Sheet'!W464)","v":""},{"$f":"IF('Broker Sheet'!Y464=\"\",\"\",'Broker Sheet'!Y464)","v":""},{"$f":"IF('Broker Sheet'!AA464=\"\",\"\",'Broker Sheet'!AA464)","v":""},{"$f":"IF('Broker Sheet'!Z464=\"\",\"\",'Broker Sheet'!Z464)","v":""},{"$f":"IF('Broker Sheet'!AB464=\"\",\"\",'Broker Sheet'!AB464)","v":""},null,null,{"$f":"IF('Broker Sheet'!L464=\"\",\"\",TEXT('Broker Sheet'!L464,\"YYYYMMDD\"))","v":""},{"$f":"IF('Broker Sheet'!AC464=\"\",\"\",TEXT('Broker Sheet'!AC464,\"YYYYMMDD\"))","v":""},{"$f":"IF('Broker Sheet'!AD464=\"\",\"\",TEXT('Broker Sheet'!AD464,\"YYYYMMDD\"))","v":""},{"$f":"IF('Broker Sheet'!AE464=\"\",\"\",'Broker Sheet'!AE464)","v":""},{"$f":"IF('Broker Sheet'!AF464=\"\",\"\",TEXT('Broker Sheet'!AF464,\"YYYYMMDD\"))","v":""},{"$f":"IF('Broker Sheet'!AG464=\"\",\"\",TEXT('Broker Sheet'!AG464,\"YYYYMMDD\"))","v":""}]
[null,null,null,null,null,{"$f":"IF('Broker Sheet'!C465=\"\",\"\",'Broker Sheet'!C465)","v":""},{"$f":"IF('Broker Sheet'!D465=\"\",\"\",'Broker Sheet'!D465)","v":""},{"$f":"IF('Broker Sheet'!E465=\"\",\"\",'Broker Sheet'!E465)","v":""},{"$f":"IF('Broker Sheet'!F465=\"\",\"\",'Broker Sheet'!F465)","v":""},{"$f":"IF('Broker Sheet'!G465=\"\",\"\",TEXT('Broker Sheet'!G465,\"YYYYMMDD\"))","v":""},{"$f":"IF('Broker Sheet'!H465=\"\",\"\",'Broker Sheet'!H465)","v":""},{"$f":"IF('Broker Sheet'!I465=\"\",\"\",'Broker Sheet'!I465)","v":""},{"$f":"IF('Broker Sheet'!J465=\"\",\"\",VLOOKUP('Broker Sheet'!J465,(Reference!$E$4:$F$9),2,FALSE))","v":""},{"$f":"IF('Broker Sheet'!K465=\"\",\"\",'Broker Sheet'!K465)","v":""},{"$f":"IF('Broker Sheet'!R465=\"\",\"\",'Broker Sheet'!R465)","v":""},{"$f":"IF('Broker Sheet'!S465=\"\",\"\",'Broker Sheet'!S465)","v":""},{"$f":"IF('Broker Sheet'!T465=\"\",\"\",'Broker Sheet'!T465)","v":""},{"$f":"IF('Broker Sheet'!U465=\"\",\"\",'Broker Sheet'!U465)","v":""},{"$f":"IF('Broker Sheet'!V465=\"\",\"\",'Broker Sheet'!V465)","v":""},{"$f":"IF('Broker Sheet'!W465=\"\",\"\",'Broker Sheet'!W465)","v":""},{"$f":"IF('Broker Sheet'!Y465=\"\",\"\",'Broker Sheet'!Y465)","v":""},{"$f":"IF('Broker Sheet'!AA465=\"\",\"\",'Broker Sheet'!AA465)","v":""},{"$f":"IF('Broker Sheet'!Z465=\"\",\"\",'Broker Sheet'!Z465)","v":""},{"$f":"IF('Broker Sheet'!AB465=\"\",\"\",'Broker Sheet'!AB465)","v":""},null,null,{"$f":"IF('Broker Sheet'!L465=\"\",\"\",TEXT('Broker Sheet'!L465,\"YYYYMMDD\"))","v":""},{"$f":"IF('Broker Sheet'!AC465=\"\",\"\",TEXT('Broker Sheet'!AC465,\"YYYYMMDD\"))","v":""},{"$f":"IF('Broker Sheet'!AD465=\"\",\"\",TEXT('Broker Sheet'!AD465,\"YYYYMMDD\"))","v":""},{"$f":"IF('Broker Sheet'!AE465=\"\",\"\",'Broker Sheet'!AE465)","v":""},{"$f":"IF('Broker Sheet'!AF465=\"\",\"\",TEXT('Broker Sheet'!AF465,\"YYYYMMDD\"))","v":""},{"$f":"IF('Broker Sheet'!AG465=\"\",\"\",TEXT('Broker Sheet'!AG465,\"YYYYMMDD\"))","v":""}]
[null,null,null,null,null,{"$f":"IF('Broker Sheet'!C466=\"\",\"\",'Broker Sheet'!C466)","v":""},{"$f":"IF('Broker Sheet'!D466=\"\",\"\",'Broker Sheet'!D466)","v":""},{"$f":"IF('Broker Sheet'!E466=\"\",\"\",'Broker Sheet'!E466)","v":""},{"$f":"IF('Broker Sheet'!F466=\"\",\"\",'Broker Sheet'!F466)","v":""},{"$f":"IF('Broker Sheet'!G466=\"\",\"\",TEXT('Broker Sheet'!G466,\"YYYYMMDD\"))","v":""},{"$f":"IF('Broker Sheet'!H466=\"\",\"\",'Broker Sheet'!H466)","v":""},{"$f":"IF('Broker Sheet'!I466=\"\",\"\",'Broker Sheet'!I466)","v":""},{"$f":"IF('Broker Sheet'!J466=\"\",\"\",VLOOKUP('Broker Sheet'!J466,(Reference!$E$4:$F$9),2,FALSE))","v":""},{"$f":"IF('Broker Sheet'!K466=\"\",\"\",'Broker Sheet'!K466)","v":""},{"$f":"IF('Broker Sheet'!R466=\"\",\"\",'Broker Sheet'!R466)","v":""},{"$f":"IF('Broker Sheet'!S466=\"\",\"\",'Broker Sheet'!S466)","v":""},{"$f":"IF('Broker Sheet'!T466=\"\",\"\",'Broker Sheet'!T466)","v":""},{"$f":"IF('Broker Sheet'!U466=\"\",\"\",'Broker Sheet'!U466)","v":""},{"$f":"IF('Broker Sheet'!V466=\"\",\"\",'Broker Sheet'!V466)","v":""},{"$f":"IF('Broker Sheet'!W466=\"\",\"\",'Broker Sheet'!W466)","v":""},{"$f":"IF('Broker Sheet'!Y466=\"\",\"\",'Broker Sheet'!Y466)","v":""},{"$f":"IF('Broker Sheet'!AA466=\"\",\"\",'Broker Sheet'!AA466)","v":""},{"$f":"IF('Broker Sheet'!Z466=\"\",\"\",'Broker Sheet'!Z466)","v":""},{"$f":"IF('Broker Sheet'!AB466=\"\",\"\",'Broker Sheet'!AB466)","v":""},null,null,{"$f":"IF('Broker Sheet'!L466=\"\",\"\",TEXT('Broker Sheet'!L466,\"YYYYMMDD\"))","v":""},{"$f":"IF('Broker Sheet'!AC466=\"\",\"\",TEXT('Broker Sheet'!AC466,\"YYYYMMDD\"))","v":""},{"$f":"IF('Broker Sheet'!AD466=\"\",\"\",TEXT('Broker Sheet'!AD466,\"YYYYMMDD\"))","v":""},{"$f":"IF('Broker Sheet'!AE466=\"\",\"\",'Broker Sheet'!AE466)","v":""},{"$f":"IF('Broker Sheet'!AF466=\"\",\"\",TEXT('Broker Sheet'!AF466,\"YYYYMMDD\"))","v":""},{"$f":"IF('Broker Sheet'!AG466=\"\",\"\",TEXT('Broker Sheet'!AG466,\"YYYYMMDD\"))","v":""}]
[null,null,null,null,null,{"$f":"IF('Broker Sheet'!C467=\"\",\"\",'Broker Sheet'!C467)","v":""},{"$f":"IF('Broker Sheet'!D467=\"\",\"\",'Broker Sheet'!D467)","v":""},{"$f":"IF('Broker Sheet'!E467=\"\",\"\",'Broker Sheet'!E467)","v":""},{"$f":"IF('Broker Sheet'!F467=\"\",\"\",'Broker Sheet'!F467)","v":""},{"$f":"IF('Broker Sheet'!G467=\"\",\"\",TEXT('Broker Sheet'!G467,\"YYYYMMDD\"))","v":""},{"$f":"IF('Broker Sheet'!H467=\"\",\"\",'Broker Sheet'!H467)","v":""},{"$f":"IF('Broker Sheet'!I467=\"\",\"\",'Broker Sheet'!I467)","v":""},{"$f":"IF('Broker Sheet'!J467=\"\",\"\",VLOOKUP('Broker Sheet'!J467,(Reference!$E$4:$F$9),2,FALSE))","v":""},{"$f":"IF('Broker Sheet'!K467=\"\",\"\",'Broker Sheet'!K467)","v":""},{"$f":"IF('Broker Sheet'!R467=\"\",\"\",'Broker Sheet'!R467)","v":""},{"$f":"IF('Broker Sheet'!S467=\"\",\"\",'Broker Sheet'!S467)","v":""},{"$f":"IF('Broker Sheet'!T467=\"\",\"\",'Broker Sheet'!T467)","v":""},{"$f":"IF('Broker Sheet'!U467=\"\",\"\",'Broker Sheet'!U467)","v":""},{"$f":"IF('Broker Sheet'!V467=\"\",\"\",'Broker Sheet'!V467)","v":""},{"$f":"IF('Broker Sheet'!W467=\"\",\"\",'Broker Sheet'!W467)","v":""},{"$f":"IF('Broker Sheet'!Y467=\"\",\"\",'Broker Sheet'!Y467)","v":""},{"$f":"IF('Broker Sheet'!AA467=\"\",\"\",'Broker Sheet'!AA467)","v":""},{"$f":"IF('Broker Sheet'!Z467=\"\",\"\",'Broker Sheet'!Z467)","v":""},{"$f":"IF('Broker Sheet'!AB467=\"\",\"\",'Broker Sheet'!AB467)","v":""},null,null,{"$f":"IF('Broker Sheet'!L467=\"\",\"\",TEXT('Broker Sheet'!L467,\"YYYYMMDD\"))","v":""},{"$f":"IF('Broker Sheet'!AC467=\"\",\"\",TEXT('Broker Sheet'!AC467,\"YYYYMMDD\"))","v":""},{"$f":"IF('Broker Sheet'!AD467=\"\",\"\",TEXT('Broker Sheet'!AD467,\"YYYYMMDD\"))","v":""},{"$f":"IF('Broker Sheet'!AE467=\"\",\"\",'Broker Sheet'!AE467)","v":""},{"$f":"IF('Broker Sheet'!AF467=\"\",\"\",TEXT('Broker Sheet'!AF467,\"YYYYMMDD\"))","v":""},{"$f":"IF('Broker Sheet'!AG467=\"\",\"\",TEXT('Broker Sheet'!AG467,\"YYYYMMDD\"))","v":""}]
[null,null,null,null,null,{"$f":"IF('Broker Sheet'!C468=\"\",\"\",'Broker Sheet'!C468)","v":""},{"$f":"IF('Broker Sheet'!D468=\"\",\"\",'Broker Sheet'!D468)","v":""},{"$f":"IF('Broker Sheet'!E468=\"\",\"\",'Broker Sheet'!E468)","v":""},{"$f":"IF('Broker Sheet'!F468=\"\",\"\",'Broker Sheet'!F468)","v":""},{"$f":"IF('Broker Sheet'!G468=\"\",\"\",TEXT('Broker Sheet'!G468,\"YYYYMMDD\"))","v":""},{"$f":"IF('Broker Sheet'!H468=\"\",\"\",'Broker Sheet'!H468)","v":""},{"$f":"IF('Broker Sheet'!I468=\"\",\"\",'Broker Sheet'!I468)","v":""},{"$f":"IF('Broker Sheet'!J468=\"\",\"\",VLOOKUP('Broker Sheet'!J468,(Reference!$E$4:$F$9),2,FALSE))","v":""},{"$f":"IF('Broker Sheet'!K468=\"\",\"\",'Broker Sheet'!K468)","v":""},{"$f":"IF('Broker Sheet'!R468=\"\",\"\",'Broker Sheet'!R468)","v":""},{"$f":"IF('Broker Sheet'!S468=\"\",\"\",'Broker Sheet'!S468)","v":""},{"$f":"IF('Broker Sheet'!T468=\"\",\"\",'Broker Sheet'!T468)","v":""},{"$f":"IF('Broker Sheet'!U468=\"\",\"\",'Broker Sheet'!U468)","v":""},{"$f":"IF('Broker Sheet'!V468=\"\",\"\",'Broker Sheet'!V468)","v":""},{"$f":"IF('Broker Sheet'!W468=\"\",\"\",'Broker Sheet'!W468)","v":""},{"$f":"IF('Broker Sheet'!Y468=\"\",\"\",'Broker Sheet'!Y468)","v":""},{"$f":"IF('Broker Sheet'!AA468=\"\",\"\",'Broker Sheet'!AA468)","v":""},{"$f":"IF('Broker Sheet'!Z468=\"\",\"\",'Broker Sheet'!Z468)","v":""},{"$f":"IF('Broker Sheet'!AB468=\"\",\"\",'Broker Sheet'!AB468)","v":""},null,null,{"$f":"IF('Broker Sheet'!L468=\"\",\"\",TEXT('Broker Sheet'!L468,\"YYYYMMDD\"))","v":""},{"$f":"IF('Broker Sheet'!AC468=\"\",\"\",TEXT('Broker Sheet'!AC468,\"YYYYMMDD\"))","v":""},{"$f":"IF('Broker Sheet'!AD468=\"\",\"\",TEXT('Broker Sheet'!AD468,\"YYYYMMDD\"))","v":""},{"$f":"IF('Broker Sheet'!AE468=\"\",\"\",'Broker Sheet'!AE468)","v":""},{"$f":"IF('Broker Sheet'!AF468=\"\",\"\",TEXT('Broker Sheet'!AF468,\"YYYYMMDD\"))","v":""},{"$f":"IF('Broker Sheet'!AG468=\"\",\"\",TEXT('Broker Sheet'!AG468,\"YYYYMMDD\"))","v":""}]
[null,null,null,null,null,{"$f":"IF('Broker Sheet'!C469=\"\",\"\",'Broker Sheet'!C469)","v":""},{"$f":"IF('Broker Sheet'!D469=\"\",\"\",'Broker Sheet'!D469)","v":""},{"$f":"IF('Broker Sheet'!E469=\"\",\"\",'Broker Sheet'!E469)","v":""},{"$f":"IF('Broker Sheet'!F469=\"\",\"\",'Broker Sheet'!F469)","v":""},{"$f":"IF('Broker Sheet'!G469=\"\",\"\",TEXT('Broker Sheet'!G469,\"YYYYMMDD\"))","v":""},{"$f":"IF('Broker Sheet'!H469=\"\",\"\",'Broker Sheet'!H469)","v":""},{"$f":"IF('Broker Sheet'!I469=\"\",\"\",'Broker Sheet'!I469)","v":""},{"$f":"IF('Broker Sheet'!J469=\"\",\"\",VLOOKUP('Broker Sheet'!J469,(Reference!$E$4:$F$9),2,FALSE))","v":""},{"$f":"IF('Broker Sheet'!K469=\"\",\"\",'Broker Sheet'!K469)","v":""},{"$f":"IF('Broker Sheet'!R469=\"\",\"\",'Broker Sheet'!R469)","v":""},{"$f":"IF('Broker Sheet'!S469=\"\",\"\",'Broker Sheet'!S469)","v":""},{"$f":"IF('Broker Sheet'!T469=\"\",\"\",'Broker Sheet'!T469)","v":""},{"$f":"IF('Broker Sheet'!U469=\"\",\"\",'Broker Sheet'!U469)","v":""},{"$f":"IF('Broker Sheet'!V469=\"\",\"\",'Broker Sheet'!V469)","v":""},{"$f":"IF('Broker Sheet'!W469=\"\",\"\",'Broker Sheet'!W469)","v":""},{"$f":"IF('Broker Sheet'!Y469=\"\",\"\",'Broker Sheet'!Y469)","v":""},{"$f":"IF('Broker Sheet'!AA469=\"\",\"\",'Broker Sheet'!AA469)","v":""},{"$f":"IF('Broker Sheet'!Z469=\"\",\"\",'Broker Sheet'!Z469)","v":""},{"$f":"IF('Broker Sheet'!AB469=\"\",\"\",'Broker Sheet'!AB469)","v":""},null,null,{"$f":"IF('Broker Sheet'!L469=\"\",\"\",TEXT('Broker Sheet'!L469,\"YYYYMMDD\"))","v":""},{"$f":"IF('Broker Sheet'!AC469=\"\",\"\",TEXT('Broker Sheet'!AC469,\"YYYYMMDD\"))","v":""},{"$f":"IF('Broker Sheet'!AD469=\"\",\"\",TEXT('Broker Sheet'!AD469,\"YYYYMMDD\"))","v":""},{"$f":"IF('Broker Sheet'!AE469=\"\",\"\",'Broker Sheet'!AE469)","v":""},{"$f":"IF('Broker Sheet'!AF469=\"\",\"\",TEXT('Broker Sheet'!AF469,\"YYYYMMDD\"))","v":""},{"$f":"IF('Broker Sheet'!AG469=\"\",\"\",TEXT('Broker Sheet'!AG469,\"YYYYMMDD\"))","v":""}]
[null,null,null,null,null,{"$f":"IF('Broker Sheet'!C470=\"\",\"\",'Broker Sheet'!C470)","v":""},{"$f":"IF('Broker Sheet'!D470=\"\",\"\",'Broker Sheet'!D470)","v":""},{"$f":"IF('Broker Sheet'!E470=\"\",\"\",'Broker Sheet'!E470)","v":""},{"$f":"IF('Broker Sheet'!F470=\"\",\"\",'Broker Sheet'!F470)","v":""},{"$f":"IF('Broker Sheet'!G470=\"\",\"\",TEXT('Broker Sheet'!G470,\"YYYYMMDD\"))","v":""},{"$f":"IF('Broker Sheet'!H470=\"\",\"\",'Broker Sheet'!H470)","v":""},{"$f":"IF('Broker Sheet'!I470=\"\",\"\",'Broker Sheet'!I470)","v":""},{"$f":"IF('Broker Sheet'!J470=\"\",\"\",VLOOKUP('Broker Sheet'!J470,(Reference!$E$4:$F$9),2,FALSE))","v":""},{"$f":"IF('Broker Sheet'!K470=\"\",\"\",'Broker Sheet'!K470)","v":""},{"$f":"IF('Broker Sheet'!R470=\"\",\"\",'Broker Sheet'!R470)","v":""},{"$f":"IF('Broker Sheet'!S470=\"\",\"\",'Broker Sheet'!S470)","v":""},{"$f":"IF('Broker Sheet'!T470=\"\",\"\",'Broker Sheet'!T470)","v":""},{"$f":"IF('Broker Sheet'!U470=\"\",\"\",'Broker Sheet'!U470)","v":""},{"$f":"IF('Broker Sheet'!V470=\"\",\"\",'Broker Sheet'!V470)","v":""},{"$f":"IF('Broker Sheet'!W470=\"\",\"\",'Broker Sheet'!W470)","v":""},{"$f":"IF('Broker Sheet'!Y470=\"\",\"\",'Broker Sheet'!Y470)","v":""},{"$f":"IF('Broker Sheet'!AA470=\"\",\"\",'Broker Sheet'!AA470)","v":""},{"$f":"IF('Broker Sheet'!Z470=\"\",\"\",'Broker Sheet'!Z470)","v":""},{"$f":"IF('Broker Sheet'!AB470=\"\",\"\",'Broker Sheet'!AB470)","v":""},null,null,{"$f":"IF('Broker Sheet'!L470=\"\",\"\",TEXT('Broker Sheet'!L470,\"YYYYMMDD\"))","v":""},{"$f":"IF('Broker Sheet'!AC470=\"\",\"\",TEXT('Broker Sheet'!AC470,\"YYYYMMDD\"))","v":""},{"$f":"IF('Broker Sheet'!AD470=\"\",\"\",TEXT('Broker Sheet'!AD470,\"YYYYMMDD\"))","v":""},{"$f":"IF('Broker Sheet'!AE470=\"\",\"\",'Broker Sheet'!AE470)","v":""},{"$f":"IF('Broker Sheet'!AF470=\"\",\"\",TEXT('Broker Sheet'!AF470,\"YYYYMMDD\"))","v":""},{"$f":"IF('Broker Sheet'!AG470=\"\",\"\",TEXT('Broker Sheet'!AG470,\"YYYYMMDD\"))","v":""}]
[null,null,null,null,null,{"$f":"IF('Broker Sheet'!C471=\"\",\"\",'Broker Sheet'!C471)","v":""},{"$f":"IF('Broker Sheet'!D471=\"\",\"\",'Broker Sheet'!D471)","v":""},{"$f":"IF('Broker Sheet'!E471=\"\",\"\",'Broker Sheet'!E471)","v":""},{"$f":"IF('Broker Sheet'!F471=\"\",\"\",'Broker Sheet'!F471)","v":""},{"$f":"IF('Broker Sheet'!G471=\"\",\"\",TEXT('Broker Sheet'!G471,\"YYYYMMDD\"))","v":""},{"$f":"IF('Broker Sheet'!H471=\"\",\"\",'Broker Sheet'!H471)","v":""},{"$f":"IF('Broker Sheet'!I471=\"\",\"\",'Broker Sheet'!I471)","v":""},{"$f":"IF('Broker Sheet'!J471=\"\",\"\",VLOOKUP('Broker Sheet'!J471,(Reference!$E$4:$F$9),2,FALSE))","v":""},{"$f":"IF('Broker Sheet'!K471=\"\",\"\",'Broker Sheet'!K471)","v":""},{"$f":"IF('Broker Sheet'!R471=\"\",\"\",'Broker Sheet'!R471)","v":""},{"$f":"IF('Broker Sheet'!S471=\"\",\"\",'Broker Sheet'!S471)","v":""},{"$f":"IF('Broker Sheet'!T471=\"\",\"\",'Broker Sheet'!T471)","v":""},{"$f":"IF('Broker Sheet'!U471=\"\",\"\",'Broker Sheet'!U471)","v":""},{"$f":"IF('Broker Sheet'!V471=\"\",\"\",'Broker Sheet'!V471)","v":""},{"$f":"IF('Broker Sheet'!W471=\"\",\"\",'Broker Sheet'!W471)","v":""},{"$f":"IF('Broker Sheet'!Y471=\"\",\"\",'Broker Sheet'!Y471)","v":""},{"$f":"IF('Broker Sheet'!AA471=\"\",\"\",'Broker Sheet'!AA471)","v":""},{"$f":"IF('Broker Sheet'!Z471=\"\",\"\",'Broker Sheet'!Z471)","v":""},{"$f":"IF('Broker Sheet'!AB471=\"\",\"\",'Broker Sheet'!AB471)","v":""},null,null,{"$f":"IF('Broker Sheet'!L471=\"\",\"\",TEXT('Broker Sheet'!L471,\"YYYYMMDD\"))","v":""},{"$f":"IF('Broker Sheet'!AC471=\"\",\"\",TEXT('Broker Sheet'!AC471,\"YYYYMMDD\"))","v":""},{"$f":"IF('Broker Sheet'!AD471=\"\",\"\",TEXT('Broker Sheet'!AD471,\"YYYYMMDD\"))","v":""},{"$f":"IF('Broker Sheet'!AE471=\"\",\"\",'Broker Sheet'!AE471)","v":""},{"$f":"IF('Broker Sheet'!AF471=\"\",\"\",TEXT('Broker Sheet'!AF471,\"YYYYMMDD\"))","v":""},{"$f":"IF('Broker Sheet'!AG471=\"\",\"\",TEXT('Broker Sheet'!AG471,\"YYYYMMDD\"))","v":""}]
[null,null,null,null,null,{"$f":"IF('Broker Sheet'!C472=\"\",\"\",'Broker Sheet'!C472)","v":""},{"$f":"IF('Broker Sheet'!D472=\"\",\"\",'Broker Sheet'!D472)","v":""},{"$f":"IF('Broker Sheet'!E472=\"\",\"\",'Broker Sheet'!E472)","v":""},{"$f":"IF('Broker Sheet'!F472=\"\",\"\",'Broker Sheet'!F472)","v":""},{"$f":"IF('Broker Sheet'!G472=\"\",\"\",TEXT('Broker Sheet'!G472,\"YYYYMMDD\"))","v":""},{"$f":"IF('Broker Sheet'!H472=\"\",\"\",'Broker Sheet'!H472)","v":""},{"$f":"IF('Broker Sheet'!I472=\"\",\"\",'Broker Sheet'!I472)","v":""},{"$f":"IF('Broker Sheet'!J472=\"\",\"\",VLOOKUP('Broker Sheet'!J472,(Reference!$E$4:$F$9),2,FALSE))","v":""},{"$f":"IF('Broker Sheet'!K472=\"\",\"\",'Broker Sheet'!K472)","v":""},{"$f":"IF('Broker Sheet'!R472=\"\",\"\",'Broker Sheet'!R472)","v":""},{"$f":"IF('Broker Sheet'!S472=\"\",\"\",'Broker Sheet'!S472)","v":""},{"$f":"IF('Broker Sheet'!T472=\"\",\"\",'Broker Sheet'!T472)","v":""},{"$f":"IF('Broker Sheet'!U472=\"\",\"\",'Broker Sheet'!U472)","v":""},{"$f":"IF('Broker Sheet'!V472=\"\",\"\",'Broker Sheet'!V472)","v":""},{"$f":"IF('Broker Sheet'!W472=\"\",\"\",'Broker Sheet'!W472)","v":""},{"$f":"IF('Broker Sheet'!Y472=\"\",\"\",'Broker Sheet'!Y472)","v":""},{"$f":"IF('Broker Sheet'!AA472=\"\",\"\",'Broker Sheet'!AA472)","v":""},{"$f":"IF('Broker Sheet'!Z472=\"\",\"\",'Broker Sheet'!Z472)","v":""},{"$f":"IF('Broker Sheet'!AB472=\"\",\"\",'Broker Sheet'!AB472)","v":""},null,null,{"$f":"IF('Broker Sheet'!L472=\"\",\"\",TEXT('Broker Sheet'!L472,\"YYYYMMDD\"))","v":""},{"$f":"IF('Broker Sheet'!AC472=\"\",\"\",TEXT('Broker Sheet'!AC472,\"YYYYMMDD\"))","v":""},{"$f":"IF('Broker Sheet'!AD472=\"\",\"\",TEXT('Broker Sheet'!AD472,\"YYYYMMDD\"))","v":""},{"$f":"IF('Broker Sheet'!AE472=\"\",\"\",'Broker Sheet'!AE472)","v":""},{"$f":"IF('Broker Sheet'!AF472=\"\",\"\",TEXT('Broker Sheet'!AF472,\"YYYYMMDD\"))","v":""},{"$f":"IF('Broker Sheet'!AG472=\"\",\"\",TEXT('Broker Sheet'!AG472,\"YYYYMMDD\"))","v":""}]
[null,null,null,null,null,{"$f":"IF('Broker Sheet'!C473=\"\",\"\",'Broker Sheet'!C473)","v":""},{"$f":"IF('Broker Sheet'!D473=\"\",\"\",'Broker Sheet'!D473)","v":""},{"$f":"IF('Broker Sheet'!E473=\"\",\"\",'Broker Sheet'!E473)","v":""},{"$f":"IF('Broker Sheet'!F473=\"\",\"\",'Broker Sheet'!F473)","v":""},{"$f":"IF('Broker Sheet'!G473=\"\",\"\",TEXT('Broker Sheet'!G473,\"YYYYMMDD\"))","v":""},{"$f":"IF('Broker Sheet'!H473=\"\",\"\",'Broker Sheet'!H473)","v":""},{"$f":"IF('Broker Sheet'!I473=\"\",\"\",'Broker Sheet'!I473)","v":""},{"$f":"IF('Broker Sheet'!J473=\"\",\"\",VLOOKUP('Broker Sheet'!J473,(Reference!$E$4:$F$9),2,FALSE))","v":""},{"$f":"IF('Broker Sheet'!K473=\"\",\"\",'Broker Sheet'!K473)","v":""},{"$f":"IF('Broker Sheet'!R473=\"\",\"\",'Broker Sheet'!R473)","v":""},{"$f":"IF('Broker Sheet'!S473=\"\",\"\",'Broker Sheet'!S473)","v":""},{"$f":"IF('Broker Sheet'!T473=\"\",\"\",'Broker Sheet'!T473)","v":""},{"$f":"IF('Broker Sheet'!U473=\"\",\"\",'Broker Sheet'!U473)","v":""},{"$f":"IF('Broker Sheet'!V473=\"\",\"\",'Broker Sheet'!V473)","v":""},{"$f":"IF('Broker Sheet'!W473=\"\",\"\",'Broker Sheet'!W473)","v":""},{"$f":"IF('Broker Sheet'!Y473=\"\",\"\",'Broker Sheet'!Y473)","v":""},{"$f":"IF('Broker Sheet'!AA473=\"\",\"\",'Broker Sheet'!AA473)","v":""},{"$f":"IF('Broker Sheet'!Z473=\"\",\"\",'Broker Sheet'!Z473)","v":""},{"$f":"IF('Broker Sheet'!AB473=\"\",\"\",'Broker Sheet'!AB473)","v":""},null,null,{"$f":"IF('Broker Sheet'!L473=\"\",\"\",TEXT('Broker Sheet'!L473,\"YYYYMMDD\"))","v":""},{"$f":"IF('Broker Sheet'!AC473=\"\",\"\",TEXT('Broker Sheet'!AC473,\"YYYYMMDD\"))","v":""},{"$f":"IF('Broker Sheet'!AD473=\"\",\"\",TEXT('Broker Sheet'!AD473,\"YYYYMMDD\"))","v":""},{"$f":"IF('Broker Sheet'!AE473=\"\",\"\",'Broker Sheet'!AE473)","v":""},{"$f":"IF('Broker Sheet'!AF473=\"\",\"\",TEXT('Broker Sheet'!AF473,\"YYYYMMDD\"))","v":""},{"$f":"IF('Broker Sheet'!AG473=\"\",\"\",TEXT('Broker Sheet'!AG473,\"YYYYMMDD\"))","v":""}]
[null,null,null,null,null,{"$f":"IF('Broker Sheet'!C474=\"\",\"\",'Broker Sheet'!C474)","v":""},{"$f":"IF('Broker Sheet'!D474=\"\",\"\",'Broker Sheet'!D474)","v":""},{"$f":"IF('Broker Sheet'!E474=\"\",\"\",'Broker Sheet'!E474)","v":""},{"$f":"IF('Broker Sheet'!F474=\"\",\"\",'Broker Sheet'!F474)","v":""},{"$f":"IF('Broker Sheet'!G474=\"\",\"\",TEXT('Broker Sheet'!G474,\"YYYYMMDD\"))","v":""},{"$f":"IF('Broker Sheet'!H474=\"\",\"\",'Broker Sheet'!H474)","v":""},{"$f":"IF('Broker Sheet'!I474=\"\",\"\",'Broker Sheet'!I474)","v":""},{"$f":"IF('Broker Sheet'!J474=\"\",\"\",VLOOKUP('Broker Sheet'!J474,(Reference!$E$4:$F$9),2,FALSE))","v":""},{"$f":"IF('Broker Sheet'!K474=\"\",\"\",'Broker Sheet'!K474)","v":""},{"$f":"IF('Broker Sheet'!R474=\"\",\"\",'Broker Sheet'!R474)","v":""},{"$f":"IF('Broker Sheet'!S474=\"\",\"\",'Broker Sheet'!S474)","v":""},{"$f":"IF('Broker Sheet'!T474=\"\",\"\",'Broker Sheet'!T474)","v":""},{"$f":"IF('Broker Sheet'!U474=\"\",\"\",'Broker Sheet'!U474)","v":""},{"$f":"IF('Broker Sheet'!V474=\"\",\"\",'Broker Sheet'!V474)","v":""},{"$f":"IF('Broker Sheet'!W474=\"\",\"\",'Broker Sheet'!W474)","v":""},{"$f":"IF('Broker Sheet'!Y474=\"\",\"\",'Broker Sheet'!Y474)","v":""},{"$f":"IF('Broker Sheet'!AA474=\"\",\"\",'Broker Sheet'!AA474)","v":""},{"$f":"IF('Broker Sheet'!Z474=\"\",\"\",'Broker Sheet'!Z474)","v":""},{"$f":"IF('Broker Sheet'!AB474=\"\",\"\",'Broker Sheet'!AB474)","v":""},null,null,{"$f":"IF('Broker Sheet'!L474=\"\",\"\",TEXT('Broker Sheet'!L474,\"YYYYMMDD\"))","v":""},{"$f":"IF('Broker Sheet'!AC474=\"\",\"\",TEXT('Broker Sheet'!AC474,\"YYYYMMDD\"))","v":""},{"$f":"IF('Broker Sheet'!AD474=\"\",\"\",TEXT('Broker Sheet'!AD474,\"YYYYMMDD\"))","v":""},{"$f":"IF('Broker Sheet'!AE474=\"\",\"\",'Broker Sheet'!AE474)","v":""},{"$f":"IF('Broker Sheet'!AF474=\"\",\"\",TEXT('Broker Sheet'!AF474,\"YYYYMMDD\"))","v":""},{"$f":"IF('Broker Sheet'!AG474=\"\",\"\",TEXT('Broker Sheet'!AG474,\"YYYYMMDD\"))","v":""}]
[null,null,null,null,null,{"$f":"IF('Broker Sheet'!C475=\"\",\"\",'Broker Sheet'!C475)","v":""},{"$f":"IF('Broker Sheet'!D475=\"\",\"\",'Broker Sheet'!D475)","v":""},{"$f":"IF('Broker Sheet'!E475=\"\",\"\",'Broker Sheet'!E475)","v":""},{"$f":"IF('Broker Sheet'!F475=\"\",\"\",'Broker Sheet'!F475)","v":""},{"$f":"IF('Broker Sheet'!G475=\"\",\"\",TEXT('Broker Sheet'!G475,\"YYYYMMDD\"))","v":""},{"$f":"IF('Broker Sheet'!H475=\"\",\"\",'Broker Sheet'!H475)","v":""},{"$f":"IF('Broker Sheet'!I475=\"\",\"\",'Broker Sheet'!I475)","v":""},{"$f":"IF('Broker Sheet'!J475=\"\",\"\",VLOOKUP('Broker Sheet'!J475,(Reference!$E$4:$F$9),2,FALSE))","v":""},{"$f":"IF('Broker Sheet'!K475=\"\",\"\",'Broker Sheet'!K475)","v":""},{"$f":"IF('Broker Sheet'!R475=\"\",\"\",'Broker Sheet'!R475)","v":""},{"$f":"IF('Broker Sheet'!S475=\"\",\"\",'Broker Sheet'!S475)","v":""},{"$f":"IF('Broker Sheet'!T475=\"\",\"\",'Broker Sheet'!T475)","v":""},{"$f":"IF('Broker Sheet'!U475=\"\",\"\",'Broker Sheet'!U475)","v":""},{"$f":"IF('Broker Sheet'!V475=\"\",\"\",'Broker Sheet'!V475)","v":""},{"$f":"IF('Broker Sheet'!W475=\"\",\"\",'Broker Sheet'!W475)","v":""},{"$f":"IF('Broker Sheet'!Y475=\"\",\"\",'Broker Sheet'!Y475)","v":""},{"$f":"IF('Broker Sheet'!AA475=\"\",\"\",'Broker Sheet'!AA475)","v":""},{"$f":"IF('Broker Sheet'!Z475=\"\",\"\",'Broker Sheet'!Z475)","v":""},{"$f":"IF('Broker Sheet'!AB475=\"\",\"\",'Broker Sheet'!AB475)","v":""},null,null,{"$f":"IF('Broker Sheet'!L475=\"\",\"\",TEXT('Broker Sheet'!L475,\"YYYYMMDD\"))","v":""},{"$f":"IF('Broker Sheet'!AC475=\"\",\"\",TEXT('Broker Sheet'!AC475,\"YYYYMMDD\"))","v":""},{"$f":"IF('Broker Sheet'!AD475=\"\",\"\",TEXT('Broker Sheet'!AD475,\"YYYYMMDD\"))","v":""},{"$f":"IF('Broker Sheet'!AE475=\"\",\"\",'Broker Sheet'!AE475)","v":""},{"$f":"IF('Broker Sheet'!AF475=\"\",\"\",TEXT('Broker Sheet'!AF475,\"YYYYMMDD\"))","v":""},{"$f":"IF('Broker Sheet'!AG475=\"\",\"\",TEXT('Broker Sheet'!AG475,\"YYYYMMDD\"))","v":""}]
[null,null,null,null,null,{"$f":"IF('Broker Sheet'!C476=\"\",\"\",'Broker Sheet'!C476)","v":""},{"$f":"IF('Broker Sheet'!D476=\"\",\"\",'Broker Sheet'!D476)","v":""},{"$f":"IF('Broker Sheet'!E476=\"\",\"\",'Broker Sheet'!E476)","v":""},{"$f":"IF('Broker Sheet'!F476=\"\",\"\",'Broker Sheet'!F476)","v":""},{"$f":"IF('Broker Sheet'!G476=\"\",\"\",TEXT('Broker Sheet'!G476,\"YYYYMMDD\"))","v":""},{"$f":"IF('Broker Sheet'!H476=\"\",\"\",'Broker Sheet'!H476)","v":""},{"$f":"IF('Broker Sheet'!I476=\"\",\"\",'Broker Sheet'!I476)","v":""},{"$f":"IF('Broker Sheet'!J476=\"\",\"\",VLOOKUP('Broker Sheet'!J476,(Reference!$E$4:$F$9),2,FALSE))","v":""},{"$f":"IF('Broker Sheet'!K476=\"\",\"\",'Broker Sheet'!K476)","v":""},{"$f":"IF('Broker Sheet'!R476=\"\",\"\",'Broker Sheet'!R476)","v":""},{"$f":"IF('Broker Sheet'!S476=\"\",\"\",'Broker Sheet'!S476)","v":""},{"$f":"IF('Broker Sheet'!T476=\"\",\"\",'Broker Sheet'!T476)","v":""},{"$f":"IF('Broker Sheet'!U476=\"\",\"\",'Broker Sheet'!U476)","v":""},{"$f":"IF('Broker Sheet'!V476=\"\",\"\",'Broker Sheet'!V476)","v":""},{"$f":"IF('Broker Sheet'!W476=\"\",\"\",'Broker Sheet'!W476)","v":""},{"$f":"IF('Broker Sheet'!Y476=\"\",\"\",'Broker Sheet'!Y476)","v":""},{"$f":"IF('Broker Sheet'!AA476=\"\",\"\",'Broker Sheet'!AA476)","v":""},{"$f":"IF('Broker Sheet'!Z476=\"\",\"\",'Broker Sheet'!Z476)","v":""},{"$f":"IF('Broker Sheet'!AB476=\"\",\"\",'Broker Sheet'!AB476)","v":""},null,null,{"$f":"IF('Broker Sheet'!L476=\"\",\"\",TEXT('Broker Sheet'!L476,\"YYYYMMDD\"))","v":""},{"$f":"IF('Broker Sheet'!AC476=\"\",\"\",TEXT('Broker Sheet'!AC476,\"YYYYMMDD\"))","v":""},{"$f":"IF('Broker Sheet'!AD476=\"\",\"\",TEXT('Broker Sheet'!AD476,\"YYYYMMDD\"))","v":""},{"$f":"IF('Broker Sheet'!AE476=\"\",\"\",'Broker Sheet'!AE476)","v":""},{"$f":"IF('Broker Sheet'!AF476=\"\",\"\",TEXT('Broker Sheet'!AF476,\"YYYYMMDD\"))","v":""},{"$f":"IF('Broker Sheet'!AG476=\"\",\"\",TEXT('Broker Sheet'!AG476,\"YYYYMMDD\"))","v":""}]
[null,null,null,null,null,{"$f":"IF('Broker Sheet'!C477=\"\",\"\",'Broker Sheet'!C477)","v":""},{"$f":"IF('Broker Sheet'!D477=\"\",\"\",'Broker Sheet'!D477)","v":""},{"$f":"IF('Broker Sheet'!E477=\"\",\"\",'Broker Sheet'!E477)","v":""},{"$f":"IF('Broker Sheet'!F477=\"\",\"\",'Broker Sheet'!F477)","v":""},{"$f":"IF('Broker Sheet'!G477=\"\",\"\",TEXT('Broker Sheet'!G477,\"YYYYMMDD\"))","v":""},{"$f":"IF('Broker Sheet'!H477=\"\",\"\",'Broker Sheet'!H477)","v":""},{"$f":"IF('Broker Sheet'!I477=\"\",\"\",'Broker Sheet'!I477)","v":""},{"$f":"IF('Broker Sheet'!J477=\"\",\"\",VLOOKUP('Broker Sheet'!J477,(Reference!$E$4:$F$9),2,FALSE))","v":""},{"$f":"IF('Broker Sheet'!K477=\"\",\"\",'Broker Sheet'!K477)","v":""},{"$f":"IF('Broker Sheet'!R477=\"\",\"\",'Broker Sheet'!R477)","v":""},{"$f":"IF('Broker Sheet'!S477=\"\",\"\",'Broker Sheet'!S477)","v":""},{"$f":"IF('Broker Sheet'!T477=\"\",\"\",'Broker Sheet'!T477)","v":""},{"$f":"IF('Broker Sheet'!U477=\"\",\"\",'Broker Sheet'!U477)","v":""},{"$f":"IF('Broker Sheet'!V477=\"\",\"\",'Broker Sheet'!V477)","v":""},{"$f":"IF('Broker Sheet'!W477=\"\",\"\",'Broker Sheet'!W477)","v":""},{"$f":"IF('Broker Sheet'!Y477=\"\",\"\",'Broker Sheet'!Y477)","v":""},{"$f":"IF('Broker Sheet'!AA477=\"\",\"\",'Broker Sheet'!AA477)","v":""},{"$f":"IF('Broker Sheet'!Z477=\"\",\"\",'Broker Sheet'!Z477)","v":""},{"$f":"IF('Broker Sheet'!AB477=\"\",\"\",'Broker Sheet'!AB477)","v":""},null,null,{"$f":"IF('Broker Sheet'!L477=\"\",\"\",TEXT('Broker Sheet'!L477,\"YYYYMMDD\"))","v":""},{"$f":"IF('Broker Sheet'!AC477=\"\",\"\",TEXT('Broker Sheet'!AC477,\"YYYYMMDD\"))","v":""},{"$f":"IF('Broker Sheet'!AD477=\"\",\"\",TEXT('Broker Sheet'!AD477,\"YYYYMMDD\"))","v":""},{"$f":"IF('Broker Sheet'!AE477=\"\",\"\",'Broker Sheet'!AE477)","v":""},{"$f":"IF('Broker Sheet'!AF477=\"\",\"\",TEXT('Broker Sheet'!AF477,\"YYYYMMDD\"))","v":""},{"$f":"IF('Broker Sheet'!AG477=\"\",\"\",TEXT('Broker Sheet'!AG477,\"YYYYMMDD\"))","v":""}]
[null,null,null,null,null,{"$f":"IF('Broker Sheet'!C478=\"\",\"\",'Broker Sheet'!C478)","v":""},{"$f":"IF('Broker Sheet'!D478=\"\",\"\",'Broker Sheet'!D478)","v":""},{"$f":"IF('Broker Sheet'!E478=\"\",\"\",'Broker Sheet'!E478)","v":""},{"$f":"IF('Broker Sheet'!F478=\"\",\"\",'Broker Sheet'!F478)","v":""},{"$f":"IF('Broker Sheet'!G478=\"\",\"\",TEXT('Broker Sheet'!G478,\"YYYYMMDD\"))","v":""},{"$f":"IF('Broker Sheet'!H478=\"\",\"\",'Broker Sheet'!H478)","v":""},{"$f":"IF('Broker Sheet'!I478=\"\",\"\",'Broker Sheet'!I478)","v":""},{"$f":"IF('Broker Sheet'!J478=\"\",\"\",VLOOKUP('Broker Sheet'!J478,(Reference!$E$4:$F$9),2,FALSE))","v":""},{"$f":"IF('Broker Sheet'!K478=\"\",\"\",'Broker Sheet'!K478)","v":""},{"$f":"IF('Broker Sheet'!R478=\"\",\"\",'Broker Sheet'!R478)","v":""},{"$f":"IF('Broker Sheet'!S478=\"\",\"\",'Broker Sheet'!S478)","v":""},{"$f":"IF('Broker Sheet'!T478=\"\",\"\",'Broker Sheet'!T478)","v":""},{"$f":"IF('Broker Sheet'!U478=\"\",\"\",'Broker Sheet'!U478)","v":""},{"$f":"IF('Broker Sheet'!V478=\"\",\"\",'Broker Sheet'!V478)","v":""},{"$f":"IF('Broker Sheet'!W478=\"\",\"\",'Broker Sheet'!W478)","v":""},{"$f":"IF('Broker Sheet'!Y478=\"\",\"\",'Broker Sheet'!Y478)","v":""},{"$f":"IF('Broker Sheet'!AA478=\"\",\"\",'Broker Sheet'!AA478)","v":""},{"$f":"IF('Broker Sheet'!Z478=\"\",\"\",'Broker Sheet'!Z478)","v":""},{"$f":"IF('Broker Sheet'!AB478=\"\",\"\",'Broker Sheet'!AB478)","v":""},null,null,{"$f":"IF('Broker Sheet'!L478=\"\",\"\",TEXT('Broker Sheet'!L478,\"YYYYMMDD\"))","v":""},{"$f":"IF('Broker Sheet'!AC478=\"\",\"\",TEXT('Broker Sheet'!AC478,\"YYYYMMDD\"))","v":""},{"$f":"IF('Broker Sheet'!AD478=\"\",\"\",TEXT('Broker Sheet'!AD478,\"YYYYMMDD\"))","v":""},{"$f":"IF('Broker Sheet'!AE478=\"\",\"\",'Broker Sheet'!AE478)","v":""},{"$f":"IF('Broker Sheet'!AF478=\"\",\"\",TEXT('Broker Sheet'!AF478,\"YYYYMMDD\"))","v":""},{"$f":"IF('Broker Sheet'!AG478=\"\",\"\",TEXT('Broker Sheet'!AG478,\"YYYYMMDD\"))","v":""}]
[null,null,null,null,null,{"$f":"IF('Broker Sheet'!C479=\"\",\"\",'Broker Sheet'!C479)","v":""},{"$f":"IF('Broker Sheet'!D479=\"\",\"\",'Broker Sheet'!D479)","v":""},{"$f":"IF('Broker Sheet'!E479=\"\",\"\",'Broker Sheet'!E479)","v":""},{"$f":"IF('Broker Sheet'!F479=\"\",\"\",'Broker Sheet'!F479)","v":""},{"$f":"IF('Broker Sheet'!G479=\"\",\"\",TEXT('Broker Sheet'!G479,\"YYYYMMDD\"))","v":""},{"$f":"IF('Broker Sheet'!H479=\"\",\"\",'Broker Sheet'!H479)","v":""},{"$f":"IF('Broker Sheet'!I479=\"\",\"\",'Broker Sheet'!I479)","v":""},{"$f":"IF('Broker Sheet'!J479=\"\",\"\",VLOOKUP('Broker Sheet'!J479,(Reference!$E$4:$F$9),2,FALSE))","v":""},{"$f":"IF('Broker Sheet'!K479=\"\",\"\",'Broker Sheet'!K479)","v":""},{"$f":"IF('Broker Sheet'!R479=\"\",\"\",'Broker Sheet'!R479)","v":""},{"$f":"IF('Broker Sheet'!S479=\"\",\"\",'Broker Sheet'!S479)","v":""},{"$f":"IF('Broker Sheet'!T479=\"\",\"\",'Broker Sheet'!T479)","v":""},{"$f":"IF('Broker Sheet'!U479=\"\",\"\",'Broker Sheet'!U479)","v":""},{"$f":"IF('Broker Sheet'!V479=\"\",\"\",'Broker Sheet'!V479)","v":""},{"$f":"IF('Broker Sheet'!W479=\"\",\"\",'Broker Sheet'!W479)","v":""},{"$f":"IF('Broker Sheet'!Y479=\"\",\"\",'Broker Sheet'!Y479)","v":""},{"$f":"IF('Broker Sheet'!AA479=\"\",\"\",'Broker Sheet'!AA479)","v":""},{"$f":"IF('Broker Sheet'!Z479=\"\",\"\",'Broker Sheet'!Z479)","v":""},{"$f":"IF('Broker Sheet'!AB479=\"\",\"\",'Broker Sheet'!AB479)","v":""},null,null,{"$f":"IF('Broker Sheet'!L479=\"\",\"\",TEXT('Broker Sheet'!L479,\"YYYYMMDD\"))","v":""},{"$f":"IF('Broker Sheet'!AC479=\"\",\"\",TEXT('Broker Sheet'!AC479,\"YYYYMMDD\"))","v":""},{"$f":"IF('Broker Sheet'!AD479=\"\",\"\",TEXT('Broker Sheet'!AD479,\"YYYYMMDD\"))","v":""},{"$f":"IF('Broker Sheet'!AE479=\"\",\"\",'Broker Sheet'!AE479)","v":""},{"$f":"IF('Broker Sheet'!AF479=\"\",\"\",TEXT('Broker Sheet'!AF479,\"YYYYMMDD\"))","v":""},{"$f":"IF('Broker Sheet'!AG479=\"\",\"\",TEXT('Broker Sheet'!AG479,\"YYYYMMDD\"))","v":""}]
[null,null,null,null,null,{"$f":"IF('Broker Sheet'!C480=\"\",\"\",'Broker Sheet'!C480)","v":""},{"$f":"IF('Broker Sheet'!D480=\"\",\"\",'Broker Sheet'!D480)","v":""},{"$f":"IF('Broker Sheet'!E480=\"\",\"\",'Broker Sheet'!E480)","v":""},{"$f":"IF('Broker Sheet'!F480=\"\",\"\",'Broker Sheet'!F480)","v":""},{"$f":"IF('Broker Sheet'!G480=\"\",\"\",TEXT('Broker Sheet'!G480,\"YYYYMMDD\"))","v":""},{"$f":"IF('Broker Sheet'!H480=\"\",\"\",'Broker Sheet'!H480)","v":""},{"$f":"IF('Broker Sheet'!I480=\"\",\"\",'Broker Sheet'!I480)","v":""},{"$f":"IF('Broker Sheet'!J480=\"\",\"\",VLOOKUP('Broker Sheet'!J480,(Reference!$E$4:$F$9),2,FALSE))","v":""},{"$f":"IF('Broker Sheet'!K480=\"\",\"\",'Broker Sheet'!K480)","v":""},{"$f":"IF('Broker Sheet'!R480=\"\",\"\",'Broker Sheet'!R480)","v":""},{"$f":"IF('Broker Sheet'!S480=\"\",\"\",'Broker Sheet'!S480)","v":""},{"$f":"IF('Broker Sheet'!T480=\"\",\"\",'Broker Sheet'!T480)","v":""},{"$f":"IF('Broker Sheet'!U480=\"\",\"\",'Broker Sheet'!U480)","v":""},{"$f":"IF('Broker Sheet'!V480=\"\",\"\",'Broker Sheet'!V480)","v":""},{"$f":"IF('Broker Sheet'!W480=\"\",\"\",'Broker Sheet'!W480)","v":""},{"$f":"IF('Broker Sheet'!Y480=\"\",\"\",'Broker Sheet'!Y480)","v":""},{"$f":"IF('Broker Sheet'!AA480=\"\",\"\",'Broker Sheet'!AA480)","v":""},{"$f":"IF('Broker Sheet'!Z480=\"\",\"\",'Broker Sheet'!Z480)","v":""},{"$f":"IF('Broker Sheet'!AB480=\"\",\"\",'Broker Sheet'!AB480)","v":""},null,null,{"$f":"IF('Broker Sheet'!L480=\"\",\"\",TEXT('Broker Sheet'!L480,\"YYYYMMDD\"))","v":""},{"$f":"IF('Broker Sheet'!AC480=\"\",\"\",TEXT('Broker Sheet'!AC480,\"YYYYMMDD\"))","v":""},{"$f":"IF('Broker Sheet'!AD480=\"\",\"\",TEXT('Broker Sheet'!AD480,\"YYYYMMDD\"))","v":""},{"$f":"IF('Broker Sheet'!AE480=\"\",\"\",'Broker Sheet'!AE480)","v":""},{"$f":"IF('Broker Sheet'!AF480=\"\",\"\",TEXT('Broker Sheet'!AF480,\"YYYYMMDD\"))","v":""},{"$f":"IF('Broker Sheet'!AG480=\"\",\"\",TEXT('Broker Sheet'!AG480,\"YYYYMMDD\"))","v":""}]
[null,null,null,null,null,{"$f":"IF('Broker Sheet'!C481=\"\",\"\",'Broker Sheet'!C481)","v":""},{"$f":"IF('Broker Sheet'!D481=\"\",\"\",'Broker Sheet'!D481)","v":""},{"$f":"IF('Broker Sheet'!E481=\"\",\"\",'Broker Sheet'!E481)","v":""},{"$f":"IF('Broker Sheet'!F481=\"\",\"\",'Broker Sheet'!F481)","v":""},{"$f":"IF('Broker Sheet'!G481=\"\",\"\",TEXT('Broker Sheet'!G481,\"YYYYMMDD\"))","v":""},{"$f":"IF('Broker Sheet'!H481=\"\",\"\",'Broker Sheet'!H481)","v":""},{"$f":"IF('Broker Sheet'!I481=\"\",\"\",'Broker Sheet'!I481)","v":""},{"$f":"IF('Broker Sheet'!J481=\"\",\"\",VLOOKUP('Broker Sheet'!J481,(Reference!$E$4:$F$9),2,FALSE))","v":""},{"$f":"IF('Broker Sheet'!K481=\"\",\"\",'Broker Sheet'!K481)","v":""},{"$f":"IF('Broker Sheet'!R481=\"\",\"\",'Broker Sheet'!R481)","v":""},{"$f":"IF('Broker Sheet'!S481=\"\",\"\",'Broker Sheet'!S481)","v":""},{"$f":"IF('Broker Sheet'!T481=\"\",\"\",'Broker Sheet'!T481)","v":""},{"$f":"IF('Broker Sheet'!U481=\"\",\"\",'Broker Sheet'!U481)","v":""},{"$f":"IF('Broker Sheet'!V481=\"\",\"\",'Broker Sheet'!V481)","v":""},{"$f":"IF('Broker Sheet'!W481=\"\",\"\",'Broker Sheet'!W481)","v":""},{"$f":"IF('Broker Sheet'!Y481=\"\",\"\",'Broker Sheet'!Y481)","v":""},{"$f":"IF('Broker Sheet'!AA481=\"\",\"\",'Broker Sheet'!AA481)","v":""},{"$f":"IF('Broker Sheet'!Z481=\"\",\"\",'Broker Sheet'!Z481)","v":""},{"$f":"IF('Broker Sheet'!AB481=\"\",\"\",'Broker Sheet'!AB481)","v":""},null,null,{"$f":"IF('Broker Sheet'!L481=\"\",\"\",TEXT('Broker Sheet'!L481,\"YYYYMMDD\"))","v":""},{"$f":"IF('Broker Sheet'!AC481=\"\",\"\",TEXT('Broker Sheet'!AC481,\"YYYYMMDD\"))","v":""},{"$f":"IF('Broker Sheet'!AD481=\"\",\"\",TEXT('Broker Sheet'!AD481,\"YYYYMMDD\"))","v":""},{"$f":"IF('Broker Sheet'!AE481=\"\",\"\",'Broker Sheet'!AE481)","v":""},{"$f":"IF('Broker Sheet'!AF481=\"\",\"\",TEXT('Broker Sheet'!AF481,\"YYYYMMDD\"))","v":""},{"$f":"IF('Broker Sheet'!AG481=\"\",\"\",TEXT('Broker Sheet'!AG481,\"YYYYMMDD\"))","v":""}]
[null,null,null,null,null,{"$f":"IF('Broker Sheet'!C482=\"\",\"\",'Broker Sheet'!C482)","v":""},{"$f":"IF('Broker Sheet'!D482=\"\",\"\",'Broker Sheet'!D482)","v":""},{"$f":"IF('Broker Sheet'!E482=\"\",\"\",'Broker Sheet'!E482)","v":""},{"$f":"IF('Broker Sheet'!F482=\"\",\"\",'Broker Sheet'!F482)","v":""},{"$f":"IF('Broker Sheet'!G482=\"\",\"\",TEXT('Broker Sheet'!G482,\"YYYYMMDD\"))","v":""},{"$f":"IF('Broker Sheet'!H482=\"\",\"\",'Broker Sheet'!H482)","v":""},{"$f":"IF('Broker Sheet'!I482=\"\",\"\",'Broker Sheet'!I482)","v":""},{"$f":"IF('Broker Sheet'!J482=\"\",\"\",VLOOKUP('Broker Sheet'!J482,(Reference!$E$4:$F$9),2,FALSE))","v":""},{"$f":"IF('Broker Sheet'!K482=\"\",\"\",'Broker Sheet'!K482)","v":""},{"$f":"IF('Broker Sheet'!R482=\"\",\"\",'Broker Sheet'!R482)","v":""},{"$f":"IF('Broker Sheet'!S482=\"\",\"\",'Broker Sheet'!S482)","v":""},{"$f":"IF('Broker Sheet'!T482=\"\",\"\",'Broker Sheet'!T482)","v":""},{"$f":"IF('Broker Sheet'!U482=\"\",\"\",'Broker Sheet'!U482)","v":""},{"$f":"IF('Broker Sheet'!V482=\"\",\"\",'Broker Sheet'!V482)","v":""},{"$f":"IF('Broker Sheet'!W482=\"\",\"\",'Broker Sheet'!W482)","v":""},{"$f":"IF('Broker Sheet'!Y482=\"\",\"\",'Broker Sheet'!Y482)","v":""},{"$f":"IF('Broker Sheet'!AA482=\"\",\"\",'Broker Sheet'!AA482)","v":""},{"$f":"IF('Broker Sheet'!Z482=\"\",\"\",'Broker Sheet'!Z482)","v":""},{"$f":"IF('Broker Sheet'!AB482=\"\",\"\",'Broker Sheet'!AB482)","v":""},null,null,{"$f":"IF('Broker Sheet'!L482=\"\",\"\",TEXT('Broker Sheet'!L482,\"YYYYMMDD\"))","v":""},{"$f":"IF('Broker Sheet'!AC482=\"\",\"\",TEXT('Broker Sheet'!AC482,\"YYYYMMDD\"))","v":""},{"$f":"IF('Broker Sheet'!AD482=\"\",\"\",TEXT('Broker Sheet'!AD482,\"YYYYMMDD\"))","v":""},{"$f":"IF('Broker Sheet'!AE482=\"\",\"\",'Broker Sheet'!AE482)","v":""},{"$f":"IF('Broker Sheet'!AF482=\"\",\"\",TEXT('Broker Sheet'!AF482,\"YYYYMMDD\"))","v":""},{"$f":"IF('Broker Sheet'!AG482=\"\",\"\",TEXT('Broker Sheet'!AG482,\"YYYYMMDD\"))","v":""}]
[null,null,null,null,null,{"$f":"IF('Broker Sheet'!C483=\"\",\"\",'Broker Sheet'!C483)","v":""},{"$f":"IF('Broker Sheet'!D483=\"\",\"\",'Broker Sheet'!D483)","v":""},{"$f":"IF('Broker Sheet'!E483=\"\",\"\",'Broker Sheet'!E483)","v":""},{"$f":"IF('Broker Sheet'!F483=\"\",\"\",'Broker Sheet'!F483)","v":""},{"$f":"IF('Broker Sheet'!G483=\"\",\"\",TEXT('Broker Sheet'!G483,\"YYYYMMDD\"))","v":""},{"$f":"IF('Broker Sheet'!H483=\"\",\"\",'Broker Sheet'!H483)","v":""},{"$f":"IF('Broker Sheet'!I483=\"\",\"\",'Broker Sheet'!I483)","v":""},{"$f":"IF('Broker Sheet'!J483=\"\",\"\",VLOOKUP('Broker Sheet'!J483,(Reference!$E$4:$F$9),2,FALSE))","v":""},{"$f":"IF('Broker Sheet'!K483=\"\",\"\",'Broker Sheet'!K483)","v":""},{"$f":"IF('Broker Sheet'!R483=\"\",\"\",'Broker Sheet'!R483)","v":""},{"$f":"IF('Broker Sheet'!S483=\"\",\"\",'Broker Sheet'!S483)","v":""},{"$f":"IF('Broker Sheet'!T483=\"\",\"\",'Broker Sheet'!T483)","v":""},{"$f":"IF('Broker Sheet'!U483=\"\",\"\",'Broker Sheet'!U483)","v":""},{"$f":"IF('Broker Sheet'!V483=\"\",\"\",'Broker Sheet'!V483)","v":""},{"$f":"IF('Broker Sheet'!W483=\"\",\"\",'Broker Sheet'!W483)","v":""},{"$f":"IF('Broker Sheet'!Y483=\"\",\"\",'Broker Sheet'!Y483)","v":""},{"$f":"IF('Broker Sheet'!AA483=\"\",\"\",'Broker Sheet'!AA483)","v":""},{"$f":"IF('Broker Sheet'!Z483=\"\",\"\",'Broker Sheet'!Z483)","v":""},{"$f":"IF('Broker Sheet'!AB483=\"\",\"\",'Broker Sheet'!AB483)","v":""},null,null,{"$f":"IF('Broker Sheet'!L483=\"\",\"\",TEXT('Broker Sheet'!L483,\"YYYYMMDD\"))","v":""},{"$f":"IF('Broker Sheet'!AC483=\"\",\"\",TEXT('Broker Sheet'!AC483,\"YYYYMMDD\"))","v":""},{"$f":"IF('Broker Sheet'!AD483=\"\",\"\",TEXT('Broker Sheet'!AD483,\"YYYYMMDD\"))","v":""},{"$f":"IF('Broker Sheet'!AE483=\"\",\"\",'Broker Sheet'!AE483)","v":""},{"$f":"IF('Broker Sheet'!AF483=\"\",\"\",TEXT('Broker Sheet'!AF483,\"YYYYMMDD\"))","v":""},{"$f":"IF('Broker Sheet'!AG483=\"\",\"\",TEXT('Broker Sheet'!AG483,\"YYYYMMDD\"))","v":""}]
[null,null,null,null,null,{"$f":"IF('Broker Sheet'!C484=\"\",\"\",'Broker Sheet'!C484)","v":""},{"$f":"IF('Broker Sheet'!D484=\"\",\"\",'Broker Sheet'!D484)","v":""},{"$f":"IF('Broker Sheet'!E484=\"\",\"\",'Broker Sheet'!E484)","v":""},{"$f":"IF('Broker Sheet'!F484=\"\",\"\",'Broker Sheet'!F484)","v":""},{"$f":"IF('Broker Sheet'!G484=\"\",\"\",TEXT('Broker Sheet'!G484,\"YYYYMMDD\"))","v":""},{"$f":"IF('Broker Sheet'!H484=\"\",\"\",'Broker Sheet'!H484)","v":""},{"$f":"IF('Broker Sheet'!I484=\"\",\"\",'Broker Sheet'!I484)","v":""},{"$f":"IF('Broker Sheet'!J484=\"\",\"\",VLOOKUP('Broker Sheet'!J484,(Reference!$E$4:$F$9),2,FALSE))","v":""},{"$f":"IF('Broker Sheet'!K484=\"\",\"\",'Broker Sheet'!K484)","v":""},{"$f":"IF('Broker Sheet'!R484=\"\",\"\",'Broker Sheet'!R484)","v":""},{"$f":"IF('Broker Sheet'!S484=\"\",\"\",'Broker Sheet'!S484)","v":""},{"$f":"IF('Broker Sheet'!T484=\"\",\"\",'Broker Sheet'!T484)","v":""},{"$f":"IF('Broker Sheet'!U484=\"\",\"\",'Broker Sheet'!U484)","v":""},{"$f":"IF('Broker Sheet'!V484=\"\",\"\",'Broker Sheet'!V484)","v":""},{"$f":"IF('Broker Sheet'!W484=\"\",\"\",'Broker Sheet'!W484)","v":""},{"$f":"IF('Broker Sheet'!Y484=\"\",\"\",'Broker Sheet'!Y484)","v":""},{"$f":"IF('Broker Sheet'!AA484=\"\",\"\",'Broker Sheet'!AA484)","v":""},{"$f":"IF('Broker Sheet'!Z484=\"\",\"\",'Broker Sheet'!Z484)","v":""},{"$f":"IF('Broker Sheet'!AB484=\"\",\"\",'Broker Sheet'!AB484)","v":""},null,null,{"$f":"IF('Broker Sheet'!L484=\"\",\"\",TEXT('Broker Sheet'!L484,\"YYYYMMDD\"))","v":""},{"$f":"IF('Broker Sheet'!AC484=\"\",\"\",TEXT('Broker Sheet'!AC484,\"YYYYMMDD\"))","v":""},{"$f":"IF('Broker Sheet'!AD484=\"\",\"\",TEXT('Broker Sheet'!AD484,\"YYYYMMDD\"))","v":""},{"$f":"IF('Broker Sheet'!AE484=\"\",\"\",'Broker Sheet'!AE484)","v":""},{"$f":"IF('Broker Sheet'!AF484=\"\",\"\",TEXT('Broker Sheet'!AF484,\"YYYYMMDD\"))","v":""},{"$f":"IF('Broker Sheet'!AG484=\"\",\"\",TEXT('Broker Sheet'!AG484,\"YYYYMMDD\"))","v":""}]
[null,null,null,null,null,{"$f":"IF('Broker Sheet'!C485=\"\",\"\",'Broker Sheet'!C485)","v":""},{"$f":"IF('Broker Sheet'!D485=\"\",\"\",'Broker Sheet'!D485)","v":""},{"$f":"IF('Broker Sheet'!E485=\"\",\"\",'Broker Sheet'!E485)","v":""},{"$f":"IF('Broker Sheet'!F485=\"\",\"\",'Broker Sheet'!F485)","v":""},{"$f":"IF('Broker Sheet'!G485=\"\",\"\",TEXT('Broker Sheet'!G485,\"YYYYMMDD\"))","v":""},{"$f":"IF('Broker Sheet'!H485=\"\",\"\",'Broker Sheet'!H485)","v":""},{"$f":"IF('Broker Sheet'!I485=\"\",\"\",'Broker Sheet'!I485)","v":""},{"$f":"IF('Broker Sheet'!J485=\"\",\"\",VLOOKUP('Broker Sheet'!J485,(Reference!$E$4:$F$9),2,FALSE))","v":""},{"$f":"IF('Broker Sheet'!K485=\"\",\"\",'Broker Sheet'!K485)","v":""},{"$f":"IF('Broker Sheet'!R485=\"\",\"\",'Broker Sheet'!R485)","v":""},{"$f":"IF('Broker Sheet'!S485=\"\",\"\",'Broker Sheet'!S485)","v":""},{"$f":"IF('Broker Sheet'!T485=\"\",\"\",'Broker Sheet'!T485)","v":""},{"$f":"IF('Broker Sheet'!U485=\"\",\"\",'Broker Sheet'!U485)","v":""},{"$f":"IF('Broker Sheet'!V485=\"\",\"\",'Broker Sheet'!V485)","v":""},{"$f":"IF('Broker Sheet'!W485=\"\",\"\",'Broker Sheet'!W485)","v":""},{"$f":"IF('Broker Sheet'!Y485=\"\",\"\",'Broker Sheet'!Y485)","v":""},{"$f":"IF('Broker Sheet'!AA485=\"\",\"\",'Broker Sheet'!AA485)","v":""},{"$f":"IF('Broker Sheet'!Z485=\"\",\"\",'Broker Sheet'!Z485)","v":""},{"$f":"IF('Broker Sheet'!AB485=\"\",\"\",'Broker Sheet'!AB485)","v":""},null,null,{"$f":"IF('Broker Sheet'!L485=\"\",\"\",TEXT('Broker Sheet'!L485,\"YYYYMMDD\"))","v":""},{"$f":"IF('Broker Sheet'!AC485=\"\",\"\",TEXT('Broker Sheet'!AC485,\"YYYYMMDD\"))","v":""},{"$f":"IF('Broker Sheet'!AD485=\"\",\"\",TEXT('Broker Sheet'!AD485,\"YYYYMMDD\"))","v":""},{"$f":"IF('Broker Sheet'!AE485=\"\",\"\",'Broker Sheet'!AE485)","v":""},{"$f":"IF('Broker Sheet'!AF485=\"\",\"\",TEXT('Broker Sheet'!AF485,\"YYYYMMDD\"))","v":""},{"$f":"IF('Broker Sheet'!AG485=\"\",\"\",TEXT('Broker Sheet'!AG485,\"YYYYMMDD\"))","v":""}]
[null,null,null,null,null,{"$f":"IF('Broker Sheet'!C486=\"\",\"\",'Broker Sheet'!C486)","v":""},{"$f":"IF('Broker Sheet'!D486=\"\",\"\",'Broker Sheet'!D486)","v":""},{"$f":"IF('Broker Sheet'!E486=\"\",\"\",'Broker Sheet'!E486)","v":""},{"$f":"IF('Broker Sheet'!F486=\"\",\"\",'Broker Sheet'!F486)","v":""},{"$f":"IF('Broker Sheet'!G486=\"\",\"\",TEXT('Broker Sheet'!G486,\"YYYYMMDD\"))","v":""},{"$f":"IF('Broker Sheet'!H486=\"\",\"\",'Broker Sheet'!H486)","v":""},{"$f":"IF('Broker Sheet'!I486=\"\",\"\",'Broker Sheet'!I486)","v":""},{"$f":"IF('Broker Sheet'!J486=\"\",\"\",VLOOKUP('Broker Sheet'!J486,(Reference!$E$4:$F$9),2,FALSE))","v":""},{"$f":"IF('Broker Sheet'!K486=\"\",\"\",'Broker Sheet'!K486)","v":""},{"$f":"IF('Broker Sheet'!R486=\"\",\"\",'Broker Sheet'!R486)","v":""},{"$f":"IF('Broker Sheet'!S486=\"\",\"\",'Broker Sheet'!S486)","v":""},{"$f":"IF('Broker Sheet'!T486=\"\",\"\",'Broker Sheet'!T486)","v":""},{"$f":"IF('Broker Sheet'!U486=\"\",\"\",'Broker Sheet'!U486)","v":""},{"$f":"IF('Broker Sheet'!V486=\"\",\"\",'Broker Sheet'!V486)","v":""},{"$f":"IF('Broker Sheet'!W486=\"\",\"\",'Broker Sheet'!W486)","v":""},{"$f":"IF('Broker Sheet'!Y486=\"\",\"\",'Broker Sheet'!Y486)","v":""},{"$f":"IF('Broker Sheet'!AA486=\"\",\"\",'Broker Sheet'!AA486)","v":""},{"$f":"IF('Broker Sheet'!Z486=\"\",\"\",'Broker Sheet'!Z486)","v":""},{"$f":"IF('Broker Sheet'!AB486=\"\",\"\",'Broker Sheet'!AB486)","v":""},null,null,{"$f":"IF('Broker Sheet'!L486=\"\",\"\",TEXT('Broker Sheet'!L486,\"YYYYMMDD\"))","v":""},{"$f":"IF('Broker Sheet'!AC486=\"\",\"\",TEXT('Broker Sheet'!AC486,\"YYYYMMDD\"))","v":""},{"$f":"IF('Broker Sheet'!AD486=\"\",\"\",TEXT('Broker Sheet'!AD486,\"YYYYMMDD\"))","v":""},{"$f":"IF('Broker Sheet'!AE486=\"\",\"\",'Broker Sheet'!AE486)","v":""},{"$f":"IF('Broker Sheet'!AF486=\"\",\"\",TEXT('Broker Sheet'!AF486,\"YYYYMMDD\"))","v":""},{"$f":"IF('Broker Sheet'!AG486=\"\",\"\",TEXT('Broker Sheet'!AG486,\"YYYYMMDD\"))","v":""}]
[null,null,null,null,null,{"$f":"IF('Broker Sheet'!C487=\"\",\"\",'Broker Sheet'!C487)","v":""},{"$f":"IF('Broker Sheet'!D487=\"\",\"\",'Broker Sheet'!D487)","v":""},{"$f":"IF('Broker Sheet'!E487=\"\",\"\",'Broker Sheet'!E487)","v":""},{"$f":"IF('Broker Sheet'!F487=\"\",\"\",'Broker Sheet'!F487)","v":""},{"$f":"IF('Broker Sheet'!G487=\"\",\"\",TEXT('Broker Sheet'!G487,\"YYYYMMDD\"))","v":""},{"$f":"IF('Broker Sheet'!H487=\"\",\"\",'Broker Sheet'!H487)","v":""},{"$f":"IF('Broker Sheet'!I487=\"\",\"\",'Broker Sheet'!I487)","v":""},{"$f":"IF('Broker Sheet'!J487=\"\",\"\",VLOOKUP('Broker Sheet'!J487,(Reference!$E$4:$F$9),2,FALSE))","v":""},{"$f":"IF('Broker Sheet'!K487=\"\",\"\",'Broker Sheet'!K487)","v":""},{"$f":"IF('Broker Sheet'!R487=\"\",\"\",'Broker Sheet'!R487)","v":""},{"$f":"IF('Broker Sheet'!S487=\"\",\"\",'Broker Sheet'!S487)","v":""},{"$f":"IF('Broker Sheet'!T487=\"\",\"\",'Broker Sheet'!T487)","v":""},{"$f":"IF('Broker Sheet'!U487=\"\",\"\",'Broker Sheet'!U487)","v":""},{"$f":"IF('Broker Sheet'!V487=\"\",\"\",'Broker Sheet'!V487)","v":""},{"$f":"IF('Broker Sheet'!W487=\"\",\"\",'Broker Sheet'!W487)","v":""},{"$f":"IF('Broker Sheet'!Y487=\"\",\"\",'Broker Sheet'!Y487)","v":""},{"$f":"IF('Broker Sheet'!AA487=\"\",\"\",'Broker Sheet'!AA487)","v":""},{"$f":"IF('Broker Sheet'!Z487=\"\",\"\",'Broker Sheet'!Z487)","v":""},{"$f":"IF('Broker Sheet'!AB487=\"\",\"\",'Broker Sheet'!AB487)","v":""},null,null,{"$f":"IF('Broker Sheet'!L487=\"\",\"\",TEXT('Broker Sheet'!L487,\"YYYYMMDD\"))","v":""},{"$f":"IF('Broker Sheet'!AC487=\"\",\"\",TEXT('Broker Sheet'!AC487,\"YYYYMMDD\"))","v":""},{"$f":"IF('Broker Sheet'!AD487=\"\",\"\",TEXT('Broker Sheet'!AD487,\"YYYYMMDD\"))","v":""},{"$f":"IF('Broker Sheet'!AE487=\"\",\"\",'Broker Sheet'!AE487)","v":""},{"$f":"IF('Broker Sheet'!AF487=\"\",\"\",TEXT('Broker Sheet'!AF487,\"YYYYMMDD\"))","v":""},{"$f":"IF('Broker Sheet'!AG487=\"\",\"\",TEXT('Broker Sheet'!AG487,\"YYYYMMDD\"))","v":""}]
[null,null,null,null,null,{"$f":"IF('Broker Sheet'!C488=\"\",\"\",'Broker Sheet'!C488)","v":""},{"$f":"IF('Broker Sheet'!D488=\"\",\"\",'Broker Sheet'!D488)","v":""},{"$f":"IF('Broker Sheet'!E488=\"\",\"\",'Broker Sheet'!E488)","v":""},{"$f":"IF('Broker Sheet'!F488=\"\",\"\",'Broker Sheet'!F488)","v":""},{"$f":"IF('Broker Sheet'!G488=\"\",\"\",TEXT('Broker Sheet'!G488,\"YYYYMMDD\"))","v":""},{"$f":"IF('Broker Sheet'!H488=\"\",\"\",'Broker Sheet'!H488)","v":""},{"$f":"IF('Broker Sheet'!I488=\"\",\"\",'Broker Sheet'!I488)","v":""},{"$f":"IF('Broker Sheet'!J488=\"\",\"\",VLOOKUP('Broker Sheet'!J488,(Reference!$E$4:$F$9),2,FALSE))","v":""},{"$f":"IF('Broker Sheet'!K488=\"\",\"\",'Broker Sheet'!K488)","v":""},{"$f":"IF('Broker Sheet'!R488=\"\",\"\",'Broker Sheet'!R488)","v":""},{"$f":"IF('Broker Sheet'!S488=\"\",\"\",'Broker Sheet'!S488)","v":""},{"$f":"IF('Broker Sheet'!T488=\"\",\"\",'Broker Sheet'!T488)","v":""},{"$f":"IF('Broker Sheet'!U488=\"\",\"\",'Broker Sheet'!U488)","v":""},{"$f":"IF('Broker Sheet'!V488=\"\",\"\",'Broker Sheet'!V488)","v":""},{"$f":"IF('Broker Sheet'!W488=\"\",\"\",'Broker Sheet'!W488)","v":""},{"$f":"IF('Broker Sheet'!Y488=\"\",\"\",'Broker Sheet'!Y488)","v":""},{"$f":"IF('Broker Sheet'!AA488=\"\",\"\",'Broker Sheet'!AA488)","v":""},{"$f":"IF('Broker Sheet'!Z488=\"\",\"\",'Broker Sheet'!Z488)","v":""},{"$f":"IF('Broker Sheet'!AB488=\"\",\"\",'Broker Sheet'!AB488)","v":""},null,null,{"$f":"IF('Broker Sheet'!L488=\"\",\"\",TEXT('Broker Sheet'!L488,\"YYYYMMDD\"))","v":""},{"$f":"IF('Broker Sheet'!AC488=\"\",\"\",TEXT('Broker Sheet'!AC488,\"YYYYMMDD\"))","v":""},{"$f":"IF('Broker Sheet'!AD488=\"\",\"\",TEXT('Broker Sheet'!AD488,\"YYYYMMDD\"))","v":""},{"$f":"IF('Broker Sheet'!AE488=\"\",\"\",'Broker Sheet'!AE488)","v":""},{"$f":"IF('Broker Sheet'!AF488=\"\",\"\",TEXT('Broker Sheet'!AF488,\"YYYYMMDD\"))","v":""},{"$f":"IF('Broker Sheet'!AG488=\"\",\"\",TEXT('Broker Sheet'!AG488,\"YYYYMMDD\"))","v":""}]
[null,null,null,null,null,{"$f":"IF('Broker Sheet'!C489=\"\",\"\",'Broker Sheet'!C489)","v":""},{"$f":"IF('Broker Sheet'!D489=\"\",\"\",'Broker Sheet'!D489)","v":""},{"$f":"IF('Broker Sheet'!E489=\"\",\"\",'Broker Sheet'!E489)","v":""},{"$f":"IF('Broker Sheet'!F489=\"\",\"\",'Broker Sheet'!F489)","v":""},{"$f":"IF('Broker Sheet'!G489=\"\",\"\",TEXT('Broker Sheet'!G489,\"YYYYMMDD\"))","v":""},{"$f":"IF('Broker Sheet'!H489=\"\",\"\",'Broker Sheet'!H489)","v":""},{"$f":"IF('Broker Sheet'!I489=\"\",\"\",'Broker Sheet'!I489)","v":""},{"$f":"IF('Broker Sheet'!J489=\"\",\"\",VLOOKUP('Broker Sheet'!J489,(Reference!$E$4:$F$9),2,FALSE))","v":""},{"$f":"IF('Broker Sheet'!K489=\"\",\"\",'Broker Sheet'!K489)","v":""},{"$f":"IF('Broker Sheet'!R489=\"\",\"\",'Broker Sheet'!R489)","v":""},{"$f":"IF('Broker Sheet'!S489=\"\",\"\",'Broker Sheet'!S489)","v":""},{"$f":"IF('Broker Sheet'!T489=\"\",\"\",'Broker Sheet'!T489)","v":""},{"$f":"IF('Broker Sheet'!U489=\"\",\"\",'Broker Sheet'!U489)","v":""},{"$f":"IF('Broker Sheet'!V489=\"\",\"\",'Broker Sheet'!V489)","v":""},{"$f":"IF('Broker Sheet'!W489=\"\",\"\",'Broker Sheet'!W489)","v":""},{"$f":"IF('Broker Sheet'!Y489=\"\",\"\",'Broker Sheet'!Y489)","v":""},{"$f":"IF('Broker Sheet'!AA489=\"\",\"\",'Broker Sheet'!AA489)","v":""},{"$f":"IF('Broker Sheet'!Z489=\"\",\"\",'Broker Sheet'!Z489)","v":""},{"$f":"IF('Broker Sheet'!AB489=\"\",\"\",'Broker Sheet'!AB489)","v":""},null,null,{"$f":"IF('Broker Sheet'!L489=\"\",\"\",TEXT('Broker Sheet'!L489,\"YYYYMMDD\"))","v":""},{"$f":"IF('Broker Sheet'!AC489=\"\",\"\",TEXT('Broker Sheet'!AC489,\"YYYYMMDD\"))","v":""},{"$f":"IF('Broker Sheet'!AD489=\"\",\"\",TEXT('Broker Sheet'!AD489,\"YYYYMMDD\"))","v":""},{"$f":"IF('Broker Sheet'!AE489=\"\",\"\",'Broker Sheet'!AE489)","v":""},{"$f":"IF('Broker Sheet'!AF489=\"\",\"\",TEXT('Broker Sheet'!AF489,\"YYYYMMDD\"))","v":""},{"$f":"IF('Broker Sheet'!AG489=\"\",\"\",TEXT('Broker Sheet'!AG489,\"YYYYMMDD\"))","v":""}]
[null,null,null,null,null,{"$f":"IF('Broker Sheet'!C490=\"\",\"\",'Broker Sheet'!C490)","v":""},{"$f":"IF('Broker Sheet'!D490=\"\",\"\",'Broker Sheet'!D490)","v":""},{"$f":"IF('Broker Sheet'!E490=\"\",\"\",'Broker Sheet'!E490)","v":""},{"$f":"IF('Broker Sheet'!F490=\"\",\"\",'Broker Sheet'!F490)","v":""},{"$f":"IF('Broker Sheet'!G490=\"\",\"\",TEXT('Broker Sheet'!G490,\"YYYYMMDD\"))","v":""},{"$f":"IF('Broker Sheet'!H490=\"\",\"\",'Broker Sheet'!H490)","v":""},{"$f":"IF('Broker Sheet'!I490=\"\",\"\",'Broker Sheet'!I490)","v":""},{"$f":"IF('Broker Sheet'!J490=\"\",\"\",VLOOKUP('Broker Sheet'!J490,(Reference!$E$4:$F$9),2,FALSE))","v":""},{"$f":"IF('Broker Sheet'!K490=\"\",\"\",'Broker Sheet'!K490)","v":""},{"$f":"IF('Broker Sheet'!R490=\"\",\"\",'Broker Sheet'!R490)","v":""},{"$f":"IF('Broker Sheet'!S490=\"\",\"\",'Broker Sheet'!S490)","v":""},{"$f":"IF('Broker Sheet'!T490=\"\",\"\",'Broker Sheet'!T490)","v":""},{"$f":"IF('Broker Sheet'!U490=\"\",\"\",'Broker Sheet'!U490)","v":""},{"$f":"IF('Broker Sheet'!V490=\"\",\"\",'Broker Sheet'!V490)","v":""},{"$f":"IF('Broker Sheet'!W490=\"\",\"\",'Broker Sheet'!W490)","v":""},{"$f":"IF('Broker Sheet'!Y490=\"\",\"\",'Broker Sheet'!Y490)","v":""},{"$f":"IF('Broker Sheet'!AA490=\"\",\"\",'Broker Sheet'!AA490)","v":""},{"$f":"IF('Broker Sheet'!Z490=\"\",\"\",'Broker Sheet'!Z490)","v":""},{"$f":"IF('Broker Sheet'!AB490=\"\",\"\",'Broker Sheet'!AB490)","v":""},null,null,{"$f":"IF('Broker Sheet'!L490=\"\",\"\",TEXT('Broker Sheet'!L490,\"YYYYMMDD\"))","v":""},{"$f":"IF('Broker Sheet'!AC490=\"\",\"\",TEXT('Broker Sheet'!AC490,\"YYYYMMDD\"))","v":""},{"$f":"IF('Broker Sheet'!AD490=\"\",\"\",TEXT('Broker Sheet'!AD490,\"YYYYMMDD\"))","v":""},{"$f":"IF('Broker Sheet'!AE490=\"\",\"\",'Broker Sheet'!AE490)","v":""},{"$f":"IF('Broker Sheet'!AF490=\"\",\"\",TEXT('Broker Sheet'!AF490,\"YYYYMMDD\"))","v":""},{"$f":"IF('Broker Sheet'!AG490=\"\",\"\",TEXT('Broker Sheet'!AG490,\"YYYYMMDD\"))","v":""}]
[null,null,null,null,null,{"$f":"IF('Broker Sheet'!C491=\"\",\"\",'Broker Sheet'!C491)","v":""},{"$f":"IF('Broker Sheet'!D491=\"\",\"\",'Broker Sheet'!D491)","v":""},{"$f":"IF('Broker Sheet'!E491=\"\",\"\",'Broker Sheet'!E491)","v":""},{"$f":"IF('Broker Sheet'!F491=\"\",\"\",'Broker Sheet'!F491)","v":""},{"$f":"IF('Broker Sheet'!G491=\"\",\"\",TEXT('Broker Sheet'!G491,\"YYYYMMDD\"))","v":""},{"$f":"IF('Broker Sheet'!H491=\"\",\"\",'Broker Sheet'!H491)","v":""},{"$f":"IF('Broker Sheet'!I491=\"\",\"\",'Broker Sheet'!I491)","v":""},{"$f":"IF('Broker Sheet'!J491=\"\",\"\",VLOOKUP('Broker Sheet'!J491,(Reference!$E$4:$F$9),2,FALSE))","v":""},{"$f":"IF('Broker Sheet'!K491=\"\",\"\",'Broker Sheet'!K491)","v":""},{"$f":"IF('Broker Sheet'!R491=\"\",\"\",'Broker Sheet'!R491)","v":""},{"$f":"IF('Broker Sheet'!S491=\"\",\"\",'Broker Sheet'!S491)","v":""},{"$f":"IF('Broker Sheet'!T491=\"\",\"\",'Broker Sheet'!T491)","v":""},{"$f":"IF('Broker Sheet'!U491=\"\",\"\",'Broker Sheet'!U491)","v":""},{"$f":"IF('Broker Sheet'!V491=\"\",\"\",'Broker Sheet'!V491)","v":""},{"$f":"IF('Broker Sheet'!W491=\"\",\"\",'Broker Sheet'!W491)","v":""},{"$f":"IF('Broker Sheet'!Y491=\"\",\"\",'Broker Sheet'!Y491)","v":""},{"$f":"IF('Broker Sheet'!AA491=\"\",\"\",'Broker Sheet'!AA491)","v":""},{"$f":"IF('Broker Sheet'!Z491=\"\",\"\",'Broker Sheet'!Z491)","v":""},{"$f":"IF('Broker Sheet'!AB491=\"\",\"\",'Broker Sheet'!AB491)","v":""},null,null,{"$f":"IF('Broker Sheet'!L491=\"\",\"\",TEXT('Broker Sheet'!L491,\"YYYYMMDD\"))","v":""},{"$f":"IF('Broker Sheet'!AC491=\"\",\"\",TEXT('Broker Sheet'!AC491,\"YYYYMMDD\"))","v":""},{"$f":"IF('Broker Sheet'!AD491=\"\",\"\",TEXT('Broker Sheet'!AD491,\"YYYYMMDD\"))","v":""},{"$f":"IF('Broker Sheet'!AE491=\"\",\"\",'Broker Sheet'!AE491)","v":""},{"$f":"IF('Broker Sheet'!AF491=\"\",\"\",TEXT('Broker Sheet'!AF491,\"YYYYMMDD\"))","v":""},{"$f":"IF('Broker Sheet'!AG491=\"\",\"\",TEXT('Broker Sheet'!AG491,\"YYYYMMDD\"))","v":""}]
[null,null,null,null,null,{"$f":"IF('Broker Sheet'!C492=\"\",\"\",'Broker Sheet'!C492)","v":""},{"$f":"IF('Broker Sheet'!D492=\"\",\"\",'Broker Sheet'!D492)","v":""},{"$f":"IF('Broker Sheet'!E492=\"\",\"\",'Broker Sheet'!E492)","v":""},{"$f":"IF('Broker Sheet'!F492=\"\",\"\",'Broker Sheet'!F492)","v":""},{"$f":"IF('Broker Sheet'!G492=\"\",\"\",TEXT('Broker Sheet'!G492,\"YYYYMMDD\"))","v":""},{"$f":"IF('Broker Sheet'!H492=\"\",\"\",'Broker Sheet'!H492)","v":""},{"$f":"IF('Broker Sheet'!I492=\"\",\"\",'Broker Sheet'!I492)","v":""},{"$f":"IF('Broker Sheet'!J492=\"\",\"\",VLOOKUP('Broker Sheet'!J492,(Reference!$E$4:$F$9),2,FALSE))","v":""},{"$f":"IF('Broker Sheet'!K492=\"\",\"\",'Broker Sheet'!K492)","v":""},{"$f":"IF('Broker Sheet'!R492=\"\",\"\",'Broker Sheet'!R492)","v":""},{"$f":"IF('Broker Sheet'!S492=\"\",\"\",'Broker Sheet'!S492)","v":""},{"$f":"IF('Broker Sheet'!T492=\"\",\"\",'Broker Sheet'!T492)","v":""},{"$f":"IF('Broker Sheet'!U492=\"\",\"\",'Broker Sheet'!U492)","v":""},{"$f":"IF('Broker Sheet'!V492=\"\",\"\",'Broker Sheet'!V492)","v":""},{"$f":"IF('Broker Sheet'!W492=\"\",\"\",'Broker Sheet'!W492)","v":""},{"$f":"IF('Broker Sheet'!Y492=\"\",\"\",'Broker Sheet'!Y492)","v":""},{"$f":"IF('Broker Sheet'!AA492=\"\",\"\",'Broker Sheet'!AA492)","v":""},{"$f":"IF('Broker Sheet'!Z492=\"\",\"\",'Broker Sheet'!Z492)","v":""},{"$f":"IF('Broker Sheet'!AB492=\"\",\"\",'Broker Sheet'!AB492)","v":""},null,null,{"$f":"IF('Broker Sheet'!L492=\"\",\"\",TEXT('Broker Sheet'!L492,\"YYYYMMDD\"))","v":""},{"$f":"IF('Broker Sheet'!AC492=\"\",\"\",TEXT('Broker Sheet'!AC492,\"YYYYMMDD\"))","v":""},{"$f":"IF('Broker Sheet'!AD492=\"\",\"\",TEXT('Broker Sheet'!AD492,\"YYYYMMDD\"))","v":""},{"$f":"IF('Broker Sheet'!AE492=\"\",\"\",'Broker Sheet'!AE492)","v":""},{"$f":"IF('Broker Sheet'!AF492=\"\",\"\",TEXT('Broker Sheet'!AF492,\"YYYYMMDD\"))","v":""},{"$f":"IF('Broker Sheet'!AG492=\"\",\"\",TEXT('Broker Sheet'!AG492,\"YYYYMMDD\"))","v":""}]
[null,null,null,null,null,{"$f":"IF('Broker Sheet'!C493=\"\",\"\",'Broker Sheet'!C493)","v":""},{"$f":"IF('Broker Sheet'!D493=\"\",\"\",'Broker Sheet'!D493)","v":""},{"$f":"IF('Broker Sheet'!E493=\"\",\"\",'Broker Sheet'!E493)","v":""},{"$f":"IF('Broker Sheet'!F493=\"\",\"\",'Broker Sheet'!F493)","v":""},{"$f":"IF('Broker Sheet'!G493=\"\",\"\",TEXT('Broker Sheet'!G493,\"YYYYMMDD\"))","v":""},{"$f":"IF('Broker Sheet'!H493=\"\",\"\",'Broker Sheet'!H493)","v":""},{"$f":"IF('Broker Sheet'!I493=\"\",\"\",'Broker Sheet'!I493)","v":""},{"$f":"IF('Broker Sheet'!J493=\"\",\"\",VLOOKUP('Broker Sheet'!J493,(Reference!$E$4:$F$9),2,FALSE))","v":""},{"$f":"IF('Broker Sheet'!K493=\"\",\"\",'Broker Sheet'!K493)","v":""},{"$f":"IF('Broker Sheet'!R493=\"\",\"\",'Broker Sheet'!R493)","v":""},{"$f":"IF('Broker Sheet'!S493=\"\",\"\",'Broker Sheet'!S493)","v":""},{"$f":"IF('Broker Sheet'!T493=\"\",\"\",'Broker Sheet'!T493)","v":""},{"$f":"IF('Broker Sheet'!U493=\"\",\"\",'Broker Sheet'!U493)","v":""},{"$f":"IF('Broker Sheet'!V493=\"\",\"\",'Broker Sheet'!V493)","v":""},{"$f":"IF('Broker Sheet'!W493=\"\",\"\",'Broker Sheet'!W493)","v":""},{"$f":"IF('Broker Sheet'!Y493=\"\",\"\",'Broker Sheet'!Y493)","v":""},{"$f":"IF('Broker Sheet'!AA493=\"\",\"\",'Broker Sheet'!AA493)","v":""},{"$f":"IF('Broker Sheet'!Z493=\"\",\"\",'Broker Sheet'!Z493)","v":""},{"$f":"IF('Broker Sheet'!AB493=\"\",\"\",'Broker Sheet'!AB493)","v":""},null,null,{"$f":"IF('Broker Sheet'!L493=\"\",\"\",TEXT('Broker Sheet'!L493,\"YYYYMMDD\"))","v":""},{"$f":"IF('Broker Sheet'!AC493=\"\",\"\",TEXT('Broker Sheet'!AC493,\"YYYYMMDD\"))","v":""},{"$f":"IF('Broker Sheet'!AD493=\"\",\"\",TEXT('Broker Sheet'!AD493,\"YYYYMMDD\"))","v":""},{"$f":"IF('Broker Sheet'!AE493=\"\",\"\",'Broker Sheet'!AE493)","v":""},{"$f":"IF('Broker Sheet'!AF493=\"\",\"\",TEXT('Broker Sheet'!AF493,\"YYYYMMDD\"))","v":""},{"$f":"IF('Broker Sheet'!AG493=\"\",\"\",TEXT('Broker Sheet'!AG493,\"YYYYMMDD\"))","v":""}]
[null,null,null,null,null,{"$f":"IF('Broker Sheet'!C494=\"\",\"\",'Broker Sheet'!C494)","v":""},{"$f":"IF('Broker Sheet'!D494=\"\",\"\",'Broker Sheet'!D494)","v":""},{"$f":"IF('Broker Sheet'!E494=\"\",\"\",'Broker Sheet'!E494)","v":""},{"$f":"IF('Broker Sheet'!F494=\"\",\"\",'Broker Sheet'!F494)","v":""},{"$f":"IF('Broker Sheet'!G494=\"\",\"\",TEXT('Broker Sheet'!G494,\"YYYYMMDD\"))","v":""},{"$f":"IF('Broker Sheet'!H494=\"\",\"\",'Broker Sheet'!H494)","v":""},{"$f":"IF('Broker Sheet'!I494=\"\",\"\",'Broker Sheet'!I494)","v":""},{"$f":"IF('Broker Sheet'!J494=\"\",\"\",VLOOKUP('Broker Sheet'!J494,(Reference!$E$4:$F$9),2,FALSE))","v":""},{"$f":"IF('Broker Sheet'!K494=\"\",\"\",'Broker Sheet'!K494)","v":""},{"$f":"IF('Broker Sheet'!R494=\"\",\"\",'Broker Sheet'!R494)","v":""},{"$f":"IF('Broker Sheet'!S494=\"\",\"\",'Broker Sheet'!S494)","v":""},{"$f":"IF('Broker Sheet'!T494=\"\",\"\",'Broker Sheet'!T494)","v":""},{"$f":"IF('Broker Sheet'!U494=\"\",\"\",'Broker Sheet'!U494)","v":""},{"$f":"IF('Broker Sheet'!V494=\"\",\"\",'Broker Sheet'!V494)","v":""},{"$f":"IF('Broker Sheet'!W494=\"\",\"\",'Broker Sheet'!W494)","v":""},{"$f":"IF('Broker Sheet'!Y494=\"\",\"\",'Broker Sheet'!Y494)","v":""},{"$f":"IF('Broker Sheet'!AA494=\"\",\"\",'Broker Sheet'!AA494)","v":""},{"$f":"IF('Broker Sheet'!Z494=\"\",\"\",'Broker Sheet'!Z494)","v":""},{"$f":"IF('Broker Sheet'!AB494=\"\",\"\",'Broker Sheet'!AB494)","v":""},null,null,{"$f":"IF('Broker Sheet'!L494=\"\",\"\",TEXT('Broker Sheet'!L494,\"YYYYMMDD\"))","v":""},{"$f":"IF('Broker Sheet'!AC494=\"\",\"\",TEXT('Broker Sheet'!AC494,\"YYYYMMDD\"))","v":""},{"$f":"IF('Broker Sheet'!AD494=\"\",\"\",TEXT('Broker Sheet'!AD494,\"YYYYMMDD\"))","v":""},{"$f":"IF('Broker Sheet'!AE494=\"\",\"\",'Broker Sheet'!AE494)","v":""},{"$f":"IF('Broker Sheet'!AF494=\"\",\"\",TEXT('Broker Sheet'!AF494,\"YYYYMMDD\"))","v":""},{"$f":"IF('Broker Sheet'!AG494=\"\",\"\",TEXT('Broker Sheet'!AG494,\"YYYYMMDD\"))","v":""}]
[null,null,null,null,null,{"$f":"IF('Broker Sheet'!C495=\"\",\"\",'Broker Sheet'!C495)","v":""},{"$f":"IF('Broker Sheet'!D495=\"\",\"\",'Broker Sheet'!D495)","v":""},{"$f":"IF('Broker Sheet'!E495=\"\",\"\",'Broker Sheet'!E495)","v":""},{"$f":"IF('Broker Sheet'!F495=\"\",\"\",'Broker Sheet'!F495)","v":""},{"$f":"IF('Broker Sheet'!G495=\"\",\"\",TEXT('Broker Sheet'!G495,\"YYYYMMDD\"))","v":""},{"$f":"IF('Broker Sheet'!H495=\"\",\"\",'Broker Sheet'!H495)","v":""},{"$f":"IF('Broker Sheet'!I495=\"\",\"\",'Broker Sheet'!I495)","v":""},{"$f":"IF('Broker Sheet'!J495=\"\",\"\",VLOOKUP('Broker Sheet'!J495,(Reference!$E$4:$F$9),2,FALSE))","v":""},{"$f":"IF('Broker Sheet'!K495=\"\",\"\",'Broker Sheet'!K495)","v":""},{"$f":"IF('Broker Sheet'!R495=\"\",\"\",'Broker Sheet'!R495)","v":""},{"$f":"IF('Broker Sheet'!S495=\"\",\"\",'Broker Sheet'!S495)","v":""},{"$f":"IF('Broker Sheet'!T495=\"\",\"\",'Broker Sheet'!T495)","v":""},{"$f":"IF('Broker Sheet'!U495=\"\",\"\",'Broker Sheet'!U495)","v":""},{"$f":"IF('Broker Sheet'!V495=\"\",\"\",'Broker Sheet'!V495)","v":""},{"$f":"IF('Broker Sheet'!W495=\"\",\"\",'Broker Sheet'!W495)","v":""},{"$f":"IF('Broker Sheet'!Y495=\"\",\"\",'Broker Sheet'!Y495)","v":""},{"$f":"IF('Broker Sheet'!AA495=\"\",\"\",'Broker Sheet'!AA495)","v":""},{"$f":"IF('Broker Sheet'!Z495=\"\",\"\",'Broker Sheet'!Z495)","v":""},{"$f":"IF('Broker Sheet'!AB495=\"\",\"\",'Broker Sheet'!AB495)","v":""},null,null,{"$f":"IF('Broker Sheet'!L495=\"\",\"\",TEXT('Broker Sheet'!L495,\"YYYYMMDD\"))","v":""},{"$f":"IF('Broker Sheet'!AC495=\"\",\"\",TEXT('Broker Sheet'!AC495,\"YYYYMMDD\"))","v":""},{"$f":"IF('Broker Sheet'!AD495=\"\",\"\",TEXT('Broker Sheet'!AD495,\"YYYYMMDD\"))","v":""},{"$f":"IF('Broker Sheet'!AE495=\"\",\"\",'Broker Sheet'!AE495)","v":""},{"$f":"IF('Broker Sheet'!AF495=\"\",\"\",TEXT('Broker Sheet'!AF495,\"YYYYMMDD\"))","v":""},{"$f":"IF('Broker Sheet'!AG495=\"\",\"\",TEXT('Broker Sheet'!AG495,\"YYYYMMDD\"))","v":""}]
[null,null,null,null,null,{"$f":"IF('Broker Sheet'!C496=\"\",\"\",'Broker Sheet'!C496)","v":""},{"$f":"IF('Broker Sheet'!D496=\"\",\"\",'Broker Sheet'!D496)","v":""},{"$f":"IF('Broker Sheet'!E496=\"\",\"\",'Broker Sheet'!E496)","v":""},{"$f":"IF('Broker Sheet'!F496=\"\",\"\",'Broker Sheet'!F496)","v":""},{"$f":"IF('Broker Sheet'!G496=\"\",\"\",TEXT('Broker Sheet'!G496,\"YYYYMMDD\"))","v":""},{"$f":"IF('Broker Sheet'!H496=\"\",\"\",'Broker Sheet'!H496)","v":""},{"$f":"IF('Broker Sheet'!I496=\"\",\"\",'Broker Sheet'!I496)","v":""},{"$f":"IF('Broker Sheet'!J496=\"\",\"\",VLOOKUP('Broker Sheet'!J496,(Reference!$E$4:$F$9),2,FALSE))","v":""},{"$f":"IF('Broker Sheet'!K496=\"\",\"\",'Broker Sheet'!K496)","v":""},{"$f":"IF('Broker Sheet'!R496=\"\",\"\",'Broker Sheet'!R496)","v":""},{"$f":"IF('Broker Sheet'!S496=\"\",\"\",'Broker Sheet'!S496)","v":""},{"$f":"IF('Broker Sheet'!T496=\"\",\"\",'Broker Sheet'!T496)","v":""},{"$f":"IF('Broker Sheet'!U496=\"\",\"\",'Broker Sheet'!U496)","v":""},{"$f":"IF('Broker Sheet'!V496=\"\",\"\",'Broker Sheet'!V496)","v":""},{"$f":"IF('Broker Sheet'!W496=\"\",\"\",'Broker Sheet'!W496)","v":""},{"$f":"IF('Broker Sheet'!Y496=\"\",\"\",'Broker Sheet'!Y496)","v":""},{"$f":"IF('Broker Sheet'!AA496=\"\",\"\",'Broker Sheet'!AA496)","v":""},{"$f":"IF('Broker Sheet'!Z496=\"\",\"\",'Broker Sheet'!Z496)","v":""},{"$f":"IF('Broker Sheet'!AB496=\"\",\"\",'Broker Sheet'!AB496)","v":""},null,null,{"$f":"IF('Broker Sheet'!L496=\"\",\"\",TEXT('Broker Sheet'!L496,\"YYYYMMDD\"))","v":""},{"$f":"IF('Broker Sheet'!AC496=\"\",\"\",TEXT('Broker Sheet'!AC496,\"YYYYMMDD\"))","v":""},{"$f":"IF('Broker Sheet'!AD496=\"\",\"\",TEXT('Broker Sheet'!AD496,\"YYYYMMDD\"))","v":""},{"$f":"IF('Broker Sheet'!AE496=\"\",\"\",'Broker Sheet'!AE496)","v":""},{"$f":"IF('Broker Sheet'!AF496=\"\",\"\",TEXT('Broker Sheet'!AF496,\"YYYYMMDD\"))","v":""},{"$f":"IF('Broker Sheet'!AG496=\"\",\"\",TEXT('Broker Sheet'!AG496,\"YYYYMMDD\"))","v":""}]
[null,null,null,null,null,{"$f":"IF('Broker Sheet'!C497=\"\",\"\",'Broker Sheet'!C497)","v":""},{"$f":"IF('Broker Sheet'!D497=\"\",\"\",'Broker Sheet'!D497)","v":""},{"$f":"IF('Broker Sheet'!E497=\"\",\"\",'Broker Sheet'!E497)","v":""},{"$f":"IF('Broker Sheet'!F497=\"\",\"\",'Broker Sheet'!F497)","v":""},{"$f":"IF('Broker Sheet'!G497=\"\",\"\",TEXT('Broker Sheet'!G497,\"YYYYMMDD\"))","v":""},{"$f":"IF('Broker Sheet'!H497=\"\",\"\",'Broker Sheet'!H497)","v":""},{"$f":"IF('Broker Sheet'!I497=\"\",\"\",'Broker Sheet'!I497)","v":""},{"$f":"IF('Broker Sheet'!J497=\"\",\"\",VLOOKUP('Broker Sheet'!J497,(Reference!$E$4:$F$9),2,FALSE))","v":""},{"$f":"IF('Broker Sheet'!K497=\"\",\"\",'Broker Sheet'!K497)","v":""},{"$f":"IF('Broker Sheet'!R497=\"\",\"\",'Broker Sheet'!R497)","v":""},{"$f":"IF('Broker Sheet'!S497=\"\",\"\",'Broker Sheet'!S497)","v":""},{"$f":"IF('Broker Sheet'!T497=\"\",\"\",'Broker Sheet'!T497)","v":""},{"$f":"IF('Broker Sheet'!U497=\"\",\"\",'Broker Sheet'!U497)","v":""},{"$f":"IF('Broker Sheet'!V497=\"\",\"\",'Broker Sheet'!V497)","v":""},{"$f":"IF('Broker Sheet'!W497=\"\",\"\",'Broker Sheet'!W497)","v":""},{"$f":"IF('Broker Sheet'!Y497=\"\",\"\",'Broker Sheet'!Y497)","v":""},{"$f":"IF('Broker Sheet'!AA497=\"\",\"\",'Broker Sheet'!AA497)","v":""},{"$f":"IF('Broker Sheet'!Z497=\"\",\"\",'Broker Sheet'!Z497)","v":""},{"$f":"IF('Broker Sheet'!AB497=\"\",\"\",'Broker Sheet'!AB497)","v":""},null,null,{"$f":"IF('Broker Sheet'!L497=\"\",\"\",TEXT('Broker Sheet'!L497,\"YYYYMMDD\"))","v":""},{"$f":"IF('Broker Sheet'!AC497=\"\",\"\",TEXT('Broker Sheet'!AC497,\"YYYYMMDD\"))","v":""},{"$f":"IF('Broker Sheet'!AD497=\"\",\"\",TEXT('Broker Sheet'!AD497,\"YYYYMMDD\"))","v":""},{"$f":"IF('Broker Sheet'!AE497=\"\",\"\",'Broker Sheet'!AE497)","v":""},{"$f":"IF('Broker Sheet'!AF497=\"\",\"\",TEXT('Broker Sheet'!AF497,\"YYYYMMDD\"))","v":""},{"$f":"IF('Broker Sheet'!AG497=\"\",\"\",TEXT('Broker Sheet'!AG497,\"YYYYMMDD\"))","v":""}]
[null,null,null,null,null,{"$f":"IF('Broker Sheet'!C498=\"\",\"\",'Broker Sheet'!C498)","v":""},{"$f":"IF('Broker Sheet'!D498=\"\",\"\",'Broker Sheet'!D498)","v":""},{"$f":"IF('Broker Sheet'!E498=\"\",\"\",'Broker Sheet'!E498)","v":""},{"$f":"IF('Broker Sheet'!F498=\"\",\"\",'Broker Sheet'!F498)","v":""},{"$f":"IF('Broker Sheet'!G498=\"\",\"\",TEXT('Broker Sheet'!G498,\"YYYYMMDD\"))","v":""},{"$f":"IF('Broker Sheet'!H498=\"\",\"\",'Broker Sheet'!H498)","v":""},{"$f":"IF('Broker Sheet'!I498=\"\",\"\",'Broker Sheet'!I498)","v":""},{"$f":"IF('Broker Sheet'!J498=\"\",\"\",VLOOKUP('Broker Sheet'!J498,(Reference!$E$4:$F$9),2,FALSE))","v":""},{"$f":"IF('Broker Sheet'!K498=\"\",\"\",'Broker Sheet'!K498)","v":""},{"$f":"IF('Broker Sheet'!R498=\"\",\"\",'Broker Sheet'!R498)","v":""},{"$f":"IF('Broker Sheet'!S498=\"\",\"\",'Broker Sheet'!S498)","v":""},{"$f":"IF('Broker Sheet'!T498=\"\",\"\",'Broker Sheet'!T498)","v":""},{"$f":"IF('Broker Sheet'!U498=\"\",\"\",'Broker Sheet'!U498)","v":""},{"$f":"IF('Broker Sheet'!V498=\"\",\"\",'Broker Sheet'!V498)","v":""},{"$f":"IF('Broker Sheet'!W498=\"\",\"\",'Broker Sheet'!W498)","v":""},{"$f":"IF('Broker Sheet'!Y498=\"\",\"\",'Broker Sheet'!Y498)","v":""},{"$f":"IF('Broker Sheet'!AA498=\"\",\"\",'Broker Sheet'!AA498)","v":""},{"$f":"IF('Broker Sheet'!Z498=\"\",\"\",'Broker Sheet'!Z498)","v":""},{"$f":"IF('Broker Sheet'!AB498=\"\",\"\",'Broker Sheet'!AB498)","v":""},null,null,{"$f":"IF('Broker Sheet'!L498=\"\",\"\",TEXT('Broker Sheet'!L498,\"YYYYMMDD\"))","v":""},{"$f":"IF('Broker Sheet'!AC498=\"\",\"\",TEXT('Broker Sheet'!AC498,\"YYYYMMDD\"))","v":""},{"$f":"IF('Broker Sheet'!AD498=\"\",\"\",TEXT('Broker Sheet'!AD498,\"YYYYMMDD\"))","v":""},{"$f":"IF('Broker Sheet'!AE498=\"\",\"\",'Broker Sheet'!AE498)","v":""},{"$f":"IF('Broker Sheet'!AF498=\"\",\"\",TEXT('Broker Sheet'!AF498,\"YYYYMMDD\"))","v":""},{"$f":"IF('Broker Sheet'!AG498=\"\",\"\",TEXT('Broker Sheet'!AG498,\"YYYYMMDD\"))","v":""}]
[null,null,null,null,null,{"$f":"IF('Broker Sheet'!C499=\"\",\"\",'Broker Sheet'!C499)","v":""},{"$f":"IF('Broker Sheet'!D499=\"\",\"\",'Broker Sheet'!D499)","v":""},{"$f":"IF('Broker Sheet'!E499=\"\",\"\",'Broker Sheet'!E499)","v":""},{"$f":"IF('Broker Sheet'!F499=\"\",\"\",'Broker Sheet'!F499)","v":""},{"$f":"IF('Broker Sheet'!G499=\"\",\"\",TEXT('Broker Sheet'!G499,\"YYYYMMDD\"))","v":""},{"$f":"IF('Broker Sheet'!H499=\"\",\"\",'Broker Sheet'!H499)","v":""},{"$f":"IF('Broker Sheet'!I499=\"\",\"\",'Broker Sheet'!I499)","v":""},{"$f":"IF('Broker Sheet'!J499=\"\",\"\",VLOOKUP('Broker Sheet'!J499,(Reference!$E$4:$F$9),2,FALSE))","v":""},{"$f":"IF('Broker Sheet'!K499=\"\",\"\",'Broker Sheet'!K499)","v":""},{"$f":"IF('Broker Sheet'!R499=\"\",\"\",'Broker Sheet'!R499)","v":""},{"$f":"IF('Broker Sheet'!S499=\"\",\"\",'Broker Sheet'!S499)","v":""},{"$f":"IF('Broker Sheet'!T499=\"\",\"\",'Broker Sheet'!T499)","v":""},{"$f":"IF('Broker Sheet'!U499=\"\",\"\",'Broker Sheet'!U499)","v":""},{"$f":"IF('Broker Sheet'!V499=\"\",\"\",'Broker Sheet'!V499)","v":""},{"$f":"IF('Broker Sheet'!W499=\"\",\"\",'Broker Sheet'!W499)","v":""},{"$f":"IF('Broker Sheet'!Y499=\"\",\"\",'Broker Sheet'!Y499)","v":""},{"$f":"IF('Broker Sheet'!AA499=\"\",\"\",'Broker Sheet'!AA499)","v":""},{"$f":"IF('Broker Sheet'!Z499=\"\",\"\",'Broker Sheet'!Z499)","v":""},{"$f":"IF('Broker Sheet'!AB499=\"\",\"\",'Broker Sheet'!AB499)","v":""},null,null,{"$f":"IF('Broker Sheet'!L499=\"\",\"\",TEXT('Broker Sheet'!L499,\"YYYYMMDD\"))","v":""},{"$f":"IF('Broker Sheet'!AC499=\"\",\"\",TEXT('Broker Sheet'!AC499,\"YYYYMMDD\"))","v":""},{"$f":"IF('Broker Sheet'!AD499=\"\",\"\",TEXT('Broker Sheet'!AD499,\"YYYYMMDD\"))","v":""},{"$f":"IF('Broker Sheet'!AE499=\"\",\"\",'Broker Sheet'!AE499)","v":""},{"$f":"IF('Broker Sheet'!AF499=\"\",\"\",TEXT('Broker Sheet'!AF499,\"YYYYMMDD\"))","v":""},{"$f":"IF('Broker Sheet'!AG499=\"\",\"\",TEXT('Broker Sheet'!AG499,\"YYYYMMDD\"))","v":""}]
[null,null,null,null,null,{"$f":"IF('Broker Sheet'!C500=\"\",\"\",'Broker Sheet'!C500)","v":""},{"$f":"IF('Broker Sheet'!D500=\"\",\"\",'Broker Sheet'!D500)","v":""},{"$f":"IF('Broker Sheet'!E500=\"\",\"\",'Broker Sheet'!E500)","v":""},{"$f":"IF('Broker Sheet'!F500=\"\",\"\",'Broker Sheet'!F500)","v":""},{"$f":"IF('Broker Sheet'!G500=\"\",\"\",TEXT('Broker Sheet'!G500,\"YYYYMMDD\"))","v":""},{"$f":"IF('Broker Sheet'!H500=\"\",\"\",'Broker Sheet'!H500)","v":""},{"$f":"IF('Broker Sheet'!I500=\"\",\"\",'Broker Sheet'!I500)","v":""},{"$f":"IF('Broker Sheet'!J500=\"\",\"\",VLOOKUP('Broker Sheet'!J500,(Reference!$E$4:$F$9),2,FALSE))","v":""},{"$f":"IF('Broker Sheet'!K500=\"\",\"\",'Broker Sheet'!K500)","v":""},{"$f":"IF('Broker Sheet'!R500=\"\",\"\",'Broker Sheet'!R500)","v":""},{"$f":"IF('Broker Sheet'!S500=\"\",\"\",'Broker Sheet'!S500)","v":""},{"$f":"IF('Broker Sheet'!T500=\"\",\"\",'Broker Sheet'!T500)","v":""},{"$f":"IF('Broker Sheet'!U500=\"\",\"\",'Broker Sheet'!U500)","v":""},{"$f":"IF('Broker Sheet'!V500=\"\",\"\",'Broker Sheet'!V500)","v":""},{"$f":"IF('Broker Sheet'!W500=\"\",\"\",'Broker Sheet'!W500)","v":""},{"$f":"IF('Broker Sheet'!Y500=\"\",\"\",'Broker Sheet'!Y500)","v":""},{"$f":"IF('Broker Sheet'!AA500=\"\",\"\",'Broker Sheet'!AA500)","v":""},{"$f":"IF('Broker Sheet'!Z500=\"\",\"\",'Broker Sheet'!Z500)","v":""},{"$f":"IF('Broker Sheet'!AB500=\"\",\"\",'Broker Sheet'!AB500)","v":""},null,null,{"$f":"IF('Broker Sheet'!L500=\"\",\"\",TEXT('Broker Sheet'!L500,\"YYYYMMDD\"))","v":""},{"$f":"IF('Broker Sheet'!AC500=\"\",\"\",TEXT('Broker Sheet'!AC500,\"YYYYMMDD\"))","v":""},{"$f":"IF('Broker Sheet'!AD500=\"\",\"\",TEXT('Broker Sheet'!AD500,\"YYYYMMDD\"))","v":""},{"$f":"IF('Broker Sheet'!AE500=\"\",\"\",'Broker Sheet'!AE500)","v":""},{"$f":"IF('Broker Sheet'!AF500=\"\",\"\",TEXT('Broker Sheet'!AF500,\"YYYYMMDD\"))","v":""},{"$f":"IF('Broker Sheet'!AG500=\"\",\"\",TEXT('Broker Sheet'!AG500,\"YYYYMMDD\"))","v":""}]
[null,null,null,null,null,{"$f":"IF('Broker Sheet'!C501=\"\",\"\",'Broker Sheet'!C501)","v":""},{"$f":"IF('Broker Sheet'!D501=\"\",\"\",'Broker Sheet'!D501)","v":""},{"$f":"IF('Broker Sheet'!E501=\"\",\"\",'Broker Sheet'!E501)","v":""},{"$f":"IF('Broker Sheet'!F501=\"\",\"\",'Broker Sheet'!F501)","v":""},{"$f":"IF('Broker Sheet'!G501=\"\",\"\",TEXT('Broker Sheet'!G501,\"YYYYMMDD\"))","v":""},{"$f":"IF('Broker Sheet'!H501=\"\",\"\",'Broker Sheet'!H501)","v":""},{"$f":"IF('Broker Sheet'!I501=\"\",\"\",'Broker Sheet'!I501)","v":""},{"$f":"IF('Broker Sheet'!J501=\"\",\"\",VLOOKUP('Broker Sheet'!J501,(Reference!$E$4:$F$9),2,FALSE))","v":""},{"$f":"IF('Broker Sheet'!K501=\"\",\"\",'Broker Sheet'!K501)","v":""},{"$f":"IF('Broker Sheet'!R501=\"\",\"\",'Broker Sheet'!R501)","v":""},{"$f":"IF('Broker Sheet'!S501=\"\",\"\",'Broker Sheet'!S501)","v":""},{"$f":"IF('Broker Sheet'!T501=\"\",\"\",'Broker Sheet'!T501)","v":""},{"$f":"IF('Broker Sheet'!U501=\"\",\"\",'Broker Sheet'!U501)","v":""},{"$f":"IF('Broker Sheet'!V501=\"\",\"\",'Broker Sheet'!V501)","v":""},{"$f":"IF('Broker Sheet'!W501=\"\",\"\",'Broker Sheet'!W501)","v":""},{"$f":"IF('Broker Sheet'!Y501=\"\",\"\",'Broker Sheet'!Y501)","v":""},{"$f":"IF('Broker Sheet'!AA501=\"\",\"\",'Broker Sheet'!AA501)","v":""},{"$f":"IF('Broker Sheet'!Z501=\"\",\"\",'Broker Sheet'!Z501)","v":""},{"$f":"IF('Broker Sheet'!AB501=\"\",\"\",'Broker Sheet'!AB501)","v":""},null,null,{"$f":"IF('Broker Sheet'!L501=\"\",\"\",TEXT('Broker Sheet'!L501,\"YYYYMMDD\"))","v":""},{"$f":"IF('Broker Sheet'!AC501=\"\",\"\",TEXT('Broker Sheet'!AC501,\"YYYYMMDD\"))","v":""},{"$f":"IF('Broker Sheet'!AD501=\"\",\"\",TEXT('Broker Sheet'!AD501,\"YYYYMMDD\"))","v":""},{"$f":"IF('Broker Sheet'!AE501=\"\",\"\",'Broker Sheet'!AE501)","v":""},{"$f":"IF('Broker Sheet'!AF501=\"\",\"\",TEXT('Broker Sheet'!AF501,\"YYYYMMDD\"))","v":""},{"$f":"IF('Broker Sheet'!AG501=\"\",\"\",TEXT('Broker Sheet'!AG501,\"YYYYMMDD\"))","v":""}]

{"sheet":"Reference","index":3,"n_rows":536,"n_cols":41,"rows_kept":536,"cut":false,"hidden":true,"merged":[]}
[]
[null,null,null,null,null,null,null,null,null,null,null,null,null,null,null,null,null,null,null,null,null,null,null,null,null,null,null,null,null,null,null,null,null,null,null,null,null,"HMO AND PPO"]
[null,"Record Type","Gender","Member Type","Relationship",null,null,"Subscriber Tier",null,"2023 Plans",null,null,null,"Networks",null,null,null,null,null,null,null,"2017 Plans",null,null,null,null,"100 MILE RADIUS",null,null,"Zip Code","City","State","County","HMO","PPO",null,null,"Zip Code","City","State","County"]
[null,"A","F","S","Self","M",null,"EMP",null,null,null,null,null,"MH Select",null,null,"Select 002 PPO^",null,null,null,null,"002 PPO-6L 2017",null,null,null,null,75833,null,null,77001,"Houston","Texas","Harris","Y","Y",null,null,77001,"Houston","Texas","Harris"]
[null,"C","M","D","Husband","H",null,"ESP",null,null,null,null,null,"PHCS",null,null,"Select 500-80 PPO",null,null,null,null,"500-80 PPO-6L 2017",null,null,null,null,75835,null,null,77002,"Houston","Texas","Harris","Y","Y",null,null,77002,"Houston","Texas","Harris"]
[null,"R",null,null,"Wife","W",null,"ECH",null,null,null,null,null,null,null,null,"Select 1000-80 PPO",null,null,null,null,"1000-80 PPO-6L 2017",null,null,null,null,75845,null,null,77003,"Houston","Texas","Harris","Y","Y",null,null,77003,"Houston","Texas","Harris"]
[null,"T",null,null,"Son","S",null,"FAM",null,null,null,null,null,null,null,null,"Select 1500-80 PPO",null,null,null,null,"1500-80 PPO-6L 2017",null,null,null,null,75847,null,null,77004,"Houston","Texas","Harris","Y","Y",null,null,77004,"Houston","Texas","Harris"]
[null,"X",null,null,"Daughter","D",null,null,null,null,null,null,null,null,null,null,"Select 2000-80 PPO",null,null,null,null,"2000-80 PPO-6L 2017",null,null,null,null,75850,null,null,77005,"Houston","Texas","Harris","Y","Y",null,null,77005,"Houston","Texas","Harris"]
[null,null,null,null,"Other","O",null,null,null,null,null,null,null,null,null,null,"Select 2000-100 PPO",null,null,null,null,"2000-100 PPO-6L 2017",null,null,null,null,75851,null,null,77006,"Houston","Texas","Harris","Y","Y",null,null,77006,"Houston","Texas","Harris"]
[null,null,null,null,null,null,null,null,null,null,null,null,null,"COB",null,null,"Select 2500-70 PPO",null,null,null,null,"2500-70 PPO-6L 2017",null,null,null,null,75852,null,null,77007,"Houston","Texas","Harris","Y","Y",null,null,77007,"Houston","Texas","Harris"]
[null,null,null,null,null,null,null,null,null,null,null,null,null,"Yes",null,null,"Select 2500-80 PPO",null,null,null,null,"2500-80 PPO-6L 2017",null,null,null,null,75856,null,null,77008,"Houston","Texas","Harris","Y","Y",null,null,77008,"Houston","Texas","Harris"]
[null,null,null,null,null,null,null,null,null,"Select 1000-80 PPO","PPO",null,null,"No",null,null,"Select 3000-80 PPO",null,null,null,null,"3000-80 PPO-6L 2017",null,null,null,null,75862,null,null,77009,"Houston","Texas","Harris","Y","Y",null,null,77009,"Houston","Texas","Harris"]
[null,null,null,null,null,null,null,null,null,"Select 1500-80 PPO","PPO",null,null,null,null,null,"Select 3000-100 PPO",null,null,null,null,"3000-100 PPO-6L 2017",null,null,null,null,75926,null,null,77010,"Houston","Texas","Harris","Y","Y",null,null,77010,"Houston","Texas","Harris"]
[null,null,null,null,null,null,null,null,null,"Select 2000-80 PPO","PPO",null,null,null,null,null,"Select 5000-70 PPO",null,null,null,null,"5000-70 PPO-6L 2017",null,null,null,null,75934,null,null,77011,"Houston","Texas","Harris","Y","Y",null,null,77011,"Houston","Texas","Harris"]
[null,null,null,null,null,null,null,null,null,"Select 3000-80 PPO","PPO",null,null,null,null,null,"Select 5000-100 PPO",null,null,null,null,"5000-100 PPO-6L 2017",null,null,null,null,75936,null,null,77012,"Houston","Texas","Harris","Y","Y",null,null,77012,"Houston","Texas","Harris"]
[null,null,null,null,null,null,null,null,null,"Select 5000-80 PPO","PPO",null,null,null,null,null,"Select 6600-100 Standard PPO",null,null,null,null,"6600-100 Standard PPO L-2017",null,null,null,null,75938,null,null,77013,"Houston","Texas","Harris","Y","Y",null,null,77013,"Houston","Texas","Harris"]
[null,null,null,null,null,null,null,null,null,"Select 6600-100 Standard PPO","PPO",null,null,null,null,null,"Select Standard Copay PPO",null,null,null,null,"Standard Copay PPO L-2017",null,null,null,null,75939,null,null,77014,"Houston","Texas","Harris","Y","Y",null,null,77014,"Houston","Texas","Harris"]
[null,null,null,null,null,null,null,null,null,"Select 5000-80 HSA PPO","PPO",null,null,null,null,null,"Select 3000-80 HSA PPO",null,null,null,null,"3000-80 HSA PPO-6L 2017",null,null,null,null,75941,null,null,77015,"Houston","Texas","Harris","Y","Y",null,null,77015,"Houston","Texas","Harris"]
[null,null,null,null,null,null,null,null,null,"Select 6550-100 HSA PPO","PPO",null,null,null,null,null,"Select 3000-100 HSA PPO",null,null,null,null,"3000-100 HSA PPO-6L 2017",null,null,null,null,75942,null,null,77016,"Houston","Texas","Harris","Y","Y",null,null,77016,"Houston","Texas","Harris"]
[null,null,null,null,null,null,null,null,null,"Select 002 PPO","PPO",null,null,null,null,null,"Select 5000-80 HSA PPO",null,null,null,null,"5000-80 HSA PPO-6L 2017",null,null,null,null,75956,null,null,77017,"Houston","Texas","Harris","Y","Y",null,null,77017,"Houston","Texas","Harris"]
[null,null,null,null,"Job Status",null,null,null,null,"Select 1000-100 PPO ","PPO",null,null,null,null,null,"Select 5000-100 HSA PPO",null,null,null,null,"5000-100 HSA PPO-6L 2017",null,null,null,null,75960,null,null,77018,"Houston","Texas","Harris","Y","Y",null,null,77018,"Houston","Texas","Harris"]
[null,null,null,null,"Active",null,null,null,null,"Select 3000-100 PPO","PPO",null,null,null,null,null,"Select 6550-100 HSA PPO",null,null,null,null,"6550-100 HSA PPO-6L 2017",null,null,null,null,75979,null,null,77019,"Houston","Texas","Harris","Y","Y",null,null,77019,"Houston","Texas","Harris"]
[null,null,null,null,"COBRA",null,null,null,null,"Select 001 HMO","HMO",null,null,null,null,null,"Select 001 HMO*",null,null,null,null,"001 HMO-L 2017",null,null,null,null,75990,null,null,77020,"Houston","Texas","Harris","Y","Y",null,null,77020,"Houston","Texas","Harris"]
[null,null,null,null,"Texas State Continuation",null,null,null,null,"Select 002 HMO","HMO",null,null,null,null,null,"Select 002 HMO*^",null,null,null,null,"002 HMO-L 2017",null,null,null,null,77001,null,null,77021,"Houston","Texas","Harris","Y","Y",null,null,77021,"Houston","Texas","Harris"]
[null,null,null,null,"Retired",null,null,null,null,"Select 500-80 HMO","HMO",null,null,null,null,null,"Select 2000-100 HMO*",null,null,null,null,"2000-100 HMO-L 2017",null,null,null,null,77002,null,null,77022,"Houston","Texas","Harris","Y","Y",null,null,77022,"Houston","Texas","Harris"]
[null,null,null,null,"Management",null,null,null,null,"Select 1000-80 HMO","HMO",null,null,null,null,null,"Select 3000-80 HMO*",null,null,null,null,"3000-80 HMO-L 2017",null,null,null,null,77003,null,null,77023,"Houston","Texas","Harris","Y","Y",null,null,77023,"Houston","Texas","Harris"]
[null,null,null,null,"Salary",null,null,null,null,"Select 1500-80 HMO","HMO",null,null,null,null,null,"Select 5000-100 HMO*",null,null,null,null,"5000-100 HMO-L 2017",null,null,null,null,77004,null,null,77024,"Houston","Texas","Harris","Y","Y",null,null,77024,"Houston","Texas","Harris"]
[null,null,null,null,"Hourly",null,null,null,null,"Select 2000-80 HMO","HMO",null,null,null,null,null,"Select 6600-100 Standard HMO*",null,null,null,null,"6600-100 Standard HMO-L 2017",null,null,null,null,77005,null,null,77025,"Houston","Texas","Harris","Y","Y",null,null,77025,"Houston","Texas","Harris"]
[null,null,null,null,null,null,null,null,null,"Select 2000-100 HMO","HMO",null,null,null,null,null,"Select 3000-100 HSA HMO*",null,null,null,null,"3000-100 HSA HMO-L 2017",null,null,null,null,77006,null,null,77026,"Houston","Texas","Harris","Y","Y",null,null,77026,"Houston","Texas","Harris"]
[null,null,null,null,null,null,null,null,null,"Select 2500-80 HMO","HMO",null,null,null,null,null,"Select 6550-100 HSA HMO*",null,null,null,null,"6550-100 HSA HMO-L 2017",null,null,null,null,77007,null,null,77027,"Houston","Texas","Harris","Y","Y",null,null,77027,"Houston","Texas","Harris"]
[null,null,null,null,null,null,null,null,null,"Select 3000-80 HMO","HMO",null,null,null,null,null,"Select Platinum 500 PPO",null,null,null,null,"Platinum 500 PPO-6S 2017",null,null,null,null,77008,null,null,77028,"Houston","Texas","Harris","Y","Y",null,null,77028,"Houston","Texas","Harris"]
[null,null,null,null,null,null,null,null,null,"Select 5000-80 HMO","HMO",null,null,null,null,null,"Select Gold 1000 PPO",null,null,null,null,"Gold 1000 PPO-6S 2017",null,null,null,null,77009,null,null,77029,"Houston","Texas","Harris","Y","Y",null,null,77029,"Houston","Texas","Harris"]
[null,null,null,null,null,null,null,null,null,"Select 3000-100 HSA HMO","HMO",null,null,null,null,null,"Select Gold 1500 PPO",null,null,null,null,"Gold 1500 PPO-6S 2017",null,null,null,null,77010,null,null,77030,"Houston","Texas","Harris","Y","Y",null,null,77030,"Houston","Texas","Harris"]
[null,null,null,null,null,null,null,null,null,"Select 5000-100 HSA HMO","HMO",null,null,null,null,null,"Select Gold 2000 PPO",null,null,null,null,"Gold 2000 PPO-6S 2017",null,null,null,null,77011,null,null,77031,"Houston","Texas","Harris","Y","Y",null,null,77031,"Houston","Texas","Harris"]
[null,null,null,null,null,null,null,null,null,"Select 6550-100 HSA HMO","HMO",null,null,null,null,null,"Select Gold 2000-3500 PPO",null,null,null,null,"Gold 2000-3500 PPO-6S 2017",null,null,null,null,77012,null,null,77032,"Houston","Texas","Harris","Y","Y",null,null,77032,"Houston","Texas","Harris"]
[null,null,null,null,null,null,null,null,null,"Select 003 HMO","HMO",null,null,null,null,null,"Select Gold Copay PPO",null,null,null,null,"Gold Copay PPO-6S 2017",null,null,null,null,77013,null,null,77033,"Houston","Texas","Harris","Y","Y",null,null,77033,"Houston","Texas","Harris"]
[null,null,null,null,null,null,null,null,null,"Select 1000-100 HMO","HMO",null,null,null,null,null,"Select Silver 3000 PPO",null,null,null,null,"Silver 3000 PPO-6S 2017",null,null,null,null,77014,null,null,77034,"Houston","Texas","Harris","Y","Y",null,null,77034,"Houston","Texas","Harris"]
[null,null,null,null,null,null,null,null,null,"Select 6600-100 Standard HMO","HMO",null,null,null,null,null,"Select Silver 4500 PPO",null,null,null,null,"Silver 4500 PPO-6S 2017",null,null,null,null,77015,null,null,77035,"Houston","Texas","Harris","Y","Y",null,null,77035,"Houston","Texas","Harris"]
[null,null,null,null,null,null,null,null,null,"Waived",null,null,null,null,null,null,"Select Silver 5000 PPO",null,null,null,null,"Silver 5000 PPO-6S 2017",null,null,null,null,77016,null,null,77036,"Houston","Texas","Harris","Y","Y",null,null,77036,"Houston","Texas","Harris"]
[null,null,null,null,null,null,null,null,null,"Decline",null,null,null,null,null,null,"Select Silver 4000 HSA PPO",null,null,null,null,"Silver 4000 HSA PPO-6S 2017",null,null,null,null,77017,null,null,77037,"Houston","Texas","Harris","Y","Y",null,null,77037,"Houston","Texas","Harris"]
[null,null,null,null,null,null,null,null,null,null,null,null,null,null,null,null,"Select Bronze 6850 PPO",null,null,null,null,"Bronze 6850 PPO-6S 2017",null,null,null,null,77018,null,null,77038,"Houston","Texas","Harris","Y","Y",null,null,77038,"Houston","Texas","Harris"]
[null,null,null,null,null,null,null,null,null,null,null,null,null,null,null,null,"Select Bronze 5000 HSA PPO",null,null,null,null,"Bronze 5000 HSA PPO-6S 2017",null,null,null,null,77019,null,null,77039,"Houston","Texas","Harris","Y","Y",null,null,77039,"Houston","Texas","Harris"]
[null,null,null,null,null,null,null,null,null,null,null,null,null,null,null,null,"Select Bronze 6550 HSA PPO",null,null,null,null,"Bronze 6550 HSA PPO-6S 2017",null,null,null,null,77020,null,null,77040,"Houston","Texas","Harris","Y","Y",null,null,77040,"Houston","Texas","Harris"]
[null,null,null,null,null,null,null,null,null,null,null,null,null,null,null,null,"Select Gold 001 HMO",null,null,null,null,"Gold 001 HMO-6S 2017",null,null,null,null,77021,null,null,77041,"Houston","Texas","Harris","Y","Y",null,null,77041,"Houston","Texas","Harris"]
[null,null,null,null,null,null,null,null,null,null,null,null,null,null,null,null,"Select Gold 1500 HMO",null,null,null,null,"Gold 1500 HMO-6S 2017",null,null,null,null,77022,null,null,77042,"Houston","Texas","Harris","Y","Y",null,null,77042,"Houston","Texas","Harris"]
[null,null,null,"2020 SMALL GROUP ACA & HYBRID PLANS",null,null,null,null,"2023 SMALL GROUP ACA & HYBRID PLANS",null,null,null,null,null,null,null,"Select Gold 2000 HMO",null,null,null,null,"Gold 2000 HMO-6S 2017",null,null,null,null,77023,null,null,77043,"Houston","Texas","Harris","Y","Y",null,null,77043,"Houston","Texas","Harris"]
[null,null,null,null,"Select Gold 1000 HMO","HMO",null,null,null,"Select Gold 1000 HMO                   ","HMO",null,null,null,null,null,"Select Silver 002 HMO",null,null,null,null,"Silver 002 HMO-6S 2017",null,null,null,null,77024,null,null,77044,"Houston","Texas","Harris","Y","Y",null,null,77044,"Houston","Texas","Harris"]
[null,null,null,null,"Select Gold 1500 HMO","HMO",null,null,null,"Select Gold 1500 HMO                   ","HMO",null,null,null,null,null,"Select Silver 3000 HMO",null,null,null,null,"Silver 3000 HMO-6S 2017",null,null,null,null,77025,null,null,77045,"Houston","Texas","Harris","Y","Y",null,null,77045,"Houston","Texas","Harris"]
[null,null,null,null,"Select Gold 3000 HMO","HMO",null,null,null,"Select Gold 3000 HMO                   ","HMO",null,null,null,null,null,"Select Silver 4000 HSA HMO",null,null,null,null,"Silver 4000 HSA HMO-6S 2017",null,null,null,null,77026,null,null,77046,"Houston","Texas","Harris","Y","Y",null,null,77046,"Houston","Texas","Harris"]
[null,null,null,null,"Select Gold 001 HMO","HMO",null,null,null,"Select Gold 001 HMO                   ","HMO",null,null,null,null,null,"Select Bronze 6850 HMO",null,null,null,null,"Bronze 6850 HMO-6S 2017",null,null,null,null,77027,null,null,77047,"Houston","Texas","Harris","Y","Y",null,null,77047,"Houston","Texas","Harris"]
[null,null,null,null,"Select Platinum 500 HMO","HMO",null,null,null,"Select Platinum 500 HMO                   ","HMO",null,null,null,null,null,"Select Bronze 6550 HSA HMO",null,null,null,null,"Bronze 6550 HSA HMO-6S 2017",null,null,null,null,77028,null,null,77048,"Houston","Texas","Harris","Y","Y",null,null,77048,"Houston","Texas","Harris"]
[null,null,null,null,"Select Gold 3000 PPO","PPO",null,null,null,"Select Gold 3000 PPO                   ","PPO",null,null,null,null,null,null,null,null,null,null,null,null,null,null,null,77029,null,null,77049,"Houston","Texas","Harris","Y","Y",null,null,77049,"Houston","Texas","Harris"]
[null,null,null,null,"Select 7500 HMO","HMO",null,null,null,"Select 7500 HMO                   ","HMO",null,null,null,null,null,null,null,null,null,null,null,null,null,null,null,77030,null,null,77050,"Houston","Texas","Harris","Y","Y",null,null,77050,"Houston","Texas","Harris"]
[null,null,null,null,"Select 6350 HSA HMO","HMO",null,null,null,"Select 6850 HMO                   ","HMO",null,null,null,null,null,null,null,null,null,null,null,null,null,null,null,77031,null,null,77051,"Houston","Texas","Harris","Y","Y",null,null,77051,"Houston","Texas","Harris"]
[null,null,null,null,"Select 6850 HMO","HMO",null,null,null,"Select 6350 HSA HMO                   ","HMO",null,null,null,null,null,null,null,null,null,null,null,null,null,null,null,77032,null,null,77052,"Houston","Texas","Harris","Y","Y",null,null,77052,"Houston","Texas","Harris"]
[null,null,null,null,"Select 5000 HSA HMO","HMO",null,null,null,"Select 5000 HMO                   ","HMO",null,null,null,null,null,null,null,null,null,null,null,null,null,null,null,77033,null,null,77054,"Houston","Texas","Harris","Y","Y",null,null,77054,"Houston","Texas","Harris"]
[null,null,null,null,"Select 4000 HSA HMO","HMO",null,null,null,"Select 5000 HSA HMO                   ","HMO",null,null,null,null,null,null,null,null,null,null,null,null,null,null,null,77034,null,null,77055,"Houston","Texas","Harris","Y","Y",null,null,77055,"Houston","Texas","Harris"]
[null,null,null,null,"Select 002 HMO","HMO",null,null,null,"Select 4000 HSA HMO                   ","HMO",null,null,null,null,null,null,null,null,null,null,null,null,null,null,null,77035,null,null,77056,"Houston","Texas","Harris","Y","Y",null,null,77056,"Houston","Texas","Harris"]
[null,null,null,null,"Select 5000 HMO","HMO",null,null,null,"Select 3000 HMO                   ","HMO",null,null,null,null,null,null,null,null,null,null,null,null,null,null,null,77036,null,null,77057,"Houston","Texas","Harris","Y","Y",null,null,77057,"Houston","Texas","Harris"]
[null,null,null,null,"Select 3000 HMO","HMO",null,null,null,"Select 002 HMO                   ","HMO",null,null,null,null,null,null,null,null,null,null,null,null,null,null,null,77037,null,null,77058,"Houston","Texas","Harris","Y","Y",null,null,77058,"Houston","Texas","Harris"]
[null,null,null,null,"Select 3000 HSA HMO","HMO",null,null,null,"Select 3000-100 HMO                   ","HMO",null,null,null,null,null,null,null,null,null,null,null,null,null,null,null,77038,null,null,77059,"Houston","Texas","Harris","Y","Y",null,null,77059,"Houston","Texas","Harris"]
[null,null,null,null,"Select 1000 HMO","HMO",null,null,null,"Select 3000 HSA HMO                   ","HMO",null,null,null,null,null,null,null,null,null,null,null,null,null,null,null,77039,null,null,77060,"Houston","Texas","Harris","Y","Y",null,null,77060,"Houston","Texas","Harris"]
[null,null,null,null,"Select 1500 HMO","HMO",null,null,null,"Select 1000 HMO                   ","HMO",null,null,null,null,null,null,null,null,null,null,null,null,null,null,null,77040,null,null,77061,"Houston","Texas","Harris","Y","Y",null,null,77061,"Houston","Texas","Harris"]
[null,null,null,null,"Select 2350 HMO","HMO",null,null,null,"Select 1500 HMO                   ","HMO",null,null,null,null,null,null,null,null,null,null,null,null,null,null,null,77041,null,null,77062,"Houston","Texas","Harris","Y","Y",null,null,77062,"Houston","Texas","Harris"]
[null,null,null,null,"Select 001 HMO","HMO",null,null,null,"Select 001 HMO                   ","HMO",null,null,null,null,null,null,null,null,null,null,null,null,null,null,null,77042,null,null,77063,"Houston","Texas","Harris","Y","Y",null,null,77063,"Houston","Texas","Harris"]
[null,null,null,null,"Select 500 HMO","HMO",null,null,null,"Select 2350 HMO                   ","HMO",null,null,null,null,null,null,null,null,null,null,null,null,null,null,null,77043,null,null,77064,"Houston","Texas","Harris","Y","Y",null,null,77064,"Houston","Texas","Harris"]
[null,null,null,null,"Select 3000 PPO","PPO",null,null,null,"Select 1500-100 HMO                   ","HMO",null,null,null,null,null,null,null,null,null,null,null,null,null,null,null,77044,null,null,77065,"Houston","Texas","Harris","Y","Y",null,null,77065,"Houston","Texas","Harris"]
[null,null,null,null,"Select 2350 PPO","PPO",null,null,null,"Select 500 HMO                   ","PPO",null,null,null,null,null,null,null,null,null,null,null,null,null,null,null,77045,null,null,77066,"Houston","Texas","Harris","Y","Y",null,null,77066,"Houston","Texas","Harris"]
[null,null,null,null,"Waived",null,null,null,null,"Select 7500 PPO                   ","PPO",null,null,null,null,null,null,null,null,null,null,null,null,null,null,null,77046,null,null,77067,"Houston","Texas","Harris","Y","Y",null,null,77067,"Houston","Texas","Harris"]
[null,null,null,null,"Declined",null,null,null,null,"Select 6350 HSA PPO                   ","PPO",null,null,null,null,null,null,null,null,null,null,null,null,null,null,null,77047,null,null,77068,"Houston","Texas","Harris","Y","Y",null,null,77068,"Houston","Texas","Harris"]
[null,null,null,null,null,null,null,null,null,"Select 5000 HSA PPO                   ","PPO",null,null,null,null,null,null,null,null,null,null,null,null,null,null,null,77048,null,null,77069,"Houston","Texas","Harris","Y","Y",null,null,77069,"Houston","Texas","Harris"]
[null,null,null,null,null,null,null,null,null,"Select 002 PPO                   ","PPO",null,null,null,null,null,null,null,null,null,null,null,null,null,null,null,77049,null,null,77070,"Houston","Texas","Harris","Y","Y",null,null,77070,"Houston","Texas","Harris"]
[null,null,null,null,null,null,null,null,null,"Select 3000 PPO                   ","PPO",null,null,null,null,null,null,null,null,null,null,null,null,null,null,null,77050,null,null,77071,"Houston","Texas","Harris","Y","Y",null,null,77071,"Houston","Texas","Harris"]
[null,null,null,null,null,null,null,null,null,"Select 2350 PPO                   ","PPO",null,null,null,null,null,null,null,null,null,null,null,null,null,null,null,77051,null,null,77072,"Houston","Texas","Harris","Y","Y",null,null,77072,"Houston","Texas","Harris"]
[null,null,null,null,null,null,null,null,null,"Select 1500 PPO                   ","PPO",null,null,null,null,null,null,null,null,null,null,null,null,null,null,null,77052,null,null,77073,"Houston","Texas","Harris","Y","Y",null,null,77073,"Houston","Texas","Harris"]
[null,null,null,null,null,null,null,null,null,"Waived",null,null,null,null,null,null,null,null,null,null,null,null,null,null,null,null,77053,null,null,77074,"Houston","Texas","Harris","Y","Y",null,null,77074,"Houston","Texas","Harris"]
[null,null,null,null,null,null,null,null,null,"Declined",null,null,null,null,null,null,null,null,null,null,null,null,null,null,null,null,77054,null,null,77075,"Houston","Texas","Harris","Y","Y",null,null,77075,"Houston","Texas","Harris"]
[null,null,null,null,null,null,null,null,null,null,null,null,null,null,null,null,null,null,null,null,null,null,null,null,null,null,77055,null,null,77076,"Houston","Texas","Harris","Y","Y",null,null,77076,"Houston","Texas","Harris"]
[null,null,null,null,null,null,null,null,null,null,null,null,null,null,null,null,null,null,null,null,null,null,null,null,null,null,77056,null,null,77077,"Houston","Texas","Harris","Y","Y",null,null,77077,"Houston","Texas","Harris"]
[null,null,null,null,null,null,null,null,null,null,null,null,null,null,null,null,null,null,null,null,null,null,null,null,null,null,77057,null,null,77078,"Houston","Texas","Harris","Y","Y",null,null,77078,"Houston","Texas","Harris"]
[null,null,null,null,null,null,null,null,null,null,null,null,null,null,null,null,null,null,null,null,null,null,null,null,null,null,77058,null,null,77079,"Houston","Texas","Harris","Y","Y",null,null,77079,"Houston","Texas","Harris"]
[null,null,null,null,null,null,null,null,null,null,null,null,null,null,null,null,null,null,null,null,null,null,null,null,null,null,77059,null,null,77080,"Houston","Texas","Harris","Y","Y",null,null,77080,"Houston","Texas","Harris"]
[null,null,null,null,null,null,null,null,null,null,null,null,null,null,null,null,null,null,null,null,null,null,null,null,null,null,77060,null,null,77081,"Houston","Texas","Harris","Y","Y",null,null,77081,"Houston","Texas","Harris"]
[null,null,null,null,null,null,null,null,null,null,null,null,null,null,null,null,null,null,null,null,null,null,null,null,null,null,77061,null,null,77082,"Houston","Texas","Harris","Y","Y",null,null,77082,"Houston","Texas","Harris"]
[null,null,null,null,null,null,null,null,null,null,null,null,null,null,null,null,null,null,null,null,null,null,null,null,null,null,77062,null,null,77083,"Houston","Texas","Harris","Y","Y",null,null,77083,"Houston","Texas","Harris"]
[null,null,null,null,null,null,null,null,null,null,null,null,null,null,null,null,null,null,null,null,null,null,null,null,null,null,77063,null,null,77084,"Houston","Texas","Harris","Y","Y",null,null,77084,"Houston","Texas","Harris"]
[null,null,null,null,null,null,null,null,null,null,null,null,null,null,null,null,null,null,null,null,null,null,null,null,null,null,77064,null,null,77085,"Houston","Texas","Harris","Y","Y",null,null,77085,"Houston","Texas","Harris"]
[null,null,null,null,null,null,null,null,null,null,null,null,null,null,null,null,null,null,null,null,null,null,null,null,null,null,77065,null,null,77086,"Houston","Texas","Harris","Y","Y",null,null,77086,"Houston","Texas","Harris"]
[null,null,null,null,null,null,null,null,null,null,null,null,null,null,null,null,null,null,null,null,null,null,null,null,null,null,77066,null,null,77087,"Houston","Texas","Harris","Y","Y",null,null,77087,"Houston","Texas","Harris"]
[null,null,null,null,null,null,null,null,null,null,null,null,null,null,null,null,null,null,null,null,null,null,null,null,null,null,77067,null,null,77088,"Houston","Texas","Harris","Y","Y",null,null,77088,"Houston","Texas","Harris"]
[null,null,null,null,null,null,null,null,null,null,null,null,null,null,null,null,null,null,null,null,null,null,null,null,null,null,77068,null,null,77089,"Houston","Texas","Harris","Y","Y",null,null,77089,"Houston","Texas","Harris"]
[null,null,null,null,null,null,null,null,null,null,null,null,null,null,null,null,null,null,null,null,null,null,null,null,null,null,77069,null,null,77090,"Houston","Texas","Harris","Y","Y",null,null,77090,"Houston","Texas","Harris"]
[null,null,null,null,null,null,null,null,null,null,null,null,null,null,null,null,null,null,null,null,null,null,null,null,null,null,77070,null,null,77091,"Houston","Texas","Harris","Y","Y",null,null,77091,"Houston","Texas","Harris"]
[null,null,null,null,null,null,null,null,null,null,null,null,null,null,null,null,null,null,null,null,null,null,null,null,null,null,77071,null,null,77092,"Houston","Texas","Harris","Y","Y",null,null,77092,"Houston","Texas","Harris"]
[null,null,null,null,null,null,null,null,null,null,null,null,null,null,null,null,null,null,null,null,null,null,null,null,null,null,77072,null,null,77093,"Houston","Texas","Harris","Y","Y",null,null,77093,"Houston","Texas","Harris"]
[null,null,null,null,null,null,null,null,null,null,null,null,null,null,null,null,null,null,null,null,null,null,null,null,null,null,77073,null,null,77094,"Houston","Texas","Harris","Y","Y",null,null,77094,"Houston","Texas","Harris"]
[null,null,null,null,null,null,null,null,null,null,null,null,null,null,null,null,null,null,null,null,null,null,null,null,null,null,77074,null,null,77095,"Houston","Texas","Harris","Y","Y",null,null,77095,"Houston","Texas","Harris"]
[null,null,null,null,null,null,null,null,null,null,null,null,null,null,null,null,null,null,null,null,null,null,null,null,null,null,77075,null,null,77096,"Houston","Texas","Harris","Y","Y",null,null,77096,"Houston","Texas","Harris"]
[null,null,null,null,null,null,null,null,null,null,null,null,null,null,null,null,null,null,null,null,null,null,null,null,null,null,77076,null,null,77097,"Houston","Texas","Harris","Y","Y",null,null,77097,"Houston","Texas","Harris"]
[null,null,null,null,null,null,null,null,null,null,null,null,null,null,null,null,null,null,null,null,null,null,null,null,null,null,77077,null,null,77098,"Houston","Texas","Harris","Y","Y",null,null,77098,"Houston","Texas","Harris"]
[null,null,null,null,null,null,null,null,null,null,null,null,null,null,null,null,null,null,null,null,null,null,null,null,null,null,77078,null,null,77099,"Houston","Texas","Harris","Y","Y",null,null,77099,"Houston","Texas","Harris"]
[null,null,null,null,null,null,null,null,null,null,null,null,null,null,null,null,null,null,null,null,null,null,null,null,null,null,77079,null,null,77201,"Houston","Texas","Harris","Y","Y",null,null,77201,"Houston","Texas","Harris"]
[null,null,null,null,null,null,null,null,null,null,null,null,null,null,null,null,null,null,null,null,null,null,null,null,null,null,77080,null,null,77202,"Houston","Texas","Harris","Y","Y",null,null,77202,"Houston","Texas","Harris"]
[null,null,null,null,null,null,null,null,null,null,null,null,null,null,null,null,null,null,null,null,null,null,null,null,null,null,77081,null,null,77203,"Houston","Texas","Harris","Y","Y",null,null,77203,"Houston","Texas","Harris"]
[null,null,null,null,null,null,null,null,null,null,null,null,null,null,null,null,null,null,null,null,null,null,null,null,null,null,77082,null,null,77204,"Houston","Texas","Harris","Y","Y",null,null,77204,"Houston","Texas","Harris"]
[null,null,null,null,null,null,null,null,null,null,null,null,null,null,null,null,null,null,null,null,null,null,null,null,null,null,77083,null,null,77205,"Houston","Texas","Harris","Y","Y",null,null,77205,"Houston","Texas","Harris"]
[null,null,null,null,null,null,null,null,null,null,null,null,null,null,null,null,null,null,null,null,null,null,null,null,null,null,77084,null,null,77206,"Houston","Texas","Harris","Y","Y",null,null,77206,"Houston","Texas","Harris"]
[null,null,null,null,null,null,null,null,null,null,null,null,null,null,null,null,null,null,null,null,null,null,null,null,null,null,77085,null,null,77207,"Houston","Texas","Harris","Y","Y",null,null,77207,"Houston","Texas","Harris"]
[null,null,null,null,null,null,null,null,null,null,null,null,null,null,null,null,null,null,null,null,null,null,null,null,null,null,77086,null,null,77208,"Houston","Texas","Harris","Y","Y",null,null,77208,"Houston","Texas","Harris"]
[null,null,null,null,null,null,null,null,null,null,null,null,null,null,null,null,null,null,null,null,null,null,null,null,null,null,77087,null,null,77209,"Houston","Texas","Harris","Y","Y",null,null,77209,"Houston","Texas","Harris"]
[null,null,null,null,null,null,null,null,null,null,null,null,null,null,null,null,null,null,null,null,null,null,null,null,null,null,77088,null,null,77210,"Houston","Texas","Harris","Y","Y",null,null,77210,"Houston","Texas","Harris"]
[null,null,null,null,null,null,null,null,null,null,null,null,null,null,null,null,null,null,null,null,null,null,null,null,null,null,77089,null,null,77212,"Houston","Texas","Harris","Y","Y",null,null,77212,"Houston","Texas","Harris"]
[null,null,null,null,null,null,null,null,null,null,null,null,null,null,null,null,null,null,null,null,null,null,null,null,null,null,77090,null,null,77213,"Houston","Texas","Harris","Y","Y",null,null,77213,"Houston","Texas","Harris"]
[null,null,null,null,null,null,null,null,null,null,null,null,null,null,null,null,null,null,null,null,null,null,null,null,null,null,77091,null,null,77215,"Houston","Texas","Harris","Y","Y",null,null,77215,"Houston","Texas","Harris"]
[null,null,null,null,null,null,null,null,null,null,null,null,null,null,null,null,null,null,null,null,null,null,null,null,null,null,77092,null,null,77216,"Houston","Texas","Harris","Y","Y",null,null,77216,"Houston","Texas","Harris"]
[null,null,null,null,null,null,null,null,null,null,null,null,null,null,null,null,null,null,null,null,null,null,null,null,null,null,77093,null,null,77217,"Houston","Texas","Harris","Y","Y",null,null,77217,"Houston","Texas","Harris"]
[null,null,null,null,null,null,null,null,null,null,null,null,null,null,null,null,null,null,null,null,null,null,null,null,null,null,77094,null,null,77218,"Houston","Texas","Harris","Y","Y",null,null,77218,"Houston","Texas","Harris"]
[null,null,null,null,null,null,null,null,null,null,null,null,null,null,null,null,null,null,null,null,null,null,null,null,null,null,77095,null,null,77219,"Houston","Texas","Harris","Y","Y",null,null,77219,"Houston","Texas","Harris"]
[null,null,null,null,null,null,null,null,null,null,null,null,null,null,null,null,null,null,null,null,null,null,null,null,null,null,77096,null,null,77220,"Houston","Texas","Harris","Y","Y",null,null,77220,"Houston","Texas","Harris"]
[null,null,null,null,null,null,null,null,null,null,null,null,null,null,null,null,null,null,null,null,null,null,null,null,null,null,77097,null,null,77221,"Houston","Texas","Harris","Y","Y",null,null,77221,"Houston","Texas","Harris"]
[null,null,null,null,null,null,null,null,null,null,null,null,null,null,null,null,null,null,null,null,null,null,null,null,null,null,77098,null,null,77222,"Houston","Texas","Harris","Y","Y",null,null,77222,"Houston","Texas","Harris"]
[null,null,null,null,null,null,null,null,null,null,null,null,null,null,null,null,null,null,null,null,null,null,null,null,null,null,77099,null,null,77223,"Houston","Texas","Harris","Y","Y",null,null,77223,"Houston","Texas","Harris"]
[null,null,null,null,null,null,null,null,null,null,null,null,null,null,null,null,null,null,null,null,null,null,null,null,null,null,77201,null,null,77224,"Houston","Texas","Harris","Y","Y",null,null,77224,"Houston","Texas","Harris"]
[null,null,null,null,null,null,null,null,null,null,null,null,null,null,null,null,null,null,null,null,null,null,null,null,null,null,77202,null,null,77225,"Houston","Texas","Harris","Y","Y",null,null,77225,"Houston","Texas","Harris"]
[null,null,null,null,null,null,null,null,null,null,null,null,null,null,null,null,null,null,null,null,null,null,null,null,null,null,77203,null,null,77226,"Houston","Texas","Harris","Y","Y",null,null,77226,"Houston","Texas","Harris"]
[null,null,null,null,null,null,null,null,null,null,null,null,null,null,null,null,null,null,null,null,null,null,null,null,null,null,77204,null,null,77227,"Houston","Texas","Harris","Y","Y",null,null,77227,"Houston","Texas","Harris"]
[null,null,null,null,null,null,null,null,null,null,null,null,null,null,null,null,null,null,null,null,null,null,null,null,null,null,77205,null,null,77228,"Houston","Texas","Harris","Y","Y",null,null,77228,"Houston","Texas","Harris"]
[null,null,null,null,null,null,null,null,null,null,null,null,null,null,null,null,null,null,null,null,null,null,null,null,null,null,77206,null,null,77229,"Houston","Texas","Harris","Y","Y",null,null,77229,"Houston","Texas","Harris"]
[null,null,null,null,null,null,null,null,null,null,null,null,null,null,null,null,null,null,null,null,null,null,null,null,null,null,77207,null,null,77230,"Houston","Texas","Harris","Y","Y",null,null,77230,"Houston","Texas","Harris"]
[null,null,null,null,null,null,null,null,null,null,null,null,null,null,null,null,null,null,null,null,null,null,null,null,null,null,77208,null,null,77231,"Houston","Texas","Harris","Y","Y",null,null,77231,"Houston","Texas","Harris"]
[null,null,null,null,null,null,null,null,null,null,null,null,null,null,null,null,null,null,null,null,null,null,null,null,null,null,77209,null,null,77233,"Houston","Texas","Harris","Y","Y",null,null,77233,"Houston","Texas","Harris"]
[null,null,null,null,null,null,null,null,null,null,null,null,null,null,null,null,null,null,null,null,null,null,null,null,null,null,77210,null,null,77234,"Houston","Texas","Harris","Y","Y",null,null,77234,"Houston","Texas","Harris"]
[null,null,null,null,null,null,null,null,null,null,null,null,null,null,null,null,null,null,null,null,null,null,null,null,null,null,77212,null,null,77235,"Houston","Texas","Harris","Y","Y",null,null,77235,"Houston","Texas","Harris"]
[null,null,null,null,null,null,null,null,null,null,null,null,null,null,null,null,null,null,null,null,null,null,null,null,null,null,77213,null,null,77236,"Houston","Texas","Harris","Y","Y",null,null,77236,"Houston","Texas","Harris"]
[null,null,null,null,null,null,null,null,null,null,null,null,null,null,null,null,null,null,null,null,null,null,null,null,null,null,77215,null,null,77237,"Houston","Texas","Harris","Y","Y",null,null,77237,"Houston","Texas","Harris"]
[null,null,null,null,null,null,null,null,null,null,null,null,null,null,null,null,null,null,null,null,null,null,null,null,null,null,77216,null,null,77238,"Houston","Texas","Harris","Y","Y",null,null,77238,"Houston","Texas","Harris"]
[null,null,null,null,null,null,null,null,null,null,null,null,null,null,null,null,null,null,null,null,null,null,null,null,null,null,77217,null,null,77240,"Houston","Texas","Harris","Y","Y",null,null,77240,"Houston","Texas","Harris"]
[null,null,null,null,null,null,null,null,null,null,null,null,null,null,null,null,null,null,null,null,null,null,null,null,null,null,77218,null,null,77241,"Houston","Texas","Harris","Y","Y",null,null,77241,"Houston","Texas","Harris"]
[null,null,null,null,null,null,null,null,null,null,null,null,null,null,null,null,null,null,null,null,null,null,null,null,null,null,77219,null,null,77242,"Houston","Texas","Harris","Y","Y",null,null,77242,"Houston","Texas","Harris"]
[null,null,null,null,null,null,null,null,null,null,null,null,null,null,null,null,null,null,null,null,null,null,null,null,null,null,77220,null,null,77243,"Houston","Texas","Harris","Y","Y",null,null,77243,"Houston","Texas","Harris"]
[null,null,null,null,null,null,null,null,null,null,null,null,null,null,null,null,null,null,null,null,null,null,null,null,null,null,77221,null,null,77244,"Houston","Texas","Harris","Y","Y",null,null,77244,"Houston","Texas","Harris"]
[null,null,null,null,null,null,null,null,null,null,null,null,null,null,null,null,null,null,null,null,null,null,null,null,null,null,77222,null,null,77245,"Houston","Texas","Harris","Y","Y",null,null,77245,"Houston","Texas","Harris"]
[null,null,null,null,null,null,null,null,null,null,null,null,null,null,null,null,null,null,null,null,null,null,null,null,null,null,77223,null,null,77246,"Houston","Texas","Harris","Y","Y",null,null,77246,"Houston","Texas","Harris"]
[null,null,null,null,null,null,null,null,null,null,null,null,null,null,null,null,null,null,null,null,null,null,null,null,null,null,77224,null,null,77247,"Houston","Texas","Harris","Y","Y",null,null,77247,"Houston","Texas","Harris"]
[null,null,null,null,null,null,null,null,null,null,null,null,null,null,null,null,null,null,null,null,null,null,null,null,null,null,77225,null,null,77248,"Houston","Texas","Harris","Y","Y",null,null,77248,"Houston","Texas","Harris"]
[null,null,null,null,null,null,null,null,null,null,null,null,null,null,null,null,null,null,null,null,null,null,null,null,null,null,77226,null,null,77249,"Houston","Texas","Harris","Y","Y",null,null,77249,"Houston","Texas","Harris"]
[null,null,null,null,null,null,null,null,null,null,null,null,null,null,null,null,null,null,null,null,null,null,null,null,null,null,77227,null,null,77250,"Houston","Texas","Harris","Y","Y",null,null,77250,"Houston","Texas","Harris"]
[null,null,null,null,null,null,null,null,null,null,null,null,null,null,null,null,null,null,null,null,null,null,null,null,null,null,77228,null,null,77251,"Houston","Texas","Harris","Y","Y",null,null,77251,"Houston","Texas","Harris"]
[null,null,null,null,null,null,null,null,null,null,null,null,null,null,null,null,null,null,null,null,null,null,null,null,null,null,77229,null,null,77252,"Houston","Texas","Harris","Y","Y",null,null,77252,"Houston","Texas","Harris"]
[null,null,null,null,null,null,null,null,null,null,null,null,null,null,null,null,null,null,null,null,null,null,null,null,null,null,77230,null,null,77253,"Houston","Texas","Harris","Y","Y",null,null,77253,"Houston","Texas","Harris"]
[null,null,null,null,null,null,null,null,null,null,null,null,null,null,null,null,null,null,null,null,null,null,null,null,null,null,77231,null,null,77254,"Houston","Texas","Harris","Y","Y",null,null,77254,"Houston","Texas","Harris"]
[null,null,null,null,null,null,null,null,null,null,null,null,null,null,null,null,null,null,null,null,null,null,null,null,null,null,77233,null,null,77255,"Houston","Texas","Harris","Y","Y",null,null,77255,"Houston","Texas","Harris"]
[null,null,null,null,null,null,null,null,null,null,null,null,null,null,null,null,null,null,null,null,null,null,null,null,null,null,77234,null,null,77256,"Houston","Texas","Harris","Y","Y",null,null,77256,"Houston","Texas","Harris"]
[null,null,null,null,null,null,null,null,null,null,null,null,null,null,null,null,null,null,null,null,null,null,null,null,null,null,77235,null,null,77257,"Houston","Texas","Harris","Y","Y",null,null,77257,"Houston","Texas","Harris"]
[null,null,null,null,null,null,null,null,null,null,null,null,null,null,null,null,null,null,null,null,null,null,null,null,null,null,77236,null,null,77258,"Houston","Texas","Harris","Y","Y",null,null,77258,"Houston","Texas","Harris"]
[null,null,null,null,null,null,null,null,null,null,null,null,null,null,null,null,null,null,null,null,null,null,null,null,null,null,77237,null,null,77259,"Houston","Texas","Harris","Y","Y",null,null,77259,"Houston","Texas","Harris"]
[null,null,null,null,null,null,null,null,null,null,null,null,null,null,null,null,null,null,null,null,null,null,null,null,null,null,77238,null,null,77260,"Houston","Texas","Harris","Y","Y",null,null,77260,"Houston","Texas","Harris"]
[null,null,null,null,null,null,null,null,null,null,null,null,null,null,null,null,null,null,null,null,null,null,null,null,null,null,77240,null,null,77261,"Houston","Texas","Harris","Y","Y",null,null,77261,"Houston","Texas","Harris"]
[null,null,null,null,null,null,null,null,null,null,null,null,null,null,null,null,null,null,null,null,null,null,null,null,null,null,77241,null,null,77262,"Houston","Texas","Harris","Y","Y",null,null,77262,"Houston","Texas","Harris"]
[null,null,null,null,null,null,null,null,null,null,null,null,null,null,null,null,null,null,null,null,null,null,null,null,null,null,77242,null,null,77263,"Houston","Texas","Harris","Y","Y",null,null,77263,"Houston","Texas","Harris"]
[null,null,null,null,null,null,null,null,null,null,null,null,null,null,null,null,null,null,null,null,null,null,null,null,null,null,77243,null,null,77265,"Houston","Texas","Harris","Y","Y",null,null,77265,"Houston","Texas","Harris"]
[null,null,null,null,null,null,null,null,null,null,null,null,null,null,null,null,null,null,null,null,null,null,null,null,null,null,77244,null,null,77266,"Houston","Texas","Harris","Y","Y",null,null,77266,"Houston","Texas","Harris"]
[null,null,null,null,null,null,null,null,null,null,null,null,null,null,null,null,null,null,null,null,null,null,null,null,null,null,77245,null,null,77267,"Houston","Texas","Harris","Y","Y",null,null,77267,"Houston","Texas","Harris"]
[null,null,null,null,null,null,null,null,null,null,null,null,null,null,null,null,null,null,null,null,null,null,null,null,null,null,77246,null,null,77268,"Houston","Texas","Harris","Y","Y",null,null,77268,"Houston","Texas","Harris"]
[null,null,null,null,null,null,null,null,null,null,null,null,null,null,null,null,null,null,null,null,null,null,null,null,null,null,77247,null,null,77269,"Houston","Texas","Harris","Y","Y",null,null,77269,"Houston","Texas","Harris"]
[null,null,null,null,null,null,null,null,null,null,null,null,null,null,null,null,null,null,null,null,null,null,null,null,null,null,77248,null,null,77270,"Houston","Texas","Harris","Y","Y",null,null,77270,"Houston","Texas","Harris"]
[null,null,null,null,null,null,null,null,null,null,null,null,null,null,null,null,null,null,null,null,null,null,null,null,null,null,77249,null,null,77271,"Houston","Texas","Harris","Y","Y",null,null,77271,"Houston","Texas","Harris"]
[null,null,null,null,null,null,null,null,null,null,null,null,null,null,null,null,null,null,null,null,null,null,null,null,null,null,77250,null,null,77272,"Houston","Texas","Harris","Y","Y",null,null,77272,"Houston","Texas","Harris"]
[null,null,null,null,null,null,null,null,null,null,null,null,null,null,null,null,null,null,null,null,null,null,null,null,null,null,77251,null,null,77273,"Houston","Texas","Harris","Y","Y",null,null,77273,"Houston","Texas","Harris"]
[null,null,null,null,null,null,null,null,null,null,null,null,null,null,null,null,null,null,null,null,null,null,null,null,null,null,77252,null,null,77274,"Houston","Texas","Harris","Y","Y",null,null,77274,"Houston","Texas","Harris"]
[null,null,null,null,null,null,null,null,null,null,null,null,null,null,null,null,null,null,null,null,null,null,null,null,null,null,77253,null,null,77275,"Houston","Texas","Harris","Y","Y",null,null,77275,"Houston","Texas","Harris"]
[null,null,null,null,null,null,null,null,null,null,null,null,null,null,null,null,null,null,null,null,null,null,null,null,null,null,77254,null,null,77276,"Houston","Texas","Harris","Y","Y",null,null,77276,"Houston","Texas","Harris"]
[null,null,null,null,null,null,null,null,null,null,null,null,null,null,null,null,null,null,null,null,null,null,null,null,null,null,77255,null,null,77277,"Houston","Texas","Harris","Y","Y",null,null,77277,"Houston","Texas","Harris"]
[null,null,null,null,null,null,null,null,null,null,null,null,null,null,null,null,null,null,null,null,null,null,null,null,null,null,77256,null,null,77278,"Houston","Texas","Harris","Y","Y",null,null,77278,"Houston","Texas","Harris"]
[null,null,null,null,null,null,null,null,null,null,null,null,null,null,null,null,null,null,null,null,null,null,null,null,null,null,77257,null,null,77279,"Houston","Texas","Harris","Y","Y",null,null,77279,"Houston","Texas","Harris"]
[null,null,null,null,null,null,null,null,null,null,null,null,null,null,null,null,null,null,null,null,null,null,null,null,null,null,77258,null,null,77280,"Houston","Texas","Harris","Y","Y",null,null,77280,"Houston","Texas","Harris"]
[null,null,null,null,null,null,null,null,null,null,null,null,null,null,null,null,null,null,null,null,null,null,null,null,null,null,77259,null,null,77282,"Houston","Texas","Harris","Y","Y",null,null,77282,"Houston","Texas","Harris"]
[null,null,null,null,null,null,null,null,null,null,null,null,null,null,null,null,null,null,null,null,null,null,null,null,null,null,77260,null,null,77284,"Houston","Texas","Harris","Y","Y",null,null,77284,"Houston","Texas","Harris"]
[null,null,null,null,null,null,null,null,null,null,null,null,null,null,null,null,null,null,null,null,null,null,null,null,null,null,77261,null,null,77285,"Houston","Texas","Harris","Y","Y",null,null,77285,"Houston","Texas","Harris"]
[null,null,null,null,null,null,null,null,null,null,null,null,null,null,null,null,null,null,null,null,null,null,null,null,null,null,77262,null,null,77286,"Houston","Texas","Harris","Y","Y",null,null,77286,"Houston","Texas","Harris"]
[null,null,null,null,null,null,null,null,null,null,null,null,null,null,null,null,null,null,null,null,null,null,null,null,null,null,77263,null,null,77287,"Houston","Texas","Harris","Y","Y",null,null,77287,"Houston","Texas","Harris"]
[null,null,null,null,null,null,null,null,null,null,null,null,null,null,null,null,null,null,null,null,null,null,null,null,null,null,77265,null,null,77288,"Houston","Texas","Harris","Y","Y",null,null,77288,"Houston","Texas","Harris"]
[null,null,null,null,null,null,null,null,null,null,null,null,null,null,null,null,null,null,null,null,null,null,null,null,null,null,77266,null,null,77289,"Houston","Texas","Harris","Y","Y",null,null,77289,"Houston","Texas","Harris"]
[null,null,null,null,null,null,null,null,null,null,null,null,null,null,null,null,null,null,null,null,null,null,null,null,null,null,77267,null,null,77290,"Houston","Texas","Harris","Y","Y",null,null,77290,"Houston","Texas","Harris"]
[null,null,null,null,null,null,null,null,null,null,null,null,null,null,null,null,null,null,null,null,null,null,null,null,null,null,77268,null,null,77291,"Houston","Texas","Harris","Y","Y",null,null,77291,"Houston","Texas","Harris"]
[null,null,null,null,null,null,null,null,null,null,null,null,null,null,null,null,null,null,null,null,null,null,null,null,null,null,77269,null,null,77292,"Houston","Texas","Harris","Y","Y",null,null,77292,"Houston","Texas","Harris"]
[null,null,null,null,null,null,null,null,null,null,null,null,null,null,null,null,null,null,null,null,null,null,null,null,null,null,77270,null,null,77293,"Houston","Texas","Harris","Y","Y",null,null,77293,"Houston","Texas","Harris"]
[null,null,null,null,null,null,null,null,null,null,null,null,null,null,null,null,null,null,null,null,null,null,null,null,null,null,77271,null,null,77294,"Houston","Texas","Harris","Y","Y",null,null,77294,"Houston","Texas","Harris"]
[null,null,null,null,null,null,null,null,null,null,null,null,null,null,null,null,null,null,null,null,null,null,null,null,null,null,77272,null,null,77296,"Houston","Texas","Harris","Y","Y",null,null,77296,"Houston","Texas","Harris"]
[null,null,null,null,null,null,null,null,null,null,null,null,null,null,null,null,null,null,null,null,null,null,null,null,null,null,77273,null,null,77297,"Houston","Texas","Harris","Y","Y",null,null,77297,"Houston","Texas","Harris"]
[null,null,null,null,null,null,null,null,null,null,null,null,null,null,null,null,null,null,null,null,null,null,null,null,null,null,77274,null,null,77298,"Houston","Texas","Harris","Y","Y",null,null,77298,"Houston","Texas","Harris"]
[null,null,null,null,null,null,null,null,null,null,null,null,null,null,null,null,null,null,null,null,null,null,null,null,null,null,77275,null,null,77299,"Houston","Texas","Harris","Y","Y",null,null,77299,"Houston","Texas","Harris"]
[null,null,null,null,null,null,null,null,null,null,null,null,null,null,null,null,null,null,null,null,null,null,null,null,null,null,77276,null,null,77315,"North Houston","Texas","Harris","Y","Y",null,null,77315,"North Houston","Texas","Harris"]
[null,null,null,null,null,null,null,null,null,null,null,null,null,null,null,null,null,null,null,null,null,null,null,null,null,null,77277,null,null,77325,"Kingwood","Texas","Harris","Y","Y",null,null,77325,"Kingwood","Texas","Harris"]
[null,null,null,null,null,null,null,null,null,null,null,null,null,null,null,null,null,null,null,null,null,null,null,null,null,null,77278,null,null,77336,"Huffman","Texas","Harris","Y","Y",null,null,77336,"Huffman","Texas","Harris"]
[null,null,null,null,null,null,null,null,null,null,null,null,null,null,null,null,null,null,null,null,null,null,null,null,null,null,77279,null,null,77337,"Hufsmith","Texas","Harris","Y","Y",null,null,77337,"Hufsmith","Texas","Harris"]
[null,null,null,null,null,null,null,null,null,null,null,null,null,null,null,null,null,null,null,null,null,null,null,null,null,null,77280,null,null,77338,"Humble","Texas","Harris","Y","Y",null,null,77338,"Humble","Texas","Harris"]
[null,null,null,null,null,null,null,null,null,null,null,null,null,null,null,null,null,null,null,null,null,null,null,null,null,null,77282,null,null,77339,"Kingwood","Texas","Harris","Y","Y",null,null,77339,"Kingwood","Texas","Harris"]
[null,null,null,null,null,null,null,null,null,null,null,null,null,null,null,null,null,null,null,null,null,null,null,null,null,null,77284,null,null,77345,"Kingwood","Texas","Harris","Y","Y",null,null,77345,"Kingwood","Texas","Harris"]
[null,null,null,null,null,null,null,null,null,null,null,null,null,null,null,null,null,null,null,null,null,null,null,null,null,null,77285,null,null,77346,"Humble","Texas","Harris","Y","Y",null,null,77346,"Humble","Texas","Harris"]
[null,null,null,null,null,null,null,null,null,null,null,null,null,null,null,null,null,null,null,null,null,null,null,null,null,null,77286,null,null,77347,"Humble","Texas","Harris","Y","Y",null,null,77347,"Humble","Texas","Harris"]
[null,null,null,null,null,null,null,null,null,null,null,null,null,null,null,null,null,null,null,null,null,null,null,null,null,null,77287,null,null,77373,"Spring","Texas","Harris","Y","Y",null,null,77373,"Spring","Texas","Harris"]
[null,null,null,null,null,null,null,null,null,null,null,null,null,null,null,null,null,null,null,null,null,null,null,null,null,null,77288,null,null,77375,"Tomball","Texas","Harris","Y","Y",null,null,77375,"Tomball","Texas","Harris"]
[null,null,null,null,null,null,null,null,null,null,null,null,null,null,null,null,null,null,null,null,null,null,null,null,null,null,77289,null,null,77377,"Tomball","Texas","Harris","Y","Y",null,null,77377,"Tomball","Texas","Harris"]
[null,null,null,null,null,null,null,null,null,null,null,null,null,null,null,null,null,null,null,null,null,null,null,null,null,null,77290,null,null,77379,"Spring","Texas","Harris","Y","Y",null,null,77379,"Spring","Texas","Harris"]
[null,null,null,null,null,null,null,null,null,null,null,null,null,null,null,null,null,null,null,null,null,null,null,null,null,null,77291,null,null,77383,"Spring","Texas","Harris","Y","Y",null,null,77383,"Spring","Texas","Harris"]
[null,null,null,null,null,null,null,null,null,null,null,null,null,null,null,null,null,null,null,null,null,null,null,null,null,null,77292,null,null,77388,"Spring","Texas","Harris","Y","Y",null,null,77388,"Spring","Texas","Harris"]
[null,null,null,null,null,null,null,null,null,null,null,null,null,null,null,null,null,null,null,null,null,null,null,null,null,null,77293,null,null,77389,"Spring","Texas","Harris","Y","Y",null,null,77389,"Spring","Texas","Harris"]
[null,null,null,null,null,null,null,null,null,null,null,null,null,null,null,null,null,null,null,null,null,null,null,null,null,null,77294,null,null,77391,"Spring","Texas","Harris","Y","Y",null,null,77391,"Spring","Texas","Harris"]
[null,null,null,null,null,null,null,null,null,null,null,null,null,null,null,null,null,null,null,null,null,null,null,null,null,null,77296,null,null,77396,"Humble","Texas","Harris","Y","Y",null,null,77396,"Humble","Texas","Harris"]
[null,null,null,null,null,null,null,null,null,null,null,null,null,null,null,null,null,null,null,null,null,null,null,null,null,null,77297,null,null,77401,"Bellaire","Texas","Harris","Y","Y",null,null,77401,"Bellaire","Texas","Harris"]
[null,null,null,null,null,null,null,null,null,null,null,null,null,null,null,null,null,null,null,null,null,null,null,null,null,null,77298,null,null,77402,"Bellaire","Texas","Harris","Y","Y",null,null,77402,"Bellaire","Texas","Harris"]
[null,null,null,null,null,null,null,null,null,null,null,null,null,null,null,null,null,null,null,null,null,null,null,null,null,null,77299,null,null,77410,"Cypress","Texas","Harris","Y","Y",null,null,77410,"Cypress","Texas","Harris"]
[null,null,null,null,null,null,null,null,null,null,null,null,null,null,null,null,null,null,null,null,null,null,null,null,null,null,77301,null,null,77411,"Alief","Texas","Harris","Y","Y",null,null,77411,"Alief","Texas","Harris"]
[null,null,null,null,null,null,null,null,null,null,null,null,null,null,null,null,null,null,null,null,null,null,null,null,null,null,77302,null,null,77413,"Barker","Texas","Harris","Y","Y",null,null,77413,"Barker","Texas","Harris"]
[null,null,null,null,null,null,null,null,null,null,null,null,null,null,null,null,null,null,null,null,null,null,null,null,null,null,77303,null,null,77429,"Cypress","Texas","Harris","Y","Y",null,null,77429,"Cypress","Texas","Harris"]
[null,null,null,null,null,null,null,null,null,null,null,null,null,null,null,null,null,null,null,null,null,null,null,null,null,null,77304,null,null,77433,"Cypress","Texas","Harris","Y","Y",null,null,77433,"Cypress","Texas","Harris"]
[null,null,null,null,null,null,null,null,null,null,null,null,null,null,null,null,null,null,null,null,null,null,null,null,null,null,77305,null,null,77447,"Hockley","Texas","Harris","Y","Y",null,null,77447,"Hockley","Texas","Harris"]
[null,null,null,null,null,null,null,null,null,null,null,null,null,null,null,null,null,null,null,null,null,null,null,null,null,null,77306,null,null,77449,"Katy","Texas","Harris","Y","Y",null,null,77449,"Katy","Texas","Harris"]
[null,null,null,null,null,null,null,null,null,null,null,null,null,null,null,null,null,null,null,null,null,null,null,null,null,null,77315,null,null,77450,"Katy","Texas","Harris","Y","Y",null,null,77450,"Katy","Texas","Harris"]
[null,null,null,null,null,null,null,null,null,null,null,null,null,null,null,null,null,null,null,null,null,null,null,null,null,null,77316,null,null,77484,"Waller","Texas","Harris","Y","Y",null,null,77484,"Waller","Texas","Harris"]
[null,null,null,null,null,null,null,null,null,null,null,null,null,null,null,null,null,null,null,null,null,null,null,null,null,null,77318,null,null,77491,"Katy","Texas","Harris","Y","Y",null,null,77491,"Katy","Texas","Harris"]
[null,null,null,null,null,null,null,null,null,null,null,null,null,null,null,null,null,null,null,null,null,null,null,null,null,null,77320,null,null,77492,"Katy","Texas","Harris","Y","Y",null,null,77492,"Katy","Texas","Harris"]
[null,null,null,null,null,null,null,null,null,null,null,null,null,null,null,null,null,null,null,null,null,null,null,null,null,null,77325,null,null,77493,"Katy","Texas","Harris","Y","Y",null,null,77493,"Katy","Texas","Harris"]
[null,null,null,null,null,null,null,null,null,null,null,null,null,null,null,null,null,null,null,null,null,null,null,null,null,null,77326,null,null,77501,"Pasadena","Texas","Harris","Y","Y",null,null,77501,"Pasadena","Texas","Harris"]
[null,null,null,null,null,null,null,null,null,null,null,null,null,null,null,null,null,null,null,null,null,null,null,null,null,null,77327,null,null,77502,"Pasadena","Texas","Harris","Y","Y",null,null,77502,"Pasadena","Texas","Harris"]
[null,null,null,null,null,null,null,null,null,null,null,null,null,null,null,null,null,null,null,null,null,null,null,null,null,null,77328,null,null,77503,"Pasadena","Texas","Harris","Y","Y",null,null,77503,"Pasadena","Texas","Harris"]
[null,null,null,null,null,null,null,null,null,null,null,null,null,null,null,null,null,null,null,null,null,null,null,null,null,null,77331,null,null,77504,"Pasadena","Texas","Harris","Y","Y",null,null,77504,"Pasadena","Texas","Harris"]
[null,null,null,null,null,null,null,null,null,null,null,null,null,null,null,null,null,null,null,null,null,null,null,null,null,null,77333,null,null,77505,"Pasadena","Texas","Harris","Y","Y",null,null,77505,"Pasadena","Texas","Harris"]
[null,null,null,null,null,null,null,null,null,null,null,null,null,null,null,null,null,null,null,null,null,null,null,null,null,null,77334,null,null,77506,"Pasadena","Texas","Harris","Y","Y",null,null,77506,"Pasadena","Texas","Harris"]
[null,null,null,null,null,null,null,null,null,null,null,null,null,null,null,null,null,null,null,null,null,null,null,null,null,null,77335,null,null,77507,"Pasadena","Texas","Harris","Y","Y",null,null,77507,"Pasadena","Texas","Harris"]
[null,null,null,null,null,null,null,null,null,null,null,null,null,null,null,null,null,null,null,null,null,null,null,null,null,null,77336,null,null,77508,"Pasadena","Texas","Harris","Y","Y",null,null,77508,"Pasadena","Texas","Harris"]
[null,null,null,null,null,null,null,null,null,null,null,null,null,null,null,null,null,null,null,null,null,null,null,null,null,null,77337,null,null,77520,"Baytown","Texas","Harris","Y","Y",null,null,77520,"Baytown","Texas","Harris"]
[null,null,null,null,null,null,null,null,null,null,null,null,null,null,null,null,null,null,null,null,null,null,null,null,null,null,77338,null,null,77521,"Baytown","Texas","Harris","Y","Y",null,null,77521,"Baytown","Texas","Harris"]
[null,null,null,null,null,null,null,null,null,null,null,null,null,null,null,null,null,null,null,null,null,null,null,null,null,null,77339,null,null,77522,"Baytown","Texas","Harris","Y","Y",null,null,77522,"Baytown","Texas","Harris"]
[null,null,null,null,null,null,null,null,null,null,null,null,null,null,null,null,null,null,null,null,null,null,null,null,null,null,77340,null,null,77530,"Channelview","Texas","Harris","Y","Y",null,null,77530,"Channelview","Texas","Harris"]
[null,null,null,null,null,null,null,null,null,null,null,null,null,null,null,null,null,null,null,null,null,null,null,null,null,null,77341,null,null,77532,"Crosby","Texas","Harris","Y","Y",null,null,77532,"Crosby","Texas","Harris"]
[null,null,null,null,null,null,null,null,null,null,null,null,null,null,null,null,null,null,null,null,null,null,null,null,null,null,77342,null,null,77536,"Deer Park","Texas","Harris","Y","Y",null,null,77536,"Deer Park","Texas","Harris"]
[null,null,null,null,null,null,null,null,null,null,null,null,null,null,null,null,null,null,null,null,null,null,null,null,null,null,77343,null,null,77547,"Galena Park","Texas","Harris","Y","Y",null,null,77547,"Galena Park","Texas","Harris"]
[null,null,null,null,null,null,null,null,null,null,null,null,null,null,null,null,null,null,null,null,null,null,null,null,null,null,77344,null,null,77562,"Highlands","Texas","Harris","Y","Y",null,null,77562,"Highlands","Texas","Harris"]
[null,null,null,null,null,null,null,null,null,null,null,null,null,null,null,null,null,null,null,null,null,null,null,null,null,null,77345,null,null,77571,"La Porte","Texas","Harris","Y","Y",null,null,77571,"La Porte","Texas","Harris"]
[null,null,null,null,null,null,null,null,null,null,null,null,null,null,null,null,null,null,null,null,null,null,null,null,null,null,77346,null,null,77572,"La Porte","Texas","Harris","Y","Y",null,null,77572,"La Porte","Texas","Harris"]
[null,null,null,null,null,null,null,null,null,null,null,null,null,null,null,null,null,null,null,null,null,null,null,null,null,null,77347,null,null,77586,"Seabrook","Texas","Harris","Y","Y",null,null,77586,"Seabrook","Texas","Harris"]
[null,null,null,null,null,null,null,null,null,null,null,null,null,null,null,null,null,null,null,null,null,null,null,null,null,null,77348,null,null,77587,"South Houston","Texas","Harris","Y","Y",null,null,77587,"South Houston","Texas","Harris"]
[null,null,null,null,null,null,null,null,null,null,null,null,null,null,null,null,null,null,null,null,null,null,null,null,null,null,77349,null,null,77598,"Webster","Texas","Harris","Y","Y",null,null,77598,"Webster","Texas","Harris"]
[null,null,null,null,null,null,null,null,null,null,null,null,null,null,null,null,null,null,null,null,null,null,null,null,null,null,77350,null,null,77053,"Houston","Texas","Fort Bend","Y","Y",null,null,77053,"Houston","Texas","Fort Bend"]
[null,null,null,null,null,null,null,null,null,null,null,null,null,null,null,null,null,null,null,null,null,null,null,null,null,null,77351,null,null,77406,"Richmond","Texas","Fort Bend","Y","Y",null,null,77406,"Richmond","Texas","Fort Bend"]
[null,null,null,null,null,null,null,null,null,null,null,null,null,null,null,null,null,null,null,null,null,null,null,null,null,null,77353,null,null,77417,"Beasley","Texas","Fort Bend","Y","Y",null,null,77407,"Richmond","Texas","Fort Bend"]
[null,null,null,null,null,null,null,null,null,null,null,null,null,null,null,null,null,null,null,null,null,null,null,null,null,null,77354,null,null,77441,"Fulshear","Texas","Fort Bend","Y","Y",null,null,77417,"Beasley","Texas","Fort Bend"]
[null,null,null,null,null,null,null,null,null,null,null,null,null,null,null,null,null,null,null,null,null,null,null,null,null,null,77355,null,null,77444,"Guy","Texas","Fort Bend","Y","Y",null,null,77441,"Fulshear","Texas","Fort Bend"]
[null,null,null,null,null,null,null,null,null,null,null,null,null,null,null,null,null,null,null,null,null,null,null,null,null,null,77356,null,null,77451,"Kendleton","Texas","Fort Bend","Y","Y",null,null,77444,"Guy","Texas","Fort Bend"]
[null,null,null,null,null,null,null,null,null,null,null,null,null,null,null,null,null,null,null,null,null,null,null,null,null,null,77357,null,null,77459,"Missouri City","Texas","Fort Bend","Y","Y",null,null,77451,"Kendleton","Texas","Fort Bend"]
[null,null,null,null,null,null,null,null,null,null,null,null,null,null,null,null,null,null,null,null,null,null,null,null,null,null,77358,null,null,77461,"Needville","Texas","Fort Bend","Y","Y",null,null,77459,"Missouri City","Texas","Fort Bend"]
[null,null,null,null,null,null,null,null,null,null,null,null,null,null,null,null,null,null,null,null,null,null,null,null,null,null,77359,null,null,77464,"Orchard","Texas","Fort Bend","Y","Y",null,null,77461,"Needville","Texas","Fort Bend"]
[null,null,null,null,null,null,null,null,null,null,null,null,null,null,null,null,null,null,null,null,null,null,null,null,null,null,77360,null,null,77469,"Richmond","Texas","Fort Bend","Y","Y",null,null,77464,"Orchard","Texas","Fort Bend"]
[null,null,null,null,null,null,null,null,null,null,null,null,null,null,null,null,null,null,null,null,null,null,null,null,null,null,77362,null,null,77471,"Rosenberg","Texas","Fort Bend","Y","Y",null,null,77469,"Richmond","Texas","Fort Bend"]
[null,null,null,null,null,null,null,null,null,null,null,null,null,null,null,null,null,null,null,null,null,null,null,null,null,null,77363,null,null,77476,"Simonton","Texas","Fort Bend","Y","Y",null,null,77471,"Rosenberg","Texas","Fort Bend"]
[null,null,null,null,null,null,null,null,null,null,null,null,null,null,null,null,null,null,null,null,null,null,null,null,null,null,77364,null,null,77477,"Stafford","Texas","Fort Bend","Y","Y",null,null,77476,"Simonton","Texas","Fort Bend"]
[null,null,null,null,null,null,null,null,null,null,null,null,null,null,null,null,null,null,null,null,null,null,null,null,null,null,77365,null,null,77478,"Sugar Land","Texas","Fort Bend","Y","Y",null,null,77477,"Stafford","Texas","Fort Bend"]
[null,null,null,null,null,null,null,null,null,null,null,null,null,null,null,null,null,null,null,null,null,null,null,null,null,null,77367,null,null,77479,"Sugar Land","Texas","Fort Bend","Y","Y",null,null,77478,"Sugar Land","Texas","Fort Bend"]
[null,null,null,null,null,null,null,null,null,null,null,null,null,null,null,null,null,null,null,null,null,null,null,null,null,null,77368,null,null,77481,"Thompsons","Texas","Fort Bend","Y","Y",null,null,77479,"Sugar Land","Texas","Fort Bend"]
[null,null,null,null,null,null,null,null,null,null,null,null,null,null,null,null,null,null,null,null,null,null,null,null,null,null,77369,null,null,77487,"Sugar Land","Texas","Fort Bend","Y","Y",null,null,77481,"Thompsons","Texas","Fort Bend"]
[null,null,null,null,null,null,null,null,null,null,null,null,null,null,null,null,null,null,null,null,null,null,null,null,null,null,77371,null,null,77489,"Missouri City","Texas","Fort Bend","Y","Y",null,null,77487,"Sugar Land","Texas","Fort Bend"]
[null,null,null,null,null,null,null,null,null,null,null,null,null,null,null,null,null,null,null,null,null,null,null,null,null,null,77372,null,null,77494,"Katy","Texas","Fort Bend","Y","Y",null,null,77489,"Missouri City","Texas","Fort Bend"]
[null,null,null,null,null,null,null,null,null,null,null,null,null,null,null,null,null,null,null,null,null,null,null,null,null,null,77373,null,null,77496,"Sugar Land","Texas","Fort Bend","Y","Y",null,null,77494,"Katy","Texas","Fort Bend"]
[null,null,null,null,null,null,null,null,null,null,null,null,null,null,null,null,null,null,null,null,null,null,null,null,null,null,77374,null,null,77497,"Stafford","Texas","Fort Bend","Y","Y",null,null,77496,"Sugar Land","Texas","Fort Bend"]
[null,null,null,null,null,null,null,null,null,null,null,null,null,null,null,null,null,null,null,null,null,null,null,null,null,null,77375,null,null,77545,"Fresno","Texas","Fort Bend","Y","Y",null,null,77497,"Stafford","Texas","Fort Bend"]
[null,null,null,null,null,null,null,null,null,null,null,null,null,null,null,null,null,null,null,null,null,null,null,null,null,null,77376,null,null,77053,"Houston","Texas","Fort Bend","Y","Y",null,null,77498,"Sugar Land","Texas","Fort Bend"]
[null,null,null,null,null,null,null,null,null,null,null,null,null,null,null,null,null,null,null,null,null,null,null,null,null,null,77377,null,null,77406,"Richmond","Texas","Fort Bend","Y","Y",null,null,77545,"Fresno","Texas","Fort Bend"]
[null,null,null,null,null,null,null,null,null,null,null,null,null,null,null,null,null,null,null,null,null,null,null,null,null,null,77378,null,null,77417,"Beasley","Texas","Fort Bend","Y","Y",null,null,77301,"Conroe","Texas","Montgomery"]
[null,null,null,null,null,null,null,null,null,null,null,null,null,null,null,null,null,null,null,null,null,null,null,null,null,null,77379,null,null,77441,"Fulshear","Texas","Fort Bend","Y","Y",null,null,77302,"Conroe","Texas","Montgomery"]
[null,null,null,null,null,null,null,null,null,null,null,null,null,null,null,null,null,null,null,null,null,null,null,null,null,null,77380,null,null,77444,"Guy","Texas","Fort Bend","Y","Y",null,null,77303,"Conroe","Texas","Montgomery"]
[null,null,null,null,null,null,null,null,null,null,null,null,null,null,null,null,null,null,null,null,null,null,null,null,null,null,77381,null,null,77451,"Kendleton","Texas","Fort Bend","Y","Y",null,null,77304,"Conroe","Texas","Montgomery"]
[null,null,null,null,null,null,null,null,null,null,null,null,null,null,null,null,null,null,null,null,null,null,null,null,null,null,77382,null,null,77459,"Missouri City","Texas","Fort Bend","Y","Y",null,null,77305,"Conroe","Texas","Montgomery"]
[null,null,null,null,null,null,null,null,null,null,null,null,null,null,null,null,null,null,null,null,null,null,null,null,null,null,77383,null,null,77461,"Needville","Texas","Fort Bend","Y","Y",null,null,77306,"Conroe","Texas","Montgomery"]
[null,null,null,null,null,null,null,null,null,null,null,null,null,null,null,null,null,null,null,null,null,null,null,null,null,null,77384,null,null,77464,"Orchard","Texas","Fort Bend","Y","Y",null,null,77316,"Montgomery","Texas","Montgomery"]
[null,null,null,null,null,null,null,null,null,null,null,null,null,null,null,null,null,null,null,null,null,null,null,null,null,null,77385,null,null,77469,"Richmond","Texas","Fort Bend","Y","Y",null,null,77318,"Willis","Texas","Montgomery"]
[null,null,null,null,null,null,null,null,null,null,null,null,null,null,null,null,null,null,null,null,null,null,null,null,null,null,77386,null,null,77471,"Rosenberg","Texas","Fort Bend","Y","Y",null,null,77333,"Dobbin","Texas","Montgomery"]
[null,null,null,null,null,null,null,null,null,null,null,null,null,null,null,null,null,null,null,null,null,null,null,null,null,null,77387,null,null,77476,"Simonton","Texas","Fort Bend","Y","Y",null,null,77353,"Magnolia","Texas","Montgomery"]
[null,null,null,null,null,null,null,null,null,null,null,null,null,null,null,null,null,null,null,null,null,null,null,null,null,null,77388,null,null,77477,"Stafford","Texas","Fort Bend","Y","Y",null,null,77354,"Magnolia","Texas","Montgomery"]
[null,null,null,null,null,null,null,null,null,null,null,null,null,null,null,null,null,null,null,null,null,null,null,null,null,null,77389,null,null,77478,"Sugar Land","Texas","Fort Bend","Y","Y",null,null,77355,"Magnolia","Texas","Montgomery"]
[null,null,null,null,null,null,null,null,null,null,null,null,null,null,null,null,null,null,null,null,null,null,null,null,null,null,77391,null,null,77479,"Sugar Land","Texas","Fort Bend","Y","Y",null,null,77356,"Montgomery","Texas","Montgomery"]
[null,null,null,null,null,null,null,null,null,null,null,null,null,null,null,null,null,null,null,null,null,null,null,null,null,null,77393,null,null,77481,"Thompsons","Texas","Fort Bend","Y","Y",null,null,77357,"New Caney","Texas","Montgomery"]
[null,null,null,null,null,null,null,null,null,null,null,null,null,null,null,null,null,null,null,null,null,null,null,null,null,null,77396,null,null,77487,"Sugar Land","Texas","Fort Bend","Y","Y",null,null,77362,"Pinehurst","Texas","Montgomery"]
[null,null,null,null,null,null,null,null,null,null,null,null,null,null,null,null,null,null,null,null,null,null,null,null,null,null,77399,null,null,77489,"Missouri City","Texas","Fort Bend","Y","Y",null,null,77365,"Porter","Texas","Montgomery"]
[null,null,null,null,null,null,null,null,null,null,null,null,null,null,null,null,null,null,null,null,null,null,null,null,null,null,77401,null,null,77494,"Katy","Texas","Fort Bend","Y","Y",null,null,77372,"Splendora","Texas","Montgomery"]
[null,null,null,null,null,null,null,null,null,null,null,null,null,null,null,null,null,null,null,null,null,null,null,null,null,null,77402,null,null,77496,"Sugar Land","Texas","Fort Bend","Y","Y",null,null,77378,"Willis","Texas","Montgomery"]
[null,null,null,null,null,null,null,null,null,null,null,null,null,null,null,null,null,null,null,null,null,null,null,null,null,null,77406,null,null,77497,"Stafford","Texas","Fort Bend","Y","Y",null,null,77380,"Spring","Texas","Montgomery"]
[null,null,null,null,null,null,null,null,null,null,null,null,null,null,null,null,null,null,null,null,null,null,null,null,null,null,77407,null,null,77498,"Sugar Land","Texas","Fort Bend","Y","Y",null,null,77381,"Spring","Texas","Montgomery"]
[null,null,null,null,null,null,null,null,null,null,null,null,null,null,null,null,null,null,null,null,null,null,null,null,null,null,77410,null,null,77545,"Fresno","Texas","Fort Bend","Y","Y",null,null,77382,"Spring","Texas","Montgomery"]
[null,null,null,null,null,null,null,null,null,null,null,null,null,null,null,null,null,null,null,null,null,null,null,null,null,null,77411,null,null,77301,"Conroe","Texas","Montgomery","Y","Y",null,null,77384,"Conroe","Texas","Montgomery"]
[null,null,null,null,null,null,null,null,null,null,null,null,null,null,null,null,null,null,null,null,null,null,null,null,null,null,77412,null,null,77302,"Conroe","Texas","Montgomery","Y","Y",null,null,77385,"Conroe","Texas","Montgomery"]
[null,null,null,null,null,null,null,null,null,null,null,null,null,null,null,null,null,null,null,null,null,null,null,null,null,null,77413,null,null,77303,"Conroe","Texas","Montgomery","Y","Y",null,null,77386,"Spring","Texas","Montgomery"]
[null,null,null,null,null,null,null,null,null,null,null,null,null,null,null,null,null,null,null,null,null,null,null,null,null,null,77414,null,null,77304,"Conroe","Texas","Montgomery","Y","Y",null,null,77387,"Spring","Texas","Montgomery"]
[null,null,null,null,null,null,null,null,null,null,null,null,null,null,null,null,null,null,null,null,null,null,null,null,null,null,77415,null,null,77305,"Conroe","Texas","Montgomery","Y","Y",null,null,77393,"Spring","Texas","Montgomery"]
[null,null,null,null,null,null,null,null,null,null,null,null,null,null,null,null,null,null,null,null,null,null,null,null,null,null,77417,null,null,77306,"Conroe","Texas","Montgomery","Y","Y",null,null,77422,"Brazoria","Texas","Brazoria"]
[null,null,null,null,null,null,null,null,null,null,null,null,null,null,null,null,null,null,null,null,null,null,null,null,null,null,77418,null,null,77316,"Montgomery","Texas","Montgomery","Y","Y",null,null,77430,"Damon","Texas","Brazoria"]
[null,null,null,null,null,null,null,null,null,null,null,null,null,null,null,null,null,null,null,null,null,null,null,null,null,null,77419,null,null,77318,"Willis","Texas","Montgomery","Y","Y",null,null,77431,"Danciger","Texas","Brazoria"]
[null,null,null,null,null,null,null,null,null,null,null,null,null,null,null,null,null,null,null,null,null,null,null,null,null,null,77420,null,null,77333,"Dobbin","Texas","Montgomery","Y","Y",null,null,77463,"Old Ocean","Texas","Brazoria"]
[null,null,null,null,null,null,null,null,null,null,null,null,null,null,null,null,null,null,null,null,null,null,null,null,null,null,77422,null,null,77353,"Magnolia","Texas","Montgomery","Y","Y",null,null,77480,"Sweeny","Texas","Brazoria"]
[null,null,null,null,null,null,null,null,null,null,null,null,null,null,null,null,null,null,null,null,null,null,null,null,null,null,77423,null,null,77354,"Magnolia","Texas","Montgomery","Y","Y",null,null,77486,"West Columbia","Texas","Brazoria"]
[null,null,null,null,null,null,null,null,null,null,null,null,null,null,null,null,null,null,null,null,null,null,null,null,null,null,77426,null,null,77355,"Magnolia","Texas","Montgomery","Y","Y",null,null,77511,"Alvin","Texas","Brazoria"]
[null,null,null,null,null,null,null,null,null,null,null,null,null,null,null,null,null,null,null,null,null,null,null,null,null,null,77428,null,null,77356,"Montgomery","Texas","Montgomery","Y","Y",null,null,77512,"Alvin","Texas","Brazoria"]
[null,null,null,null,null,null,null,null,null,null,null,null,null,null,null,null,null,null,null,null,null,null,null,null,null,null,77429,null,null,77357,"New Caney","Texas","Montgomery","Y","Y",null,null,77515,"Angleton","Texas","Brazoria"]
[null,null,null,null,null,null,null,null,null,null,null,null,null,null,null,null,null,null,null,null,null,null,null,null,null,null,77430,null,null,77362,"Pinehurst","Texas","Montgomery","Y","Y",null,null,77516,"Angleton","Texas","Brazoria"]
[null,null,null,null,null,null,null,null,null,null,null,null,null,null,null,null,null,null,null,null,null,null,null,null,null,null,77431,null,null,77365,"Porter","Texas","Montgomery","Y","Y",null,null,77531,"Clute","Texas","Brazoria"]
[null,null,null,null,null,null,null,null,null,null,null,null,null,null,null,null,null,null,null,null,null,null,null,null,null,null,77432,null,null,77372,"Splendora","Texas","Montgomery","Y","Y",null,null,77534,"Danbury","Texas","Brazoria"]
[null,null,null,null,null,null,null,null,null,null,null,null,null,null,null,null,null,null,null,null,null,null,null,null,null,null,77433,null,null,77378,"Willis","Texas","Montgomery","Y","Y",null,null,77541,"Freeport","Texas","Brazoria"]
[null,null,null,null,null,null,null,null,null,null,null,null,null,null,null,null,null,null,null,null,null,null,null,null,null,null,77434,null,null,77380,"Spring","Texas","Montgomery","Y","Y",null,null,77542,"Freeport","Texas","Brazoria"]
[null,null,null,null,null,null,null,null,null,null,null,null,null,null,null,null,null,null,null,null,null,null,null,null,null,null,77435,null,null,77381,"Spring","Texas","Montgomery","Y","Y",null,null,77566,"Lake Jackson","Texas","Brazoria"]
[null,null,null,null,null,null,null,null,null,null,null,null,null,null,null,null,null,null,null,null,null,null,null,null,null,null,77436,null,null,77382,"Spring","Texas","Montgomery","Y","Y",null,null,77577,"Liverpool","Texas","Brazoria"]
[null,null,null,null,null,null,null,null,null,null,null,null,null,null,null,null,null,null,null,null,null,null,null,null,null,null,77437,null,null,77384,"Conroe","Texas","Montgomery","Y","Y",null,null,77578,"Manvel","Texas","Brazoria"]
[null,null,null,null,null,null,null,null,null,null,null,null,null,null,null,null,null,null,null,null,null,null,null,null,null,null,77440,null,null,77385,"Conroe","Texas","Montgomery","Y","Y",null,null,77581,"Pearland","Texas","Brazoria"]
[null,null,null,null,null,null,null,null,null,null,null,null,null,null,null,null,null,null,null,null,null,null,null,null,null,null,77441,null,null,77386,"Spring","Texas","Montgomery","Y","Y",null,null,77583,"Rosharon","Texas","Brazoria"]
[null,null,null,null,null,null,null,null,null,null,null,null,null,null,null,null,null,null,null,null,null,null,null,null,null,null,77442,null,null,77387,"Spring","Texas","Montgomery","Y","Y",null,null,77584,"Pearland","Texas","Brazoria"]
[null,null,null,null,null,null,null,null,null,null,null,null,null,null,null,null,null,null,null,null,null,null,null,null,null,null,77443,null,null,77393,"Spring","Texas","Montgomery","Y","Y",null,null,77588,"Pearland","Texas","Brazoria"]
[null,null,null,null,null,null,null,null,null,null,null,null,null,null,null,null,null,null,null,null,null,null,null,null,null,null,77444,null,null,77422,"Brazoria","Texas","Brazoria","Y","Y",null,null,77423,"Brookshire","Texas","Waller"]
[null,null,null,null,null,null,null,null,null,null,null,null,null,null,null,null,null,null,null,null,null,null,null,null,null,null,77445,null,null,77430,"Damon","Texas","Brazoria","Y","Y",null,null,77445,"Hempstead","Texas","Waller"]
[null,null,null,null,null,null,null,null,null,null,null,null,null,null,null,null,null,null,null,null,null,null,null,null,null,null,77446,null,null,77431,"Danciger","Texas","Brazoria","Y","Y",null,null,77446,"Prairie View","Texas","Waller"]
[null,null,null,null,null,null,null,null,null,null,null,null,null,null,null,null,null,null,null,null,null,null,null,null,null,null,77447,null,null,77463,"Old Ocean","Texas","Brazoria","Y","Y",null,null,77466,"Pattison","Texas","Waller"]
[null,null,null,null,null,null,null,null,null,null,null,null,null,null,null,null,null,null,null,null,null,null,null,null,null,null,77448,null,null,77480,"Sweeny","Texas","Brazoria","Y","Y",null,null,77473,"San Felipe","Texas","Waller"]
[null,null,null,null,null,null,null,null,null,null,null,null,null,null,null,null,null,null,null,null,null,null,null,null,null,null,77449,null,null,77486,"West Columbia","Texas","Brazoria","Y","Y",null,null,77484,"Waller","Texas","Waller"]
[null,null,null,null,null,null,null,null,null,null,null,null,null,null,null,null,null,null,null,null,null,null,null,null,null,null,77450,null,null,77511,"Alvin","Texas","Brazoria","Y","Y"]
[null,null,null,null,null,null,null,null,null,null,null,null,null,null,null,null,null,null,null,null,null,null,null,null,null,null,77451,null,null,77512,"Alvin","Texas","Brazoria","Y","Y"]
[null,null,null,null,null,null,null,null,null,null,null,null,null,null,null,null,null,null,null,null,null,null,null,null,null,null,77453,null,null,77515,"Angleton","Texas","Brazoria","Y","Y",null,null,"ONLY PPO"]
[null,null,null,null,null,null,null,null,null,null,null,null,null,null,null,null,null,null,null,null,null,null,null,null,null,null,77454,null,null,77516,"Angleton","Texas","Brazoria","Y","Y",null,null,"Zip Code","City","State","County"]
[null,null,null,null,null,null,null,null,null,null,null,null,null,null,null,null,null,null,null,null,null,null,null,null,null,null,77455,null,null,77531,"Clute","Texas","Brazoria","Y","Y",null,null,77420,"Boling","Texas","Wharton"]
[null,null,null,null,null,null,null,null,null,null,null,null,null,null,null,null,null,null,null,null,null,null,null,null,null,null,77456,null,null,77534,"Danbury","Texas","Brazoria","Y","Y",null,null,77432,"Danevang","Texas","Wharton"]
[null,null,null,null,null,null,null,null,null,null,null,null,null,null,null,null,null,null,null,null,null,null,null,null,null,null,77457,null,null,77541,"Freeport","Texas","Brazoria","Y","Y",null,null,77435,"East Bernard","Texas","Wharton"]
[null,null,null,null,null,null,null,null,null,null,null,null,null,null,null,null,null,null,null,null,null,null,null,null,null,null,77458,null,null,77542,"Freeport","Texas","Brazoria","Y","Y",null,null,77436,"Egypt","Texas","Wharton"]
[null,null,null,null,null,null,null,null,null,null,null,null,null,null,null,null,null,null,null,null,null,null,null,null,null,null,77459,null,null,77566,"Lake Jackson","Texas","Brazoria","Y","Y",null,null,77437,"El Campo","Texas","Wharton"]
[null,null,null,null,null,null,null,null,null,null,null,null,null,null,null,null,null,null,null,null,null,null,null,null,null,null,77460,null,null,77577,"Liverpool","Texas","Brazoria","Y","Y",null,null,77443,"Glen Flora","Texas","Wharton"]
[null,null,null,null,null,null,null,null,null,null,null,null,null,null,null,null,null,null,null,null,null,null,null,null,null,null,77461,null,null,77578,"Manvel","Texas","Brazoria","Y","Y",null,null,77448,"Hungerford","Texas","Wharton"]
[null,null,null,null,null,null,null,null,null,null,null,null,null,null,null,null,null,null,null,null,null,null,null,null,null,null,77462,null,null,77581,"Pearland","Texas","Brazoria","Y","Y",null,null,77453,"Lane City","Texas","Wharton"]
[null,null,null,null,null,null,null,null,null,null,null,null,null,null,null,null,null,null,null,null,null,null,null,null,null,null,77463,null,null,77583,"Rosharon","Texas","Brazoria","Y","Y",null,null,77454,"Lissie","Texas","Wharton"]
[null,null,null,null,null,null,null,null,null,null,null,null,null,null,null,null,null,null,null,null,null,null,null,null,null,null,77464,null,null,77584,"Pearland","Texas","Brazoria","Y","Y",null,null,77455,"Louise","Texas","Wharton"]
[null,null,null,null,null,null,null,null,null,null,null,null,null,null,null,null,null,null,null,null,null,null,null,null,null,null,77465,null,null,77588,"Pearland","Texas","Brazoria","Y","Y",null,null,77467,"Pierce","Texas","Wharton"]
[null,null,null,null,null,null,null,null,null,null,null,null,null,null,null,null,null,null,null,null,null,null,null,null,null,null,77466,null,null,77423,"Brookshire","Texas","Waller","Y","Y",null,null,77488,"Wharton","Texas","Wharton"]
[null,null,null,null,null,null,null,null,null,null,null,null,null,null,null,null,null,null,null,null,null,null,null,null,null,null,77467,null,null,77445,"Hempstead","Texas","Waller","Y","Y",null,null,77510,"Santa Fe","Texas","Galveston"]
[null,null,null,null,null,null,null,null,null,null,null,null,null,null,null,null,null,null,null,null,null,null,null,null,null,null,77468,null,null,77446,"Prairie View","Texas","Waller","Y","Y",null,null,77517,"Santa Fe","Texas","Galveston"]
[null,null,null,null,null,null,null,null,null,null,null,null,null,null,null,null,null,null,null,null,null,null,null,null,null,null,77469,null,null,77466,"Pattison","Texas","Waller","Y","Y",null,null,77518,"Bacliff","Texas","Galveston"]
[null,null,null,null,null,null,null,null,null,null,null,null,null,null,null,null,null,null,null,null,null,null,null,null,null,null,77470,null,null,77473,"San Felipe","Texas","Waller","Y","Y",null,null,77539,"Dickinson","Texas","Galveston"]
[null,null,null,null,null,null,null,null,null,null,null,null,null,null,null,null,null,null,null,null,null,null,null,null,null,null,77471,null,null,77484,"Waller","Texas","Waller","Y","Y",null,null,77546,"Friendswood","Texas","Galveston"]
[null,null,null,null,null,null,null,null,null,null,null,null,null,null,null,null,null,null,null,null,null,null,null,null,null,null,77473,null,null,null,null,null,null,null,null,null,null,77549,"Friendswood","Texas","Galveston"]
[null,null,null,null,null,null,null,null,null,null,null,null,null,null,null,null,null,null,null,null,null,null,null,null,null,null,77474,null,null,null,null,null,null,null,null,null,null,77550,"Galveston","Texas","Galveston"]
[null,null,null,null,null,null,null,null,null,null,null,null,null,null,null,null,null,null,null,null,null,null,null,null,null,null,77475,null,null,null,null,null,null,null,null,null,null,77551,"Galveston","Texas","Galveston"]
[null,null,null,null,null,null,null,null,null,null,null,null,null,null,null,null,null,null,null,null,null,null,null,null,null,null,77476,null,null,null,null,null,null,null,null,null,null,77552,"Galveston","Texas","Galveston"]
[null,null,null,null,null,null,null,null,null,null,null,null,null,null,null,null,null,null,null,null,null,null,null,null,null,null,77477,null,null,null,null,null,null,null,null,null,null,77553,"Galveston","Texas","Galveston"]
[null,null,null,null,null,null,null,null,null,null,null,null,null,null,null,null,null,null,null,null,null,null,null,null,null,null,77478,null,null,null,null,null,null,null,null,null,null,77554,"Galveston","Texas","Galveston"]
[null,null,null,null,null,null,null,null,null,null,null,null,null,null,null,null,null,null,null,null,null,null,null,null,null,null,77479,null,null,null,null,null,null,null,null,null,null,77555,"Galveston","Texas","Galveston"]
[null,null,null,null,null,null,null,null,null,null,null,null,null,null,null,null,null,null,null,null,null,null,null,null,null,null,77480,null,null,null,null,null,null,null,null,null,null,77563,"Hitchcock","Texas","Galveston"]
[null,null,null,null,null,null,null,null,null,null,null,null,null,null,null,null,null,null,null,null,null,null,null,null,null,null,77481,null,null,null,null,null,null,null,null,null,null,77565,"Kemah","Texas","Galveston"]
[null,null,null,null,null,null,null,null,null,null,null,null,null,null,null,null,null,null,null,null,null,null,null,null,null,null,77482,null,null,null,null,null,null,null,null,null,null,77568,"La Marque","Texas","Galveston"]
[null,null,null,null,null,null,null,null,null,null,null,null,null,null,null,null,null,null,null,null,null,null,null,null,null,null,77483,null,null,null,null,null,null,null,null,null,null,77573,"League City","Texas","Galveston"]
[null,null,null,null,null,null,null,null,null,null,null,null,null,null,null,null,null,null,null,null,null,null,null,null,null,null,77484,null,null,null,null,null,null,null,null,null,null,77574,"League City","Texas","Galveston"]
[null,null,null,null,null,null,null,null,null,null,null,null,null,null,null,null,null,null,null,null,null,null,null,null,null,null,77485,null,null,null,null,null,null,null,null,null,null,77590,"Texas City","Texas","Galveston"]
[null,null,null,null,null,null,null,null,null,null,null,null,null,null,null,null,null,null,null,null,null,null,null,null,null,null,77486,null,null,null,null,null,null,null,null,null,null,77591,"Texas City","Texas","Galveston"]
[null,null,null,null,null,null,null,null,null,null,null,null,null,null,null,null,null,null,null,null,null,null,null,null,null,null,77487,null,null,null,null,null,null,null,null,null,null,77592,"Texas City","Texas","Galveston"]
[null,null,null,null,null,null,null,null,null,null,null,null,null,null,null,null,null,null,null,null,null,null,null,null,null,null,77488,null,null,null,null,null,null,null,null,null,null,77617,"Gilchrist","Texas","Galveston"]
[null,null,null,null,null,null,null,null,null,null,null,null,null,null,null,null,null,null,null,null,null,null,null,null,null,null,77489,null,null,null,null,null,null,null,null,null,null,77623,"High Island","Texas","Galveston"]
[null,null,null,null,null,null,null,null,null,null,null,null,null,null,null,null,null,null,null,null,null,null,null,null,null,null,77491,null,null,null,null,null,null,null,null,null,null,77650,"Port Bolivar","Texas","Galveston"]
[null,null,null,null,null,null,null,null,null,null,null,null,null,null,null,null,null,null,null,null,null,null,null,null,null,null,77492,null,null,null,null,null,null,null,null,null,null,77320,"Huntsville","Texas","Walker"]
[null,null,null,null,null,null,null,null,null,null,null,null,null,null,null,null,null,null,null,null,null,null,null,null,null,null,77493,null,null,null,null,null,null,null,null,null,null,77334,"Dodge","Texas","Walker"]
[null,null,null,null,null,null,null,null,null,null,null,null,null,null,null,null,null,null,null,null,null,null,null,null,null,null,77494,null,null,null,null,null,null,null,null,null,null,77340,"Huntsville","Texas","Walker"]
[null,null,null,null,null,null,null,null,null,null,null,null,null,null,null,null,null,null,null,null,null,null,null,null,null,null,77496,null,null,null,null,null,null,null,null,null,null,77341,"Huntsville","Texas","Walker"]
[null,null,null,null,null,null,null,null,null,null,null,null,null,null,null,null,null,null,null,null,null,null,null,null,null,null,77497,null,null,null,null,null,null,null,null,null,null,77342,"Huntsville","Texas","Walker"]
[null,null,null,null,null,null,null,null,null,null,null,null,null,null,null,null,null,null,null,null,null,null,null,null,null,null,77498,null,null,null,null,null,null,null,null,null,null,77343,"Huntsville","Texas","Walker"]
[null,null,null,null,null,null,null,null,null,null,null,null,null,null,null,null,null,null,null,null,null,null,null,null,null,null,77501,null,null,null,null,null,null,null,null,null,null,77344,"Huntsville","Texas","Walker"]
[null,null,null,null,null,null,null,null,null,null,null,null,null,null,null,null,null,null,null,null,null,null,null,null,null,null,77502,null,null,null,null,null,null,null,null,null,null,77348,"Huntsville","Texas","Walker"]
[null,null,null,null,null,null,null,null,null,null,null,null,null,null,null,null,null,null,null,null,null,null,null,null,null,null,77503,null,null,null,null,null,null,null,null,null,null,77349,"Huntsville","Texas","Walker"]
[null,null,null,null,null,null,null,null,null,null,null,null,null,null,null,null,null,null,null,null,null,null,null,null,null,null,77504,null,null,null,null,null,null,null,null,null,null,77358,"New Waverly","Texas","Walker"]
[null,null,null,null,null,null,null,null,null,null,null,null,null,null,null,null,null,null,null,null,null,null,null,null,null,null,77505,null,null,null,null,null,null,null,null,null,null,77367,"Riverside","Texas","Walker"]
[null,null,null,null,null,null,null,null,null,null,null,null,null,null,null,null,null,null,null,null,null,null,null,null,null,null,77506]
[null,null,null,null,null,null,null,null,null,null,null,null,null,null,null,null,null,null,null,null,null,null,null,null,null,null,77507]
[null,null,null,null,null,null,null,null,null,null,null,null,null,null,null,null,null,null,null,null,null,null,null,null,null,null,77508]
[null,null,null,null,null,null,null,null,null,null,null,null,null,null,null,null,null,null,null,null,null,null,null,null,null,null,77510]
[null,null,null,null,null,null,null,null,null,null,null,null,null,null,null,null,null,null,null,null,null,null,null,null,null,null,77511]
[null,null,null,null,null,null,null,null,null,null,null,null,null,null,null,null,null,null,null,null,null,null,null,null,null,null,77512]
[null,null,null,null,null,null,null,null,null,null,null,null,null,null,null,null,null,null,null,null,null,null,null,null,null,null,77514]
[null,null,null,null,null,null,null,null,null,null,null,null,null,null,null,null,null,null,null,null,null,null,null,null,null,null,77515]
[null,null,null,null,null,null,null,null,null,null,null,null,null,null,null,null,null,null,null,null,null,null,null,null,null,null,77516]
[null,null,null,null,null,null,null,null,null,null,null,null,null,null,null,null,null,null,null,null,null,null,null,null,null,null,77517]
[null,null,null,null,null,null,null,null,null,null,null,null,null,null,null,null,null,null,null,null,null,null,null,null,null,null,77518]
[null,null,null,null,null,null,null,null,null,null,null,null,null,null,null,null,null,null,null,null,null,null,null,null,null,null,77519]
[null,null,null,null,null,null,null,null,null,null,null,null,null,null,null,null,null,null,null,null,null,null,null,null,null,null,77520]
[null,null,null,null,null,null,null,null,null,null,null,null,null,null,null,null,null,null,null,null,null,null,null,null,null,null,77521]
[null,null,null,null,null,null,null,null,null,null,null,null,null,null,null,null,null,null,null,null,null,null,null,null,null,null,77522]
[null,null,null,null,null,null,null,null,null,null,null,null,null,null,null,null,null,null,null,null,null,null,null,null,null,null,77523]
[null,null,null,null,null,null,null,null,null,null,null,null,null,null,null,null,null,null,null,null,null,null,null,null,null,null,77530]
[null,null,null,null,null,null,null,null,null,null,null,null,null,null,null,null,null,null,null,null,null,null,null,null,null,null,77531]
[null,null,null,null,null,null,null,null,null,null,null,null,null,null,null,null,null,null,null,null,null,null,null,null,null,null,77532]
[null,null,null,null,null,null,null,null,null,null,null,null,null,null,null,null,null,null,null,null,null,null,null,null,null,null,77533]
[null,null,null,null,null,null,null,null,null,null,null,null,null,null,null,null,null,null,null,null,null,null,null,null,null,null,77534]
[null,null,null,null,null,null,null,null,null,null,null,null,null,null,null,null,null,null,null,null,null,null,null,null,null,null,77535]
[null,null,null,null,null,null,null,null,null,null,null,null,null,null,null,null,null,null,null,null,null,null,null,null,null,null,77536]
[null,null,null,null,null,null,null,null,null,null,null,null,null,null,null,null,null,null,null,null,null,null,null,null,null,null,77538]
[null,null,null,null,null,null,null,null,null,null,null,null,null,null,null,null,null,null,null,null,null,null,null,null,null,null,77539]
[null,null,null,null,null,null,null,null,null,null,null,null,null,null,null,null,null,null,null,null,null,null,null,null,null,null,77541]
[null,null,null,null,null,null,null,null,null,null,null,null,null,null,null,null,null,null,null,null,null,null,null,null,null,null,77542]
[null,null,null,null,null,null,null,null,null,null,null,null,null,null,null,null,null,null,null,null,null,null,null,null,null,null,77545]
[null,null,null,null,null,null,null,null,null,null,null,null,null,null,null,null,null,null,null,null,null,null,null,null,null,null,77546]
[null,null,null,null,null,null,null,null,null,null,null,null,null,null,null,null,null,null,null,null,null,null,null,null,null,null,77547]
[null,null,null,null,null,null,null,null,null,null,null,null,null,null,null,null,null,null,null,null,null,null,null,null,null,null,77549]
[null,null,null,null,null,null,null,null,null,null,null,null,null,null,null,null,null,null,null,null,null,null,null,null,null,null,77550]
[null,null,null,null,null,null,null,null,null,null,null,null,null,null,null,null,null,null,null,null,null,null,null,null,null,null,77551]
[null,null,null,null,null,null,null,null,null,null,null,null,null,null,null,null,null,null,null,null,null,null,null,null,null,null,77552]
[null,null,null,null,null,null,null,null,null,null,null,null,null,null,null,null,null,null,null,null,null,null,null,null,null,null,77553]
[null,null,null,null,null,null,null,null,null,null,null,null,null,null,null,null,null,null,null,null,null,null,null,null,null,null,77554]
[null,null,null,null,null,null,null,null,null,null,null,null,null,null,null,null,null,null,null,null,null,null,null,null,null,null,77555]
[null,null,null,null,null,null,null,null,null,null,null,null,null,null,null,null,null,null,null,null,null,null,null,null,null,null,77560]
[null,null,null,null,null,null,null,null,null,null,null,null,null,null,null,null,null,null,null,null,null,null,null,null,null,null,77561]
[null,null,null,null,null,null,null,null,null,null,null,null,null,null,null,null,null,null,null,null,null,null,null,null,null,null,77562]
[null,null,null,null,null,null,null,null,null,null,null,null,null,null,null,null,null,null,null,null,null,null,null,null,null,null,77563]
[null,null,null,null,null,null,null,null,null,null,null,null,null,null,null,null,null,null,null,null,null,null,null,null,null,null,77564]
[null,null,null,null,null,null,null,null,null,null,null,null,null,null,null,null,null,null,null,null,null,null,null,null,null,null,77565]
[null,null,null,null,null,null,null,null,null,null,null,null,null,null,null,null,null,null,null,null,null,null,null,null,null,null,77566]
[null,null,null,null,null,null,null,null,null,null,null,null,null,null,null,null,null,null,null,null,null,null,null,null,null,null,77568]
[null,null,null,null,null,null,null,null,null,null,null,null,null,null,null,null,null,null,null,null,null,null,null,null,null,null,77571]
[null,null,null,null,null,null,null,null,null,null,null,null,null,null,null,null,null,null,null,null,null,null,null,null,null,null,77572]
[null,null,null,null,null,null,null,null,null,null,null,null,null,null,null,null,null,null,null,null,null,null,null,null,null,null,77573]
[null,null,null,null,null,null,null,null,null,null,null,null,null,null,null,null,null,null,null,null,null,null,null,null,null,null,77574]
[null,null,null,null,null,null,null,null,null,null,null,null,null,null,null,null,null,null,null,null,null,null,null,null,null,null,77575]
[null,null,null,null,null,null,null,null,null,null,null,null,null,null,null,null,null,null,null,null,null,null,null,null,null,null,77577]
[null,null,null,null,null,null,null,null,null,null,null,null,null,null,null,null,null,null,null,null,null,null,null,null,null,null,77578]
[null,null,null,null,null,null,null,null,null,null,null,null,null,null,null,null,null,null,null,null,null,null,null,null,null,null,77580]
[null,null,null,null,null,null,null,null,null,null,null,null,null,null,null,null,null,null,null,null,null,null,null,null,null,null,77581]
[null,null,null,null,null,null,null,null,null,null,null,null,null,null,null,null,null,null,null,null,null,null,null,null,null,null,77582]
[null,null,null,null,null,null,null,null,null,null,null,null,null,null,null,null,null,null,null,null,null,null,null,null,null,null,77583]
[null,null,null,null,null,null,null,null,null,null,null,null,null,null,null,null,null,null,null,null,null,null,null,null,null,null,77584]
[null,null,null,null,null,null,null,null,null,null,null,null,null,null,null,null,null,null,null,null,null,null,null,null,null,null,77585]
[null,null,null,null,null,null,null,null,null,null,null,null,null,null,null,null,null,null,null,null,null,null,null,null,null,null,77586]
[null,null,null,null,null,null,null,null,null,null,null,null,null,null,null,null,null,null,null,null,null,null,null,null,null,null,77587]
[null,null,null,null,null,null,null,null,null,null,null,null,null,null,null,null,null,null,null,null,null,null,null,null,null,null,77588]
[null,null,null,null,null,null,null,null,null,null,null,null,null,null,null,null,null,null,null,null,null,null,null,null,null,null,77590]
[null,null,null,null,null,null,null,null,null,null,null,null,null,null,null,null,null,null,null,null,null,null,null,null,null,null,77591]
[null,null,null,null,null,null,null,null,null,null,null,null,null,null,null,null,null,null,null,null,null,null,null,null,null,null,77592]
[null,null,null,null,null,null,null,null,null,null,null,null,null,null,null,null,null,null,null,null,null,null,null,null,null,null,77597]
[null,null,null,null,null,null,null,null,null,null,null,null,null,null,null,null,null,null,null,null,null,null,null,null,null,null,77598]
[null,null,null,null,null,null,null,null,null,null,null,null,null,null,null,null,null,null,null,null,null,null,null,null,null,null,77611]
[null,null,null,null,null,null,null,null,null,null,null,null,null,null,null,null,null,null,null,null,null,null,null,null,null,null,77612]
[null,null,null,null,null,null,null,null,null,null,null,null,null,null,null,null,null,null,null,null,null,null,null,null,null,null,77613]
[null,null,null,null,null,null,null,null,null,null,null,null,null,null,null,null,null,null,null,null,null,null,null,null,null,null,77615]
[null,null,null,null,null,null,null,null,null,null,null,null,null,null,null,null,null,null,null,null,null,null,null,null,null,null,77616]
[null,null,null,null,null,null,null,null,null,null,null,null,null,null,null,null,null,null,null,null,null,null,null,null,null,null,77617]
[null,null,null,null,null,null,null,null,null,null,null,null,null,null,null,null,null,null,null,null,null,null,null,null,null,null,77619]
[null,null,null,null,null,null,null,null,null,null,null,null,null,null,null,null,null,null,null,null,null,null,null,null,null,null,77622]
[null,null,null,null,null,null,null,null,null,null,null,null,null,null,null,null,null,null,null,null,null,null,null,null,null,null,77623]
[null,null,null,null,null,null,null,null,null,null,null,null,null,null,null,null,null,null,null,null,null,null,null,null,null,null,77624]
[null,null,null,null,null,null,null,null,null,null,null,null,null,null,null,null,null,null,null,null,null,null,null,null,null,null,77625]
[null,null,null,null,null,null,null,null,null,null,null,null,null,null,null,null,null,null,null,null,null,null,null,null,null,null,77627]
[null,null,null,null,null,null,null,null,null,null,null,null,null,null,null,null,null,null,null,null,null,null,null,null,null,null,77629]
[null,null,null,null,null,null,null,null,null,null,null,null,null,null,null,null,null,null,null,null,null,null,null,null,null,null,77630]
[null,null,null,null,null,null,null,null,null,null,null,null,null,null,null,null,null,null,null,null,null,null,null,null,null,null,77632]
[null,null,null,null,null,null,null,null,null,null,null,null,null,null,null,null,null,null,null,null,null,null,null,null,null,null,77640]
[null,null,null,null,null,null,null,null,null,null,null,null,null,null,null,null,null,null,null,null,null,null,null,null,null,null,77642]
[null,null,null,null,null,null,null,null,null,null,null,null,null,null,null,null,null,null,null,null,null,null,null,null,null,null,77650]
[null,null,null,null,null,null,null,null,null,null,null,null,null,null,null,null,null,null,null,null,null,null,null,null,null,null,77651]
[null,null,null,null,null,null,null,null,null,null,null,null,null,null,null,null,null,null,null,null,null,null,null,null,null,null,77655]
[null,null,null,null,null,null,null,null,null,null,null,null,null,null,null,null,null,null,null,null,null,null,null,null,null,null,77656]
[null,null,null,null,null,null,null,null,null,null,null,null,null,null,null,null,null,null,null,null,null,null,null,null,null,null,77657]
[null,null,null,null,null,null,null,null,null,null,null,null,null,null,null,null,null,null,null,null,null,null,null,null,null,null,77659]
[null,null,null,null,null,null,null,null,null,null,null,null,null,null,null,null,null,null,null,null,null,null,null,null,null,null,77660]
[null,null,null,null,null,null,null,null,null,null,null,null,null,null,null,null,null,null,null,null,null,null,null,null,null,null,77661]
[null,null,null,null,null,null,null,null,null,null,null,null,null,null,null,null,null,null,null,null,null,null,null,null,null,null,77662]
[null,null,null,null,null,null,null,null,null,null,null,null,null,null,null,null,null,null,null,null,null,null,null,null,null,null,77663]
[null,null,null,null,null,null,null,null,null,null,null,null,null,null,null,null,null,null,null,null,null,null,null,null,null,null,77664]
[null,null,null,null,null,null,null,null,null,null,null,null,null,null,null,null,null,null,null,null,null,null,null,null,null,null,77665]
[null,null,null,null,null,null,null,null,null,null,null,null,null,null,null,null,null,null,null,null,null,null,null,null,null,null,77701]
[null,null,null,null,null,null,null,null,null,null,null,null,null,null,null,null,null,null,null,null,null,null,null,null,null,null,77702]
[null,null,null,null,null,null,null,null,null,null,null,null,null,null,null,null,null,null,null,null,null,null,null,null,null,null,77703]
[null,null,null,null,null,null,null,null,null,null,null,null,null,null,null,null,null,null,null,null,null,null,null,null,null,null,77705]
[null,null,null,null,null,null,null,null,null,null,null,null,null,null,null,null,null,null,null,null,null,null,null,null,null,null,77706]
[null,null,null,null,null,null,null,null,null,null,null,null,null,null,null,null,null,null,null,null,null,null,null,null,null,null,77707]
[null,null,null,null,null,null,null,null,null,null,null,null,null,null,null,null,null,null,null,null,null,null,null,null,null,null,77708]
[null,null,null,null,null,null,null,null,null,null,null,null,null,null,null,null,null,null,null,null,null,null,null,null,null,null,77713]
[null,null,null,null,null,null,null,null,null,null,null,null,null,null,null,null,null,null,null,null,null,null,null,null,null,null,77801]
[null,null,null,null,null,null,null,null,null,null,null,null,null,null,null,null,null,null,null,null,null,null,null,null,null,null,77802]
[null,null,null,null,null,null,null,null,null,null,null,null,null,null,null,null,null,null,null,null,null,null,null,null,null,null,77803]
[null,null,null,null,null,null,null,null,null,null,null,null,null,null,null,null,null,null,null,null,null,null,null,null,null,null,77807]
[null,null,null,null,null,null,null,null,null,null,null,null,null,null,null,null,null,null,null,null,null,null,null,null,null,null,77808]
[null,null,null,null,null,null,null,null,null,null,null,null,null,null,null,null,null,null,null,null,null,null,null,null,null,null,77830]
[null,null,null,null,null,null,null,null,null,null,null,null,null,null,null,null,null,null,null,null,null,null,null,null,null,null,77831]
[null,null,null,null,null,null,null,null,null,null,null,null,null,null,null,null,null,null,null,null,null,null,null,null,null,null,77833]
[null,null,null,null,null,null,null,null,null,null,null,null,null,null,null,null,null,null,null,null,null,null,null,null,null,null,77835]
[null,null,null,null,null,null,null,null,null,null,null,null,null,null,null,null,null,null,null,null,null,null,null,null,null,null,77836]
[null,null,null,null,null,null,null,null,null,null,null,null,null,null,null,null,null,null,null,null,null,null,null,null,null,null,77840]
[null,null,null,null,null,null,null,null,null,null,null,null,null,null,null,null,null,null,null,null,null,null,null,null,null,null,77843]
[null,null,null,null,null,null,null,null,null,null,null,null,null,null,null,null,null,null,null,null,null,null,null,null,null,null,77845]
[null,null,null,null,null,null,null,null,null,null,null,null,null,null,null,null,null,null,null,null,null,null,null,null,null,null,77853]
[null,null,null,null,null,null,null,null,null,null,null,null,null,null,null,null,null,null,null,null,null,null,null,null,null,null,77856]
[null,null,null,null,null,null,null,null,null,null,null,null,null,null,null,null,null,null,null,null,null,null,null,null,null,null,77859]
[null,null,null,null,null,null,null,null,null,null,null,null,null,null,null,null,null,null,null,null,null,null,null,null,null,null,77861]
[null,null,null,null,null,null,null,null,null,null,null,null,null,null,null,null,null,null,null,null,null,null,null,null,null,null,77864]
[null,null,null,null,null,null,null,null,null,null,null,null,null,null,null,null,null,null,null,null,null,null,null,null,null,null,77867]
[null,null,null,null,null,null,null,null,null,null,null,null,null,null,null,null,null,null,null,null,null,null,null,null,null,null,77868]
[null,null,null,null,null,null,null,null,null,null,null,null,null,null,null,null,null,null,null,null,null,null,null,null,null,null,77871]
[null,null,null,null,null,null,null,null,null,null,null,null,null,null,null,null,null,null,null,null,null,null,null,null,null,null,77872]
[null,null,null,null,null,null,null,null,null,null,null,null,null,null,null,null,null,null,null,null,null,null,null,null,null,null,77873]
[null,null,null,null,null,null,null,null,null,null,null,null,null,null,null,null,null,null,null,null,null,null,null,null,null,null,77875]
[null,null,null,null,null,null,null,null,null,null,null,null,null,null,null,null,null,null,null,null,null,null,null,null,null,null,77876]
[null,null,null,null,null,null,null,null,null,null,null,null,null,null,null,null,null,null,null,null,null,null,null,null,null,null,77878]
[null,null,null,null,null,null,null,null,null,null,null,null,null,null,null,null,null,null,null,null,null,null,null,null,null,null,77879]
[null,null,null,null,null,null,null,null,null,null,null,null,null,null,null,null,null,null,null,null,null,null,null,null,null,null,77880]
[null,null,null,null,null,null,null,null,null,null,null,null,null,null,null,null,null,null,null,null,null,null,null,null,null,null,77882]
[null,null,null,null,null,null,null,null,null,null,null,null,null,null,null,null,null,null,null,null,null,null,null,null,null,null,77957]
[null,null,null,null,null,null,null,null,null,null,null,null,null,null,null,null,null,null,null,null,null,null,null,null,null,null,77961]
[null,null,null,null,null,null,null,null,null,null,null,null,null,null,null,null,null,null,null,null,null,null,null,null,null,null,77962]
[null,null,null,null,null,null,null,null,null,null,null,null,null,null,null,null,null,null,null,null,null,null,null,null,null,null,77964]
[null,null,null,null,null,null,null,null,null,null,null,null,null,null,null,null,null,null,null,null,null,null,null,null,null,null,77970]
[null,null,null,null,null,null,null,null,null,null,null,null,null,null,null,null,null,null,null,null,null,null,null,null,null,null,77971]
[null,null,null,null,null,null,null,null,null,null,null,null,null,null,null,null,null,null,null,null,null,null,null,null,null,null,77975]
[null,null,null,null,null,null,null,null,null,null,null,null,null,null,null,null,null,null,null,null,null,null,null,null,null,null,77978]
[null,null,null,null,null,null,null,null,null,null,null,null,null,null,null,null,null,null,null,null,null,null,null,null,null,null,77979]
[null,null,null,null,null,null,null,null,null,null,null,null,null,null,null,null,null,null,null,null,null,null,null,null,null,null,77991]
[null,null,null,null,null,null,null,null,null,null,null,null,null,null,null,null,null,null,null,null,null,null,null,null,null,null,78931]
[null,null,null,null,null,null,null,null,null,null,null,null,null,null,null,null,null,null,null,null,null,null,null,null,null,null,78932]
[null,null,null,null,null,null,null,null,null,null,null,null,null,null,null,null,null,null,null,null,null,null,null,null,null,null,78933]
[null,null,null,null,null,null,null,null,null,null,null,null,null,null,null,null,null,null,null,null,null,null,null,null,null,null,78934]
[null,null,null,null,null,null,null,null,null,null,null,null,null,null,null,null,null,null,null,null,null,null,null,null,null,null,78935]
[null,null,null,null,null,null,null,null,null,null,null,null,null,null,null,null,null,null,null,null,null,null,null,null,null,null,78938]
[null,null,null,null,null,null,null,null,null,null,null,null,null,null,null,null,null,null,null,null,null,null,null,null,null,null,78940]
[null,null,null,null,null,null,null,null,null,null,null,null,null,null,null,null,null,null,null,null,null,null,null,null,null,null,78941]
[null,null,null,null,null,null,null,null,null,null,null,null,null,null,null,null,null,null,null,null,null,null,null,null,null,null,78942]
[null,null,null,null,null,null,null,null,null,null,null,null,null,null,null,null,null,null,null,null,null,null,null,null,null,null,78943]
[null,null,null,null,null,null,null,null,null,null,null,null,null,null,null,null,null,null,null,null,null,null,null,null,null,null,78944]
[null,null,null,null,null,null,null,null,null,null,null,null,null,null,null,null,null,null,null,null,null,null,null,null,null,null,78945]
[null,null,null,null,null,null,null,null,null,null,null,null,null,null,null,null,null,null,null,null,null,null,null,null,null,null,78946]
[null,null,null,null,null,null,null,null,null,null,null,null,null,null,null,null,null,null,null,null,null,null,null,null,null,null,78948]
[null,null,null,null,null,null,null,null,null,null,null,null,null,null,null,null,null,null,null,null,null,null,null,null,null,null,78949]
[null,null,null,null,null,null,null,null,null,null,null,null,null,null,null,null,null,null,null,null,null,null,null,null,null,null,78950]
[null,null,null,null,null,null,null,null,null,null,null,null,null,null,null,null,null,null,null,null,null,null,null,null,null,null,78951]
[null,null,null,null,null,null,null,null,null,null,null,null,null,null,null,null,null,null,null,null,null,null,null,null,null,null,78954]
[null,null,null,null,null,null,null,null,null,null,null,null,null,null,null,null,null,null,null,null,null,null,null,null,null,null,78956]
[null,null,null,null,null,null,null,null,null,null,null,null,null,null,null,null,null,null,null,null,null,null,null,null,null,null,78960]
[null,null,null,null,null,null,null,null,null,null,null,null,null,null,null,null,null,null,null,null,null,null,null,null,null,null,78962]
[null,null,null,null,null,null,null,null,null,null,null,null,null,null,null,null,null,null,null,null,null,null,null,null,null,null,78963]